{"text_format":"1","workbook":"xlsx","n_sheets":34,"sheets":["INFO","Skillserleuterungen_FTEM","Blatt Spielerin","Selektionsblatt","1","2","3","4","5","6","7","8","9","10","11","12","13","14","15","16","17","18","19","20","21","22","23","24","25","26","27","28","29","30"],"not_rendered":{"charts":0,"images":1,"macros":1,"external_links":0,"defined_names":38,"comments":33,"pivot_tables":0},"unopened":[],"bounds":{"document_bytes":16777216,"sheet_cells":100000,"rows_first":2000,"rows_last":500,"rows_between":2000,"halvings":0,"cell_chars":16384,"cell_head_chars":4096},"cells_cut":0,"cells_raw":0,"read":"whole","date_system":"1900"}

{"sheet":"INFO","index":0,"n_rows":77,"n_cols":13,"rows_kept":77,"cut":false,"hidden":false,"merged":[[1,5,1,6],[2,5,2,6],[3,5,3,6],[4,5,4,6],[5,5,5,6],[6,0,6,1],[7,0,7,1],[6,3,6,4],[7,3,7,4],[1,3,1,4],[1,0,1,1],[2,0,2,1],[3,0,3,1],[4,0,4,1],[5,0,5,1],[2,3,2,4],[3,3,3,4],[4,3,4,4],[5,3,5,4],[6,5,6,6],[7,5,7,6],[2,7,2,13],[3,7,3,13],[4,7,4,13],[5,7,5,13],[6,7,6,13],[7,7,7,13],[0,0,0,13],[1,7,1,13],[30,1,30,2],[30,3,30,11],[12,1,12,2],[12,3,12,11],[13,1,13,2],[13,3,13,11],[28,1,28,2],[28,3,28,11],[11,1,11,2],[11,3,11,11],[29,1,29,2],[29,3,29,11],[9,0,9,13],[8,0,8,13],[45,1,45,2],[45,3,45,11],[46,1,46,2],[46,3,46,11],[47,1,47,2],[47,3,47,11],[62,1,62,2],[62,3,62,11],[63,1,63,2],[63,3,63,11],[64,1,64,2],[64,3,64,11]]}
["U14: Nur GANZE NOTEN, ab U16: HALBE NOTEN (MÖGLICH)"]
[null,null,null,null,null,null,null,"Vergleich zu Erwartungen Altersklasse gemäss Talentförderung:\nTOP LEVEL = die Beste/das Beste auf dieser  Altersstufe"]
["Rating",null,"Symbole","Prädikat",null,"Vergleich\n100% Altersstufe",null,"Erwartung=Ausgangslage der altersmässigen Entwicklung als Talent mit Potential / Aussicht auf eine Spitzenspielerin in der Nationalmannschaft"]
[1,null,"--","ungenügend",null,"<30 %",null,"Entspricht der Talententwicklung kaum bis nicht"]
[2,null,"-","mangelhaft",null,"30-50 %",null,"Entspricht der Talententwicklung knapp, weist in einzelnen Komponenten Mängel auf, welche das Gesamtbild negativ beeinflussen"]
[3,null,0,"genügend",null,"50-70 %",null,"Entspricht dem Durchschnitt der Erwartungen, grundsätzlich erfüllt ohne besondere Fähigkeiten / Fertigkeiten"]
[4,null,"+","gut",null,"70-85 %",null,"Übertrifft die Erwartungen und zeigt in einzelnen Komponenten auffallende Fähigkeiten / Fertigkeiten"]
[5,null,"++","ausgezeichnet",null,"85-100 %",null,"Übertrifft die Erwartungen mit ausgezeichneten Komponenten – gehört zu den Spitzenkönnern in Bezug auf die Erwartungen"]
["Die Scouts/Trainer/innen sollen den Mut zeigen ALLE Werte zu verwenden!"]
["Gewichtungen nach Rolle / Alter / Geschlecht"]
[]
[null,"Disziplin",null,"Eishockey"]
[null,"Kat.",null,"Spieler"]
[null,"Kader",null,"Kader U12-20"]
[]
[null,null,"SKATING","SKILLS","hockey SENSE","PERSON","POWER","TEAM","ALTER","PHYSE","UMFELD","VERANLAGUNG"]
[null,"Alter","Gewichtung","Gewichtung","Gewichtung","Gewichtung","Gewichtung","Gewichtung","Gewichtung","Gewichtung","Gewichtung","Gewichtung","Total"]
[null,12,16,15,20,17,10,0,12,0,5,5,{"$f":"SUM(C18:L18)","v":100}]
[null,13,16,15,20,17,10,0,12,0,5,5,100]
[null,14,12,12,20,17,10,5,10,4,5,5,100]
[null,15,12,12,20,17,10,5,10,4,5,5,100]
[null,16,10,10,20,15,10,8,4,8,5,10,100]
[null,17,10,10,20,15,10,8,4,8,5,10,100]
[null,18,10,10,20,15,10,10,0,15,0,10,100]
[null,19,10,10,20,15,10,10,0,15,0,10,100]
[null,20,10,10,20,15,10,10,0,15,0,10,100]
[]
[]
[null,"Disziplin",null,"Eishockey"]
[null,"Kat.",null,"Torhüter"]
[null,"Kader",null,"Kader U12-20"]
[]
[null,null,"SKATING","SKILLS","hockey SENSE","PERSON","POWER","TEAM","ALTER","PHYSE","UMFELD","VERANLAGUNG"]
[null,"Alter","Gewichtung","Gewichtung","Gewichtung","Gewichtung","Gewichtung","Gewichtung","Gewichtung","Gewichtung","Gewichtung","Gewichtung","Total"]
[null,12,18,15,13,15,10,3,9,5,5,7,{"$f":"SUM(C35:L35)","v":100}]
[null,13,18,15,13,15,10,3,9,5,5,7,100]
[null,14,18,15,13,15,10,3,9,5,5,7,100]
[null,15,18,15,13,15,10,3,9,5,5,7,100]
[null,16,15,17,14,15,12,5,3,8,6,5,100]
[null,17,15,17,14,15,12,5,3,8,6,5,100]
[null,18,14,14,14,16,10,8,0,12,7,5,100]
[null,19,14,14,14,16,10,8,0,12,7,5,100]
[null,20,14,14,14,16,10,8,0,12,7,5,100]
[]
[]
[null,"Disziplin",null,"Frauen Eishockey"]
[null,"Kat.",null,"Feldspielerin"]
[null,"Kader",null,"Spieler: Kader U12-18"]
[]
[null,null,"SKATING","SKILLS","hockey SENSE","PERSON","POWER","TEAM","ALTER","PHYSE","UMFELD","VERANLAGUNG"]
[null,"Alter","Gewichtung","Gewichtung","Gewichtung","Gewichtung","Gewichtung","Gewichtung","Gewichtung","Gewichtung","Gewichtung","Gewichtung","Total"]
[null,12,20,15,25,17,0,null,15,8,null,null,{"$f":"SUM(C52:L52)","v":100}]
[null,13,20,15,25,17,0,null,15,8,null,null,100]
[null,14,17,15,20,10,4,5,7,12,10,null,100]
[null,15,17,15,20,10,4,5,7,12,10,null,100]
[null,16,17,15,20,10,8,8,null,14,8,null,100]
[null,17,17,15,20,10,8,8,null,14,8,null,100]
[null,18,15,15,20,10,8,10,null,17,5,null,100]
[null,19,10,10,20,15,10,10,null,15,null,10,100]
[null,20,10,10,20,15,10,10,null,15,null,10,100]
[]
[]
[null,"Disziplin",null,"Frauen Eishockey"]
[null,"Kat.",null,"Torhüter"]
[null,"Kader",null,"Kader U12-18"]
[]
[null,null,"SKATING","SKILLS","hockey SENSE","PERSON","POWER","TEAM","ALTER","PHYSE","UMFELD","VERANLAGUNG"]
[null,"Alter","Gewichtung","Gewichtung","Gewichtung","Gewichtung","Gewichtung","Gewichtung","Gewichtung","Gewichtung","Gewichtung","Gewichtung","Total"]
[null,12,18,15,17,20,null,null,15,5,null,10,{"$f":"SUM(C69:L69)","v":100}]
[null,13,18,15,17,20,null,null,15,5,null,10,100]
[null,14,16,15,15,10,9,3,7,5,10,10,100]
[null,15,16,15,15,10,9,3,7,5,10,10,100]
[null,16,14,16,14,15,12,5,null,8,8,8,100]
[null,17,14,16,14,15,12,5,null,8,8,8,100]
[null,18,14,14,16,12,15,6,null,10,5,8,100]
[null,19,12,12,18,17,9,9,null,15,null,8,100]
[null,20,12,12,18,17,9,9,null,15,null,8,100]

{"sheet":"Skillserleuterungen_FTEM","index":1,"n_rows":56,"n_cols":7,"rows_kept":56,"cut":false,"hidden":false,"merged":[[41,0,45,0],[46,0,50,0],[51,0,55,0],[14,4,19,4],[20,4,24,4],[14,0,19,0],[41,4,45,4],[46,4,50,4],[51,4,55,4],[26,0,30,0],[31,4,35,4],[26,4,30,4],[31,0,35,0],[20,0,24,0],[36,0,40,0],[36,4,40,4],[9,4,13,4],[0,0,0,2],[0,4,0,6],[3,4,7,4],[3,0,7,0],[9,0,13,0]]}
["PLAYER",null,null,null,"Goalie"]
[]
["TEAM","FÄHIGKEIT","BEOBACHTUNG",null,"TEAM","FÄHIGKEIT","BEOBACHTUNG"]
["TEAM","Kommunikation","pflegt einen offenen, respektvollen Umgang, Vertrauensbasis als Grundlage, trägt Konflikte aus ohne die Stabilität der Gruppe zu gefährden, kommuniziert mit Mitspielerinnen, Trainern und Funktionären gleichermassen wertschätzend",null,"TEAM","Kommunikation","pflegt einen offenen, respektvollen Umgang, Vertrauensbasis als Grundlage, trägt Konflikte aus ohne die Stabilität der Gruppe zu gefährden, kommuniziert mit Mitspielerinnen, Trainern und Funktionären gleichermassen wertschätzend"]
[null,"Teamfähigkeit","Integration in die Gruppe, gemeinsame Ziele bestimmen und verfolgen können, WIR vor dem ICH, trägt zu einem guten Team-Spirit und Arbeitsklima bei",null,null,"Teamfähigkeit","Integration in die Gruppe, gemeinsame Ziele bestimmen und verfolgen können, WIR vor dem ICH, trägt zu einem guten Team-Spirit und Arbeitsklima bei"]
[null,"Leadership","übernimmt Verantwortung in der Gruppe, versucht Team und Mitspielerinnen besser zu machen, nimmt positiven Einfluss auf die Gruppendynamik",null,null,"Leadership","übernimmt Verantwortung in der Gruppe, versucht Team und Mitspieler besser zu machen, nimmt positiven Einfluss auf die Gruppendynamik"]
[null,"Rollenverteilung","kennt ihre Rolle und füllt diese aus, ist sich ihrer Stellung im Team und im System bewusst, stellt eigene Kompetenzen in den Dienst des Teams",null,null,"Rollenverteilung","kennt ihre Rolle und füllt diese aus, ist sich ihrer Stellung im Team und im System bewusst, stellt eigene Kompetenzen in den Dienst des Teams"]
[null,"Respekt","Respektvoller Umgang mit Mitspielerinnen, Trainern, Gegnern, Schiedsrichter und Staff; achtet die Regeln, Fairplayprinzipien (inkl. Anti-Doping)",null,null,"Respekt","Respektvoller Umgang mit Mitspielerinnen, Trainern, Gegnern, Schiedsrichter und Staff; achtet die Regeln, Fairplayprinzipien (inkl. Anti-Doping)"]
["ON ICE","FÄHIGKEIT","BEOBACHTUNG",null,"ON ICE","FÄHIGKEIT","BEOBACHTUNG"]
["SKATING","Footspeed","Beschleunigung, Antritt, erste 3 Schritte Explosivität, Frequenz",null,"SKATING","vorwärt, rückwärts, seitwärts","vorwärts & rückwärts (Bewegungen C-Cut), stehende Verschiebung (parallel, Shuffle, T-Schritt, T-Push, Jump), bleibt lange auf den Füssen und ist fähig immer wieder richtig zum Puck zu positionieren ->Anwendung in Spielsituation mit maximaler Geschwindigkeit "]
[null,"Topspeed","Schnelligkeit, Gleitfähigkeit, vorwärts und rückwärts, Ökonomie",null,null,"Butterfly - Slide/Powerslide aus Btf.","beherrscht Butterfly-Slide , Powerslide sowie Recoveryslide in maximaler Geschwindigkeit, zudem kompakt im richtigen Winkel (90 Grad zum Puck) und ist fähig, sich richtig zu positionieren sowie Druck auf den Puck auszuüben"]
[null,"Agilität","Richtungsänderung, Drehung, Stop und Start, \"Nummelin\"",null,null,"Präzision / Timing ","bewegt sich immer mit Präzision auf der Pucklinie (imaginäre Linie zwischen Puck und Tormitte)"]
[null,"Balance","Gleichgewicht, Standhaftfähigkeit, tiefe Position, ein- und beidbeinig",null,null,"Adaptive Skating","hat die Fähigkeit auf den Knien mit Hilfe der Skates den Winkel oder die Position zu verändern"]
[null,"Backwards Skating","Beschleunigung, Geschwindigkeit, Balance",null,null,"Speed","kann sich kontrolliert und schnell auf den Skates bewegen"]
["SKILLS","Schiessen","Effizienz (no space no time), Variantenreichtum, Überraschungsgrad (Quick Release), Präzision, Härte, (taktische Abschlüsse)",null,"SKILLS","Grundposition","Position --> Füsse, Knie, Schulter, Gewicht leicht vorne auf den Füssen, Hände vor dem Körper, kompakte Position wie eine Wand -->beherrscht diese Position stehend und auf den Knien (reaktiv, Block)"]
[null,"Passen","Passabgabe (Distanz, Flippass Backhand), Passannahme (Präzision, Timing, Vorhand, Rückhand, Schlittschuh), Puckspeed ",null,null,"Position am Pfosten","Position --> Körperhaltung, Schlittschuh, Stockstellung  Position der Arme --> Findet seine optimale Position am Pfosten (Stehend, Reverse, One pad down, Paddle down und Overlap)"]
[null,"Stockarbeit","Stock zum Puck, Passlinie unterbinden, ablenken, Stockkontrolle Gegenspielerin",null,null,"Grundabwehr stehend","hat die Fähigkeit aktiv und kontrolliert mit den Händen und dem Stock zuarbeiten"]
[null,"Puck besitzen ","Puckkontrolle, Dribblings, Puck schützen, Finten (Varianten: mit Schlittschuh, mit sowie ohne Bande), Face-Off",null,null,"Grundabwehr Butterfly","verfügt über eine sehr kompakte Position, hat das Gewicht vorne auf den Knien und kann sehr gut mit den Händen, Schoner und dem Stock arbeiten"]
[null,"Körperspiel","Phyisches Durchsetzungsvermögen, Zweikampf (offenes Eis/Bande), Checks nehmen/Head up, Battle Level, Hart aber fair",null,null,"Reboundmanagement","hat jederzeit Kontrolle über die Schüsse, vermag Pucks zu steuern mit dem Stock oder Schoner --> reagiert schnell sowie präzise auf zweite und dritte Pucks"]
[null,"-","-",null,null,"Stickhandling","hat die Fähigkeit Pucks zu stoppen (Grundstellung wie ein Feldspieler an der Bande sowie auf dem Spielfeld mit verschiedenen Griffpositionen), besitzt die Begabung zu Passen (Fore- und Backhand) sowie Befreien (Schiessen wia Plexiglas)"]
["HOCKEY SENSE","Spielintelligenz","Freie Räume und Spielerin sehen und Überzahlsituationen kreieren, lösungsorientiert agieren bei allen Bedingungen, Headspeed",null,"HOCKEY SENSE","Winkelspiel (Boxcontrol)","hat die Fähigkeit die perfekte Position zu finden, besitzt sehr aktive Füsse und Hände --> die Torhüterin hat das Wissen und das Verständnis, wann sie Druck auf den Puck machen muss und versteht die Vorteile vom Winkelspiel"]
[null,"Offensives Bewusstsein","Anspielbar, Antizipation der Spielsituationen, Freiräume für Mitspielerinnen öffnen, Abschlussorientiert sein, Gapspeed, gute Kommunikation",null,null,"Spiel lesen","erkennt die verschiedenen Abschlusssituationen, weiss wo sich Gegenspielerinnen befinden und welche Stockseite sie spielen --> beherscht die Fähigkeit auf die erkannte Situation angemessen zu reagieren)  "]
[null,"Defensiv Bewusstsein","Inside Position halten, Slot beschützen, Mitspieler absichern/Support, Passlinie erkennen, Schüsse blockieren. Gapspeed, gute Komunikation",null,null,"Gameplan umsetzen","hat das Verständnis die Defensivzone nach Stufen in verschieden Bereiche einzuteilen und in die Praxis umzusetzen, versteht das 1,2,3,4 Prinzip hinter dem Tor und hat die Fähigkeit, Anpassung der verschiedener Techniken im richtigen Moment zu realisieren"]
[null,"Puckmanagement","Situationsadäquate Entscheidungen treffen, Support, Overload",null,null,"aktives Mitspielen","Ist aktiv im Stoppen der Pucks, hat die Fähigkeit genaue Pässe ihrer Mittspielerinnen zu spielen und verfügt über die Begabung Pässe durch den Torraum zu unterbinden --> Ihr taktisches Wissen hilft ihr, angemessen mitzuspielen"]
[null,"Kreativität","Überraschende Lösungen, Torriecher",null,null,"Teamtaktik off & def.","hat die Begabung das Spielverständnis der eigenen Teamtaktik offensiv sowie defensiv zu verstehen, realisiert ihre Aufgabe in Abschlusssituationen (1:1, 2:1, 2:2, 3:2, 3:1), beherrscht diese unter Zeitdruck zu antizipieren und trifft richtige Entscheidungen"]
["PERSONALITY","FÄHIGKEIT","BEOBACHTUNG",null,"PERSONALITY","FÄHIGKEIT","BEOBACHTUNG"]
["PERSÖNLICHKEIT","Selbstbewusstsein","hat das nötige Selbstvertrauen,\"I can do it\"-Haltung, kann eigene Fähigkeiten einschätzen (kennt eigene Stärken/Schwächen), kann ihre Stärken konstant einsetzen, agiert mutig und nimmt kalkulierte Risiken",null,"PERSÖNLICHKEIT","Selbstbewusstsein","hat das nötige Selbstvertrauen,\"I can do it\"-Haltung, kann eigene Fähigkeiten einschätzen (kennt eigene Stärken/Schwächen), kann ihre Stärken konstant einsetzen, agiert mutig und nimmt kalkulierte Risiken"]
[null,"Lernfähigkeit","hat eine gute Auffassungsgabe (nimmt auf und kann umsetzen), reflektiert eigenes Handeln, versucht aus Fehlern zu lernen und kann Massnahmen ableiten",null,null,"Lernfähigkeit","hat eine gute Auffassungsgabe (nimmt auf und kann umsetzen), reflektiert eigenes Handeln, versucht aus Fehlern zu lernen und kann Massnahmen ableiten"]
[null,"Eigenverantwortung","übernimmt Verantwortung für eigene Leistungen und Entwicklung, handelt selbständig, achtet auf Details, zeigt grosses Engagement in allen Bereichen",null,null,"Eigenverantwortung","übernimmt Verantwortung für eigene Leistungen und Entwicklung, handelt selbständig, achtet auf Details, zeigt grosses Engagement in allen Bereichen"]
[null,"Motivation","Intrinsischer Antrieb, will sich ständig weiterentwickeln und lernen, will die Erste sein und Erfolg haben, gibt nie auf und lässt sich auch durch Misserfolge nicht vom Weg abbringen",null,null,"Motivation","Intrinsischer Antrieb, will sich ständig weiterentwickeln und lernen, will die Erste sein und Erfolg haben, gibt nie auf und lässt sich auch durch Misserfolge nicht vom Weg abbringen"]
[null,"Performance Lifestyle","managt Alltag und Umfeld nach dem Leistungsprinzip, hartnäckig, beharrlich und zielgerichtet, Fokus auf eigene Leistung, zeigt Biss und kann sich auch gegen Widerstände durchsetzen, Herausforderungen spornen sie an",null,null,"Performance Lifestyle","managt Alltag und Umfeld nach dem Leistungsprinzip, hartnäckig, beharrlich und zielgerichtet, Fokus auf eigene Leistung, zeigt Biss und kann sich auch gegen Widerstände durchsetzen, Herausforderungen spornen sie an"]
["MENTALE STÄRKE","Einsatzbereitschaft","zeigt im Spiel und im Training hohe Intensität, gibt immer ihr Maximum und will ihre Limiten pushen, zeigt Leidenschaft, ist um hohe Trainingsqualität bemüht",null,"MENTALE STÄRKE","Einsatzbereitschaft","zeigt im Spiel und im Training hohe Intensität, gibt immer ihr Maximum und will ihre Limiten pushen, zeigt Leidenschaft, ist um hohe Trainingsqualität bemüht"]
[null,"Vorbereitung","bewusste und gezielte Vorbereitung, mental wie auch physisch, verfügt über einen effizienten Ablauf zur Erreichung des idealen Leistungszustand (ILZ)",null,null,"Vorbereitung","bewusste und gezielte Vorbereitung, mental wie auch physisch, verfügt über einen effizienten Ablauf zur Erreichung des idealen Leistungszustand (ILZ)"]
[null,"Selbstcoaching","verfügt über gute Konzentrationsfähigkeit, kann während Spiel/Training ihren ILZ halten, kann mentale Grundtechniken anwenden, widerstandsfähig gegen negative Gedanken und Einflüsse, ist sich ihrer Körpersprache bewusst und kann diese regulieren",null,null,"Selbstcoaching","verfügt über gute Konzentrationsfähigkeit, kann während Spiel/Training ihren ILZ halten, kann mentale Grundtechniken anwenden, widerstandsfähig gegen negative Gedanken und Einflüsse, ist sich ihrer Körpersprache bewusst und kann diese regulieren"]
[null,"Energiemanagement","kann eigene Energie regulieren, bereit zur Regeneration, weiss wann sie \"Vollgas\" geben muss und wann abschalten, On/Off-Schalter",null,null,"Energiemanagement","kann eigene Energie regulieren, bereit zur Regeneration, weiss wann sie \"Vollgas\" geben muss und wann abschalten, On/Off-Schalter"]
[null,"Emotionskontrolle","kann eigene Emotionen und Impulse regulieren, behält auch unter Druck die Kontrolle, kann auch in emotional anspruchsvollen oder frustrierenden Situationen angemessen agieren",null,null,"Emotionskontrolle","kann eigene Emotionen und Impulse regulieren, behält auch unter Druck die Kontrolle, kann auch in emotional anspruchsvollen oder frustrierenden Situationen angemessen agieren"]
["PHYSE","Leistungserzeugung","verfügt über die nötige Power/Kraft/Schnelligkeit in den Beinen und im Oberkörper (Neuromuskuläre Faktoren)",null,"PHYSE","Leistungserzeugung","verfügt über die nötige Power / Kraft / Schnelligkeit in den Beinen und Oberkörper (Neuromuskuläre Faktoren)"]
[null,"sporartspez. Ermüdungsresistenz","Ist fähig  die Power/Kraft/Schnelligkeit innerhalb des Einsatzes lange aufrechtzuerhalten und kann sich zwischen den Einsätzen jeweils vollkommen erholen (Metabolische und kardiovaskuläre Faktoren)",null,null,"sportartspez. Ermüdungsresistenz","ist fähig,  die Power/Kraft/Schnelligkeit innerhalb des Einsatzes lange aufrechtzuerhalten und kann sich zwischen den Einsätzen jeweils vollkommen erholen (Metabolische und kardiovaskuläre Faktoren)"]
[null,"Gesundheit / Prävention","verfügt über die nötige Stabilität (z.B. Beinachsenstabilität) und Beweglichkeit in den zentralen Gelenken",null,null,"Gesundheit/Prävention","verfügt über die nötige Grundkraft (Körperspannung) sowie der nötigen Stabilität und Beweglichkeit (z.B. Hüftmobilität, Beweglichkeit der Wirbelsäule) in den beim Torhüter hauptbelasteten Gelenken"]
[null,"Bewegungskompetenzen","beherrscht die grundlegenden Bewegungsfertigkeiten, die eine unerlässliche Zubringerfunktion für die sportspezifischen \"Skills\" darstellt sowie zur nötigen Bewegungseffizienz führt",null,null,"Beweglichkeit","verfügt über die spezifische Beweglichkeit, um uneingeschränkt torhüterspezifische Bewegungen zu realisieren "]
[null,"Robustheit","verfügt über die nötige Grundkraft (Körperspannung), um sich in Zweikämpfen durchzusetzen und bei Zusammestössen standzuhalten",null,null,"Bewegungskompetenzen / Koordination","beherrscht die grundlegenden Bewegungsfertigkeiten, die eine unerlässliche Zubringerfunktion für die sportspezifischen \"Skills\" darstellt sowie zu erhöhter Bewegungseffizienz führt"]
["VERANLAGUNG","Belastbarkeit","kann - physisch und mental - hohe Trainings- und Spielbelastungen ertragen und sich schnell regenerieren",null,"VERANLAGUNG","Belastbarkeit","kann - physisch und mental - hohe Trainings- und Spielbelastungen ertragen und sich schnell regenerieren"]
[null,"Grösse, Gewicht & Köperbau","Grösse kommt dem Spielstil entgegen; Grösse der Eltern, erwartete Grösse und aktuelle Grösse/Gewicht/Körper abschätzen",null,null,"Grösse","Grösse kommt dem Spielstil entgegen; Grösse der Eltern, erwartete Grösse und aktuelle Grösse/Gewicht/Körper abschätzen"]
[null,"Gewicht","Gewicht kommt dem Spielstil entgegen; Richtwerte NHL: 186+-/5.3cm, 91.7 +/- 6.9kg (Sigmund, Kohn & Sigmundová, 2016)",null,null,"Gewicht","Gewicht kommt dem Spielstil entgegen; Richtwerte NHL: 186+-/5.3cm, 91.7 +/- 6.9kg (Sigmund, Kohn & Sigmundová, 2016)"]
[null,"Körperfettgehalt","Nationalteam, National League, 8%, Elite-A, 10%, Novizen Elite 10-12%, Mini Top / Moskito Top 12-15% (nach Eishockey Performance DEB)",null,null,"Körperfettgehalt","Nationalteam, National League 8%, Elite-A 10%, Novizen Elite 10-12%, Mini Top / Moskito Top 12-15% (nach Eishockey Performance DEB)"]
[null,"Somatotyp","ektomorph (dünner Athlet, wenig Muskelmasse), mesomorph(Athletischer Körperbau), endomorph(solider weicher Körperbau)",null,null,"Somatotyp","Ektomorph (dünner Athlet, wenig Muskelmasse), mesomorph(Athletischer Körperbau), endomorph(solider weicher Körperbau)"]
["ALTER","Relatives Alter","hohes relatives Alter (weiter entwickelt, höhere Leistung, Selektion, bessere Förderung/positives Feedback, höhere Leistung), niedriges relatives Alter ( weniger entwickelt, niedrige Leistung, keine Selektion --> Drop out, keine spezielle Förderung, nidrige Leistung)",null,"ALTER","relatives Alter","hohes relatives Alter (weiter entwickelt, höhere Leistung, Selektion, bessere Förderung/positives Feedback, höhere Leistung), niedriges relatives Alter (weniger entwickelt, niedrige Leistung, keine Selektion --> Drop out, keine spezielle Förderung, nidrige Leistung)"]
[null,"Relative Age Effect","Einteilung in Jahrgänge führt zu relativen Altersunterschieden, Geburtsmonat",null,null,"Relative Age Effect","Einteilung in Jahrgänge führt zu relativen Altersunterschieden, Geburtsmonat"]
[null,"Biologisches Alter","Alter gemäss der biologischen Entwicklung im Vergleich zur Durchschnittsbevölkerung (Tatsächlicher Entwicklungsstand) / Biologisches Alter (BA) - Chronologisches Alter (CA), Früh entwickelt: BA > CA, Spät entwickelt: BA < CA",null,null,"Biologisches Alter","Alter gemäss der biologischen Entwicklung im Vergleich zur Durchschnittsbevölkerung (Tatsächlicher Entwicklungsstand) / Biologisches Alter (BA) - Chronologisches Alter (CA), Früh entwickelt: BA > CA, Spät entwickelt: BA < CA"]
[null,"Relative Age Effect","Einteilung in Jahrgänge führt zu relativen Altersunterschieden, Geburtsmonat",null,null,"Relative Age Effect","Einteilung in Jahrgänge führt zu relativen Altersunterschieden, Geburtsmonat"]
[null,"Hockeyalter","Anzahl Eishockey gespielten Jahre",null,null,"Hockeyalter","Anzahl Eishockey gespielten Jahre"]
["UMFELD","Familie","stabile Familienverhältnisse; Eltern, Verwandte, Geschwister unterstützen die Spieler in allen Bereichen; Engagement und Einfluss der Eltern ist adäquat, Eltern üben keinen übermässigen Druck aus",null,"UMFELD","Familie","stabile Familienverhältnisse; Eltern, Verwandte, Geschwister unterstützen die Spieler in allen Bereichen; Engagement und Einfluss der Eltern ist adäquat, Eltern üben keinen übermässigen Druck aus"]
[null,"Schule/Ausbildung","Schule/Beruf und Sport sind abgestimmt und koordiniert, es sind ausreichend Trainingszeitfenster gewährleistet (Team/Individuell); die Belastung für die Spielerin ist ausgeglichen und tragbar",null,null,"Schule/Ausbildung","Schule/Beruf und Sport sind abgestimmt und koordiniert, es sind ausreichend Trainingszeitfenster gewährleistet (Team/Individuell); die Belastung für die Spielerin ist ausgeglichen und tragbar"]
[null,"geographische Lage","Trainings-, Wohn- und Ausbildungsort befinden sich in der Nähe (kleines Dreieck), Distanz; weniger als 1h Fahrzeit pro Tag, Familie oder Gastfamilie",null,null,"geographische Lage","Trainings-, Wohn- und Ausbildungsort befinden sich in der Nähe (kleines Dreieck), Distanz; weniger als 1h Fahrzeit pro Tag, Familie oder Gastfamilie "]
[null,"Verein","gute Qualität von Trainings und Trainern, Club ermöglicht der Spielerin ausreichende Spielzeit auf sinnvoller Stufe/Niveau; Club gewährt eine qualitativ hochstehende Betreuung (Koordination Spiele/Training, Karriereplanung, Ausbildung)",null,null,"Verein","gute Qualität von Trainings und Trainern, Club ermöglicht der Spielerin ausreichende Spielzeit auf sinnvoller Stufe/Niveau; Club gewährt eine qualitativ hochstehende Betreuung (Koordination Spiele/Training, Karriereplanung, Ausbildung)"]
[null,"Finanzen","Das Umfeld kann die finanziellen Kosten für den Sport tragen oder es bestehen finanzielle Unterstützungsmöglichkeiten",null,null,"Finanzen","Das Umfeld kann die finanziellen Kosten für den Sport tragen oder es bestehen finanzielle Unterstützungsmöglichkeiten"]

{"sheet":"Blatt Spielerin","index":2,"n_rows":50,"n_cols":25,"rows_kept":50,"cut":false,"hidden":false,"merged":[[29,0,33,2],[29,3,29,5],[31,3,31,5],[31,6,31,11],[33,3,33,5],[33,6,33,11],[32,3,32,5],[45,0,49,2],[45,3,45,5],[45,6,45,11],[46,3,46,5],[46,6,46,11],[47,3,47,5],[47,6,47,11],[49,3,49,5],[49,6,49,11],[40,0,44,2],[35,0,39,2],[34,0,34,2],[44,6,44,11],[40,12,44,12],[40,14,44,14],[40,15,44,21],[32,6,32,11],[38,3,38,5],[38,6,38,11],[43,3,43,5],[43,6,43,11],[48,3,48,5],[48,6,48,11],[40,3,40,5],[40,6,40,11],[42,3,42,5],[42,6,42,11],[35,3,35,5],[35,6,35,11],[34,3,34,5],[34,6,34,11],[37,3,37,5],[37,6,37,11],[39,3,39,5],[39,6,39,11],[41,6,41,11],[44,3,44,5],[23,0,28,2],[23,3,23,5],[23,6,23,11],[30,3,30,5],[29,6,29,11],[30,6,30,11],[25,3,25,5],[18,23,22,23],[19,3,19,5],[19,6,19,11],[20,3,20,5],[20,6,20,11],[22,3,22,5],[22,6,22,11],[18,12,22,12],[18,14,22,14],[18,15,22,21],[23,23,28,23],[24,3,24,5],[24,6,24,11],[28,3,28,5],[25,6,25,11],[29,23,33,23],[29,12,33,12],[11,0,11,2],[11,3,11,5],[11,6,11,11],[17,12,17,13],[17,15,17,21],[18,0,22,2],[18,3,18,5],[18,6,18,11],[17,0,17,2],[17,3,17,5],[17,6,17,11],[12,12,16,12],[12,14,16,14],[12,15,16,21],[13,3,13,5],[14,3,14,5],[15,3,15,5],[13,6,13,11],[14,6,14,11],[15,6,15,11],[21,3,21,5],[21,6,21,11],[0,16,0,21],[0,22,0,24],[1,0,1,1],[1,2,1,5],[1,10,1,13],[6,0,6,1],[6,2,6,24],[7,0,7,1],[7,2,7,24],[2,0,2,1],[2,2,2,5],[2,11,2,13],[3,0,3,1],[3,10,3,13],[4,0,4,1],[4,2,4,5],[4,10,4,13],[45,12,49,12],[0,0,0,13],[0,14,0,15],[8,0,8,1],[8,2,8,24],[45,14,49,14],[45,15,49,21],[45,23,49,23],[12,23,16,23],[16,3,16,5],[16,6,16,11],[11,12,11,13],[11,15,11,21],[12,0,16,2],[12,3,12,5],[12,6,12,11],[10,0,10,13],[10,14,10,24],[40,23,44,23],[28,6,28,11],[23,12,28,12],[23,14,28,14],[23,15,28,21],[41,3,41,5],[29,15,33,21],[35,23,39,23],[36,3,36,5],[36,6,36,11],[35,12,39,12],[35,14,39,14],[35,15,39,21],[29,14,33,14],[26,3,26,5],[26,6,26,11],[27,3,27,5],[27,6,27,11],[34,12,34,13],[34,15,34,21]]}
["Personalien",null,null,null,null,null,null,null,null,null,null,null,null,null,"Vorausetzungen",null,"Evaluationen",null,null,null,null,null,"Rating"]
["VORNAME",null,null,null,null,null,"POSITION",null,null,"ADRESSE",null,null,null,null,"\"Alter\" (Biologisch/Relative Age)",null,"Datum 1",null,null,"cm",null,"Kg",null,"AUSGEZEICHNET",5]
["NAME",null,null,null,null,null,"STOCK",null,null,"WOHNORT",null,null,null,null,"Veranlagung",null,"Datum 2",null,null,"cm",null,"Kg",null,"GUT",4]
["GEB. DATUM",null,null,null,null,null,"GRÖSSE",null,"cm (Final)","CLUB",null,null,null,null,"Umfeld",null,"Datum 3",null,null,"cm",null,"Kg",null,"DURCHSCHNITT",3]
["SEX",null,null,null,null,null,"GEWICHT",null,"Kg (Final)","E-Mail",null,null,null,null,null,null,"Datum 4",null,null,"cm",null,"Kg",null,"MANGELHAFT",2]
[null,null,null,null,null,null,null,null,null,null,null,null,null,null,null,null,"Datum 5",null,null,"cm",null,"Kg",null,"UNGENÜGEND",1]
["Vision",null,"xxx"]
["Next step",null,"xxx"]
["Stärkenprofil",null,"xxx"]
[]
["EVALUATION (COACH / SPIELERIN)",null,null,null,null,null,null,null,null,null,null,null,null,null,"SMART"]
[{"$f":"Skillserleuterungen_FTEM!A3","v":"TEAM"},null,null,{"$f":"Skillserleuterungen_FTEM!B3","v":"FÄHIGKEIT"},null,null,{"$f":"Skillserleuterungen_FTEM!C3","v":"BEOBACHTUNG"},null,null,null,null,null,"Player",null,"ZIEL","MASSNAHME:\nSPEZIFISCH,  MESSBAR, REALISITISCH",null,null,null,null,null,null,"TERMIN","ZIEL-KONTROLLE","Datum"]
[{"$f":"Skillserleuterungen_FTEM!A4","v":"TEAM"},null,null,{"$f":"IF($H$2=\"G\",Skillserleuterungen_FTEM!F4,Skillserleuterungen_FTEM!B4)","v":"Kommunikation"},null,null,{"$f":"IF($H$2=\"G\",Skillserleuterungen_FTEM!G4,Skillserleuterungen_FTEM!C4)","v":"pflegt einen offenen, respektvollen Umgang, Vertrauensbasis als Grundlage, trägt Konflikte aus ohne die Stabilität der Gruppe zu gefährden, kommuniziert mit Mitspielerinnen, Trainern und Funktionären gleichermassen wertschätzend"},null,null,{"$f":"IF($H$2=\"G\",Skillserleuterungen_FTEM!#REF!,Skillserleuterungen_FTEM!#REF!)","v":{"$error":"#REF!"}},null,null,{"$f":"IFERROR(AVERAGE(N13:N17),\"-\")","v":"-"}]
[null,null,null,{"$f":"IF($H$2=\"G\",Skillserleuterungen_FTEM!F5,Skillserleuterungen_FTEM!B5)","v":"Teamfähigkeit"},null,null,{"$f":"IF($H$2=\"G\",Skillserleuterungen_FTEM!G5,Skillserleuterungen_FTEM!C5)","v":"Integration in die Gruppe, gemeinsame Ziele bestimmen und verfolgen können, WIR vor dem ICH, trägt zu einem guten Team-Spirit und Arbeitsklima bei"},null,null,{"$f":"IF($H$2=\"G\",Skillserleuterungen_FTEM!#REF!,Skillserleuterungen_FTEM!#REF!)","v":{"$error":"#REF!"}}]
[null,null,null,{"$f":"IF($H$2=\"G\",Skillserleuterungen_FTEM!F6,Skillserleuterungen_FTEM!B6)","v":"Leadership"},null,null,{"$f":"IF($H$2=\"G\",Skillserleuterungen_FTEM!G6,Skillserleuterungen_FTEM!C6)","v":"übernimmt Verantwortung in der Gruppe, versucht Team und Mitspielerinnen besser zu machen, nimmt positiven Einfluss auf die Gruppendynamik"},null,null,{"$f":"IF($H$2=\"G\",Skillserleuterungen_FTEM!#REF!,Skillserleuterungen_FTEM!#REF!)","v":{"$error":"#REF!"}}]
[null,null,null,{"$f":"IF($H$2=\"G\",Skillserleuterungen_FTEM!F7,Skillserleuterungen_FTEM!B7)","v":"Rollenverteilung"},null,null,{"$f":"IF($H$2=\"G\",Skillserleuterungen_FTEM!G7,Skillserleuterungen_FTEM!C7)","v":"kennt ihre Rolle und füllt diese aus, ist sich ihrer Stellung im Team und im System bewusst, stellt eigene Kompetenzen in den Dienst des Teams"},null,null,{"$f":"IF($H$2=\"G\",Skillserleuterungen_FTEM!#REF!,Skillserleuterungen_FTEM!#REF!)","v":{"$error":"#REF!"}}]
[null,null,null,{"$f":"IF($H$2=\"G\",Skillserleuterungen_FTEM!F8,Skillserleuterungen_FTEM!B8)","v":"Respekt"},null,null,{"$f":"IF($H$2=\"G\",Skillserleuterungen_FTEM!G8,Skillserleuterungen_FTEM!C8)","v":"Respektvoller Umgang mit Mitspielerinnen, Trainern, Gegnern, Schiedsrichter und Staff; achtet die Regeln, Fairplayprinzipien (inkl. Anti-Doping)"},null,null,{"$f":"IF($H$2=\"G\",Skillserleuterungen_FTEM!#REF!,Skillserleuterungen_FTEM!#REF!)","v":{"$error":"#REF!"}}]
[{"$f":"Skillserleuterungen_FTEM!A9","v":"ON ICE"},null,null,{"$f":"Skillserleuterungen_FTEM!B9","v":"FÄHIGKEIT"},null,null,{"$f":"Skillserleuterungen_FTEM!C9","v":"BEOBACHTUNG"},null,null,null,null,null,"Player",null,"ZIEL","MASSNAHME:\nSPEZIFISCH,  MESSBAR, REALISITISCH",null,null,null,null,null,null,"TERMIN","ZIEL-KONTROLLE","Datum"]
[{"$f":"Skillserleuterungen_FTEM!A10","v":"SKATING"},null,null,{"$f":"IF($H$2=\"G\",Skillserleuterungen_FTEM!F10,Skillserleuterungen_FTEM!B10)","v":"Footspeed"},null,null,{"$f":"IF($H$2=\"G\",Skillserleuterungen_FTEM!G10,Skillserleuterungen_FTEM!C10)","v":"Beschleunigung, Antritt, erste 3 Schritte Explosivität, Frequenz"},null,null,{"$f":"IF($H$2=\"G\",Skillserleuterungen_FTEM!#REF!,Skillserleuterungen_FTEM!#REF!)","v":{"$error":"#REF!"}},null,null,{"$f":"IFERROR(AVERAGE(N19:N23),\"-\")","v":"-"}]
[null,null,null,{"$f":"IF($H$2=\"G\",Skillserleuterungen_FTEM!F11,Skillserleuterungen_FTEM!B11)","v":"Topspeed"},null,null,{"$f":"IF($H$2=\"G\",Skillserleuterungen_FTEM!G11,Skillserleuterungen_FTEM!C11)","v":"Schnelligkeit, Gleitfähigkeit, vorwärts und rückwärts, Ökonomie"},null,null,{"$f":"IF($H$2=\"G\",Skillserleuterungen_FTEM!#REF!,Skillserleuterungen_FTEM!#REF!)","v":{"$error":"#REF!"}}]
[null,null,null,{"$f":"IF($H$2=\"G\",Skillserleuterungen_FTEM!F12,Skillserleuterungen_FTEM!B12)","v":"Agilität"},null,null,{"$f":"IF($H$2=\"G\",Skillserleuterungen_FTEM!G12,Skillserleuterungen_FTEM!C12)","v":"Richtungsänderung, Drehung, Stop und Start, \"Nummelin\""},null,null,{"$f":"IF($H$2=\"G\",Skillserleuterungen_FTEM!#REF!,Skillserleuterungen_FTEM!#REF!)","v":{"$error":"#REF!"}},null,null,{"$f":"IFERROR(AVERAGE(N21:N23),\"-\")","v":"-"}]
[null,null,null,{"$f":"IF($H$2=\"G\",Skillserleuterungen_FTEM!F13,Skillserleuterungen_FTEM!B13)","v":"Balance"},null,null,{"$f":"IF($H$2=\"G\",Skillserleuterungen_FTEM!G13,Skillserleuterungen_FTEM!C13)","v":"Gleichgewicht, Standhaftfähigkeit, tiefe Position, ein- und beidbeinig"},null,null,{"$f":"IF($H$2=\"G\",Skillserleuterungen_FTEM!#REF!,Skillserleuterungen_FTEM!#REF!)","v":{"$error":"#REF!"}}]
[null,null,null,{"$f":"IF($H$2=\"G\",Skillserleuterungen_FTEM!F14,Skillserleuterungen_FTEM!B14)","v":"Backwards Skating"},null,null,{"$f":"IF($H$2=\"G\",Skillserleuterungen_FTEM!G14,Skillserleuterungen_FTEM!C14)","v":"Beschleunigung, Geschwindigkeit, Balance"},null,null,{"$f":"IF($H$2=\"G\",Skillserleuterungen_FTEM!#REF!,Skillserleuterungen_FTEM!#REF!)","v":{"$error":"#REF!"}}]
[{"$f":"Skillserleuterungen_FTEM!A15","v":"SKILLS"},null,null,{"$f":"IF($H$2=\"G\",Skillserleuterungen_FTEM!F15,Skillserleuterungen_FTEM!B15)","v":"Schiessen"},null,null,{"$f":"IF($H$2=\"G\",Skillserleuterungen_FTEM!G15,Skillserleuterungen_FTEM!C15)","v":"Effizienz (no space no time), Variantenreichtum, Überraschungsgrad (Quick Release), Präzision, Härte, (taktische Abschlüsse)"},null,null,{"$f":"IF($H$2=\"G\",Skillserleuterungen_FTEM!#REF!,Skillserleuterungen_FTEM!#REF!)","v":{"$error":"#REF!"}},null,null,{"$f":"IFERROR(AVERAGE(N24:N29),\"-\")","v":"-"}]
[null,null,null,{"$f":"IF($H$2=\"G\",Skillserleuterungen_FTEM!F16,Skillserleuterungen_FTEM!B16)","v":"Passen"},null,null,{"$f":"IF($H$2=\"G\",Skillserleuterungen_FTEM!G16,Skillserleuterungen_FTEM!C16)","v":"Passabgabe (Distanz, Flippass Backhand), Passannahme (Präzision, Timing, Vorhand, Rückhand, Schlittschuh), Puckspeed "},null,null,{"$f":"IF($H$2=\"G\",Skillserleuterungen_FTEM!#REF!,Skillserleuterungen_FTEM!#REF!)","v":{"$error":"#REF!"}}]
[null,null,null,{"$f":"IF($H$2=\"G\",Skillserleuterungen_FTEM!F17,Skillserleuterungen_FTEM!B17)","v":"Stockarbeit"},null,null,{"$f":"IF($H$2=\"G\",Skillserleuterungen_FTEM!G17,Skillserleuterungen_FTEM!C17)","v":"Stock zum Puck, Passlinie unterbinden, ablenken, Stockkontrolle Gegenspielerin"},null,null,{"$f":"IF($H$2=\"G\",Skillserleuterungen_FTEM!#REF!,Skillserleuterungen_FTEM!#REF!)","v":{"$error":"#REF!"}}]
[null,null,null,{"$f":"IF($H$2=\"G\",Skillserleuterungen_FTEM!F18,Skillserleuterungen_FTEM!B18)","v":"Puck besitzen "},null,null,{"$f":"IF($H$2=\"G\",Skillserleuterungen_FTEM!G18,Skillserleuterungen_FTEM!C18)","v":"Puckkontrolle, Dribblings, Puck schützen, Finten (Varianten: mit Schlittschuh, mit sowie ohne Bande), Face-Off"},null,null,{"$f":"IF($H$2=\"G\",Skillserleuterungen_FTEM!#REF!,Skillserleuterungen_FTEM!#REF!)","v":{"$error":"#REF!"}}]
[null,null,null,{"$f":"IF($H$2=\"G\",Skillserleuterungen_FTEM!F19,Skillserleuterungen_FTEM!B19)","v":"Körperspiel"},null,null,{"$f":"IF($H$2=\"G\",Skillserleuterungen_FTEM!G19,Skillserleuterungen_FTEM!C19)","v":"Phyisches Durchsetzungsvermögen, Zweikampf (offenes Eis/Bande), Checks nehmen/Head up, Battle Level, Hart aber fair"},null,null,{"$f":"IF($H$2=\"G\",Skillserleuterungen_FTEM!#REF!,Skillserleuterungen_FTEM!#REF!)","v":{"$error":"#REF!"}}]
[null,null,null,{"$f":"IF($H$2=\"G\",Skillserleuterungen_FTEM!F20,Skillserleuterungen_FTEM!B20)","v":"-"},null,null,{"$f":"IF($H$2=\"G\",Skillserleuterungen_FTEM!G20,Skillserleuterungen_FTEM!C20)","v":"-"},null,null,{"$f":"IF($H$2=\"G\",Skillserleuterungen_FTEM!#REF!,Skillserleuterungen_FTEM!#REF!)","v":{"$error":"#REF!"}}]
[{"$f":"Skillserleuterungen_FTEM!A21","v":"HOCKEY SENSE"},null,null,{"$f":"IF($H$2=\"G\",Skillserleuterungen_FTEM!F21,Skillserleuterungen_FTEM!B21)","v":"Spielintelligenz"},null,null,{"$f":"IF($H$2=\"G\",Skillserleuterungen_FTEM!G21,Skillserleuterungen_FTEM!C21)","v":"Freie Räume und Spielerin sehen und Überzahlsituationen kreieren, lösungsorientiert agieren bei allen Bedingungen, Headspeed"},null,null,{"$f":"IF($H$2=\"G\",Skillserleuterungen_FTEM!#REF!,Skillserleuterungen_FTEM!#REF!)","v":{"$error":"#REF!"}},null,null,{"$f":"IFERROR(AVERAGE(N30:N34),\"-\")","v":"-"}]
[null,null,null,{"$f":"IF($H$2=\"G\",Skillserleuterungen_FTEM!F22,Skillserleuterungen_FTEM!B22)","v":"Offensives Bewusstsein"},null,null,{"$f":"IF($H$2=\"G\",Skillserleuterungen_FTEM!G22,Skillserleuterungen_FTEM!C22)","v":"Anspielbar, Antizipation der Spielsituationen, Freiräume für Mitspielerinnen öffnen, Abschlussorientiert sein, Gapspeed, gute Kommunikation"},null,null,{"$f":"IF($H$2=\"G\",Skillserleuterungen_FTEM!#REF!,Skillserleuterungen_FTEM!#REF!)","v":{"$error":"#REF!"}}]
[null,null,null,{"$f":"IF($H$2=\"G\",Skillserleuterungen_FTEM!F23,Skillserleuterungen_FTEM!B23)","v":"Defensiv Bewusstsein"},null,null,{"$f":"IF($H$2=\"G\",Skillserleuterungen_FTEM!G23,Skillserleuterungen_FTEM!C23)","v":"Inside Position halten, Slot beschützen, Mitspieler absichern/Support, Passlinie erkennen, Schüsse blockieren. Gapspeed, gute Komunikation"},null,null,{"$f":"IF($H$2=\"G\",Skillserleuterungen_FTEM!#REF!,Skillserleuterungen_FTEM!#REF!)","v":{"$error":"#REF!"}}]
[null,null,null,{"$f":"IF($H$2=\"G\",Skillserleuterungen_FTEM!F24,Skillserleuterungen_FTEM!B24)","v":"Puckmanagement"},null,null,{"$f":"IF($H$2=\"G\",Skillserleuterungen_FTEM!G24,Skillserleuterungen_FTEM!C24)","v":"Situationsadäquate Entscheidungen treffen, Support, Overload"},null,null,{"$f":"IF($H$2=\"G\",Skillserleuterungen_FTEM!#REF!,Skillserleuterungen_FTEM!#REF!)","v":{"$error":"#REF!"}}]
[null,null,null,{"$f":"IF($H$2=\"G\",Skillserleuterungen_FTEM!F25,Skillserleuterungen_FTEM!B25)","v":"Kreativität"},null,null,{"$f":"IF($H$2=\"G\",Skillserleuterungen_FTEM!G25,Skillserleuterungen_FTEM!C25)","v":"Überraschende Lösungen, Torriecher"},null,null,{"$f":"IF($H$2=\"G\",Skillserleuterungen_FTEM!#REF!,Skillserleuterungen_FTEM!#REF!)","v":{"$error":"#REF!"}}]
[{"$f":"Skillserleuterungen_FTEM!A26","v":"PERSONALITY"},null,null,{"$f":"Skillserleuterungen_FTEM!B26","v":"FÄHIGKEIT"},null,null,{"$f":"Skillserleuterungen_FTEM!C26","v":"BEOBACHTUNG"},null,null,null,null,null,"Player",null,"ZIEL","MASSNAHME:\nSPEZIFISCH,  MESSBAR, REALISITISCH",null,null,null,null,null,null,"TERMIN","ZIEL-KONTROLLE","Datum"]
[{"$f":"Skillserleuterungen_FTEM!A27","v":"PERSÖNLICHKEIT"},null,null,{"$f":"IF($H$2=\"G\",Skillserleuterungen_FTEM!F27,Skillserleuterungen_FTEM!B27)","v":"Selbstbewusstsein"},null,null,{"$f":"IF($H$2=\"G\",Skillserleuterungen_FTEM!G27,Skillserleuterungen_FTEM!C27)","v":"hat das nötige Selbstvertrauen,\"I can do it\"-Haltung, kann eigene Fähigkeiten einschätzen (kennt eigene Stärken/Schwächen), kann ihre Stärken konstant einsetzen, agiert mutig und nimmt kalkulierte Risiken"},null,null,{"$f":"IF($H$2=\"G\",Skillserleuterungen_FTEM!#REF!,Skillserleuterungen_FTEM!#REF!)","v":{"$error":"#REF!"}},null,null,{"$f":"IFERROR(AVERAGE(N36:N40),\"-\")","v":"-"}]
[null,null,null,{"$f":"IF($H$2=\"G\",Skillserleuterungen_FTEM!F28,Skillserleuterungen_FTEM!B28)","v":"Lernfähigkeit"},null,null,{"$f":"IF($H$2=\"G\",Skillserleuterungen_FTEM!G28,Skillserleuterungen_FTEM!C28)","v":"hat eine gute Auffassungsgabe (nimmt auf und kann umsetzen), reflektiert eigenes Handeln, versucht aus Fehlern zu lernen und kann Massnahmen ableiten"},null,null,{"$f":"IF($H$2=\"G\",Skillserleuterungen_FTEM!#REF!,Skillserleuterungen_FTEM!#REF!)","v":{"$error":"#REF!"}}]
[null,null,null,{"$f":"IF($H$2=\"G\",Skillserleuterungen_FTEM!F29,Skillserleuterungen_FTEM!B29)","v":"Eigenverantwortung"},null,null,{"$f":"IF($H$2=\"G\",Skillserleuterungen_FTEM!G29,Skillserleuterungen_FTEM!C29)","v":"übernimmt Verantwortung für eigene Leistungen und Entwicklung, handelt selbständig, achtet auf Details, zeigt grosses Engagement in allen Bereichen"},null,null,{"$f":"IF($H$2=\"G\",Skillserleuterungen_FTEM!#REF!,Skillserleuterungen_FTEM!#REF!)","v":{"$error":"#REF!"}}]
[null,null,null,{"$f":"IF($H$2=\"G\",Skillserleuterungen_FTEM!F30,Skillserleuterungen_FTEM!B30)","v":"Motivation"},null,null,{"$f":"IF($H$2=\"G\",Skillserleuterungen_FTEM!G30,Skillserleuterungen_FTEM!C30)","v":"Intrinsischer Antrieb, will sich ständig weiterentwickeln und lernen, will die Erste sein und Erfolg haben, gibt nie auf und lässt sich auch durch Misserfolge nicht vom Weg abbringen"},null,null,{"$f":"IF($H$2=\"G\",Skillserleuterungen_FTEM!#REF!,Skillserleuterungen_FTEM!#REF!)","v":{"$error":"#REF!"}}]
[null,null,null,{"$f":"IF($H$2=\"G\",Skillserleuterungen_FTEM!F31,Skillserleuterungen_FTEM!B31)","v":"Performance Lifestyle"},null,null,{"$f":"IF($H$2=\"G\",Skillserleuterungen_FTEM!G31,Skillserleuterungen_FTEM!C31)","v":"managt Alltag und Umfeld nach dem Leistungsprinzip, hartnäckig, beharrlich und zielgerichtet, Fokus auf eigene Leistung, zeigt Biss und kann sich auch gegen Widerstände durchsetzen, Herausforderungen spornen sie an"},null,null,{"$f":"IF($H$2=\"G\",Skillserleuterungen_FTEM!#REF!,Skillserleuterungen_FTEM!#REF!)","v":{"$error":"#REF!"}}]
[{"$f":"Skillserleuterungen_FTEM!A32","v":"MENTALE STÄRKE"},null,null,{"$f":"IF($H$2=\"G\",Skillserleuterungen_FTEM!F32,Skillserleuterungen_FTEM!B32)","v":"Einsatzbereitschaft"},null,null,{"$f":"IF($H$2=\"G\",Skillserleuterungen_FTEM!G32,Skillserleuterungen_FTEM!C32)","v":"zeigt im Spiel und im Training hohe Intensität, gibt immer ihr Maximum und will ihre Limiten pushen, zeigt Leidenschaft, ist um hohe Trainingsqualität bemüht"},null,null,{"$f":"IF($H$2=\"G\",Skillserleuterungen_FTEM!#REF!,Skillserleuterungen_FTEM!#REF!)","v":{"$error":"#REF!"}},null,null,{"$f":"IFERROR(AVERAGE(N41:N45),\"-\")","v":"-"}]
[null,null,null,{"$f":"IF($H$2=\"G\",Skillserleuterungen_FTEM!F33,Skillserleuterungen_FTEM!B33)","v":"Vorbereitung"},null,null,{"$f":"IF($H$2=\"G\",Skillserleuterungen_FTEM!G33,Skillserleuterungen_FTEM!C33)","v":"bewusste und gezielte Vorbereitung, mental wie auch physisch, verfügt über einen effizienten Ablauf zur Erreichung des idealen Leistungszustand (ILZ)"},null,null,{"$f":"IF($H$2=\"G\",Skillserleuterungen_FTEM!#REF!,Skillserleuterungen_FTEM!#REF!)","v":{"$error":"#REF!"}}]
[null,null,null,{"$f":"IF($H$2=\"G\",Skillserleuterungen_FTEM!F34,Skillserleuterungen_FTEM!B34)","v":"Selbstcoaching"},null,null,{"$f":"IF($H$2=\"G\",Skillserleuterungen_FTEM!G34,Skillserleuterungen_FTEM!C34)","v":"verfügt über gute Konzentrationsfähigkeit, kann während Spiel/Training ihren ILZ halten, kann mentale Grundtechniken anwenden, widerstandsfähig gegen negative Gedanken und Einflüsse, ist sich ihrer Körpersprache bewusst und kann diese regulieren"},null,null,{"$f":"IF($H$2=\"G\",Skillserleuterungen_FTEM!#REF!,Skillserleuterungen_FTEM!#REF!)","v":{"$error":"#REF!"}}]
[null,null,null,{"$f":"IF($H$2=\"G\",Skillserleuterungen_FTEM!F35,Skillserleuterungen_FTEM!B35)","v":"Energiemanagement"},null,null,{"$f":"IF($H$2=\"G\",Skillserleuterungen_FTEM!G35,Skillserleuterungen_FTEM!C35)","v":"kann eigene Energie regulieren, bereit zur Regeneration, weiss wann sie \"Vollgas\" geben muss und wann abschalten, On/Off-Schalter"},null,null,{"$f":"IF($H$2=\"G\",Skillserleuterungen_FTEM!#REF!,Skillserleuterungen_FTEM!#REF!)","v":{"$error":"#REF!"}}]
[null,null,null,{"$f":"IF($H$2=\"G\",Skillserleuterungen_FTEM!F36,Skillserleuterungen_FTEM!B36)","v":"Emotionskontrolle"},null,null,{"$f":"IF($H$2=\"G\",Skillserleuterungen_FTEM!G36,Skillserleuterungen_FTEM!C36)","v":"kann eigene Emotionen und Impulse regulieren, behält auch unter Druck die Kontrolle, kann auch in emotional anspruchsvollen oder frustrierenden Situationen angemessen agieren"},null,null,{"$f":"IF($H$2=\"G\",Skillserleuterungen_FTEM!#REF!,Skillserleuterungen_FTEM!#REF!)","v":{"$error":"#REF!"}}]
[{"$f":"Skillserleuterungen_FTEM!A37","v":"PHYSE"},null,null,{"$f":"IF($H$2=\"G\",Skillserleuterungen_FTEM!F37,Skillserleuterungen_FTEM!B37)","v":"Leistungserzeugung"},null,null,{"$f":"IF($H$2=\"G\",Skillserleuterungen_FTEM!G37,Skillserleuterungen_FTEM!C37)","v":"verfügt über die nötige Power/Kraft/Schnelligkeit in den Beinen und im Oberkörper (Neuromuskuläre Faktoren)"},null,null,{"$f":"IF($H$2=\"G\",Skillserleuterungen_FTEM!#REF!,Skillserleuterungen_FTEM!#REF!)","v":{"$error":"#REF!"}},null,null,{"$f":"IFERROR(AVERAGE(N46:N50),\"-\")","v":"-"}]
[null,null,null,{"$f":"IF($H$2=\"G\",Skillserleuterungen_FTEM!F38,Skillserleuterungen_FTEM!B38)","v":"sporartspez. Ermüdungsresistenz"},null,null,{"$f":"IF($H$2=\"G\",Skillserleuterungen_FTEM!G38,Skillserleuterungen_FTEM!C38)","v":"Ist fähig  die Power/Kraft/Schnelligkeit innerhalb des Einsatzes lange aufrechtzuerhalten und kann sich zwischen den Einsätzen jeweils vollkommen erholen (Metabolische und kardiovaskuläre Faktoren)"},null,null,{"$f":"IF($H$2=\"G\",Skillserleuterungen_FTEM!#REF!,Skillserleuterungen_FTEM!#REF!)","v":{"$error":"#REF!"}}]
[null,null,null,{"$f":"IF($H$2=\"G\",Skillserleuterungen_FTEM!F39,Skillserleuterungen_FTEM!B39)","v":"Gesundheit / Prävention"},null,null,{"$f":"IF($H$2=\"G\",Skillserleuterungen_FTEM!G39,Skillserleuterungen_FTEM!C39)","v":"verfügt über die nötige Stabilität (z.B. Beinachsenstabilität) und Beweglichkeit in den zentralen Gelenken"},null,null,{"$f":"IF($H$2=\"G\",Skillserleuterungen_FTEM!#REF!,Skillserleuterungen_FTEM!#REF!)","v":{"$error":"#REF!"}}]
[null,null,null,{"$f":"IF($H$2=\"G\",Skillserleuterungen_FTEM!F40,Skillserleuterungen_FTEM!B40)","v":"Bewegungskompetenzen"},null,null,{"$f":"IF($H$2=\"G\",Skillserleuterungen_FTEM!G40,Skillserleuterungen_FTEM!C40)","v":"beherrscht die grundlegenden Bewegungsfertigkeiten, die eine unerlässliche Zubringerfunktion für die sportspezifischen \"Skills\" darstellt sowie zur nötigen Bewegungseffizienz führt"},null,null,{"$f":"IF($H$2=\"G\",Skillserleuterungen_FTEM!#REF!,Skillserleuterungen_FTEM!#REF!)","v":{"$error":"#REF!"}}]
[null,null,null,{"$f":"IF($H$2=\"G\",Skillserleuterungen_FTEM!F41,Skillserleuterungen_FTEM!B41)","v":"Robustheit"},null,null,{"$f":"IF($H$2=\"G\",Skillserleuterungen_FTEM!G41,Skillserleuterungen_FTEM!C41)","v":"verfügt über die nötige Grundkraft (Körperspannung), um sich in Zweikämpfen durchzusetzen und bei Zusammestössen standzuhalten"},null,null,{"$f":"IF($H$2=\"G\",Skillserleuterungen_FTEM!#REF!,Skillserleuterungen_FTEM!#REF!)","v":{"$error":"#REF!"}}]

{"sheet":"Selektionsblatt","index":3,"n_rows":40,"n_cols":52,"rows_kept":40,"cut":false,"hidden":false,"merged":[[2,10,2,13],[6,10,6,13],[0,0,0,31],[8,32,8,41],[4,12,4,13],[2,30,2,31],[4,30,4,31],[6,30,6,31],[8,0,8,31]]}
["SIHF STAR PROFILE"]
[null,null,null,null,null,null,"SEX",null,null,null,null,null,null,null,null,null,"G"]
[null,null,null,null,null,null,"M",null,null,"STUFE","WNT U18",null,null,null,null,null,null,null,null,null,null,null,null,null,null,null,null,null,null,"TEAM","WNT U18"]
[]
[null,null,null,null,null,null,"W",null,null,"SAISON",2019,"-",2020,null,null,null,null,null,null,null,null,null,null,null,null,null,null,null,null,"JAHRGANG","2003-2006"]
[]
[null,null,null,null,null,null,null,null,null,"STAND","2020-03-31",null,null,null,null,null,null,null,null,null,null,null,null,null,null,null,null,null,null,"COACH","Daniela Diaz"]
[]
["SCHLUSSWERTUNGEN"]
["Spielre ID","Name\nNom","Vorname\nPrénom","Club","Strasse\nRue","Ort\nLieu","PLZ","Phone\n(Natel / Home)","EMAIL","Grösse\nGrandeur","Gewicht\nPoid","Position\nG / D / FC / FW","Sex","Geburtsdatum\nDate de naissance","Monat\nmois","Jahr\nannée","SKATING","SKILLS","hockey SENSE","PERSÖNLICHKEIT\n","MENTALE STÄRKE","PYHSE (Athletik)","TEAM","ALTER\nAGE","UMFELD\nENTOURAGE","VERANLAGUNG\nPREDISPOSITION","TOTAL ","RANG","Verletzt\nBlessé?","Selektionsentscheid\nDécision de sélection","Tendenz / Tendance:\nLEISTUNGSENTWICKLUNG\nDévelop. de la performance","Bemerkung\nRemarques","Gewichtung\nSkating","Gewichtung\nSkills","Gewichtung\nHockey Sense","Gewichtung\nPerson","Gewichtung\nPower","Gewichtung\nPhyse","Gewichtung\nTeam","Gewichtung\nAlter","Gewichtung\nUmfeld","Gewichtung\nVeranlagung","Gewichtung\nSkating2","Gewichtung\nSkills3","Gewichtung\nHockey Sense4","Gewichtung\nPerson5","Gewichtung\nPower6","Gewichtung\nPhyse9","Gewichtung\nTeam7","Gewichtung\nAlter8","Gewichtung\nUmfeld10","Gewichtung\nVeranlagung11"]
[1,null,null,{"$f":"'1'!$K$4","v":0},null,null,null,null,null,{"$f":"IF(ISBLANK('1'!$H$4),\"-\",'1'!$H$4)","v":"-"},{"$f":"IF(ISBLANK('1'!$H$5),\"-\",'1'!$H$5)","v":"-"},{"$f":"IF(ISBLANK('1'!$H$2),\"-\",'1'!$H$2)","v":"-"},null,null,null,null,{"$f":"'1'!$M$19","v":0},{"$f":"'1'!$M$24","v":0},{"$f":"'1'!$M$30","v":0},{"$f":"'1'!$M$36","v":0},{"$f":"'1'!$M$41","v":0},{"$f":"'1'!$M$46","v":0},{"$f":"'1'!$M$13","v":0},{"$f":"'1'!$AA$2","v":0},{"$f":"'1'!$AA$4","v":0},{"$f":"'1'!$AA$3","v":0},{"$f":"IF(Tabelle3[[#This Row],[SKATING]]=0,\"-\",IF(Tabelle3[[#This Row],[Sex]]=\"M\",SUMPRODUCT(Tabelle3[[#This Row],[SKATING]:[VERANLAGUNG\nPREDISPOSITION]],AG11:AP11),SUMPRODUCT(Tabelle3[[#This Row],[SKATING]:[VERANLAGUNG\nPREDISPOSITION]],AQ11:AZ11)))","v":"-"},{"$f":"IFERROR(RANK(Tabelle3[[#This Row],[TOTAL ]],Tabelle3[[TOTAL ]],0),\"-\")","v":"-"},null,null,null,null,{"$f":"IF(Tabelle3[[#This Row],[Position\nG / D / FC / FW]]=\"G\",VLOOKUP($M$5-Tabelle3[[#This Row],[Jahr\nannée]],GOALI,2),VLOOKUP($M$5-Tabelle3[[#This Row],[Jahr\nannée]],SPIELER,2))","v":10},{"$f":"IF(Tabelle3[[#This Row],[Position\nG / D / FC / FW]]=\"G\",VLOOKUP($M$5-Tabelle3[[#This Row],[Jahr\nannée]],GOALI,3),VLOOKUP($M$5-Tabelle3[[#This Row],[Jahr\nannée]],SPIELER,3))","v":10},{"$f":"IF(Tabelle3[[#This Row],[Position\nG / D / FC / FW]]=\"G\",VLOOKUP($M$5-Tabelle3[[#This Row],[Jahr\nannée]],GOALI,4),VLOOKUP($M$5-Tabelle3[[#This Row],[Jahr\nannée]],SPIELER,4))","v":20},{"$f":"IF(Tabelle3[[#This Row],[Position\nG / D / FC / FW]]=\"G\",VLOOKUP($M$5-Tabelle3[[#This Row],[Jahr\nannée]],GOALI,5),VLOOKUP($M$5-Tabelle3[[#This Row],[Jahr\nannée]],SPIELER,5))","v":15},{"$f":"IF(Tabelle3[[#This Row],[Position\nG / D / FC / FW]]=\"G\",VLOOKUP($M$5-Tabelle3[[#This Row],[Jahr\nannée]],GOALI,6),VLOOKUP($M$5-Tabelle3[[#This Row],[Jahr\nannée]],SPIELER,6))","v":10},{"$f":"IF(Tabelle3[[#This Row],[Position\nG / D / FC / FW]]=\"G\",VLOOKUP($M$5-Tabelle3[[#This Row],[Jahr\nannée]],GOALI,9),VLOOKUP($M$5-Tabelle3[[#This Row],[Jahr\nannée]],SPIELER,9))","v":15},{"$f":"IF(Tabelle3[[#This Row],[Position\nG / D / FC / FW]]=\"G\",VLOOKUP($M$5-Tabelle3[[#This Row],[Jahr\nannée]],GOALI,7),VLOOKUP($M$5-Tabelle3[[#This Row],[Jahr\nannée]],SPIELER,7))","v":10},{"$f":"IF(Tabelle3[[#This Row],[Position\nG / D / FC / FW]]=\"G\",VLOOKUP($M$5-Tabelle3[[#This Row],[Jahr\nannée]],GOALI,8),VLOOKUP($M$5-Tabelle3[[#This Row],[Jahr\nannée]],SPIELER,8))","v":0},{"$f":"IF(Tabelle3[[#This Row],[Position\nG / D / FC / FW]]=\"G\",VLOOKUP($M$5-Tabelle3[[#This Row],[Jahr\nannée]],GOALI,10),VLOOKUP($M$5-Tabelle3[[#This Row],[Jahr\nannée]],SPIELER,10))","v":0},{"$f":"IF(Tabelle3[[#This Row],[Position\nG / D / FC / FW]]=\"G\",VLOOKUP($M$5-Tabelle3[[#This Row],[Jahr\nannée]],GOALI,11),VLOOKUP($M$5-Tabelle3[[#This Row],[Jahr\nannée]],SPIELER,11))","v":10},{"$f":"IF(Tabelle3[[#This Row],[Position\nG / D / FC / FW]]=\"G\",VLOOKUP($M$5-Tabelle3[[#This Row],[Jahr\nannée]],FGOALIE,2),VLOOKUP($M$5-Tabelle3[[#This Row],[Jahr\nannée]],FSPIELER,2))","v":10},{"$f":"IF(Tabelle3[[#This Row],[Position\nG / D / FC / FW]]=\"G\",VLOOKUP($M$5-Tabelle3[[#This Row],[Jahr\nannée]],FGOALIE,3),VLOOKUP($M$5-Tabelle3[[#This Row],[Jahr\nannée]],FSPIELER,3))","v":10},{"$f":"IF(Tabelle3[[#This Row],[Position\nG / D / FC / FW]]=\"G\",VLOOKUP($M$5-Tabelle3[[#This Row],[Jahr\nannée]],FGOALIE,4),VLOOKUP($M$5-Tabelle3[[#This Row],[Jahr\nannée]],FSPIELER,4))","v":20},{"$f":"IF(Tabelle3[[#This Row],[Position\nG / D / FC / FW]]=\"G\",VLOOKUP($M$5-Tabelle3[[#This Row],[Jahr\nannée]],FGOALIE,5),VLOOKUP($M$5-Tabelle3[[#This Row],[Jahr\nannée]],FSPIELER,5))","v":15},{"$f":"IF(Tabelle3[[#This Row],[Position\nG / D / FC / FW]]=\"G\",VLOOKUP($M$5-Tabelle3[[#This Row],[Jahr\nannée]],FGOALIE,6),VLOOKUP($M$5-Tabelle3[[#This Row],[Jahr\nannée]],FSPIELER,6))","v":10},{"$f":"IF(Tabelle3[[#This Row],[Position\nG / D / FC / FW]]=\"G\",VLOOKUP($M$5-Tabelle3[[#This Row],[Jahr\nannée]],FGOALIE,9),VLOOKUP($M$5-Tabelle3[[#This Row],[Jahr\nannée]],FSPIELER,9))","v":15},{"$f":"IF(Tabelle3[[#This Row],[Position\nG / D / FC / FW]]=\"G\",VLOOKUP($M$5-Tabelle3[[#This Row],[Jahr\nannée]],FGOALIE,7),VLOOKUP($M$5-Tabelle3[[#This Row],[Jahr\nannée]],FSPIELER,7))","v":10},{"$f":"IF(Tabelle3[[#This Row],[Position\nG / D / FC / FW]]=\"G\",VLOOKUP($M$5-Tabelle3[[#This Row],[Jahr\nannée]],FGOALIE,8),VLOOKUP($M$5-Tabelle3[[#This Row],[Jahr\nannée]],FSPIELER,8))","v":0},{"$f":"IF(Tabelle3[[#This Row],[Position\nG / D / FC / FW]]=\"G\",VLOOKUP($M$5-Tabelle3[[#This Row],[Jahr\nannée]],FGOALIE,10),VLOOKUP($M$5-Tabelle3[[#This Row],[Jahr\nannée]],FSPIELER,10))","v":0},{"$f":"IF(Tabelle3[[#This Row],[Position\nG / D / FC / FW]]=\"G\",VLOOKUP($M$5-Tabelle3[[#This Row],[Jahr\nannée]],FGOALIE,11),VLOOKUP($M$5-Tabelle3[[#This Row],[Jahr\nannée]],FSPIELER,11))","v":10}]
[2,null,null,{"$f":"'2'!$K$4","v":"-"},null,null,null,null,null,{"$f":"IF(ISBLANK('2'!$H$4),\"-\",'2'!$H$4)","v":"-"},{"$f":"IF(ISBLANK('2'!$H$5),\"-\",'2'!$H$5)","v":"-"},{"$f":"IF(ISBLANK('2'!$H$2),\"-\",'2'!$H$2)","v":"-"},null,null,null,null,{"$f":"'2'!$M$19","v":0},{"$f":"'2'!$M$24","v":0},{"$f":"'2'!$M$30","v":0},{"$f":"'2'!$M$36","v":0},{"$f":"'2'!$M$41","v":0},{"$f":"'2'!$M$46","v":0},{"$f":"'2'!$M$13","v":0},{"$f":"'2'!$AA$2","v":0},{"$f":"'2'!$AA$4","v":0},{"$f":"'2'!$AA$3","v":0},{"$f":"IF(Tabelle3[[#This Row],[SKATING]]=0,\"-\",IF(Tabelle3[[#This Row],[Sex]]=\"M\",SUMPRODUCT(Tabelle3[[#This Row],[SKATING]:[VERANLAGUNG\nPREDISPOSITION]],AG12:AP12),SUMPRODUCT(Tabelle3[[#This Row],[SKATING]:[VERANLAGUNG\nPREDISPOSITION]],AQ12:AZ12)))","v":"-"},{"$f":"IFERROR(RANK(Tabelle3[[#This Row],[TOTAL ]],Tabelle3[[TOTAL ]],0),\"-\")","v":"-"},null,null,null,null,{"$f":"IF(Tabelle3[[#This Row],[Position\nG / D / FC / FW]]=\"G\",VLOOKUP($M$5-Tabelle3[[#This Row],[Jahr\nannée]],GOALI,2),VLOOKUP($M$5-Tabelle3[[#This Row],[Jahr\nannée]],SPIELER,2))","v":10},{"$f":"IF(Tabelle3[[#This Row],[Position\nG / D / FC / FW]]=\"G\",VLOOKUP($M$5-Tabelle3[[#This Row],[Jahr\nannée]],GOALI,3),VLOOKUP($M$5-Tabelle3[[#This Row],[Jahr\nannée]],SPIELER,3))","v":10},{"$f":"IF(Tabelle3[[#This Row],[Position\nG / D / FC / FW]]=\"G\",VLOOKUP($M$5-Tabelle3[[#This Row],[Jahr\nannée]],GOALI,4),VLOOKUP($M$5-Tabelle3[[#This Row],[Jahr\nannée]],SPIELER,4))","v":20},{"$f":"IF(Tabelle3[[#This Row],[Position\nG / D / FC / FW]]=\"G\",VLOOKUP($M$5-Tabelle3[[#This Row],[Jahr\nannée]],GOALI,5),VLOOKUP($M$5-Tabelle3[[#This Row],[Jahr\nannée]],SPIELER,5))","v":15},{"$f":"IF(Tabelle3[[#This Row],[Position\nG / D / FC / FW]]=\"G\",VLOOKUP($M$5-Tabelle3[[#This Row],[Jahr\nannée]],GOALI,6),VLOOKUP($M$5-Tabelle3[[#This Row],[Jahr\nannée]],SPIELER,6))","v":10},{"$f":"IF(Tabelle3[[#This Row],[Position\nG / D / FC / FW]]=\"G\",VLOOKUP($M$5-Tabelle3[[#This Row],[Jahr\nannée]],GOALI,9),VLOOKUP($M$5-Tabelle3[[#This Row],[Jahr\nannée]],SPIELER,9))","v":15},{"$f":"IF(Tabelle3[[#This Row],[Position\nG / D / FC / FW]]=\"G\",VLOOKUP($M$5-Tabelle3[[#This Row],[Jahr\nannée]],GOALI,7),VLOOKUP($M$5-Tabelle3[[#This Row],[Jahr\nannée]],SPIELER,7))","v":10},{"$f":"IF(Tabelle3[[#This Row],[Position\nG / D / FC / FW]]=\"G\",VLOOKUP($M$5-Tabelle3[[#This Row],[Jahr\nannée]],GOALI,8),VLOOKUP($M$5-Tabelle3[[#This Row],[Jahr\nannée]],SPIELER,8))","v":0},{"$f":"IF(Tabelle3[[#This Row],[Position\nG / D / FC / FW]]=\"G\",VLOOKUP($M$5-Tabelle3[[#This Row],[Jahr\nannée]],GOALI,10),VLOOKUP($M$5-Tabelle3[[#This Row],[Jahr\nannée]],SPIELER,10))","v":0},{"$f":"IF(Tabelle3[[#This Row],[Position\nG / D / FC / FW]]=\"G\",VLOOKUP($M$5-Tabelle3[[#This Row],[Jahr\nannée]],GOALI,11),VLOOKUP($M$5-Tabelle3[[#This Row],[Jahr\nannée]],SPIELER,11))","v":10},{"$f":"IF(Tabelle3[[#This Row],[Position\nG / D / FC / FW]]=\"G\",VLOOKUP($M$5-Tabelle3[[#This Row],[Jahr\nannée]],FGOALIE,2),VLOOKUP($M$5-Tabelle3[[#This Row],[Jahr\nannée]],FSPIELER,2))","v":10},{"$f":"IF(Tabelle3[[#This Row],[Position\nG / D / FC / FW]]=\"G\",VLOOKUP($M$5-Tabelle3[[#This Row],[Jahr\nannée]],FGOALIE,3),VLOOKUP($M$5-Tabelle3[[#This Row],[Jahr\nannée]],FSPIELER,3))","v":10},{"$f":"IF(Tabelle3[[#This Row],[Position\nG / D / FC / FW]]=\"G\",VLOOKUP($M$5-Tabelle3[[#This Row],[Jahr\nannée]],FGOALIE,4),VLOOKUP($M$5-Tabelle3[[#This Row],[Jahr\nannée]],FSPIELER,4))","v":20},{"$f":"IF(Tabelle3[[#This Row],[Position\nG / D / FC / FW]]=\"G\",VLOOKUP($M$5-Tabelle3[[#This Row],[Jahr\nannée]],FGOALIE,5),VLOOKUP($M$5-Tabelle3[[#This Row],[Jahr\nannée]],FSPIELER,5))","v":15},{"$f":"IF(Tabelle3[[#This Row],[Position\nG / D / FC / FW]]=\"G\",VLOOKUP($M$5-Tabelle3[[#This Row],[Jahr\nannée]],FGOALIE,6),VLOOKUP($M$5-Tabelle3[[#This Row],[Jahr\nannée]],FSPIELER,6))","v":10},{"$f":"IF(Tabelle3[[#This Row],[Position\nG / D / FC / FW]]=\"G\",VLOOKUP($M$5-Tabelle3[[#This Row],[Jahr\nannée]],FGOALIE,9),VLOOKUP($M$5-Tabelle3[[#This Row],[Jahr\nannée]],FSPIELER,9))","v":15},{"$f":"IF(Tabelle3[[#This Row],[Position\nG / D / FC / FW]]=\"G\",VLOOKUP($M$5-Tabelle3[[#This Row],[Jahr\nannée]],FGOALIE,7),VLOOKUP($M$5-Tabelle3[[#This Row],[Jahr\nannée]],FSPIELER,7))","v":10},{"$f":"IF(Tabelle3[[#This Row],[Position\nG / D / FC / FW]]=\"G\",VLOOKUP($M$5-Tabelle3[[#This Row],[Jahr\nannée]],FGOALIE,8),VLOOKUP($M$5-Tabelle3[[#This Row],[Jahr\nannée]],FSPIELER,8))","v":0},{"$f":"IF(Tabelle3[[#This Row],[Position\nG / D / FC / FW]]=\"G\",VLOOKUP($M$5-Tabelle3[[#This Row],[Jahr\nannée]],FGOALIE,10),VLOOKUP($M$5-Tabelle3[[#This Row],[Jahr\nannée]],FSPIELER,10))","v":0},{"$f":"IF(Tabelle3[[#This Row],[Position\nG / D / FC / FW]]=\"G\",VLOOKUP($M$5-Tabelle3[[#This Row],[Jahr\nannée]],FGOALIE,11),VLOOKUP($M$5-Tabelle3[[#This Row],[Jahr\nannée]],FSPIELER,11))","v":10}]
[3,null,null,{"$f":"'3'!$K$4","v":"-"},null,null,null,null,null,{"$f":"IF(ISBLANK('3'!$H$4),\"-\",'3'!$H$4)","v":"-"},{"$f":"IF(ISBLANK('3'!$H$5),\"-\",'3'!$H$5)","v":"-"},{"$f":"IF(ISBLANK('3'!$H$2),\"-\",'3'!$H$2)","v":"-"},null,null,null,null,{"$f":"'3'!$M$19","v":0},{"$f":"'3'!$M$24","v":0},{"$f":"'3'!$M$30","v":0},{"$f":"'3'!$M$36","v":0},{"$f":"'3'!$M$41","v":0},{"$f":"'3'!$M$46","v":0},{"$f":"'3'!$M$13","v":0},{"$f":"'3'!$AA$2","v":0},{"$f":"'3'!$AA$4","v":0},{"$f":"'3'!$AA$3","v":0},{"$f":"IF(Tabelle3[[#This Row],[SKATING]]=0,\"-\",IF(Tabelle3[[#This Row],[Sex]]=\"M\",SUMPRODUCT(Tabelle3[[#This Row],[SKATING]:[VERANLAGUNG\nPREDISPOSITION]],AG13:AP13),SUMPRODUCT(Tabelle3[[#This Row],[SKATING]:[VERANLAGUNG\nPREDISPOSITION]],AQ13:AZ13)))","v":"-"},{"$f":"IFERROR(RANK(Tabelle3[[#This Row],[TOTAL ]],Tabelle3[[TOTAL ]],0),\"-\")","v":"-"},null,null,null,null,{"$f":"IF(Tabelle3[[#This Row],[Position\nG / D / FC / FW]]=\"G\",VLOOKUP($M$5-Tabelle3[[#This Row],[Jahr\nannée]],GOALI,2),VLOOKUP($M$5-Tabelle3[[#This Row],[Jahr\nannée]],SPIELER,2))","v":10},{"$f":"IF(Tabelle3[[#This Row],[Position\nG / D / FC / FW]]=\"G\",VLOOKUP($M$5-Tabelle3[[#This Row],[Jahr\nannée]],GOALI,3),VLOOKUP($M$5-Tabelle3[[#This Row],[Jahr\nannée]],SPIELER,3))","v":10},{"$f":"IF(Tabelle3[[#This Row],[Position\nG / D / FC / FW]]=\"G\",VLOOKUP($M$5-Tabelle3[[#This Row],[Jahr\nannée]],GOALI,4),VLOOKUP($M$5-Tabelle3[[#This Row],[Jahr\nannée]],SPIELER,4))","v":20},{"$f":"IF(Tabelle3[[#This Row],[Position\nG / D / FC / FW]]=\"G\",VLOOKUP($M$5-Tabelle3[[#This Row],[Jahr\nannée]],GOALI,5),VLOOKUP($M$5-Tabelle3[[#This Row],[Jahr\nannée]],SPIELER,5))","v":15},{"$f":"IF(Tabelle3[[#This Row],[Position\nG / D / FC / FW]]=\"G\",VLOOKUP($M$5-Tabelle3[[#This Row],[Jahr\nannée]],GOALI,6),VLOOKUP($M$5-Tabelle3[[#This Row],[Jahr\nannée]],SPIELER,6))","v":10},{"$f":"IF(Tabelle3[[#This Row],[Position\nG / D / FC / FW]]=\"G\",VLOOKUP($M$5-Tabelle3[[#This Row],[Jahr\nannée]],GOALI,9),VLOOKUP($M$5-Tabelle3[[#This Row],[Jahr\nannée]],SPIELER,9))","v":15},{"$f":"IF(Tabelle3[[#This Row],[Position\nG / D / FC / FW]]=\"G\",VLOOKUP($M$5-Tabelle3[[#This Row],[Jahr\nannée]],GOALI,7),VLOOKUP($M$5-Tabelle3[[#This Row],[Jahr\nannée]],SPIELER,7))","v":10},{"$f":"IF(Tabelle3[[#This Row],[Position\nG / D / FC / FW]]=\"G\",VLOOKUP($M$5-Tabelle3[[#This Row],[Jahr\nannée]],GOALI,8),VLOOKUP($M$5-Tabelle3[[#This Row],[Jahr\nannée]],SPIELER,8))","v":0},{"$f":"IF(Tabelle3[[#This Row],[Position\nG / D / FC / FW]]=\"G\",VLOOKUP($M$5-Tabelle3[[#This Row],[Jahr\nannée]],GOALI,10),VLOOKUP($M$5-Tabelle3[[#This Row],[Jahr\nannée]],SPIELER,10))","v":0},{"$f":"IF(Tabelle3[[#This Row],[Position\nG / D / FC / FW]]=\"G\",VLOOKUP($M$5-Tabelle3[[#This Row],[Jahr\nannée]],GOALI,11),VLOOKUP($M$5-Tabelle3[[#This Row],[Jahr\nannée]],SPIELER,11))","v":10},{"$f":"IF(Tabelle3[[#This Row],[Position\nG / D / FC / FW]]=\"G\",VLOOKUP($M$5-Tabelle3[[#This Row],[Jahr\nannée]],FGOALIE,2),VLOOKUP($M$5-Tabelle3[[#This Row],[Jahr\nannée]],FSPIELER,2))","v":10},{"$f":"IF(Tabelle3[[#This Row],[Position\nG / D / FC / FW]]=\"G\",VLOOKUP($M$5-Tabelle3[[#This Row],[Jahr\nannée]],FGOALIE,3),VLOOKUP($M$5-Tabelle3[[#This Row],[Jahr\nannée]],FSPIELER,3))","v":10},{"$f":"IF(Tabelle3[[#This Row],[Position\nG / D / FC / FW]]=\"G\",VLOOKUP($M$5-Tabelle3[[#This Row],[Jahr\nannée]],FGOALIE,4),VLOOKUP($M$5-Tabelle3[[#This Row],[Jahr\nannée]],FSPIELER,4))","v":20},{"$f":"IF(Tabelle3[[#This Row],[Position\nG / D / FC / FW]]=\"G\",VLOOKUP($M$5-Tabelle3[[#This Row],[Jahr\nannée]],FGOALIE,5),VLOOKUP($M$5-Tabelle3[[#This Row],[Jahr\nannée]],FSPIELER,5))","v":15},{"$f":"IF(Tabelle3[[#This Row],[Position\nG / D / FC / FW]]=\"G\",VLOOKUP($M$5-Tabelle3[[#This Row],[Jahr\nannée]],FGOALIE,6),VLOOKUP($M$5-Tabelle3[[#This Row],[Jahr\nannée]],FSPIELER,6))","v":10},{"$f":"IF(Tabelle3[[#This Row],[Position\nG / D / FC / FW]]=\"G\",VLOOKUP($M$5-Tabelle3[[#This Row],[Jahr\nannée]],FGOALIE,9),VLOOKUP($M$5-Tabelle3[[#This Row],[Jahr\nannée]],FSPIELER,9))","v":15},{"$f":"IF(Tabelle3[[#This Row],[Position\nG / D / FC / FW]]=\"G\",VLOOKUP($M$5-Tabelle3[[#This Row],[Jahr\nannée]],FGOALIE,7),VLOOKUP($M$5-Tabelle3[[#This Row],[Jahr\nannée]],FSPIELER,7))","v":10},{"$f":"IF(Tabelle3[[#This Row],[Position\nG / D / FC / FW]]=\"G\",VLOOKUP($M$5-Tabelle3[[#This Row],[Jahr\nannée]],FGOALIE,8),VLOOKUP($M$5-Tabelle3[[#This Row],[Jahr\nannée]],FSPIELER,8))","v":0},{"$f":"IF(Tabelle3[[#This Row],[Position\nG / D / FC / FW]]=\"G\",VLOOKUP($M$5-Tabelle3[[#This Row],[Jahr\nannée]],FGOALIE,10),VLOOKUP($M$5-Tabelle3[[#This Row],[Jahr\nannée]],FSPIELER,10))","v":0},{"$f":"IF(Tabelle3[[#This Row],[Position\nG / D / FC / FW]]=\"G\",VLOOKUP($M$5-Tabelle3[[#This Row],[Jahr\nannée]],FGOALIE,11),VLOOKUP($M$5-Tabelle3[[#This Row],[Jahr\nannée]],FSPIELER,11))","v":10}]
[4,null,null,{"$f":"'4'!$K$4","v":"-"},null,null,null,null,null,{"$f":"IF(ISBLANK('4'!$H$4),\"-\",'4'!$H$4)","v":"-"},{"$f":"IF(ISBLANK('4'!$H$5),\"-\",'4'!$H$5)","v":"-"},{"$f":"IF(ISBLANK('4'!$H$2),\"-\",'4'!$H$2)","v":"-"},null,null,null,null,{"$f":"'4'!$M$19","v":0},{"$f":"'4'!$M$24","v":0},{"$f":"'4'!$M$30","v":0},{"$f":"'4'!$M$36","v":0},{"$f":"'4'!$M$41","v":0},{"$f":"'4'!$M$46","v":0},{"$f":"'4'!$M$13","v":0},{"$f":"'4'!$AA$2","v":0},{"$f":"'4'!$AA$4","v":0},{"$f":"'4'!$AA$3","v":0},{"$f":"IF(Tabelle3[[#This Row],[SKATING]]=0,\"-\",IF(Tabelle3[[#This Row],[Sex]]=\"M\",SUMPRODUCT(Tabelle3[[#This Row],[SKATING]:[VERANLAGUNG\nPREDISPOSITION]],AG14:AP14),SUMPRODUCT(Tabelle3[[#This Row],[SKATING]:[VERANLAGUNG\nPREDISPOSITION]],AQ14:AZ14)))","v":"-"},{"$f":"IFERROR(RANK(Tabelle3[[#This Row],[TOTAL ]],Tabelle3[[TOTAL ]],0),\"-\")","v":"-"},null,null,null,null,{"$f":"IF(Tabelle3[[#This Row],[Position\nG / D / FC / FW]]=\"G\",VLOOKUP($M$5-Tabelle3[[#This Row],[Jahr\nannée]],GOALI,2),VLOOKUP($M$5-Tabelle3[[#This Row],[Jahr\nannée]],SPIELER,2))","v":10},{"$f":"IF(Tabelle3[[#This Row],[Position\nG / D / FC / FW]]=\"G\",VLOOKUP($M$5-Tabelle3[[#This Row],[Jahr\nannée]],GOALI,3),VLOOKUP($M$5-Tabelle3[[#This Row],[Jahr\nannée]],SPIELER,3))","v":10},{"$f":"IF(Tabelle3[[#This Row],[Position\nG / D / FC / FW]]=\"G\",VLOOKUP($M$5-Tabelle3[[#This Row],[Jahr\nannée]],GOALI,4),VLOOKUP($M$5-Tabelle3[[#This Row],[Jahr\nannée]],SPIELER,4))","v":20},{"$f":"IF(Tabelle3[[#This Row],[Position\nG / D / FC / FW]]=\"G\",VLOOKUP($M$5-Tabelle3[[#This Row],[Jahr\nannée]],GOALI,5),VLOOKUP($M$5-Tabelle3[[#This Row],[Jahr\nannée]],SPIELER,5))","v":15},{"$f":"IF(Tabelle3[[#This Row],[Position\nG / D / FC / FW]]=\"G\",VLOOKUP($M$5-Tabelle3[[#This Row],[Jahr\nannée]],GOALI,6),VLOOKUP($M$5-Tabelle3[[#This Row],[Jahr\nannée]],SPIELER,6))","v":10},{"$f":"IF(Tabelle3[[#This Row],[Position\nG / D / FC / FW]]=\"G\",VLOOKUP($M$5-Tabelle3[[#This Row],[Jahr\nannée]],GOALI,9),VLOOKUP($M$5-Tabelle3[[#This Row],[Jahr\nannée]],SPIELER,9))","v":15},{"$f":"IF(Tabelle3[[#This Row],[Position\nG / D / FC / FW]]=\"G\",VLOOKUP($M$5-Tabelle3[[#This Row],[Jahr\nannée]],GOALI,7),VLOOKUP($M$5-Tabelle3[[#This Row],[Jahr\nannée]],SPIELER,7))","v":10},{"$f":"IF(Tabelle3[[#This Row],[Position\nG / D / FC / FW]]=\"G\",VLOOKUP($M$5-Tabelle3[[#This Row],[Jahr\nannée]],GOALI,8),VLOOKUP($M$5-Tabelle3[[#This Row],[Jahr\nannée]],SPIELER,8))","v":0},{"$f":"IF(Tabelle3[[#This Row],[Position\nG / D / FC / FW]]=\"G\",VLOOKUP($M$5-Tabelle3[[#This Row],[Jahr\nannée]],GOALI,10),VLOOKUP($M$5-Tabelle3[[#This Row],[Jahr\nannée]],SPIELER,10))","v":0},{"$f":"IF(Tabelle3[[#This Row],[Position\nG / D / FC / FW]]=\"G\",VLOOKUP($M$5-Tabelle3[[#This Row],[Jahr\nannée]],GOALI,11),VLOOKUP($M$5-Tabelle3[[#This Row],[Jahr\nannée]],SPIELER,11))","v":10},{"$f":"IF(Tabelle3[[#This Row],[Position\nG / D / FC / FW]]=\"G\",VLOOKUP($M$5-Tabelle3[[#This Row],[Jahr\nannée]],FGOALIE,2),VLOOKUP($M$5-Tabelle3[[#This Row],[Jahr\nannée]],FSPIELER,2))","v":10},{"$f":"IF(Tabelle3[[#This Row],[Position\nG / D / FC / FW]]=\"G\",VLOOKUP($M$5-Tabelle3[[#This Row],[Jahr\nannée]],FGOALIE,3),VLOOKUP($M$5-Tabelle3[[#This Row],[Jahr\nannée]],FSPIELER,3))","v":10},{"$f":"IF(Tabelle3[[#This Row],[Position\nG / D / FC / FW]]=\"G\",VLOOKUP($M$5-Tabelle3[[#This Row],[Jahr\nannée]],FGOALIE,4),VLOOKUP($M$5-Tabelle3[[#This Row],[Jahr\nannée]],FSPIELER,4))","v":20},{"$f":"IF(Tabelle3[[#This Row],[Position\nG / D / FC / FW]]=\"G\",VLOOKUP($M$5-Tabelle3[[#This Row],[Jahr\nannée]],FGOALIE,5),VLOOKUP($M$5-Tabelle3[[#This Row],[Jahr\nannée]],FSPIELER,5))","v":15},{"$f":"IF(Tabelle3[[#This Row],[Position\nG / D / FC / FW]]=\"G\",VLOOKUP($M$5-Tabelle3[[#This Row],[Jahr\nannée]],FGOALIE,6),VLOOKUP($M$5-Tabelle3[[#This Row],[Jahr\nannée]],FSPIELER,6))","v":10},{"$f":"IF(Tabelle3[[#This Row],[Position\nG / D / FC / FW]]=\"G\",VLOOKUP($M$5-Tabelle3[[#This Row],[Jahr\nannée]],FGOALIE,9),VLOOKUP($M$5-Tabelle3[[#This Row],[Jahr\nannée]],FSPIELER,9))","v":15},{"$f":"IF(Tabelle3[[#This Row],[Position\nG / D / FC / FW]]=\"G\",VLOOKUP($M$5-Tabelle3[[#This Row],[Jahr\nannée]],FGOALIE,7),VLOOKUP($M$5-Tabelle3[[#This Row],[Jahr\nannée]],FSPIELER,7))","v":10},{"$f":"IF(Tabelle3[[#This Row],[Position\nG / D / FC / FW]]=\"G\",VLOOKUP($M$5-Tabelle3[[#This Row],[Jahr\nannée]],FGOALIE,8),VLOOKUP($M$5-Tabelle3[[#This Row],[Jahr\nannée]],FSPIELER,8))","v":0},{"$f":"IF(Tabelle3[[#This Row],[Position\nG / D / FC / FW]]=\"G\",VLOOKUP($M$5-Tabelle3[[#This Row],[Jahr\nannée]],FGOALIE,10),VLOOKUP($M$5-Tabelle3[[#This Row],[Jahr\nannée]],FSPIELER,10))","v":0},{"$f":"IF(Tabelle3[[#This Row],[Position\nG / D / FC / FW]]=\"G\",VLOOKUP($M$5-Tabelle3[[#This Row],[Jahr\nannée]],FGOALIE,11),VLOOKUP($M$5-Tabelle3[[#This Row],[Jahr\nannée]],FSPIELER,11))","v":10}]
[5,null,null,{"$f":"'5'!$K$4","v":"-"},null,null,null,null,null,{"$f":"IF(ISBLANK('5'!$H$4),\"-\",'5'!$H$4)","v":"-"},{"$f":"IF(ISBLANK('5'!$H$5),\"-\",'5'!$H$5)","v":"-"},{"$f":"IF(ISBLANK('5'!$H$2),\"-\",'5'!$H$2)","v":"-"},null,null,null,null,{"$f":"'5'!$M$19","v":0},{"$f":"'5'!$M$24","v":0},{"$f":"'5'!$M$30","v":0},{"$f":"'5'!$M$36","v":0},{"$f":"'5'!$M$41","v":0},{"$f":"'5'!$M$46","v":0},{"$f":"'5'!$M$13","v":0},{"$f":"'5'!$AA$2","v":0},{"$f":"'5'!$AA$4","v":0},{"$f":"'5'!$AA$3","v":0},{"$f":"IF(Tabelle3[[#This Row],[SKATING]]=0,\"-\",IF(Tabelle3[[#This Row],[Sex]]=\"M\",SUMPRODUCT(Tabelle3[[#This Row],[SKATING]:[VERANLAGUNG\nPREDISPOSITION]],AG15:AP15),SUMPRODUCT(Tabelle3[[#This Row],[SKATING]:[VERANLAGUNG\nPREDISPOSITION]],AQ15:AZ15)))","v":"-"},{"$f":"IFERROR(RANK(Tabelle3[[#This Row],[TOTAL ]],Tabelle3[[TOTAL ]],0),\"-\")","v":"-"},null,null,null,null,{"$f":"IF(Tabelle3[[#This Row],[Position\nG / D / FC / FW]]=\"G\",VLOOKUP($M$5-Tabelle3[[#This Row],[Jahr\nannée]],GOALI,2),VLOOKUP($M$5-Tabelle3[[#This Row],[Jahr\nannée]],SPIELER,2))","v":10},{"$f":"IF(Tabelle3[[#This Row],[Position\nG / D / FC / FW]]=\"G\",VLOOKUP($M$5-Tabelle3[[#This Row],[Jahr\nannée]],GOALI,3),VLOOKUP($M$5-Tabelle3[[#This Row],[Jahr\nannée]],SPIELER,3))","v":10},{"$f":"IF(Tabelle3[[#This Row],[Position\nG / D / FC / FW]]=\"G\",VLOOKUP($M$5-Tabelle3[[#This Row],[Jahr\nannée]],GOALI,4),VLOOKUP($M$5-Tabelle3[[#This Row],[Jahr\nannée]],SPIELER,4))","v":20},{"$f":"IF(Tabelle3[[#This Row],[Position\nG / D / FC / FW]]=\"G\",VLOOKUP($M$5-Tabelle3[[#This Row],[Jahr\nannée]],GOALI,5),VLOOKUP($M$5-Tabelle3[[#This Row],[Jahr\nannée]],SPIELER,5))","v":15},{"$f":"IF(Tabelle3[[#This Row],[Position\nG / D / FC / FW]]=\"G\",VLOOKUP($M$5-Tabelle3[[#This Row],[Jahr\nannée]],GOALI,6),VLOOKUP($M$5-Tabelle3[[#This Row],[Jahr\nannée]],SPIELER,6))","v":10},{"$f":"IF(Tabelle3[[#This Row],[Position\nG / D / FC / FW]]=\"G\",VLOOKUP($M$5-Tabelle3[[#This Row],[Jahr\nannée]],GOALI,9),VLOOKUP($M$5-Tabelle3[[#This Row],[Jahr\nannée]],SPIELER,9))","v":15},{"$f":"IF(Tabelle3[[#This Row],[Position\nG / D / FC / FW]]=\"G\",VLOOKUP($M$5-Tabelle3[[#This Row],[Jahr\nannée]],GOALI,7),VLOOKUP($M$5-Tabelle3[[#This Row],[Jahr\nannée]],SPIELER,7))","v":10},{"$f":"IF(Tabelle3[[#This Row],[Position\nG / D / FC / FW]]=\"G\",VLOOKUP($M$5-Tabelle3[[#This Row],[Jahr\nannée]],GOALI,8),VLOOKUP($M$5-Tabelle3[[#This Row],[Jahr\nannée]],SPIELER,8))","v":0},{"$f":"IF(Tabelle3[[#This Row],[Position\nG / D / FC / FW]]=\"G\",VLOOKUP($M$5-Tabelle3[[#This Row],[Jahr\nannée]],GOALI,10),VLOOKUP($M$5-Tabelle3[[#This Row],[Jahr\nannée]],SPIELER,10))","v":0},{"$f":"IF(Tabelle3[[#This Row],[Position\nG / D / FC / FW]]=\"G\",VLOOKUP($M$5-Tabelle3[[#This Row],[Jahr\nannée]],GOALI,11),VLOOKUP($M$5-Tabelle3[[#This Row],[Jahr\nannée]],SPIELER,11))","v":10},{"$f":"IF(Tabelle3[[#This Row],[Position\nG / D / FC / FW]]=\"G\",VLOOKUP($M$5-Tabelle3[[#This Row],[Jahr\nannée]],FGOALIE,2),VLOOKUP($M$5-Tabelle3[[#This Row],[Jahr\nannée]],FSPIELER,2))","v":10},{"$f":"IF(Tabelle3[[#This Row],[Position\nG / D / FC / FW]]=\"G\",VLOOKUP($M$5-Tabelle3[[#This Row],[Jahr\nannée]],FGOALIE,3),VLOOKUP($M$5-Tabelle3[[#This Row],[Jahr\nannée]],FSPIELER,3))","v":10},{"$f":"IF(Tabelle3[[#This Row],[Position\nG / D / FC / FW]]=\"G\",VLOOKUP($M$5-Tabelle3[[#This Row],[Jahr\nannée]],FGOALIE,4),VLOOKUP($M$5-Tabelle3[[#This Row],[Jahr\nannée]],FSPIELER,4))","v":20},{"$f":"IF(Tabelle3[[#This Row],[Position\nG / D / FC / FW]]=\"G\",VLOOKUP($M$5-Tabelle3[[#This Row],[Jahr\nannée]],FGOALIE,5),VLOOKUP($M$5-Tabelle3[[#This Row],[Jahr\nannée]],FSPIELER,5))","v":15},{"$f":"IF(Tabelle3[[#This Row],[Position\nG / D / FC / FW]]=\"G\",VLOOKUP($M$5-Tabelle3[[#This Row],[Jahr\nannée]],FGOALIE,6),VLOOKUP($M$5-Tabelle3[[#This Row],[Jahr\nannée]],FSPIELER,6))","v":10},{"$f":"IF(Tabelle3[[#This Row],[Position\nG / D / FC / FW]]=\"G\",VLOOKUP($M$5-Tabelle3[[#This Row],[Jahr\nannée]],FGOALIE,9),VLOOKUP($M$5-Tabelle3[[#This Row],[Jahr\nannée]],FSPIELER,9))","v":15},{"$f":"IF(Tabelle3[[#This Row],[Position\nG / D / FC / FW]]=\"G\",VLOOKUP($M$5-Tabelle3[[#This Row],[Jahr\nannée]],FGOALIE,7),VLOOKUP($M$5-Tabelle3[[#This Row],[Jahr\nannée]],FSPIELER,7))","v":10},{"$f":"IF(Tabelle3[[#This Row],[Position\nG / D / FC / FW]]=\"G\",VLOOKUP($M$5-Tabelle3[[#This Row],[Jahr\nannée]],FGOALIE,8),VLOOKUP($M$5-Tabelle3[[#This Row],[Jahr\nannée]],FSPIELER,8))","v":0},{"$f":"IF(Tabelle3[[#This Row],[Position\nG / D / FC / FW]]=\"G\",VLOOKUP($M$5-Tabelle3[[#This Row],[Jahr\nannée]],FGOALIE,10),VLOOKUP($M$5-Tabelle3[[#This Row],[Jahr\nannée]],FSPIELER,10))","v":0},{"$f":"IF(Tabelle3[[#This Row],[Position\nG / D / FC / FW]]=\"G\",VLOOKUP($M$5-Tabelle3[[#This Row],[Jahr\nannée]],FGOALIE,11),VLOOKUP($M$5-Tabelle3[[#This Row],[Jahr\nannée]],FSPIELER,11))","v":10}]
[6,null,null,{"$f":"'6'!$K$4","v":"-"},null,null,null,null,null,{"$f":"IF(ISBLANK('6'!$H$4),\"-\",'6'!$H$4)","v":"-"},{"$f":"IF(ISBLANK('6'!$H$5),\"-\",'6'!$H$5)","v":"-"},{"$f":"IF(ISBLANK('6'!$H$2),\"-\",'6'!$H$2)","v":"-"},null,null,null,null,{"$f":"'6'!$M$19","v":0},{"$f":"'6'!$M$24","v":0},{"$f":"'6'!$M$30","v":0},{"$f":"'6'!$M$36","v":0},{"$f":"'6'!$M$41","v":0},{"$f":"'6'!$M$46","v":0},{"$f":"'6'!$M$13","v":0},{"$f":"'6'!$AA$2","v":0},{"$f":"'6'!$AA$4","v":0},{"$f":"'6'!$AA$3","v":0},{"$f":"IF(Tabelle3[[#This Row],[SKATING]]=0,\"-\",IF(Tabelle3[[#This Row],[Sex]]=\"M\",SUMPRODUCT(Tabelle3[[#This Row],[SKATING]:[VERANLAGUNG\nPREDISPOSITION]],AG16:AP16),SUMPRODUCT(Tabelle3[[#This Row],[SKATING]:[VERANLAGUNG\nPREDISPOSITION]],AQ16:AZ16)))","v":"-"},{"$f":"IFERROR(RANK(Tabelle3[[#This Row],[TOTAL ]],Tabelle3[[TOTAL ]],0),\"-\")","v":"-"},null,null,null,null,{"$f":"IF(Tabelle3[[#This Row],[Position\nG / D / FC / FW]]=\"G\",VLOOKUP($M$5-Tabelle3[[#This Row],[Jahr\nannée]],GOALI,2),VLOOKUP($M$5-Tabelle3[[#This Row],[Jahr\nannée]],SPIELER,2))","v":10},{"$f":"IF(Tabelle3[[#This Row],[Position\nG / D / FC / FW]]=\"G\",VLOOKUP($M$5-Tabelle3[[#This Row],[Jahr\nannée]],GOALI,3),VLOOKUP($M$5-Tabelle3[[#This Row],[Jahr\nannée]],SPIELER,3))","v":10},{"$f":"IF(Tabelle3[[#This Row],[Position\nG / D / FC / FW]]=\"G\",VLOOKUP($M$5-Tabelle3[[#This Row],[Jahr\nannée]],GOALI,4),VLOOKUP($M$5-Tabelle3[[#This Row],[Jahr\nannée]],SPIELER,4))","v":20},{"$f":"IF(Tabelle3[[#This Row],[Position\nG / D / FC / FW]]=\"G\",VLOOKUP($M$5-Tabelle3[[#This Row],[Jahr\nannée]],GOALI,5),VLOOKUP($M$5-Tabelle3[[#This Row],[Jahr\nannée]],SPIELER,5))","v":15},{"$f":"IF(Tabelle3[[#This Row],[Position\nG / D / FC / FW]]=\"G\",VLOOKUP($M$5-Tabelle3[[#This Row],[Jahr\nannée]],GOALI,6),VLOOKUP($M$5-Tabelle3[[#This Row],[Jahr\nannée]],SPIELER,6))","v":10},{"$f":"IF(Tabelle3[[#This Row],[Position\nG / D / FC / FW]]=\"G\",VLOOKUP($M$5-Tabelle3[[#This Row],[Jahr\nannée]],GOALI,9),VLOOKUP($M$5-Tabelle3[[#This Row],[Jahr\nannée]],SPIELER,9))","v":15},{"$f":"IF(Tabelle3[[#This Row],[Position\nG / D / FC / FW]]=\"G\",VLOOKUP($M$5-Tabelle3[[#This Row],[Jahr\nannée]],GOALI,7),VLOOKUP($M$5-Tabelle3[[#This Row],[Jahr\nannée]],SPIELER,7))","v":10},{"$f":"IF(Tabelle3[[#This Row],[Position\nG / D / FC / FW]]=\"G\",VLOOKUP($M$5-Tabelle3[[#This Row],[Jahr\nannée]],GOALI,8),VLOOKUP($M$5-Tabelle3[[#This Row],[Jahr\nannée]],SPIELER,8))","v":0},{"$f":"IF(Tabelle3[[#This Row],[Position\nG / D / FC / FW]]=\"G\",VLOOKUP($M$5-Tabelle3[[#This Row],[Jahr\nannée]],GOALI,10),VLOOKUP($M$5-Tabelle3[[#This Row],[Jahr\nannée]],SPIELER,10))","v":0},{"$f":"IF(Tabelle3[[#This Row],[Position\nG / D / FC / FW]]=\"G\",VLOOKUP($M$5-Tabelle3[[#This Row],[Jahr\nannée]],GOALI,11),VLOOKUP($M$5-Tabelle3[[#This Row],[Jahr\nannée]],SPIELER,11))","v":10},{"$f":"IF(Tabelle3[[#This Row],[Position\nG / D / FC / FW]]=\"G\",VLOOKUP($M$5-Tabelle3[[#This Row],[Jahr\nannée]],FGOALIE,2),VLOOKUP($M$5-Tabelle3[[#This Row],[Jahr\nannée]],FSPIELER,2))","v":10},{"$f":"IF(Tabelle3[[#This Row],[Position\nG / D / FC / FW]]=\"G\",VLOOKUP($M$5-Tabelle3[[#This Row],[Jahr\nannée]],FGOALIE,3),VLOOKUP($M$5-Tabelle3[[#This Row],[Jahr\nannée]],FSPIELER,3))","v":10},{"$f":"IF(Tabelle3[[#This Row],[Position\nG / D / FC / FW]]=\"G\",VLOOKUP($M$5-Tabelle3[[#This Row],[Jahr\nannée]],FGOALIE,4),VLOOKUP($M$5-Tabelle3[[#This Row],[Jahr\nannée]],FSPIELER,4))","v":20},{"$f":"IF(Tabelle3[[#This Row],[Position\nG / D / FC / FW]]=\"G\",VLOOKUP($M$5-Tabelle3[[#This Row],[Jahr\nannée]],FGOALIE,5),VLOOKUP($M$5-Tabelle3[[#This Row],[Jahr\nannée]],FSPIELER,5))","v":15},{"$f":"IF(Tabelle3[[#This Row],[Position\nG / D / FC / FW]]=\"G\",VLOOKUP($M$5-Tabelle3[[#This Row],[Jahr\nannée]],FGOALIE,6),VLOOKUP($M$5-Tabelle3[[#This Row],[Jahr\nannée]],FSPIELER,6))","v":10},{"$f":"IF(Tabelle3[[#This Row],[Position\nG / D / FC / FW]]=\"G\",VLOOKUP($M$5-Tabelle3[[#This Row],[Jahr\nannée]],FGOALIE,9),VLOOKUP($M$5-Tabelle3[[#This Row],[Jahr\nannée]],FSPIELER,9))","v":15},{"$f":"IF(Tabelle3[[#This Row],[Position\nG / D / FC / FW]]=\"G\",VLOOKUP($M$5-Tabelle3[[#This Row],[Jahr\nannée]],FGOALIE,7),VLOOKUP($M$5-Tabelle3[[#This Row],[Jahr\nannée]],FSPIELER,7))","v":10},{"$f":"IF(Tabelle3[[#This Row],[Position\nG / D / FC / FW]]=\"G\",VLOOKUP($M$5-Tabelle3[[#This Row],[Jahr\nannée]],FGOALIE,8),VLOOKUP($M$5-Tabelle3[[#This Row],[Jahr\nannée]],FSPIELER,8))","v":0},{"$f":"IF(Tabelle3[[#This Row],[Position\nG / D / FC / FW]]=\"G\",VLOOKUP($M$5-Tabelle3[[#This Row],[Jahr\nannée]],FGOALIE,10),VLOOKUP($M$5-Tabelle3[[#This Row],[Jahr\nannée]],FSPIELER,10))","v":0},{"$f":"IF(Tabelle3[[#This Row],[Position\nG / D / FC / FW]]=\"G\",VLOOKUP($M$5-Tabelle3[[#This Row],[Jahr\nannée]],FGOALIE,11),VLOOKUP($M$5-Tabelle3[[#This Row],[Jahr\nannée]],FSPIELER,11))","v":10}]
[7,null,null,{"$f":"'7'!$K$4","v":"-"},null,null,null,null,null,{"$f":"IF(ISBLANK('7'!$H$4),\"-\",'7'!$H$4)","v":"-"},{"$f":"IF(ISBLANK('7'!$H$5),\"-\",'7'!$H$5)","v":"-"},{"$f":"IF(ISBLANK('7'!$H$2),\"-\",'7'!$H$2)","v":"-"},null,null,null,null,{"$f":"'7'!$M$19","v":0},{"$f":"'7'!$M$24","v":0},{"$f":"'7'!$M$30","v":0},{"$f":"'7'!$M$36","v":0},{"$f":"'7'!$M$41","v":0},{"$f":"'7'!$M$46","v":0},{"$f":"'7'!$M$13","v":0},{"$f":"'7'!$AA$2","v":0},{"$f":"'7'!$AA$4","v":0},{"$f":"'7'!$AA$3","v":0},{"$f":"IF(Tabelle3[[#This Row],[SKATING]]=0,\"-\",IF(Tabelle3[[#This Row],[Sex]]=\"M\",SUMPRODUCT(Tabelle3[[#This Row],[SKATING]:[VERANLAGUNG\nPREDISPOSITION]],AG17:AP17),SUMPRODUCT(Tabelle3[[#This Row],[SKATING]:[VERANLAGUNG\nPREDISPOSITION]],AQ17:AZ17)))","v":"-"},{"$f":"IFERROR(RANK(Tabelle3[[#This Row],[TOTAL ]],Tabelle3[[TOTAL ]],0),\"-\")","v":"-"},null,null,null,null,{"$f":"IF(Tabelle3[[#This Row],[Position\nG / D / FC / FW]]=\"G\",VLOOKUP($M$5-Tabelle3[[#This Row],[Jahr\nannée]],GOALI,2),VLOOKUP($M$5-Tabelle3[[#This Row],[Jahr\nannée]],SPIELER,2))","v":10},{"$f":"IF(Tabelle3[[#This Row],[Position\nG / D / FC / FW]]=\"G\",VLOOKUP($M$5-Tabelle3[[#This Row],[Jahr\nannée]],GOALI,3),VLOOKUP($M$5-Tabelle3[[#This Row],[Jahr\nannée]],SPIELER,3))","v":10},{"$f":"IF(Tabelle3[[#This Row],[Position\nG / D / FC / FW]]=\"G\",VLOOKUP($M$5-Tabelle3[[#This Row],[Jahr\nannée]],GOALI,4),VLOOKUP($M$5-Tabelle3[[#This Row],[Jahr\nannée]],SPIELER,4))","v":20},{"$f":"IF(Tabelle3[[#This Row],[Position\nG / D / FC / FW]]=\"G\",VLOOKUP($M$5-Tabelle3[[#This Row],[Jahr\nannée]],GOALI,5),VLOOKUP($M$5-Tabelle3[[#This Row],[Jahr\nannée]],SPIELER,5))","v":15},{"$f":"IF(Tabelle3[[#This Row],[Position\nG / D / FC / FW]]=\"G\",VLOOKUP($M$5-Tabelle3[[#This Row],[Jahr\nannée]],GOALI,6),VLOOKUP($M$5-Tabelle3[[#This Row],[Jahr\nannée]],SPIELER,6))","v":10},{"$f":"IF(Tabelle3[[#This Row],[Position\nG / D / FC / FW]]=\"G\",VLOOKUP($M$5-Tabelle3[[#This Row],[Jahr\nannée]],GOALI,9),VLOOKUP($M$5-Tabelle3[[#This Row],[Jahr\nannée]],SPIELER,9))","v":15},{"$f":"IF(Tabelle3[[#This Row],[Position\nG / D / FC / FW]]=\"G\",VLOOKUP($M$5-Tabelle3[[#This Row],[Jahr\nannée]],GOALI,7),VLOOKUP($M$5-Tabelle3[[#This Row],[Jahr\nannée]],SPIELER,7))","v":10},{"$f":"IF(Tabelle3[[#This Row],[Position\nG / D / FC / FW]]=\"G\",VLOOKUP($M$5-Tabelle3[[#This Row],[Jahr\nannée]],GOALI,8),VLOOKUP($M$5-Tabelle3[[#This Row],[Jahr\nannée]],SPIELER,8))","v":0},{"$f":"IF(Tabelle3[[#This Row],[Position\nG / D / FC / FW]]=\"G\",VLOOKUP($M$5-Tabelle3[[#This Row],[Jahr\nannée]],GOALI,10),VLOOKUP($M$5-Tabelle3[[#This Row],[Jahr\nannée]],SPIELER,10))","v":0},{"$f":"IF(Tabelle3[[#This Row],[Position\nG / D / FC / FW]]=\"G\",VLOOKUP($M$5-Tabelle3[[#This Row],[Jahr\nannée]],GOALI,11),VLOOKUP($M$5-Tabelle3[[#This Row],[Jahr\nannée]],SPIELER,11))","v":10},{"$f":"IF(Tabelle3[[#This Row],[Position\nG / D / FC / FW]]=\"G\",VLOOKUP($M$5-Tabelle3[[#This Row],[Jahr\nannée]],FGOALIE,2),VLOOKUP($M$5-Tabelle3[[#This Row],[Jahr\nannée]],FSPIELER,2))","v":10},{"$f":"IF(Tabelle3[[#This Row],[Position\nG / D / FC / FW]]=\"G\",VLOOKUP($M$5-Tabelle3[[#This Row],[Jahr\nannée]],FGOALIE,3),VLOOKUP($M$5-Tabelle3[[#This Row],[Jahr\nannée]],FSPIELER,3))","v":10},{"$f":"IF(Tabelle3[[#This Row],[Position\nG / D / FC / FW]]=\"G\",VLOOKUP($M$5-Tabelle3[[#This Row],[Jahr\nannée]],FGOALIE,4),VLOOKUP($M$5-Tabelle3[[#This Row],[Jahr\nannée]],FSPIELER,4))","v":20},{"$f":"IF(Tabelle3[[#This Row],[Position\nG / D / FC / FW]]=\"G\",VLOOKUP($M$5-Tabelle3[[#This Row],[Jahr\nannée]],FGOALIE,5),VLOOKUP($M$5-Tabelle3[[#This Row],[Jahr\nannée]],FSPIELER,5))","v":15},{"$f":"IF(Tabelle3[[#This Row],[Position\nG / D / FC / FW]]=\"G\",VLOOKUP($M$5-Tabelle3[[#This Row],[Jahr\nannée]],FGOALIE,6),VLOOKUP($M$5-Tabelle3[[#This Row],[Jahr\nannée]],FSPIELER,6))","v":10},{"$f":"IF(Tabelle3[[#This Row],[Position\nG / D / FC / FW]]=\"G\",VLOOKUP($M$5-Tabelle3[[#This Row],[Jahr\nannée]],FGOALIE,9),VLOOKUP($M$5-Tabelle3[[#This Row],[Jahr\nannée]],FSPIELER,9))","v":15},{"$f":"IF(Tabelle3[[#This Row],[Position\nG / D / FC / FW]]=\"G\",VLOOKUP($M$5-Tabelle3[[#This Row],[Jahr\nannée]],FGOALIE,7),VLOOKUP($M$5-Tabelle3[[#This Row],[Jahr\nannée]],FSPIELER,7))","v":10},{"$f":"IF(Tabelle3[[#This Row],[Position\nG / D / FC / FW]]=\"G\",VLOOKUP($M$5-Tabelle3[[#This Row],[Jahr\nannée]],FGOALIE,8),VLOOKUP($M$5-Tabelle3[[#This Row],[Jahr\nannée]],FSPIELER,8))","v":0},{"$f":"IF(Tabelle3[[#This Row],[Position\nG / D / FC / FW]]=\"G\",VLOOKUP($M$5-Tabelle3[[#This Row],[Jahr\nannée]],FGOALIE,10),VLOOKUP($M$5-Tabelle3[[#This Row],[Jahr\nannée]],FSPIELER,10))","v":0},{"$f":"IF(Tabelle3[[#This Row],[Position\nG / D / FC / FW]]=\"G\",VLOOKUP($M$5-Tabelle3[[#This Row],[Jahr\nannée]],FGOALIE,11),VLOOKUP($M$5-Tabelle3[[#This Row],[Jahr\nannée]],FSPIELER,11))","v":10}]
[8,null,null,{"$f":"'8'!$K$4","v":"-"},null,null,null,null,null,{"$f":"IF(ISBLANK('8'!$H$4),\"-\",'8'!$H$4)","v":"-"},{"$f":"IF(ISBLANK('8'!$H$5),\"-\",'8'!$H$5)","v":"-"},{"$f":"IF(ISBLANK('8'!$H$2),\"-\",'8'!$H$2)","v":"-"},null,null,null,null,{"$f":"'8'!$M$19","v":0},{"$f":"'8'!$M$24","v":0},{"$f":"'8'!$M$30","v":0},{"$f":"'8'!$M$36","v":0},{"$f":"'8'!$M$41","v":0},{"$f":"'8'!$M$46","v":0},{"$f":"'8'!$M$13","v":0},{"$f":"'8'!$AA$2","v":0},{"$f":"'8'!$AA$4","v":0},{"$f":"'8'!$AA$3","v":0},{"$f":"IF(Tabelle3[[#This Row],[SKATING]]=0,\"-\",IF(Tabelle3[[#This Row],[Sex]]=\"M\",SUMPRODUCT(Tabelle3[[#This Row],[SKATING]:[VERANLAGUNG\nPREDISPOSITION]],AG18:AP18),SUMPRODUCT(Tabelle3[[#This Row],[SKATING]:[VERANLAGUNG\nPREDISPOSITION]],AQ18:AZ18)))","v":"-"},{"$f":"IFERROR(RANK(Tabelle3[[#This Row],[TOTAL ]],Tabelle3[[TOTAL ]],0),\"-\")","v":"-"},null,null,null,null,{"$f":"IF(Tabelle3[[#This Row],[Position\nG / D / FC / FW]]=\"G\",VLOOKUP($M$5-Tabelle3[[#This Row],[Jahr\nannée]],GOALI,2),VLOOKUP($M$5-Tabelle3[[#This Row],[Jahr\nannée]],SPIELER,2))","v":10},{"$f":"IF(Tabelle3[[#This Row],[Position\nG / D / FC / FW]]=\"G\",VLOOKUP($M$5-Tabelle3[[#This Row],[Jahr\nannée]],GOALI,3),VLOOKUP($M$5-Tabelle3[[#This Row],[Jahr\nannée]],SPIELER,3))","v":10},{"$f":"IF(Tabelle3[[#This Row],[Position\nG / D / FC / FW]]=\"G\",VLOOKUP($M$5-Tabelle3[[#This Row],[Jahr\nannée]],GOALI,4),VLOOKUP($M$5-Tabelle3[[#This Row],[Jahr\nannée]],SPIELER,4))","v":20},{"$f":"IF(Tabelle3[[#This Row],[Position\nG / D / FC / FW]]=\"G\",VLOOKUP($M$5-Tabelle3[[#This Row],[Jahr\nannée]],GOALI,5),VLOOKUP($M$5-Tabelle3[[#This Row],[Jahr\nannée]],SPIELER,5))","v":15},{"$f":"IF(Tabelle3[[#This Row],[Position\nG / D / FC / FW]]=\"G\",VLOOKUP($M$5-Tabelle3[[#This Row],[Jahr\nannée]],GOALI,6),VLOOKUP($M$5-Tabelle3[[#This Row],[Jahr\nannée]],SPIELER,6))","v":10},{"$f":"IF(Tabelle3[[#This Row],[Position\nG / D / FC / FW]]=\"G\",VLOOKUP($M$5-Tabelle3[[#This Row],[Jahr\nannée]],GOALI,9),VLOOKUP($M$5-Tabelle3[[#This Row],[Jahr\nannée]],SPIELER,9))","v":15},{"$f":"IF(Tabelle3[[#This Row],[Position\nG / D / FC / FW]]=\"G\",VLOOKUP($M$5-Tabelle3[[#This Row],[Jahr\nannée]],GOALI,7),VLOOKUP($M$5-Tabelle3[[#This Row],[Jahr\nannée]],SPIELER,7))","v":10},{"$f":"IF(Tabelle3[[#This Row],[Position\nG / D / FC / FW]]=\"G\",VLOOKUP($M$5-Tabelle3[[#This Row],[Jahr\nannée]],GOALI,8),VLOOKUP($M$5-Tabelle3[[#This Row],[Jahr\nannée]],SPIELER,8))","v":0},{"$f":"IF(Tabelle3[[#This Row],[Position\nG / D / FC / FW]]=\"G\",VLOOKUP($M$5-Tabelle3[[#This Row],[Jahr\nannée]],GOALI,10),VLOOKUP($M$5-Tabelle3[[#This Row],[Jahr\nannée]],SPIELER,10))","v":0},{"$f":"IF(Tabelle3[[#This Row],[Position\nG / D / FC / FW]]=\"G\",VLOOKUP($M$5-Tabelle3[[#This Row],[Jahr\nannée]],GOALI,11),VLOOKUP($M$5-Tabelle3[[#This Row],[Jahr\nannée]],SPIELER,11))","v":10},{"$f":"IF(Tabelle3[[#This Row],[Position\nG / D / FC / FW]]=\"G\",VLOOKUP($M$5-Tabelle3[[#This Row],[Jahr\nannée]],FGOALIE,2),VLOOKUP($M$5-Tabelle3[[#This Row],[Jahr\nannée]],FSPIELER,2))","v":10},{"$f":"IF(Tabelle3[[#This Row],[Position\nG / D / FC / FW]]=\"G\",VLOOKUP($M$5-Tabelle3[[#This Row],[Jahr\nannée]],FGOALIE,3),VLOOKUP($M$5-Tabelle3[[#This Row],[Jahr\nannée]],FSPIELER,3))","v":10},{"$f":"IF(Tabelle3[[#This Row],[Position\nG / D / FC / FW]]=\"G\",VLOOKUP($M$5-Tabelle3[[#This Row],[Jahr\nannée]],FGOALIE,4),VLOOKUP($M$5-Tabelle3[[#This Row],[Jahr\nannée]],FSPIELER,4))","v":20},{"$f":"IF(Tabelle3[[#This Row],[Position\nG / D / FC / FW]]=\"G\",VLOOKUP($M$5-Tabelle3[[#This Row],[Jahr\nannée]],FGOALIE,5),VLOOKUP($M$5-Tabelle3[[#This Row],[Jahr\nannée]],FSPIELER,5))","v":15},{"$f":"IF(Tabelle3[[#This Row],[Position\nG / D / FC / FW]]=\"G\",VLOOKUP($M$5-Tabelle3[[#This Row],[Jahr\nannée]],FGOALIE,6),VLOOKUP($M$5-Tabelle3[[#This Row],[Jahr\nannée]],FSPIELER,6))","v":10},{"$f":"IF(Tabelle3[[#This Row],[Position\nG / D / FC / FW]]=\"G\",VLOOKUP($M$5-Tabelle3[[#This Row],[Jahr\nannée]],FGOALIE,9),VLOOKUP($M$5-Tabelle3[[#This Row],[Jahr\nannée]],FSPIELER,9))","v":15},{"$f":"IF(Tabelle3[[#This Row],[Position\nG / D / FC / FW]]=\"G\",VLOOKUP($M$5-Tabelle3[[#This Row],[Jahr\nannée]],FGOALIE,7),VLOOKUP($M$5-Tabelle3[[#This Row],[Jahr\nannée]],FSPIELER,7))","v":10},{"$f":"IF(Tabelle3[[#This Row],[Position\nG / D / FC / FW]]=\"G\",VLOOKUP($M$5-Tabelle3[[#This Row],[Jahr\nannée]],FGOALIE,8),VLOOKUP($M$5-Tabelle3[[#This Row],[Jahr\nannée]],FSPIELER,8))","v":0},{"$f":"IF(Tabelle3[[#This Row],[Position\nG / D / FC / FW]]=\"G\",VLOOKUP($M$5-Tabelle3[[#This Row],[Jahr\nannée]],FGOALIE,10),VLOOKUP($M$5-Tabelle3[[#This Row],[Jahr\nannée]],FSPIELER,10))","v":0},{"$f":"IF(Tabelle3[[#This Row],[Position\nG / D / FC / FW]]=\"G\",VLOOKUP($M$5-Tabelle3[[#This Row],[Jahr\nannée]],FGOALIE,11),VLOOKUP($M$5-Tabelle3[[#This Row],[Jahr\nannée]],FSPIELER,11))","v":10}]
[9,null,null,{"$f":"'9'!$K$4","v":"-"},null,null,null,null,null,{"$f":"IF(ISBLANK('9'!$H$4),\"-\",'9'!$H$4)","v":"-"},{"$f":"IF(ISBLANK('9'!$H$5),\"-\",'9'!$H$5)","v":"-"},{"$f":"IF(ISBLANK('9'!$H$2),\"-\",'9'!$H$2)","v":"-"},null,null,null,null,{"$f":"'9'!$M$19","v":0},{"$f":"'9'!$M$24","v":0},{"$f":"'9'!$M$30","v":0},{"$f":"'9'!$M$36","v":0},{"$f":"'9'!$M$41","v":0},{"$f":"'9'!$M$46","v":0},{"$f":"'9'!$M$13","v":0},{"$f":"'9'!$AA$2","v":0},{"$f":"'9'!$AA$4","v":0},{"$f":"'9'!$AA$3","v":0},{"$f":"IF(Tabelle3[[#This Row],[SKATING]]=0,\"-\",IF(Tabelle3[[#This Row],[Sex]]=\"M\",SUMPRODUCT(Tabelle3[[#This Row],[SKATING]:[VERANLAGUNG\nPREDISPOSITION]],AG19:AP19),SUMPRODUCT(Tabelle3[[#This Row],[SKATING]:[VERANLAGUNG\nPREDISPOSITION]],AQ19:AZ19)))","v":"-"},{"$f":"IFERROR(RANK(Tabelle3[[#This Row],[TOTAL ]],Tabelle3[[TOTAL ]],0),\"-\")","v":"-"},null,null,null,null,{"$f":"IF(Tabelle3[[#This Row],[Position\nG / D / FC / FW]]=\"G\",VLOOKUP($M$5-Tabelle3[[#This Row],[Jahr\nannée]],GOALI,2),VLOOKUP($M$5-Tabelle3[[#This Row],[Jahr\nannée]],SPIELER,2))","v":10},{"$f":"IF(Tabelle3[[#This Row],[Position\nG / D / FC / FW]]=\"G\",VLOOKUP($M$5-Tabelle3[[#This Row],[Jahr\nannée]],GOALI,3),VLOOKUP($M$5-Tabelle3[[#This Row],[Jahr\nannée]],SPIELER,3))","v":10},{"$f":"IF(Tabelle3[[#This Row],[Position\nG / D / FC / FW]]=\"G\",VLOOKUP($M$5-Tabelle3[[#This Row],[Jahr\nannée]],GOALI,4),VLOOKUP($M$5-Tabelle3[[#This Row],[Jahr\nannée]],SPIELER,4))","v":20},{"$f":"IF(Tabelle3[[#This Row],[Position\nG / D / FC / FW]]=\"G\",VLOOKUP($M$5-Tabelle3[[#This Row],[Jahr\nannée]],GOALI,5),VLOOKUP($M$5-Tabelle3[[#This Row],[Jahr\nannée]],SPIELER,5))","v":15},{"$f":"IF(Tabelle3[[#This Row],[Position\nG / D / FC / FW]]=\"G\",VLOOKUP($M$5-Tabelle3[[#This Row],[Jahr\nannée]],GOALI,6),VLOOKUP($M$5-Tabelle3[[#This Row],[Jahr\nannée]],SPIELER,6))","v":10},{"$f":"IF(Tabelle3[[#This Row],[Position\nG / D / FC / FW]]=\"G\",VLOOKUP($M$5-Tabelle3[[#This Row],[Jahr\nannée]],GOALI,9),VLOOKUP($M$5-Tabelle3[[#This Row],[Jahr\nannée]],SPIELER,9))","v":15},{"$f":"IF(Tabelle3[[#This Row],[Position\nG / D / FC / FW]]=\"G\",VLOOKUP($M$5-Tabelle3[[#This Row],[Jahr\nannée]],GOALI,7),VLOOKUP($M$5-Tabelle3[[#This Row],[Jahr\nannée]],SPIELER,7))","v":10},{"$f":"IF(Tabelle3[[#This Row],[Position\nG / D / FC / FW]]=\"G\",VLOOKUP($M$5-Tabelle3[[#This Row],[Jahr\nannée]],GOALI,8),VLOOKUP($M$5-Tabelle3[[#This Row],[Jahr\nannée]],SPIELER,8))","v":0},{"$f":"IF(Tabelle3[[#This Row],[Position\nG / D / FC / FW]]=\"G\",VLOOKUP($M$5-Tabelle3[[#This Row],[Jahr\nannée]],GOALI,10),VLOOKUP($M$5-Tabelle3[[#This Row],[Jahr\nannée]],SPIELER,10))","v":0},{"$f":"IF(Tabelle3[[#This Row],[Position\nG / D / FC / FW]]=\"G\",VLOOKUP($M$5-Tabelle3[[#This Row],[Jahr\nannée]],GOALI,11),VLOOKUP($M$5-Tabelle3[[#This Row],[Jahr\nannée]],SPIELER,11))","v":10},{"$f":"IF(Tabelle3[[#This Row],[Position\nG / D / FC / FW]]=\"G\",VLOOKUP($M$5-Tabelle3[[#This Row],[Jahr\nannée]],FGOALIE,2),VLOOKUP($M$5-Tabelle3[[#This Row],[Jahr\nannée]],FSPIELER,2))","v":10},{"$f":"IF(Tabelle3[[#This Row],[Position\nG / D / FC / FW]]=\"G\",VLOOKUP($M$5-Tabelle3[[#This Row],[Jahr\nannée]],FGOALIE,3),VLOOKUP($M$5-Tabelle3[[#This Row],[Jahr\nannée]],FSPIELER,3))","v":10},{"$f":"IF(Tabelle3[[#This Row],[Position\nG / D / FC / FW]]=\"G\",VLOOKUP($M$5-Tabelle3[[#This Row],[Jahr\nannée]],FGOALIE,4),VLOOKUP($M$5-Tabelle3[[#This Row],[Jahr\nannée]],FSPIELER,4))","v":20},{"$f":"IF(Tabelle3[[#This Row],[Position\nG / D / FC / FW]]=\"G\",VLOOKUP($M$5-Tabelle3[[#This Row],[Jahr\nannée]],FGOALIE,5),VLOOKUP($M$5-Tabelle3[[#This Row],[Jahr\nannée]],FSPIELER,5))","v":15},{"$f":"IF(Tabelle3[[#This Row],[Position\nG / D / FC / FW]]=\"G\",VLOOKUP($M$5-Tabelle3[[#This Row],[Jahr\nannée]],FGOALIE,6),VLOOKUP($M$5-Tabelle3[[#This Row],[Jahr\nannée]],FSPIELER,6))","v":10},{"$f":"IF(Tabelle3[[#This Row],[Position\nG / D / FC / FW]]=\"G\",VLOOKUP($M$5-Tabelle3[[#This Row],[Jahr\nannée]],FGOALIE,9),VLOOKUP($M$5-Tabelle3[[#This Row],[Jahr\nannée]],FSPIELER,9))","v":15},{"$f":"IF(Tabelle3[[#This Row],[Position\nG / D / FC / FW]]=\"G\",VLOOKUP($M$5-Tabelle3[[#This Row],[Jahr\nannée]],FGOALIE,7),VLOOKUP($M$5-Tabelle3[[#This Row],[Jahr\nannée]],FSPIELER,7))","v":10},{"$f":"IF(Tabelle3[[#This Row],[Position\nG / D / FC / FW]]=\"G\",VLOOKUP($M$5-Tabelle3[[#This Row],[Jahr\nannée]],FGOALIE,8),VLOOKUP($M$5-Tabelle3[[#This Row],[Jahr\nannée]],FSPIELER,8))","v":0},{"$f":"IF(Tabelle3[[#This Row],[Position\nG / D / FC / FW]]=\"G\",VLOOKUP($M$5-Tabelle3[[#This Row],[Jahr\nannée]],FGOALIE,10),VLOOKUP($M$5-Tabelle3[[#This Row],[Jahr\nannée]],FSPIELER,10))","v":0},{"$f":"IF(Tabelle3[[#This Row],[Position\nG / D / FC / FW]]=\"G\",VLOOKUP($M$5-Tabelle3[[#This Row],[Jahr\nannée]],FGOALIE,11),VLOOKUP($M$5-Tabelle3[[#This Row],[Jahr\nannée]],FSPIELER,11))","v":10}]
[10,null,null,{"$f":"'10'!$K$4","v":"-"},null,null,null,null,null,{"$f":"IF(ISBLANK('10'!$H$4),\"-\",'10'!$H$4)","v":"-"},{"$f":"IF(ISBLANK('10'!$H$5),\"-\",'10'!$H$5)","v":"-"},{"$f":"IF(ISBLANK('10'!$H$2),\"-\",'10'!$H$2)","v":"-"},null,null,null,null,{"$f":"'10'!$M$19","v":0},{"$f":"'10'!$M$24","v":0},{"$f":"'10'!$M$30","v":0},{"$f":"'10'!$M$36","v":0},{"$f":"'10'!$M$41","v":0},{"$f":"'10'!$M$46","v":0},{"$f":"'10'!$M$13","v":0},{"$f":"'10'!$AA$2","v":0},{"$f":"'10'!$AA$4","v":0},{"$f":"'10'!$AA$3","v":0},{"$f":"IF(Tabelle3[[#This Row],[SKATING]]=0,\"-\",IF(Tabelle3[[#This Row],[Sex]]=\"M\",SUMPRODUCT(Tabelle3[[#This Row],[SKATING]:[VERANLAGUNG\nPREDISPOSITION]],AG20:AP20),SUMPRODUCT(Tabelle3[[#This Row],[SKATING]:[VERANLAGUNG\nPREDISPOSITION]],AQ20:AZ20)))","v":"-"},{"$f":"IFERROR(RANK(Tabelle3[[#This Row],[TOTAL ]],Tabelle3[[TOTAL ]],0),\"-\")","v":"-"},null,null,null,null,{"$f":"IF(Tabelle3[[#This Row],[Position\nG / D / FC / FW]]=\"G\",VLOOKUP($M$5-Tabelle3[[#This Row],[Jahr\nannée]],GOALI,2),VLOOKUP($M$5-Tabelle3[[#This Row],[Jahr\nannée]],SPIELER,2))","v":10},{"$f":"IF(Tabelle3[[#This Row],[Position\nG / D / FC / FW]]=\"G\",VLOOKUP($M$5-Tabelle3[[#This Row],[Jahr\nannée]],GOALI,3),VLOOKUP($M$5-Tabelle3[[#This Row],[Jahr\nannée]],SPIELER,3))","v":10},{"$f":"IF(Tabelle3[[#This Row],[Position\nG / D / FC / FW]]=\"G\",VLOOKUP($M$5-Tabelle3[[#This Row],[Jahr\nannée]],GOALI,4),VLOOKUP($M$5-Tabelle3[[#This Row],[Jahr\nannée]],SPIELER,4))","v":20},{"$f":"IF(Tabelle3[[#This Row],[Position\nG / D / FC / FW]]=\"G\",VLOOKUP($M$5-Tabelle3[[#This Row],[Jahr\nannée]],GOALI,5),VLOOKUP($M$5-Tabelle3[[#This Row],[Jahr\nannée]],SPIELER,5))","v":15},{"$f":"IF(Tabelle3[[#This Row],[Position\nG / D / FC / FW]]=\"G\",VLOOKUP($M$5-Tabelle3[[#This Row],[Jahr\nannée]],GOALI,6),VLOOKUP($M$5-Tabelle3[[#This Row],[Jahr\nannée]],SPIELER,6))","v":10},{"$f":"IF(Tabelle3[[#This Row],[Position\nG / D / FC / FW]]=\"G\",VLOOKUP($M$5-Tabelle3[[#This Row],[Jahr\nannée]],GOALI,9),VLOOKUP($M$5-Tabelle3[[#This Row],[Jahr\nannée]],SPIELER,9))","v":15},{"$f":"IF(Tabelle3[[#This Row],[Position\nG / D / FC / FW]]=\"G\",VLOOKUP($M$5-Tabelle3[[#This Row],[Jahr\nannée]],GOALI,7),VLOOKUP($M$5-Tabelle3[[#This Row],[Jahr\nannée]],SPIELER,7))","v":10},{"$f":"IF(Tabelle3[[#This Row],[Position\nG / D / FC / FW]]=\"G\",VLOOKUP($M$5-Tabelle3[[#This Row],[Jahr\nannée]],GOALI,8),VLOOKUP($M$5-Tabelle3[[#This Row],[Jahr\nannée]],SPIELER,8))","v":0},{"$f":"IF(Tabelle3[[#This Row],[Position\nG / D / FC / FW]]=\"G\",VLOOKUP($M$5-Tabelle3[[#This Row],[Jahr\nannée]],GOALI,10),VLOOKUP($M$5-Tabelle3[[#This Row],[Jahr\nannée]],SPIELER,10))","v":0},{"$f":"IF(Tabelle3[[#This Row],[Position\nG / D / FC / FW]]=\"G\",VLOOKUP($M$5-Tabelle3[[#This Row],[Jahr\nannée]],GOALI,11),VLOOKUP($M$5-Tabelle3[[#This Row],[Jahr\nannée]],SPIELER,11))","v":10},{"$f":"IF(Tabelle3[[#This Row],[Position\nG / D / FC / FW]]=\"G\",VLOOKUP($M$5-Tabelle3[[#This Row],[Jahr\nannée]],FGOALIE,2),VLOOKUP($M$5-Tabelle3[[#This Row],[Jahr\nannée]],FSPIELER,2))","v":10},{"$f":"IF(Tabelle3[[#This Row],[Position\nG / D / FC / FW]]=\"G\",VLOOKUP($M$5-Tabelle3[[#This Row],[Jahr\nannée]],FGOALIE,3),VLOOKUP($M$5-Tabelle3[[#This Row],[Jahr\nannée]],FSPIELER,3))","v":10},{"$f":"IF(Tabelle3[[#This Row],[Position\nG / D / FC / FW]]=\"G\",VLOOKUP($M$5-Tabelle3[[#This Row],[Jahr\nannée]],FGOALIE,4),VLOOKUP($M$5-Tabelle3[[#This Row],[Jahr\nannée]],FSPIELER,4))","v":20},{"$f":"IF(Tabelle3[[#This Row],[Position\nG / D / FC / FW]]=\"G\",VLOOKUP($M$5-Tabelle3[[#This Row],[Jahr\nannée]],FGOALIE,5),VLOOKUP($M$5-Tabelle3[[#This Row],[Jahr\nannée]],FSPIELER,5))","v":15},{"$f":"IF(Tabelle3[[#This Row],[Position\nG / D / FC / FW]]=\"G\",VLOOKUP($M$5-Tabelle3[[#This Row],[Jahr\nannée]],FGOALIE,6),VLOOKUP($M$5-Tabelle3[[#This Row],[Jahr\nannée]],FSPIELER,6))","v":10},{"$f":"IF(Tabelle3[[#This Row],[Position\nG / D / FC / FW]]=\"G\",VLOOKUP($M$5-Tabelle3[[#This Row],[Jahr\nannée]],FGOALIE,9),VLOOKUP($M$5-Tabelle3[[#This Row],[Jahr\nannée]],FSPIELER,9))","v":15},{"$f":"IF(Tabelle3[[#This Row],[Position\nG / D / FC / FW]]=\"G\",VLOOKUP($M$5-Tabelle3[[#This Row],[Jahr\nannée]],FGOALIE,7),VLOOKUP($M$5-Tabelle3[[#This Row],[Jahr\nannée]],FSPIELER,7))","v":10},{"$f":"IF(Tabelle3[[#This Row],[Position\nG / D / FC / FW]]=\"G\",VLOOKUP($M$5-Tabelle3[[#This Row],[Jahr\nannée]],FGOALIE,8),VLOOKUP($M$5-Tabelle3[[#This Row],[Jahr\nannée]],FSPIELER,8))","v":0},{"$f":"IF(Tabelle3[[#This Row],[Position\nG / D / FC / FW]]=\"G\",VLOOKUP($M$5-Tabelle3[[#This Row],[Jahr\nannée]],FGOALIE,10),VLOOKUP($M$5-Tabelle3[[#This Row],[Jahr\nannée]],FSPIELER,10))","v":0},{"$f":"IF(Tabelle3[[#This Row],[Position\nG / D / FC / FW]]=\"G\",VLOOKUP($M$5-Tabelle3[[#This Row],[Jahr\nannée]],FGOALIE,11),VLOOKUP($M$5-Tabelle3[[#This Row],[Jahr\nannée]],FSPIELER,11))","v":10}]
[11,null,null,{"$f":"'11'!$K$4","v":"-"},null,null,null,null,null,{"$f":"IF(ISBLANK('11'!$H$4),\"-\",'11'!$H$4)","v":"-"},{"$f":"IF(ISBLANK('11'!$H$5),\"-\",'11'!$H$5)","v":"-"},{"$f":"IF(ISBLANK('11'!$H$2),\"-\",'11'!$H$2)","v":"-"},null,null,null,null,{"$f":"'11'!$M$19","v":0},{"$f":"'11'!$M$24","v":0},{"$f":"'11'!$M$30","v":0},{"$f":"'11'!$M$36","v":0},{"$f":"'11'!$M$41","v":0},{"$f":"'11'!$M$46","v":0},{"$f":"'11'!$M$13","v":0},{"$f":"'11'!$AA$2","v":0},{"$f":"'11'!$AA$4","v":0},{"$f":"'11'!$AA$3","v":0},{"$f":"IF(Tabelle3[[#This Row],[SKATING]]=0,\"-\",IF(Tabelle3[[#This Row],[Sex]]=\"M\",SUMPRODUCT(Tabelle3[[#This Row],[SKATING]:[VERANLAGUNG\nPREDISPOSITION]],AG21:AP21),SUMPRODUCT(Tabelle3[[#This Row],[SKATING]:[VERANLAGUNG\nPREDISPOSITION]],AQ21:AZ21)))","v":"-"},{"$f":"IFERROR(RANK(Tabelle3[[#This Row],[TOTAL ]],Tabelle3[[TOTAL ]],0),\"-\")","v":"-"},null,null,null,null,{"$f":"IF(Tabelle3[[#This Row],[Position\nG / D / FC / FW]]=\"G\",VLOOKUP($M$5-Tabelle3[[#This Row],[Jahr\nannée]],GOALI,2),VLOOKUP($M$5-Tabelle3[[#This Row],[Jahr\nannée]],SPIELER,2))","v":10},{"$f":"IF(Tabelle3[[#This Row],[Position\nG / D / FC / FW]]=\"G\",VLOOKUP($M$5-Tabelle3[[#This Row],[Jahr\nannée]],GOALI,3),VLOOKUP($M$5-Tabelle3[[#This Row],[Jahr\nannée]],SPIELER,3))","v":10},{"$f":"IF(Tabelle3[[#This Row],[Position\nG / D / FC / FW]]=\"G\",VLOOKUP($M$5-Tabelle3[[#This Row],[Jahr\nannée]],GOALI,4),VLOOKUP($M$5-Tabelle3[[#This Row],[Jahr\nannée]],SPIELER,4))","v":20},{"$f":"IF(Tabelle3[[#This Row],[Position\nG / D / FC / FW]]=\"G\",VLOOKUP($M$5-Tabelle3[[#This Row],[Jahr\nannée]],GOALI,5),VLOOKUP($M$5-Tabelle3[[#This Row],[Jahr\nannée]],SPIELER,5))","v":15},{"$f":"IF(Tabelle3[[#This Row],[Position\nG / D / FC / FW]]=\"G\",VLOOKUP($M$5-Tabelle3[[#This Row],[Jahr\nannée]],GOALI,6),VLOOKUP($M$5-Tabelle3[[#This Row],[Jahr\nannée]],SPIELER,6))","v":10},{"$f":"IF(Tabelle3[[#This Row],[Position\nG / D / FC / FW]]=\"G\",VLOOKUP($M$5-Tabelle3[[#This Row],[Jahr\nannée]],GOALI,9),VLOOKUP($M$5-Tabelle3[[#This Row],[Jahr\nannée]],SPIELER,9))","v":15},{"$f":"IF(Tabelle3[[#This Row],[Position\nG / D / FC / FW]]=\"G\",VLOOKUP($M$5-Tabelle3[[#This Row],[Jahr\nannée]],GOALI,7),VLOOKUP($M$5-Tabelle3[[#This Row],[Jahr\nannée]],SPIELER,7))","v":10},{"$f":"IF(Tabelle3[[#This Row],[Position\nG / D / FC / FW]]=\"G\",VLOOKUP($M$5-Tabelle3[[#This Row],[Jahr\nannée]],GOALI,8),VLOOKUP($M$5-Tabelle3[[#This Row],[Jahr\nannée]],SPIELER,8))","v":0},{"$f":"IF(Tabelle3[[#This Row],[Position\nG / D / FC / FW]]=\"G\",VLOOKUP($M$5-Tabelle3[[#This Row],[Jahr\nannée]],GOALI,10),VLOOKUP($M$5-Tabelle3[[#This Row],[Jahr\nannée]],SPIELER,10))","v":0},{"$f":"IF(Tabelle3[[#This Row],[Position\nG / D / FC / FW]]=\"G\",VLOOKUP($M$5-Tabelle3[[#This Row],[Jahr\nannée]],GOALI,11),VLOOKUP($M$5-Tabelle3[[#This Row],[Jahr\nannée]],SPIELER,11))","v":10},{"$f":"IF(Tabelle3[[#This Row],[Position\nG / D / FC / FW]]=\"G\",VLOOKUP($M$5-Tabelle3[[#This Row],[Jahr\nannée]],FGOALIE,2),VLOOKUP($M$5-Tabelle3[[#This Row],[Jahr\nannée]],FSPIELER,2))","v":10},{"$f":"IF(Tabelle3[[#This Row],[Position\nG / D / FC / FW]]=\"G\",VLOOKUP($M$5-Tabelle3[[#This Row],[Jahr\nannée]],FGOALIE,3),VLOOKUP($M$5-Tabelle3[[#This Row],[Jahr\nannée]],FSPIELER,3))","v":10},{"$f":"IF(Tabelle3[[#This Row],[Position\nG / D / FC / FW]]=\"G\",VLOOKUP($M$5-Tabelle3[[#This Row],[Jahr\nannée]],FGOALIE,4),VLOOKUP($M$5-Tabelle3[[#This Row],[Jahr\nannée]],FSPIELER,4))","v":20},{"$f":"IF(Tabelle3[[#This Row],[Position\nG / D / FC / FW]]=\"G\",VLOOKUP($M$5-Tabelle3[[#This Row],[Jahr\nannée]],FGOALIE,5),VLOOKUP($M$5-Tabelle3[[#This Row],[Jahr\nannée]],FSPIELER,5))","v":15},{"$f":"IF(Tabelle3[[#This Row],[Position\nG / D / FC / FW]]=\"G\",VLOOKUP($M$5-Tabelle3[[#This Row],[Jahr\nannée]],FGOALIE,6),VLOOKUP($M$5-Tabelle3[[#This Row],[Jahr\nannée]],FSPIELER,6))","v":10},{"$f":"IF(Tabelle3[[#This Row],[Position\nG / D / FC / FW]]=\"G\",VLOOKUP($M$5-Tabelle3[[#This Row],[Jahr\nannée]],FGOALIE,9),VLOOKUP($M$5-Tabelle3[[#This Row],[Jahr\nannée]],FSPIELER,9))","v":15},{"$f":"IF(Tabelle3[[#This Row],[Position\nG / D / FC / FW]]=\"G\",VLOOKUP($M$5-Tabelle3[[#This Row],[Jahr\nannée]],FGOALIE,7),VLOOKUP($M$5-Tabelle3[[#This Row],[Jahr\nannée]],FSPIELER,7))","v":10},{"$f":"IF(Tabelle3[[#This Row],[Position\nG / D / FC / FW]]=\"G\",VLOOKUP($M$5-Tabelle3[[#This Row],[Jahr\nannée]],FGOALIE,8),VLOOKUP($M$5-Tabelle3[[#This Row],[Jahr\nannée]],FSPIELER,8))","v":0},{"$f":"IF(Tabelle3[[#This Row],[Position\nG / D / FC / FW]]=\"G\",VLOOKUP($M$5-Tabelle3[[#This Row],[Jahr\nannée]],FGOALIE,10),VLOOKUP($M$5-Tabelle3[[#This Row],[Jahr\nannée]],FSPIELER,10))","v":0},{"$f":"IF(Tabelle3[[#This Row],[Position\nG / D / FC / FW]]=\"G\",VLOOKUP($M$5-Tabelle3[[#This Row],[Jahr\nannée]],FGOALIE,11),VLOOKUP($M$5-Tabelle3[[#This Row],[Jahr\nannée]],FSPIELER,11))","v":10}]
[12,null,null,{"$f":"'12'!$K$4","v":"-"},null,null,null,null,null,{"$f":"IF(ISBLANK('12'!$H$4),\"-\",'12'!$H$4)","v":"-"},{"$f":"IF(ISBLANK('12'!$H$5),\"-\",'12'!$H$5)","v":"-"},{"$f":"IF(ISBLANK('12'!$H$2),\"-\",'12'!$H$2)","v":"-"},null,null,null,null,{"$f":"'12'!$M$19","v":0},{"$f":"'12'!$M$24","v":0},{"$f":"'12'!$M$30","v":0},{"$f":"'12'!$M$36","v":0},{"$f":"'12'!$M$41","v":0},{"$f":"'12'!$M$46","v":0},{"$f":"'12'!$M$13","v":0},{"$f":"'12'!$AA$2","v":0},{"$f":"'12'!$AA$4","v":0},{"$f":"'12'!$AA$3","v":0},{"$f":"IF(Tabelle3[[#This Row],[SKATING]]=0,\"-\",IF(Tabelle3[[#This Row],[Sex]]=\"M\",SUMPRODUCT(Tabelle3[[#This Row],[SKATING]:[VERANLAGUNG\nPREDISPOSITION]],AG22:AP22),SUMPRODUCT(Tabelle3[[#This Row],[SKATING]:[VERANLAGUNG\nPREDISPOSITION]],AQ22:AZ22)))","v":"-"},{"$f":"IFERROR(RANK(Tabelle3[[#This Row],[TOTAL ]],Tabelle3[[TOTAL ]],0),\"-\")","v":"-"},null,null,null,null,{"$f":"IF(Tabelle3[[#This Row],[Position\nG / D / FC / FW]]=\"G\",VLOOKUP($M$5-Tabelle3[[#This Row],[Jahr\nannée]],GOALI,2),VLOOKUP($M$5-Tabelle3[[#This Row],[Jahr\nannée]],SPIELER,2))","v":10},{"$f":"IF(Tabelle3[[#This Row],[Position\nG / D / FC / FW]]=\"G\",VLOOKUP($M$5-Tabelle3[[#This Row],[Jahr\nannée]],GOALI,3),VLOOKUP($M$5-Tabelle3[[#This Row],[Jahr\nannée]],SPIELER,3))","v":10},{"$f":"IF(Tabelle3[[#This Row],[Position\nG / D / FC / FW]]=\"G\",VLOOKUP($M$5-Tabelle3[[#This Row],[Jahr\nannée]],GOALI,4),VLOOKUP($M$5-Tabelle3[[#This Row],[Jahr\nannée]],SPIELER,4))","v":20},{"$f":"IF(Tabelle3[[#This Row],[Position\nG / D / FC / FW]]=\"G\",VLOOKUP($M$5-Tabelle3[[#This Row],[Jahr\nannée]],GOALI,5),VLOOKUP($M$5-Tabelle3[[#This Row],[Jahr\nannée]],SPIELER,5))","v":15},{"$f":"IF(Tabelle3[[#This Row],[Position\nG / D / FC / FW]]=\"G\",VLOOKUP($M$5-Tabelle3[[#This Row],[Jahr\nannée]],GOALI,6),VLOOKUP($M$5-Tabelle3[[#This Row],[Jahr\nannée]],SPIELER,6))","v":10},{"$f":"IF(Tabelle3[[#This Row],[Position\nG / D / FC / FW]]=\"G\",VLOOKUP($M$5-Tabelle3[[#This Row],[Jahr\nannée]],GOALI,9),VLOOKUP($M$5-Tabelle3[[#This Row],[Jahr\nannée]],SPIELER,9))","v":15},{"$f":"IF(Tabelle3[[#This Row],[Position\nG / D / FC / FW]]=\"G\",VLOOKUP($M$5-Tabelle3[[#This Row],[Jahr\nannée]],GOALI,7),VLOOKUP($M$5-Tabelle3[[#This Row],[Jahr\nannée]],SPIELER,7))","v":10},{"$f":"IF(Tabelle3[[#This Row],[Position\nG / D / FC / FW]]=\"G\",VLOOKUP($M$5-Tabelle3[[#This Row],[Jahr\nannée]],GOALI,8),VLOOKUP($M$5-Tabelle3[[#This Row],[Jahr\nannée]],SPIELER,8))","v":0},{"$f":"IF(Tabelle3[[#This Row],[Position\nG / D / FC / FW]]=\"G\",VLOOKUP($M$5-Tabelle3[[#This Row],[Jahr\nannée]],GOALI,10),VLOOKUP($M$5-Tabelle3[[#This Row],[Jahr\nannée]],SPIELER,10))","v":0},{"$f":"IF(Tabelle3[[#This Row],[Position\nG / D / FC / FW]]=\"G\",VLOOKUP($M$5-Tabelle3[[#This Row],[Jahr\nannée]],GOALI,11),VLOOKUP($M$5-Tabelle3[[#This Row],[Jahr\nannée]],SPIELER,11))","v":10},{"$f":"IF(Tabelle3[[#This Row],[Position\nG / D / FC / FW]]=\"G\",VLOOKUP($M$5-Tabelle3[[#This Row],[Jahr\nannée]],FGOALIE,2),VLOOKUP($M$5-Tabelle3[[#This Row],[Jahr\nannée]],FSPIELER,2))","v":10},{"$f":"IF(Tabelle3[[#This Row],[Position\nG / D / FC / FW]]=\"G\",VLOOKUP($M$5-Tabelle3[[#This Row],[Jahr\nannée]],FGOALIE,3),VLOOKUP($M$5-Tabelle3[[#This Row],[Jahr\nannée]],FSPIELER,3))","v":10},{"$f":"IF(Tabelle3[[#This Row],[Position\nG / D / FC / FW]]=\"G\",VLOOKUP($M$5-Tabelle3[[#This Row],[Jahr\nannée]],FGOALIE,4),VLOOKUP($M$5-Tabelle3[[#This Row],[Jahr\nannée]],FSPIELER,4))","v":20},{"$f":"IF(Tabelle3[[#This Row],[Position\nG / D / FC / FW]]=\"G\",VLOOKUP($M$5-Tabelle3[[#This Row],[Jahr\nannée]],FGOALIE,5),VLOOKUP($M$5-Tabelle3[[#This Row],[Jahr\nannée]],FSPIELER,5))","v":15},{"$f":"IF(Tabelle3[[#This Row],[Position\nG / D / FC / FW]]=\"G\",VLOOKUP($M$5-Tabelle3[[#This Row],[Jahr\nannée]],FGOALIE,6),VLOOKUP($M$5-Tabelle3[[#This Row],[Jahr\nannée]],FSPIELER,6))","v":10},{"$f":"IF(Tabelle3[[#This Row],[Position\nG / D / FC / FW]]=\"G\",VLOOKUP($M$5-Tabelle3[[#This Row],[Jahr\nannée]],FGOALIE,9),VLOOKUP($M$5-Tabelle3[[#This Row],[Jahr\nannée]],FSPIELER,9))","v":15},{"$f":"IF(Tabelle3[[#This Row],[Position\nG / D / FC / FW]]=\"G\",VLOOKUP($M$5-Tabelle3[[#This Row],[Jahr\nannée]],FGOALIE,7),VLOOKUP($M$5-Tabelle3[[#This Row],[Jahr\nannée]],FSPIELER,7))","v":10},{"$f":"IF(Tabelle3[[#This Row],[Position\nG / D / FC / FW]]=\"G\",VLOOKUP($M$5-Tabelle3[[#This Row],[Jahr\nannée]],FGOALIE,8),VLOOKUP($M$5-Tabelle3[[#This Row],[Jahr\nannée]],FSPIELER,8))","v":0},{"$f":"IF(Tabelle3[[#This Row],[Position\nG / D / FC / FW]]=\"G\",VLOOKUP($M$5-Tabelle3[[#This Row],[Jahr\nannée]],FGOALIE,10),VLOOKUP($M$5-Tabelle3[[#This Row],[Jahr\nannée]],FSPIELER,10))","v":0},{"$f":"IF(Tabelle3[[#This Row],[Position\nG / D / FC / FW]]=\"G\",VLOOKUP($M$5-Tabelle3[[#This Row],[Jahr\nannée]],FGOALIE,11),VLOOKUP($M$5-Tabelle3[[#This Row],[Jahr\nannée]],FSPIELER,11))","v":10}]
[13,null,null,{"$f":"'13'!$K$4","v":"-"},null,null,null,null,null,{"$f":"IF(ISBLANK('13'!$H$4),\"-\",'13'!$H$4)","v":"-"},{"$f":"IF(ISBLANK('13'!$H$5),\"-\",'13'!$H$5)","v":"-"},{"$f":"IF(ISBLANK('13'!$H$2),\"-\",'13'!$H$2)","v":"-"},null,null,null,null,{"$f":"'13'!$M$19","v":0},{"$f":"'13'!$M$24","v":0},{"$f":"'13'!$M$30","v":0},{"$f":"'13'!$M$36","v":0},{"$f":"'13'!$M$41","v":0},{"$f":"'13'!$M$46","v":0},{"$f":"'13'!$M$13","v":0},{"$f":"'13'!$AA$2","v":0},{"$f":"'13'!$AA$4","v":0},{"$f":"'13'!$AA$3","v":0},{"$f":"IF(Tabelle3[[#This Row],[SKATING]]=0,\"-\",IF(Tabelle3[[#This Row],[Sex]]=\"M\",SUMPRODUCT(Tabelle3[[#This Row],[SKATING]:[VERANLAGUNG\nPREDISPOSITION]],AG23:AP23),SUMPRODUCT(Tabelle3[[#This Row],[SKATING]:[VERANLAGUNG\nPREDISPOSITION]],AQ23:AZ23)))","v":"-"},{"$f":"IFERROR(RANK(Tabelle3[[#This Row],[TOTAL ]],Tabelle3[[TOTAL ]],0),\"-\")","v":"-"},null,null,null,null,{"$f":"IF(Tabelle3[[#This Row],[Position\nG / D / FC / FW]]=\"G\",VLOOKUP($M$5-Tabelle3[[#This Row],[Jahr\nannée]],GOALI,2),VLOOKUP($M$5-Tabelle3[[#This Row],[Jahr\nannée]],SPIELER,2))","v":10},{"$f":"IF(Tabelle3[[#This Row],[Position\nG / D / FC / FW]]=\"G\",VLOOKUP($M$5-Tabelle3[[#This Row],[Jahr\nannée]],GOALI,3),VLOOKUP($M$5-Tabelle3[[#This Row],[Jahr\nannée]],SPIELER,3))","v":10},{"$f":"IF(Tabelle3[[#This Row],[Position\nG / D / FC / FW]]=\"G\",VLOOKUP($M$5-Tabelle3[[#This Row],[Jahr\nannée]],GOALI,4),VLOOKUP($M$5-Tabelle3[[#This Row],[Jahr\nannée]],SPIELER,4))","v":20},{"$f":"IF(Tabelle3[[#This Row],[Position\nG / D / FC / FW]]=\"G\",VLOOKUP($M$5-Tabelle3[[#This Row],[Jahr\nannée]],GOALI,5),VLOOKUP($M$5-Tabelle3[[#This Row],[Jahr\nannée]],SPIELER,5))","v":15},{"$f":"IF(Tabelle3[[#This Row],[Position\nG / D / FC / FW]]=\"G\",VLOOKUP($M$5-Tabelle3[[#This Row],[Jahr\nannée]],GOALI,6),VLOOKUP($M$5-Tabelle3[[#This Row],[Jahr\nannée]],SPIELER,6))","v":10},{"$f":"IF(Tabelle3[[#This Row],[Position\nG / D / FC / FW]]=\"G\",VLOOKUP($M$5-Tabelle3[[#This Row],[Jahr\nannée]],GOALI,9),VLOOKUP($M$5-Tabelle3[[#This Row],[Jahr\nannée]],SPIELER,9))","v":15},{"$f":"IF(Tabelle3[[#This Row],[Position\nG / D / FC / FW]]=\"G\",VLOOKUP($M$5-Tabelle3[[#This Row],[Jahr\nannée]],GOALI,7),VLOOKUP($M$5-Tabelle3[[#This Row],[Jahr\nannée]],SPIELER,7))","v":10},{"$f":"IF(Tabelle3[[#This Row],[Position\nG / D / FC / FW]]=\"G\",VLOOKUP($M$5-Tabelle3[[#This Row],[Jahr\nannée]],GOALI,8),VLOOKUP($M$5-Tabelle3[[#This Row],[Jahr\nannée]],SPIELER,8))","v":0},{"$f":"IF(Tabelle3[[#This Row],[Position\nG / D / FC / FW]]=\"G\",VLOOKUP($M$5-Tabelle3[[#This Row],[Jahr\nannée]],GOALI,10),VLOOKUP($M$5-Tabelle3[[#This Row],[Jahr\nannée]],SPIELER,10))","v":0},{"$f":"IF(Tabelle3[[#This Row],[Position\nG / D / FC / FW]]=\"G\",VLOOKUP($M$5-Tabelle3[[#This Row],[Jahr\nannée]],GOALI,11),VLOOKUP($M$5-Tabelle3[[#This Row],[Jahr\nannée]],SPIELER,11))","v":10},{"$f":"IF(Tabelle3[[#This Row],[Position\nG / D / FC / FW]]=\"G\",VLOOKUP($M$5-Tabelle3[[#This Row],[Jahr\nannée]],FGOALIE,2),VLOOKUP($M$5-Tabelle3[[#This Row],[Jahr\nannée]],FSPIELER,2))","v":10},{"$f":"IF(Tabelle3[[#This Row],[Position\nG / D / FC / FW]]=\"G\",VLOOKUP($M$5-Tabelle3[[#This Row],[Jahr\nannée]],FGOALIE,3),VLOOKUP($M$5-Tabelle3[[#This Row],[Jahr\nannée]],FSPIELER,3))","v":10},{"$f":"IF(Tabelle3[[#This Row],[Position\nG / D / FC / FW]]=\"G\",VLOOKUP($M$5-Tabelle3[[#This Row],[Jahr\nannée]],FGOALIE,4),VLOOKUP($M$5-Tabelle3[[#This Row],[Jahr\nannée]],FSPIELER,4))","v":20},{"$f":"IF(Tabelle3[[#This Row],[Position\nG / D / FC / FW]]=\"G\",VLOOKUP($M$5-Tabelle3[[#This Row],[Jahr\nannée]],FGOALIE,5),VLOOKUP($M$5-Tabelle3[[#This Row],[Jahr\nannée]],FSPIELER,5))","v":15},{"$f":"IF(Tabelle3[[#This Row],[Position\nG / D / FC / FW]]=\"G\",VLOOKUP($M$5-Tabelle3[[#This Row],[Jahr\nannée]],FGOALIE,6),VLOOKUP($M$5-Tabelle3[[#This Row],[Jahr\nannée]],FSPIELER,6))","v":10},{"$f":"IF(Tabelle3[[#This Row],[Position\nG / D / FC / FW]]=\"G\",VLOOKUP($M$5-Tabelle3[[#This Row],[Jahr\nannée]],FGOALIE,9),VLOOKUP($M$5-Tabelle3[[#This Row],[Jahr\nannée]],FSPIELER,9))","v":15},{"$f":"IF(Tabelle3[[#This Row],[Position\nG / D / FC / FW]]=\"G\",VLOOKUP($M$5-Tabelle3[[#This Row],[Jahr\nannée]],FGOALIE,7),VLOOKUP($M$5-Tabelle3[[#This Row],[Jahr\nannée]],FSPIELER,7))","v":10},{"$f":"IF(Tabelle3[[#This Row],[Position\nG / D / FC / FW]]=\"G\",VLOOKUP($M$5-Tabelle3[[#This Row],[Jahr\nannée]],FGOALIE,8),VLOOKUP($M$5-Tabelle3[[#This Row],[Jahr\nannée]],FSPIELER,8))","v":0},{"$f":"IF(Tabelle3[[#This Row],[Position\nG / D / FC / FW]]=\"G\",VLOOKUP($M$5-Tabelle3[[#This Row],[Jahr\nannée]],FGOALIE,10),VLOOKUP($M$5-Tabelle3[[#This Row],[Jahr\nannée]],FSPIELER,10))","v":0},{"$f":"IF(Tabelle3[[#This Row],[Position\nG / D / FC / FW]]=\"G\",VLOOKUP($M$5-Tabelle3[[#This Row],[Jahr\nannée]],FGOALIE,11),VLOOKUP($M$5-Tabelle3[[#This Row],[Jahr\nannée]],FSPIELER,11))","v":10}]
[14,null,null,{"$f":"'14'!$K$4","v":"-"},null,null,null,null,null,{"$f":"IF(ISBLANK('14'!$H$4),\"-\",'14'!$H$4)","v":"-"},{"$f":"IF(ISBLANK('14'!$H$5),\"-\",'14'!$H$5)","v":"-"},{"$f":"IF(ISBLANK('14'!$H$2),\"-\",'14'!$H$2)","v":"-"},null,null,null,null,{"$f":"'14'!$M$19","v":0},{"$f":"'14'!$M$24","v":0},{"$f":"'14'!$M$30","v":0},{"$f":"'14'!$M$36","v":0},{"$f":"'14'!$M$41","v":0},{"$f":"'14'!$M$46","v":0},{"$f":"'14'!$M$13","v":0},{"$f":"'14'!$AA$2","v":0},{"$f":"'14'!$AA$4","v":0},{"$f":"'14'!$AA$3","v":0},{"$f":"IF(Tabelle3[[#This Row],[SKATING]]=0,\"-\",IF(Tabelle3[[#This Row],[Sex]]=\"M\",SUMPRODUCT(Tabelle3[[#This Row],[SKATING]:[VERANLAGUNG\nPREDISPOSITION]],AG24:AP24),SUMPRODUCT(Tabelle3[[#This Row],[SKATING]:[VERANLAGUNG\nPREDISPOSITION]],AQ24:AZ24)))","v":"-"},{"$f":"IFERROR(RANK(Tabelle3[[#This Row],[TOTAL ]],Tabelle3[[TOTAL ]],0),\"-\")","v":"-"},null,null,null,null,{"$f":"IF(Tabelle3[[#This Row],[Position\nG / D / FC / FW]]=\"G\",VLOOKUP($M$5-Tabelle3[[#This Row],[Jahr\nannée]],GOALI,2),VLOOKUP($M$5-Tabelle3[[#This Row],[Jahr\nannée]],SPIELER,2))","v":10},{"$f":"IF(Tabelle3[[#This Row],[Position\nG / D / FC / FW]]=\"G\",VLOOKUP($M$5-Tabelle3[[#This Row],[Jahr\nannée]],GOALI,3),VLOOKUP($M$5-Tabelle3[[#This Row],[Jahr\nannée]],SPIELER,3))","v":10},{"$f":"IF(Tabelle3[[#This Row],[Position\nG / D / FC / FW]]=\"G\",VLOOKUP($M$5-Tabelle3[[#This Row],[Jahr\nannée]],GOALI,4),VLOOKUP($M$5-Tabelle3[[#This Row],[Jahr\nannée]],SPIELER,4))","v":20},{"$f":"IF(Tabelle3[[#This Row],[Position\nG / D / FC / FW]]=\"G\",VLOOKUP($M$5-Tabelle3[[#This Row],[Jahr\nannée]],GOALI,5),VLOOKUP($M$5-Tabelle3[[#This Row],[Jahr\nannée]],SPIELER,5))","v":15},{"$f":"IF(Tabelle3[[#This Row],[Position\nG / D / FC / FW]]=\"G\",VLOOKUP($M$5-Tabelle3[[#This Row],[Jahr\nannée]],GOALI,6),VLOOKUP($M$5-Tabelle3[[#This Row],[Jahr\nannée]],SPIELER,6))","v":10},{"$f":"IF(Tabelle3[[#This Row],[Position\nG / D / FC / FW]]=\"G\",VLOOKUP($M$5-Tabelle3[[#This Row],[Jahr\nannée]],GOALI,9),VLOOKUP($M$5-Tabelle3[[#This Row],[Jahr\nannée]],SPIELER,9))","v":15},{"$f":"IF(Tabelle3[[#This Row],[Position\nG / D / FC / FW]]=\"G\",VLOOKUP($M$5-Tabelle3[[#This Row],[Jahr\nannée]],GOALI,7),VLOOKUP($M$5-Tabelle3[[#This Row],[Jahr\nannée]],SPIELER,7))","v":10},{"$f":"IF(Tabelle3[[#This Row],[Position\nG / D / FC / FW]]=\"G\",VLOOKUP($M$5-Tabelle3[[#This Row],[Jahr\nannée]],GOALI,8),VLOOKUP($M$5-Tabelle3[[#This Row],[Jahr\nannée]],SPIELER,8))","v":0},{"$f":"IF(Tabelle3[[#This Row],[Position\nG / D / FC / FW]]=\"G\",VLOOKUP($M$5-Tabelle3[[#This Row],[Jahr\nannée]],GOALI,10),VLOOKUP($M$5-Tabelle3[[#This Row],[Jahr\nannée]],SPIELER,10))","v":0},{"$f":"IF(Tabelle3[[#This Row],[Position\nG / D / FC / FW]]=\"G\",VLOOKUP($M$5-Tabelle3[[#This Row],[Jahr\nannée]],GOALI,11),VLOOKUP($M$5-Tabelle3[[#This Row],[Jahr\nannée]],SPIELER,11))","v":10},{"$f":"IF(Tabelle3[[#This Row],[Position\nG / D / FC / FW]]=\"G\",VLOOKUP($M$5-Tabelle3[[#This Row],[Jahr\nannée]],FGOALIE,2),VLOOKUP($M$5-Tabelle3[[#This Row],[Jahr\nannée]],FSPIELER,2))","v":10},{"$f":"IF(Tabelle3[[#This Row],[Position\nG / D / FC / FW]]=\"G\",VLOOKUP($M$5-Tabelle3[[#This Row],[Jahr\nannée]],FGOALIE,3),VLOOKUP($M$5-Tabelle3[[#This Row],[Jahr\nannée]],FSPIELER,3))","v":10},{"$f":"IF(Tabelle3[[#This Row],[Position\nG / D / FC / FW]]=\"G\",VLOOKUP($M$5-Tabelle3[[#This Row],[Jahr\nannée]],FGOALIE,4),VLOOKUP($M$5-Tabelle3[[#This Row],[Jahr\nannée]],FSPIELER,4))","v":20},{"$f":"IF(Tabelle3[[#This Row],[Position\nG / D / FC / FW]]=\"G\",VLOOKUP($M$5-Tabelle3[[#This Row],[Jahr\nannée]],FGOALIE,5),VLOOKUP($M$5-Tabelle3[[#This Row],[Jahr\nannée]],FSPIELER,5))","v":15},{"$f":"IF(Tabelle3[[#This Row],[Position\nG / D / FC / FW]]=\"G\",VLOOKUP($M$5-Tabelle3[[#This Row],[Jahr\nannée]],FGOALIE,6),VLOOKUP($M$5-Tabelle3[[#This Row],[Jahr\nannée]],FSPIELER,6))","v":10},{"$f":"IF(Tabelle3[[#This Row],[Position\nG / D / FC / FW]]=\"G\",VLOOKUP($M$5-Tabelle3[[#This Row],[Jahr\nannée]],FGOALIE,9),VLOOKUP($M$5-Tabelle3[[#This Row],[Jahr\nannée]],FSPIELER,9))","v":15},{"$f":"IF(Tabelle3[[#This Row],[Position\nG / D / FC / FW]]=\"G\",VLOOKUP($M$5-Tabelle3[[#This Row],[Jahr\nannée]],FGOALIE,7),VLOOKUP($M$5-Tabelle3[[#This Row],[Jahr\nannée]],FSPIELER,7))","v":10},{"$f":"IF(Tabelle3[[#This Row],[Position\nG / D / FC / FW]]=\"G\",VLOOKUP($M$5-Tabelle3[[#This Row],[Jahr\nannée]],FGOALIE,8),VLOOKUP($M$5-Tabelle3[[#This Row],[Jahr\nannée]],FSPIELER,8))","v":0},{"$f":"IF(Tabelle3[[#This Row],[Position\nG / D / FC / FW]]=\"G\",VLOOKUP($M$5-Tabelle3[[#This Row],[Jahr\nannée]],FGOALIE,10),VLOOKUP($M$5-Tabelle3[[#This Row],[Jahr\nannée]],FSPIELER,10))","v":0},{"$f":"IF(Tabelle3[[#This Row],[Position\nG / D / FC / FW]]=\"G\",VLOOKUP($M$5-Tabelle3[[#This Row],[Jahr\nannée]],FGOALIE,11),VLOOKUP($M$5-Tabelle3[[#This Row],[Jahr\nannée]],FSPIELER,11))","v":10}]
[15,null,null,{"$f":"'15'!$K$4","v":"-"},null,null,null,null,null,{"$f":"IF(ISBLANK('15'!$H$4),\"-\",'15'!$H$4)","v":"-"},{"$f":"IF(ISBLANK('15'!$H$5),\"-\",'15'!$H$5)","v":"-"},{"$f":"IF(ISBLANK('15'!$H$2),\"-\",'15'!$H$2)","v":"-"},null,null,null,null,{"$f":"'15'!$M$19","v":0},{"$f":"'15'!$M$24","v":0},{"$f":"'15'!$M$30","v":0},{"$f":"'15'!$M$36","v":0},{"$f":"'15'!$M$41","v":0},{"$f":"'15'!$M$46","v":0},{"$f":"'15'!$M$13","v":0},{"$f":"'15'!$AA$2","v":0},{"$f":"'15'!$AA$4","v":0},{"$f":"'15'!$AA$3","v":0},{"$f":"IF(Tabelle3[[#This Row],[SKATING]]=0,\"-\",IF(Tabelle3[[#This Row],[Sex]]=\"M\",SUMPRODUCT(Tabelle3[[#This Row],[SKATING]:[VERANLAGUNG\nPREDISPOSITION]],AG25:AP25),SUMPRODUCT(Tabelle3[[#This Row],[SKATING]:[VERANLAGUNG\nPREDISPOSITION]],AQ25:AZ25)))","v":"-"},{"$f":"IFERROR(RANK(Tabelle3[[#This Row],[TOTAL ]],Tabelle3[[TOTAL ]],0),\"-\")","v":"-"},null,null,null,null,{"$f":"IF(Tabelle3[[#This Row],[Position\nG / D / FC / FW]]=\"G\",VLOOKUP($M$5-Tabelle3[[#This Row],[Jahr\nannée]],GOALI,2),VLOOKUP($M$5-Tabelle3[[#This Row],[Jahr\nannée]],SPIELER,2))","v":10},{"$f":"IF(Tabelle3[[#This Row],[Position\nG / D / FC / FW]]=\"G\",VLOOKUP($M$5-Tabelle3[[#This Row],[Jahr\nannée]],GOALI,3),VLOOKUP($M$5-Tabelle3[[#This Row],[Jahr\nannée]],SPIELER,3))","v":10},{"$f":"IF(Tabelle3[[#This Row],[Position\nG / D / FC / FW]]=\"G\",VLOOKUP($M$5-Tabelle3[[#This Row],[Jahr\nannée]],GOALI,4),VLOOKUP($M$5-Tabelle3[[#This Row],[Jahr\nannée]],SPIELER,4))","v":20},{"$f":"IF(Tabelle3[[#This Row],[Position\nG / D / FC / FW]]=\"G\",VLOOKUP($M$5-Tabelle3[[#This Row],[Jahr\nannée]],GOALI,5),VLOOKUP($M$5-Tabelle3[[#This Row],[Jahr\nannée]],SPIELER,5))","v":15},{"$f":"IF(Tabelle3[[#This Row],[Position\nG / D / FC / FW]]=\"G\",VLOOKUP($M$5-Tabelle3[[#This Row],[Jahr\nannée]],GOALI,6),VLOOKUP($M$5-Tabelle3[[#This Row],[Jahr\nannée]],SPIELER,6))","v":10},{"$f":"IF(Tabelle3[[#This Row],[Position\nG / D / FC / FW]]=\"G\",VLOOKUP($M$5-Tabelle3[[#This Row],[Jahr\nannée]],GOALI,9),VLOOKUP($M$5-Tabelle3[[#This Row],[Jahr\nannée]],SPIELER,9))","v":15},{"$f":"IF(Tabelle3[[#This Row],[Position\nG / D / FC / FW]]=\"G\",VLOOKUP($M$5-Tabelle3[[#This Row],[Jahr\nannée]],GOALI,7),VLOOKUP($M$5-Tabelle3[[#This Row],[Jahr\nannée]],SPIELER,7))","v":10},{"$f":"IF(Tabelle3[[#This Row],[Position\nG / D / FC / FW]]=\"G\",VLOOKUP($M$5-Tabelle3[[#This Row],[Jahr\nannée]],GOALI,8),VLOOKUP($M$5-Tabelle3[[#This Row],[Jahr\nannée]],SPIELER,8))","v":0},{"$f":"IF(Tabelle3[[#This Row],[Position\nG / D / FC / FW]]=\"G\",VLOOKUP($M$5-Tabelle3[[#This Row],[Jahr\nannée]],GOALI,10),VLOOKUP($M$5-Tabelle3[[#This Row],[Jahr\nannée]],SPIELER,10))","v":0},{"$f":"IF(Tabelle3[[#This Row],[Position\nG / D / FC / FW]]=\"G\",VLOOKUP($M$5-Tabelle3[[#This Row],[Jahr\nannée]],GOALI,11),VLOOKUP($M$5-Tabelle3[[#This Row],[Jahr\nannée]],SPIELER,11))","v":10},{"$f":"IF(Tabelle3[[#This Row],[Position\nG / D / FC / FW]]=\"G\",VLOOKUP($M$5-Tabelle3[[#This Row],[Jahr\nannée]],FGOALIE,2),VLOOKUP($M$5-Tabelle3[[#This Row],[Jahr\nannée]],FSPIELER,2))","v":10},{"$f":"IF(Tabelle3[[#This Row],[Position\nG / D / FC / FW]]=\"G\",VLOOKUP($M$5-Tabelle3[[#This Row],[Jahr\nannée]],FGOALIE,3),VLOOKUP($M$5-Tabelle3[[#This Row],[Jahr\nannée]],FSPIELER,3))","v":10},{"$f":"IF(Tabelle3[[#This Row],[Position\nG / D / FC / FW]]=\"G\",VLOOKUP($M$5-Tabelle3[[#This Row],[Jahr\nannée]],FGOALIE,4),VLOOKUP($M$5-Tabelle3[[#This Row],[Jahr\nannée]],FSPIELER,4))","v":20},{"$f":"IF(Tabelle3[[#This Row],[Position\nG / D / FC / FW]]=\"G\",VLOOKUP($M$5-Tabelle3[[#This Row],[Jahr\nannée]],FGOALIE,5),VLOOKUP($M$5-Tabelle3[[#This Row],[Jahr\nannée]],FSPIELER,5))","v":15},{"$f":"IF(Tabelle3[[#This Row],[Position\nG / D / FC / FW]]=\"G\",VLOOKUP($M$5-Tabelle3[[#This Row],[Jahr\nannée]],FGOALIE,6),VLOOKUP($M$5-Tabelle3[[#This Row],[Jahr\nannée]],FSPIELER,6))","v":10},{"$f":"IF(Tabelle3[[#This Row],[Position\nG / D / FC / FW]]=\"G\",VLOOKUP($M$5-Tabelle3[[#This Row],[Jahr\nannée]],FGOALIE,9),VLOOKUP($M$5-Tabelle3[[#This Row],[Jahr\nannée]],FSPIELER,9))","v":15},{"$f":"IF(Tabelle3[[#This Row],[Position\nG / D / FC / FW]]=\"G\",VLOOKUP($M$5-Tabelle3[[#This Row],[Jahr\nannée]],FGOALIE,7),VLOOKUP($M$5-Tabelle3[[#This Row],[Jahr\nannée]],FSPIELER,7))","v":10},{"$f":"IF(Tabelle3[[#This Row],[Position\nG / D / FC / FW]]=\"G\",VLOOKUP($M$5-Tabelle3[[#This Row],[Jahr\nannée]],FGOALIE,8),VLOOKUP($M$5-Tabelle3[[#This Row],[Jahr\nannée]],FSPIELER,8))","v":0},{"$f":"IF(Tabelle3[[#This Row],[Position\nG / D / FC / FW]]=\"G\",VLOOKUP($M$5-Tabelle3[[#This Row],[Jahr\nannée]],FGOALIE,10),VLOOKUP($M$5-Tabelle3[[#This Row],[Jahr\nannée]],FSPIELER,10))","v":0},{"$f":"IF(Tabelle3[[#This Row],[Position\nG / D / FC / FW]]=\"G\",VLOOKUP($M$5-Tabelle3[[#This Row],[Jahr\nannée]],FGOALIE,11),VLOOKUP($M$5-Tabelle3[[#This Row],[Jahr\nannée]],FSPIELER,11))","v":10}]
[16,null,null,{"$f":"'16'!$K$4","v":"-"},null,null,null,null,null,{"$f":"IF(ISBLANK('16'!$H$4),\"-\",'16'!$H$4)","v":"-"},{"$f":"IF(ISBLANK('16'!$H$5),\"-\",'16'!$H$5)","v":"-"},{"$f":"IF(ISBLANK('16'!$H$2),\"-\",'16'!$H$2)","v":"-"},null,null,null,null,{"$f":"'16'!$M$19","v":0},{"$f":"'16'!$M$24","v":0},{"$f":"'16'!$M$30","v":0},{"$f":"'16'!$M$36","v":0},{"$f":"'16'!$M$41","v":0},{"$f":"'16'!$M$46","v":0},{"$f":"'16'!$M$13","v":0},{"$f":"'16'!$AA$2","v":0},{"$f":"'16'!$AA$4","v":0},{"$f":"'16'!$AA$3","v":0},{"$f":"IF(Tabelle3[[#This Row],[SKATING]]=0,\"-\",IF(Tabelle3[[#This Row],[Sex]]=\"M\",SUMPRODUCT(Tabelle3[[#This Row],[SKATING]:[VERANLAGUNG\nPREDISPOSITION]],AG26:AP26),SUMPRODUCT(Tabelle3[[#This Row],[SKATING]:[VERANLAGUNG\nPREDISPOSITION]],AQ26:AZ26)))","v":"-"},{"$f":"IFERROR(RANK(Tabelle3[[#This Row],[TOTAL ]],Tabelle3[[TOTAL ]],0),\"-\")","v":"-"},null,null,null,null,{"$f":"IF(Tabelle3[[#This Row],[Position\nG / D / FC / FW]]=\"G\",VLOOKUP($M$5-Tabelle3[[#This Row],[Jahr\nannée]],GOALI,2),VLOOKUP($M$5-Tabelle3[[#This Row],[Jahr\nannée]],SPIELER,2))","v":10},{"$f":"IF(Tabelle3[[#This Row],[Position\nG / D / FC / FW]]=\"G\",VLOOKUP($M$5-Tabelle3[[#This Row],[Jahr\nannée]],GOALI,3),VLOOKUP($M$5-Tabelle3[[#This Row],[Jahr\nannée]],SPIELER,3))","v":10},{"$f":"IF(Tabelle3[[#This Row],[Position\nG / D / FC / FW]]=\"G\",VLOOKUP($M$5-Tabelle3[[#This Row],[Jahr\nannée]],GOALI,4),VLOOKUP($M$5-Tabelle3[[#This Row],[Jahr\nannée]],SPIELER,4))","v":20},{"$f":"IF(Tabelle3[[#This Row],[Position\nG / D / FC / FW]]=\"G\",VLOOKUP($M$5-Tabelle3[[#This Row],[Jahr\nannée]],GOALI,5),VLOOKUP($M$5-Tabelle3[[#This Row],[Jahr\nannée]],SPIELER,5))","v":15},{"$f":"IF(Tabelle3[[#This Row],[Position\nG / D / FC / FW]]=\"G\",VLOOKUP($M$5-Tabelle3[[#This Row],[Jahr\nannée]],GOALI,6),VLOOKUP($M$5-Tabelle3[[#This Row],[Jahr\nannée]],SPIELER,6))","v":10},{"$f":"IF(Tabelle3[[#This Row],[Position\nG / D / FC / FW]]=\"G\",VLOOKUP($M$5-Tabelle3[[#This Row],[Jahr\nannée]],GOALI,9),VLOOKUP($M$5-Tabelle3[[#This Row],[Jahr\nannée]],SPIELER,9))","v":15},{"$f":"IF(Tabelle3[[#This Row],[Position\nG / D / FC / FW]]=\"G\",VLOOKUP($M$5-Tabelle3[[#This Row],[Jahr\nannée]],GOALI,7),VLOOKUP($M$5-Tabelle3[[#This Row],[Jahr\nannée]],SPIELER,7))","v":10},{"$f":"IF(Tabelle3[[#This Row],[Position\nG / D / FC / FW]]=\"G\",VLOOKUP($M$5-Tabelle3[[#This Row],[Jahr\nannée]],GOALI,8),VLOOKUP($M$5-Tabelle3[[#This Row],[Jahr\nannée]],SPIELER,8))","v":0},{"$f":"IF(Tabelle3[[#This Row],[Position\nG / D / FC / FW]]=\"G\",VLOOKUP($M$5-Tabelle3[[#This Row],[Jahr\nannée]],GOALI,10),VLOOKUP($M$5-Tabelle3[[#This Row],[Jahr\nannée]],SPIELER,10))","v":0},{"$f":"IF(Tabelle3[[#This Row],[Position\nG / D / FC / FW]]=\"G\",VLOOKUP($M$5-Tabelle3[[#This Row],[Jahr\nannée]],GOALI,11),VLOOKUP($M$5-Tabelle3[[#This Row],[Jahr\nannée]],SPIELER,11))","v":10},{"$f":"IF(Tabelle3[[#This Row],[Position\nG / D / FC / FW]]=\"G\",VLOOKUP($M$5-Tabelle3[[#This Row],[Jahr\nannée]],FGOALIE,2),VLOOKUP($M$5-Tabelle3[[#This Row],[Jahr\nannée]],FSPIELER,2))","v":10},{"$f":"IF(Tabelle3[[#This Row],[Position\nG / D / FC / FW]]=\"G\",VLOOKUP($M$5-Tabelle3[[#This Row],[Jahr\nannée]],FGOALIE,3),VLOOKUP($M$5-Tabelle3[[#This Row],[Jahr\nannée]],FSPIELER,3))","v":10},{"$f":"IF(Tabelle3[[#This Row],[Position\nG / D / FC / FW]]=\"G\",VLOOKUP($M$5-Tabelle3[[#This Row],[Jahr\nannée]],FGOALIE,4),VLOOKUP($M$5-Tabelle3[[#This Row],[Jahr\nannée]],FSPIELER,4))","v":20},{"$f":"IF(Tabelle3[[#This Row],[Position\nG / D / FC / FW]]=\"G\",VLOOKUP($M$5-Tabelle3[[#This Row],[Jahr\nannée]],FGOALIE,5),VLOOKUP($M$5-Tabelle3[[#This Row],[Jahr\nannée]],FSPIELER,5))","v":15},{"$f":"IF(Tabelle3[[#This Row],[Position\nG / D / FC / FW]]=\"G\",VLOOKUP($M$5-Tabelle3[[#This Row],[Jahr\nannée]],FGOALIE,6),VLOOKUP($M$5-Tabelle3[[#This Row],[Jahr\nannée]],FSPIELER,6))","v":10},{"$f":"IF(Tabelle3[[#This Row],[Position\nG / D / FC / FW]]=\"G\",VLOOKUP($M$5-Tabelle3[[#This Row],[Jahr\nannée]],FGOALIE,9),VLOOKUP($M$5-Tabelle3[[#This Row],[Jahr\nannée]],FSPIELER,9))","v":15},{"$f":"IF(Tabelle3[[#This Row],[Position\nG / D / FC / FW]]=\"G\",VLOOKUP($M$5-Tabelle3[[#This Row],[Jahr\nannée]],FGOALIE,7),VLOOKUP($M$5-Tabelle3[[#This Row],[Jahr\nannée]],FSPIELER,7))","v":10},{"$f":"IF(Tabelle3[[#This Row],[Position\nG / D / FC / FW]]=\"G\",VLOOKUP($M$5-Tabelle3[[#This Row],[Jahr\nannée]],FGOALIE,8),VLOOKUP($M$5-Tabelle3[[#This Row],[Jahr\nannée]],FSPIELER,8))","v":0},{"$f":"IF(Tabelle3[[#This Row],[Position\nG / D / FC / FW]]=\"G\",VLOOKUP($M$5-Tabelle3[[#This Row],[Jahr\nannée]],FGOALIE,10),VLOOKUP($M$5-Tabelle3[[#This Row],[Jahr\nannée]],FSPIELER,10))","v":0},{"$f":"IF(Tabelle3[[#This Row],[Position\nG / D / FC / FW]]=\"G\",VLOOKUP($M$5-Tabelle3[[#This Row],[Jahr\nannée]],FGOALIE,11),VLOOKUP($M$5-Tabelle3[[#This Row],[Jahr\nannée]],FSPIELER,11))","v":10}]
[17,null,null,{"$f":"'17'!$K$4","v":"-"},null,null,null,null,null,{"$f":"IF(ISBLANK('17'!$H$4),\"-\",'17'!$H$4)","v":"-"},{"$f":"IF(ISBLANK('17'!$H$5),\"-\",'17'!$H$5)","v":"-"},{"$f":"IF(ISBLANK('17'!$H$2),\"-\",'17'!$H$2)","v":"-"},null,null,null,null,{"$f":"'17'!$M$19","v":0},{"$f":"'17'!$M$24","v":0},{"$f":"'17'!$M$30","v":0},{"$f":"'17'!$M$36","v":0},{"$f":"'17'!$M$41","v":0},{"$f":"'17'!$M$46","v":0},{"$f":"'17'!$M$13","v":0},{"$f":"'17'!$AA$2","v":0},{"$f":"'17'!$AA$4","v":0},{"$f":"'17'!$AA$3","v":0},{"$f":"IF(Tabelle3[[#This Row],[SKATING]]=0,\"-\",IF(Tabelle3[[#This Row],[Sex]]=\"M\",SUMPRODUCT(Tabelle3[[#This Row],[SKATING]:[VERANLAGUNG\nPREDISPOSITION]],AG27:AP27),SUMPRODUCT(Tabelle3[[#This Row],[SKATING]:[VERANLAGUNG\nPREDISPOSITION]],AQ27:AZ27)))","v":"-"},{"$f":"IFERROR(RANK(Tabelle3[[#This Row],[TOTAL ]],Tabelle3[[TOTAL ]],0),\"-\")","v":"-"},null,null,null,null,{"$f":"IF(Tabelle3[[#This Row],[Position\nG / D / FC / FW]]=\"G\",VLOOKUP($M$5-Tabelle3[[#This Row],[Jahr\nannée]],GOALI,2),VLOOKUP($M$5-Tabelle3[[#This Row],[Jahr\nannée]],SPIELER,2))","v":10},{"$f":"IF(Tabelle3[[#This Row],[Position\nG / D / FC / FW]]=\"G\",VLOOKUP($M$5-Tabelle3[[#This Row],[Jahr\nannée]],GOALI,3),VLOOKUP($M$5-Tabelle3[[#This Row],[Jahr\nannée]],SPIELER,3))","v":10},{"$f":"IF(Tabelle3[[#This Row],[Position\nG / D / FC / FW]]=\"G\",VLOOKUP($M$5-Tabelle3[[#This Row],[Jahr\nannée]],GOALI,4),VLOOKUP($M$5-Tabelle3[[#This Row],[Jahr\nannée]],SPIELER,4))","v":20},{"$f":"IF(Tabelle3[[#This Row],[Position\nG / D / FC / FW]]=\"G\",VLOOKUP($M$5-Tabelle3[[#This Row],[Jahr\nannée]],GOALI,5),VLOOKUP($M$5-Tabelle3[[#This Row],[Jahr\nannée]],SPIELER,5))","v":15},{"$f":"IF(Tabelle3[[#This Row],[Position\nG / D / FC / FW]]=\"G\",VLOOKUP($M$5-Tabelle3[[#This Row],[Jahr\nannée]],GOALI,6),VLOOKUP($M$5-Tabelle3[[#This Row],[Jahr\nannée]],SPIELER,6))","v":10},{"$f":"IF(Tabelle3[[#This Row],[Position\nG / D / FC / FW]]=\"G\",VLOOKUP($M$5-Tabelle3[[#This Row],[Jahr\nannée]],GOALI,9),VLOOKUP($M$5-Tabelle3[[#This Row],[Jahr\nannée]],SPIELER,9))","v":15},{"$f":"IF(Tabelle3[[#This Row],[Position\nG / D / FC / FW]]=\"G\",VLOOKUP($M$5-Tabelle3[[#This Row],[Jahr\nannée]],GOALI,7),VLOOKUP($M$5-Tabelle3[[#This Row],[Jahr\nannée]],SPIELER,7))","v":10},{"$f":"IF(Tabelle3[[#This Row],[Position\nG / D / FC / FW]]=\"G\",VLOOKUP($M$5-Tabelle3[[#This Row],[Jahr\nannée]],GOALI,8),VLOOKUP($M$5-Tabelle3[[#This Row],[Jahr\nannée]],SPIELER,8))","v":0},{"$f":"IF(Tabelle3[[#This Row],[Position\nG / D / FC / FW]]=\"G\",VLOOKUP($M$5-Tabelle3[[#This Row],[Jahr\nannée]],GOALI,10),VLOOKUP($M$5-Tabelle3[[#This Row],[Jahr\nannée]],SPIELER,10))","v":0},{"$f":"IF(Tabelle3[[#This Row],[Position\nG / D / FC / FW]]=\"G\",VLOOKUP($M$5-Tabelle3[[#This Row],[Jahr\nannée]],GOALI,11),VLOOKUP($M$5-Tabelle3[[#This Row],[Jahr\nannée]],SPIELER,11))","v":10},{"$f":"IF(Tabelle3[[#This Row],[Position\nG / D / FC / FW]]=\"G\",VLOOKUP($M$5-Tabelle3[[#This Row],[Jahr\nannée]],FGOALIE,2),VLOOKUP($M$5-Tabelle3[[#This Row],[Jahr\nannée]],FSPIELER,2))","v":10},{"$f":"IF(Tabelle3[[#This Row],[Position\nG / D / FC / FW]]=\"G\",VLOOKUP($M$5-Tabelle3[[#This Row],[Jahr\nannée]],FGOALIE,3),VLOOKUP($M$5-Tabelle3[[#This Row],[Jahr\nannée]],FSPIELER,3))","v":10},{"$f":"IF(Tabelle3[[#This Row],[Position\nG / D / FC / FW]]=\"G\",VLOOKUP($M$5-Tabelle3[[#This Row],[Jahr\nannée]],FGOALIE,4),VLOOKUP($M$5-Tabelle3[[#This Row],[Jahr\nannée]],FSPIELER,4))","v":20},{"$f":"IF(Tabelle3[[#This Row],[Position\nG / D / FC / FW]]=\"G\",VLOOKUP($M$5-Tabelle3[[#This Row],[Jahr\nannée]],FGOALIE,5),VLOOKUP($M$5-Tabelle3[[#This Row],[Jahr\nannée]],FSPIELER,5))","v":15},{"$f":"IF(Tabelle3[[#This Row],[Position\nG / D / FC / FW]]=\"G\",VLOOKUP($M$5-Tabelle3[[#This Row],[Jahr\nannée]],FGOALIE,6),VLOOKUP($M$5-Tabelle3[[#This Row],[Jahr\nannée]],FSPIELER,6))","v":10},{"$f":"IF(Tabelle3[[#This Row],[Position\nG / D / FC / FW]]=\"G\",VLOOKUP($M$5-Tabelle3[[#This Row],[Jahr\nannée]],FGOALIE,9),VLOOKUP($M$5-Tabelle3[[#This Row],[Jahr\nannée]],FSPIELER,9))","v":15},{"$f":"IF(Tabelle3[[#This Row],[Position\nG / D / FC / FW]]=\"G\",VLOOKUP($M$5-Tabelle3[[#This Row],[Jahr\nannée]],FGOALIE,7),VLOOKUP($M$5-Tabelle3[[#This Row],[Jahr\nannée]],FSPIELER,7))","v":10},{"$f":"IF(Tabelle3[[#This Row],[Position\nG / D / FC / FW]]=\"G\",VLOOKUP($M$5-Tabelle3[[#This Row],[Jahr\nannée]],FGOALIE,8),VLOOKUP($M$5-Tabelle3[[#This Row],[Jahr\nannée]],FSPIELER,8))","v":0},{"$f":"IF(Tabelle3[[#This Row],[Position\nG / D / FC / FW]]=\"G\",VLOOKUP($M$5-Tabelle3[[#This Row],[Jahr\nannée]],FGOALIE,10),VLOOKUP($M$5-Tabelle3[[#This Row],[Jahr\nannée]],FSPIELER,10))","v":0},{"$f":"IF(Tabelle3[[#This Row],[Position\nG / D / FC / FW]]=\"G\",VLOOKUP($M$5-Tabelle3[[#This Row],[Jahr\nannée]],FGOALIE,11),VLOOKUP($M$5-Tabelle3[[#This Row],[Jahr\nannée]],FSPIELER,11))","v":10}]
[18,null,null,{"$f":"'18'!$K$4","v":"-"},null,null,null,null,null,{"$f":"IF(ISBLANK('18'!$H$4),\"-\",'18'!$H$4)","v":"-"},{"$f":"IF(ISBLANK('18'!$H$5),\"-\",'18'!$H$5)","v":"-"},{"$f":"IF(ISBLANK('18'!$H$2),\"-\",'18'!$H$2)","v":"-"},null,null,null,null,{"$f":"'18'!$M$19","v":0},{"$f":"'18'!$M$24","v":0},{"$f":"'18'!$M$30","v":0},{"$f":"'18'!$M$36","v":0},{"$f":"'18'!$M$41","v":0},{"$f":"'18'!$M$46","v":0},{"$f":"'18'!$M$13","v":0},{"$f":"'18'!$AA$2","v":0},{"$f":"'18'!$AA$4","v":0},{"$f":"'18'!$AA$3","v":0},{"$f":"IF(Tabelle3[[#This Row],[SKATING]]=0,\"-\",IF(Tabelle3[[#This Row],[Sex]]=\"M\",SUMPRODUCT(Tabelle3[[#This Row],[SKATING]:[VERANLAGUNG\nPREDISPOSITION]],AG28:AP28),SUMPRODUCT(Tabelle3[[#This Row],[SKATING]:[VERANLAGUNG\nPREDISPOSITION]],AQ28:AZ28)))","v":"-"},{"$f":"IFERROR(RANK(Tabelle3[[#This Row],[TOTAL ]],Tabelle3[[TOTAL ]],0),\"-\")","v":"-"},null,null,null,null,{"$f":"IF(Tabelle3[[#This Row],[Position\nG / D / FC / FW]]=\"G\",VLOOKUP($M$5-Tabelle3[[#This Row],[Jahr\nannée]],GOALI,2),VLOOKUP($M$5-Tabelle3[[#This Row],[Jahr\nannée]],SPIELER,2))","v":10},{"$f":"IF(Tabelle3[[#This Row],[Position\nG / D / FC / FW]]=\"G\",VLOOKUP($M$5-Tabelle3[[#This Row],[Jahr\nannée]],GOALI,3),VLOOKUP($M$5-Tabelle3[[#This Row],[Jahr\nannée]],SPIELER,3))","v":10},{"$f":"IF(Tabelle3[[#This Row],[Position\nG / D / FC / FW]]=\"G\",VLOOKUP($M$5-Tabelle3[[#This Row],[Jahr\nannée]],GOALI,4),VLOOKUP($M$5-Tabelle3[[#This Row],[Jahr\nannée]],SPIELER,4))","v":20},{"$f":"IF(Tabelle3[[#This Row],[Position\nG / D / FC / FW]]=\"G\",VLOOKUP($M$5-Tabelle3[[#This Row],[Jahr\nannée]],GOALI,5),VLOOKUP($M$5-Tabelle3[[#This Row],[Jahr\nannée]],SPIELER,5))","v":15},{"$f":"IF(Tabelle3[[#This Row],[Position\nG / D / FC / FW]]=\"G\",VLOOKUP($M$5-Tabelle3[[#This Row],[Jahr\nannée]],GOALI,6),VLOOKUP($M$5-Tabelle3[[#This Row],[Jahr\nannée]],SPIELER,6))","v":10},{"$f":"IF(Tabelle3[[#This Row],[Position\nG / D / FC / FW]]=\"G\",VLOOKUP($M$5-Tabelle3[[#This Row],[Jahr\nannée]],GOALI,9),VLOOKUP($M$5-Tabelle3[[#This Row],[Jahr\nannée]],SPIELER,9))","v":15},{"$f":"IF(Tabelle3[[#This Row],[Position\nG / D / FC / FW]]=\"G\",VLOOKUP($M$5-Tabelle3[[#This Row],[Jahr\nannée]],GOALI,7),VLOOKUP($M$5-Tabelle3[[#This Row],[Jahr\nannée]],SPIELER,7))","v":10},{"$f":"IF(Tabelle3[[#This Row],[Position\nG / D / FC / FW]]=\"G\",VLOOKUP($M$5-Tabelle3[[#This Row],[Jahr\nannée]],GOALI,8),VLOOKUP($M$5-Tabelle3[[#This Row],[Jahr\nannée]],SPIELER,8))","v":0},{"$f":"IF(Tabelle3[[#This Row],[Position\nG / D / FC / FW]]=\"G\",VLOOKUP($M$5-Tabelle3[[#This Row],[Jahr\nannée]],GOALI,10),VLOOKUP($M$5-Tabelle3[[#This Row],[Jahr\nannée]],SPIELER,10))","v":0},{"$f":"IF(Tabelle3[[#This Row],[Position\nG / D / FC / FW]]=\"G\",VLOOKUP($M$5-Tabelle3[[#This Row],[Jahr\nannée]],GOALI,11),VLOOKUP($M$5-Tabelle3[[#This Row],[Jahr\nannée]],SPIELER,11))","v":10},{"$f":"IF(Tabelle3[[#This Row],[Position\nG / D / FC / FW]]=\"G\",VLOOKUP($M$5-Tabelle3[[#This Row],[Jahr\nannée]],FGOALIE,2),VLOOKUP($M$5-Tabelle3[[#This Row],[Jahr\nannée]],FSPIELER,2))","v":10},{"$f":"IF(Tabelle3[[#This Row],[Position\nG / D / FC / FW]]=\"G\",VLOOKUP($M$5-Tabelle3[[#This Row],[Jahr\nannée]],FGOALIE,3),VLOOKUP($M$5-Tabelle3[[#This Row],[Jahr\nannée]],FSPIELER,3))","v":10},{"$f":"IF(Tabelle3[[#This Row],[Position\nG / D / FC / FW]]=\"G\",VLOOKUP($M$5-Tabelle3[[#This Row],[Jahr\nannée]],FGOALIE,4),VLOOKUP($M$5-Tabelle3[[#This Row],[Jahr\nannée]],FSPIELER,4))","v":20},{"$f":"IF(Tabelle3[[#This Row],[Position\nG / D / FC / FW]]=\"G\",VLOOKUP($M$5-Tabelle3[[#This Row],[Jahr\nannée]],FGOALIE,5),VLOOKUP($M$5-Tabelle3[[#This Row],[Jahr\nannée]],FSPIELER,5))","v":15},{"$f":"IF(Tabelle3[[#This Row],[Position\nG / D / FC / FW]]=\"G\",VLOOKUP($M$5-Tabelle3[[#This Row],[Jahr\nannée]],FGOALIE,6),VLOOKUP($M$5-Tabelle3[[#This Row],[Jahr\nannée]],FSPIELER,6))","v":10},{"$f":"IF(Tabelle3[[#This Row],[Position\nG / D / FC / FW]]=\"G\",VLOOKUP($M$5-Tabelle3[[#This Row],[Jahr\nannée]],FGOALIE,9),VLOOKUP($M$5-Tabelle3[[#This Row],[Jahr\nannée]],FSPIELER,9))","v":15},{"$f":"IF(Tabelle3[[#This Row],[Position\nG / D / FC / FW]]=\"G\",VLOOKUP($M$5-Tabelle3[[#This Row],[Jahr\nannée]],FGOALIE,7),VLOOKUP($M$5-Tabelle3[[#This Row],[Jahr\nannée]],FSPIELER,7))","v":10},{"$f":"IF(Tabelle3[[#This Row],[Position\nG / D / FC / FW]]=\"G\",VLOOKUP($M$5-Tabelle3[[#This Row],[Jahr\nannée]],FGOALIE,8),VLOOKUP($M$5-Tabelle3[[#This Row],[Jahr\nannée]],FSPIELER,8))","v":0},{"$f":"IF(Tabelle3[[#This Row],[Position\nG / D / FC / FW]]=\"G\",VLOOKUP($M$5-Tabelle3[[#This Row],[Jahr\nannée]],FGOALIE,10),VLOOKUP($M$5-Tabelle3[[#This Row],[Jahr\nannée]],FSPIELER,10))","v":0},{"$f":"IF(Tabelle3[[#This Row],[Position\nG / D / FC / FW]]=\"G\",VLOOKUP($M$5-Tabelle3[[#This Row],[Jahr\nannée]],FGOALIE,11),VLOOKUP($M$5-Tabelle3[[#This Row],[Jahr\nannée]],FSPIELER,11))","v":10}]
[19,null,null,{"$f":"'19'!$K$4","v":"-"},null,null,null,null,null,{"$f":"IF(ISBLANK('19'!$H$4),\"-\",'19'!$H$4)","v":"-"},{"$f":"IF(ISBLANK('19'!$H$5),\"-\",'19'!$H$5)","v":"-"},{"$f":"IF(ISBLANK('19'!$H$2),\"-\",'19'!$H$2)","v":"-"},null,null,null,null,{"$f":"'19'!$M$19","v":0},{"$f":"'19'!$M$24","v":0},{"$f":"'19'!$M$30","v":0},{"$f":"'19'!$M$36","v":0},{"$f":"'19'!$M$41","v":0},{"$f":"'19'!$M$46","v":0},{"$f":"'19'!$M$13","v":0},{"$f":"'19'!$AA$2","v":0},{"$f":"'19'!$AA$4","v":0},{"$f":"'19'!$AA$3","v":0},{"$f":"IF(Tabelle3[[#This Row],[SKATING]]=0,\"-\",IF(Tabelle3[[#This Row],[Sex]]=\"M\",SUMPRODUCT(Tabelle3[[#This Row],[SKATING]:[VERANLAGUNG\nPREDISPOSITION]],AG29:AP29),SUMPRODUCT(Tabelle3[[#This Row],[SKATING]:[VERANLAGUNG\nPREDISPOSITION]],AQ29:AZ29)))","v":"-"},{"$f":"IFERROR(RANK(Tabelle3[[#This Row],[TOTAL ]],Tabelle3[[TOTAL ]],0),\"-\")","v":"-"},null,null,null,null,{"$f":"IF(Tabelle3[[#This Row],[Position\nG / D / FC / FW]]=\"G\",VLOOKUP($M$5-Tabelle3[[#This Row],[Jahr\nannée]],GOALI,2),VLOOKUP($M$5-Tabelle3[[#This Row],[Jahr\nannée]],SPIELER,2))","v":10},{"$f":"IF(Tabelle3[[#This Row],[Position\nG / D / FC / FW]]=\"G\",VLOOKUP($M$5-Tabelle3[[#This Row],[Jahr\nannée]],GOALI,3),VLOOKUP($M$5-Tabelle3[[#This Row],[Jahr\nannée]],SPIELER,3))","v":10},{"$f":"IF(Tabelle3[[#This Row],[Position\nG / D / FC / FW]]=\"G\",VLOOKUP($M$5-Tabelle3[[#This Row],[Jahr\nannée]],GOALI,4),VLOOKUP($M$5-Tabelle3[[#This Row],[Jahr\nannée]],SPIELER,4))","v":20},{"$f":"IF(Tabelle3[[#This Row],[Position\nG / D / FC / FW]]=\"G\",VLOOKUP($M$5-Tabelle3[[#This Row],[Jahr\nannée]],GOALI,5),VLOOKUP($M$5-Tabelle3[[#This Row],[Jahr\nannée]],SPIELER,5))","v":15},{"$f":"IF(Tabelle3[[#This Row],[Position\nG / D / FC / FW]]=\"G\",VLOOKUP($M$5-Tabelle3[[#This Row],[Jahr\nannée]],GOALI,6),VLOOKUP($M$5-Tabelle3[[#This Row],[Jahr\nannée]],SPIELER,6))","v":10},{"$f":"IF(Tabelle3[[#This Row],[Position\nG / D / FC / FW]]=\"G\",VLOOKUP($M$5-Tabelle3[[#This Row],[Jahr\nannée]],GOALI,9),VLOOKUP($M$5-Tabelle3[[#This Row],[Jahr\nannée]],SPIELER,9))","v":15},{"$f":"IF(Tabelle3[[#This Row],[Position\nG / D / FC / FW]]=\"G\",VLOOKUP($M$5-Tabelle3[[#This Row],[Jahr\nannée]],GOALI,7),VLOOKUP($M$5-Tabelle3[[#This Row],[Jahr\nannée]],SPIELER,7))","v":10},{"$f":"IF(Tabelle3[[#This Row],[Position\nG / D / FC / FW]]=\"G\",VLOOKUP($M$5-Tabelle3[[#This Row],[Jahr\nannée]],GOALI,8),VLOOKUP($M$5-Tabelle3[[#This Row],[Jahr\nannée]],SPIELER,8))","v":0},{"$f":"IF(Tabelle3[[#This Row],[Position\nG / D / FC / FW]]=\"G\",VLOOKUP($M$5-Tabelle3[[#This Row],[Jahr\nannée]],GOALI,10),VLOOKUP($M$5-Tabelle3[[#This Row],[Jahr\nannée]],SPIELER,10))","v":0},{"$f":"IF(Tabelle3[[#This Row],[Position\nG / D / FC / FW]]=\"G\",VLOOKUP($M$5-Tabelle3[[#This Row],[Jahr\nannée]],GOALI,11),VLOOKUP($M$5-Tabelle3[[#This Row],[Jahr\nannée]],SPIELER,11))","v":10},{"$f":"IF(Tabelle3[[#This Row],[Position\nG / D / FC / FW]]=\"G\",VLOOKUP($M$5-Tabelle3[[#This Row],[Jahr\nannée]],FGOALIE,2),VLOOKUP($M$5-Tabelle3[[#This Row],[Jahr\nannée]],FSPIELER,2))","v":10},{"$f":"IF(Tabelle3[[#This Row],[Position\nG / D / FC / FW]]=\"G\",VLOOKUP($M$5-Tabelle3[[#This Row],[Jahr\nannée]],FGOALIE,3),VLOOKUP($M$5-Tabelle3[[#This Row],[Jahr\nannée]],FSPIELER,3))","v":10},{"$f":"IF(Tabelle3[[#This Row],[Position\nG / D / FC / FW]]=\"G\",VLOOKUP($M$5-Tabelle3[[#This Row],[Jahr\nannée]],FGOALIE,4),VLOOKUP($M$5-Tabelle3[[#This Row],[Jahr\nannée]],FSPIELER,4))","v":20},{"$f":"IF(Tabelle3[[#This Row],[Position\nG / D / FC / FW]]=\"G\",VLOOKUP($M$5-Tabelle3[[#This Row],[Jahr\nannée]],FGOALIE,5),VLOOKUP($M$5-Tabelle3[[#This Row],[Jahr\nannée]],FSPIELER,5))","v":15},{"$f":"IF(Tabelle3[[#This Row],[Position\nG / D / FC / FW]]=\"G\",VLOOKUP($M$5-Tabelle3[[#This Row],[Jahr\nannée]],FGOALIE,6),VLOOKUP($M$5-Tabelle3[[#This Row],[Jahr\nannée]],FSPIELER,6))","v":10},{"$f":"IF(Tabelle3[[#This Row],[Position\nG / D / FC / FW]]=\"G\",VLOOKUP($M$5-Tabelle3[[#This Row],[Jahr\nannée]],FGOALIE,9),VLOOKUP($M$5-Tabelle3[[#This Row],[Jahr\nannée]],FSPIELER,9))","v":15},{"$f":"IF(Tabelle3[[#This Row],[Position\nG / D / FC / FW]]=\"G\",VLOOKUP($M$5-Tabelle3[[#This Row],[Jahr\nannée]],FGOALIE,7),VLOOKUP($M$5-Tabelle3[[#This Row],[Jahr\nannée]],FSPIELER,7))","v":10},{"$f":"IF(Tabelle3[[#This Row],[Position\nG / D / FC / FW]]=\"G\",VLOOKUP($M$5-Tabelle3[[#This Row],[Jahr\nannée]],FGOALIE,8),VLOOKUP($M$5-Tabelle3[[#This Row],[Jahr\nannée]],FSPIELER,8))","v":0},{"$f":"IF(Tabelle3[[#This Row],[Position\nG / D / FC / FW]]=\"G\",VLOOKUP($M$5-Tabelle3[[#This Row],[Jahr\nannée]],FGOALIE,10),VLOOKUP($M$5-Tabelle3[[#This Row],[Jahr\nannée]],FSPIELER,10))","v":0},{"$f":"IF(Tabelle3[[#This Row],[Position\nG / D / FC / FW]]=\"G\",VLOOKUP($M$5-Tabelle3[[#This Row],[Jahr\nannée]],FGOALIE,11),VLOOKUP($M$5-Tabelle3[[#This Row],[Jahr\nannée]],FSPIELER,11))","v":10}]
[20,null,null,{"$f":"'20'!$K$4","v":"-"},null,null,null,null,null,{"$f":"IF(ISBLANK('20'!$H$4),\"-\",'20'!$H$4)","v":"-"},{"$f":"IF(ISBLANK('20'!$H$5),\"-\",'20'!$H$5)","v":"-"},{"$f":"IF(ISBLANK('20'!$H$2),\"-\",'20'!$H$2)","v":"-"},null,null,null,null,{"$f":"'20'!$M$19","v":0},{"$f":"'20'!$M$24","v":0},{"$f":"'20'!$M$30","v":0},{"$f":"'20'!$M$36","v":0},{"$f":"'20'!$M$41","v":0},{"$f":"'20'!$M$46","v":0},{"$f":"'20'!$M$13","v":0},{"$f":"'20'!$AA$2","v":0},{"$f":"'20'!$AA$4","v":0},{"$f":"'20'!$AA$3","v":0},{"$f":"IF(Tabelle3[[#This Row],[SKATING]]=0,\"-\",IF(Tabelle3[[#This Row],[Sex]]=\"M\",SUMPRODUCT(Tabelle3[[#This Row],[SKATING]:[VERANLAGUNG\nPREDISPOSITION]],AG30:AP30),SUMPRODUCT(Tabelle3[[#This Row],[SKATING]:[VERANLAGUNG\nPREDISPOSITION]],AQ30:AZ30)))","v":"-"},{"$f":"IFERROR(RANK(Tabelle3[[#This Row],[TOTAL ]],Tabelle3[[TOTAL ]],0),\"-\")","v":"-"},null,null,null,null,{"$f":"IF(Tabelle3[[#This Row],[Position\nG / D / FC / FW]]=\"G\",VLOOKUP($M$5-Tabelle3[[#This Row],[Jahr\nannée]],GOALI,2),VLOOKUP($M$5-Tabelle3[[#This Row],[Jahr\nannée]],SPIELER,2))","v":10},{"$f":"IF(Tabelle3[[#This Row],[Position\nG / D / FC / FW]]=\"G\",VLOOKUP($M$5-Tabelle3[[#This Row],[Jahr\nannée]],GOALI,3),VLOOKUP($M$5-Tabelle3[[#This Row],[Jahr\nannée]],SPIELER,3))","v":10},{"$f":"IF(Tabelle3[[#This Row],[Position\nG / D / FC / FW]]=\"G\",VLOOKUP($M$5-Tabelle3[[#This Row],[Jahr\nannée]],GOALI,4),VLOOKUP($M$5-Tabelle3[[#This Row],[Jahr\nannée]],SPIELER,4))","v":20},{"$f":"IF(Tabelle3[[#This Row],[Position\nG / D / FC / FW]]=\"G\",VLOOKUP($M$5-Tabelle3[[#This Row],[Jahr\nannée]],GOALI,5),VLOOKUP($M$5-Tabelle3[[#This Row],[Jahr\nannée]],SPIELER,5))","v":15},{"$f":"IF(Tabelle3[[#This Row],[Position\nG / D / FC / FW]]=\"G\",VLOOKUP($M$5-Tabelle3[[#This Row],[Jahr\nannée]],GOALI,6),VLOOKUP($M$5-Tabelle3[[#This Row],[Jahr\nannée]],SPIELER,6))","v":10},{"$f":"IF(Tabelle3[[#This Row],[Position\nG / D / FC / FW]]=\"G\",VLOOKUP($M$5-Tabelle3[[#This Row],[Jahr\nannée]],GOALI,9),VLOOKUP($M$5-Tabelle3[[#This Row],[Jahr\nannée]],SPIELER,9))","v":15},{"$f":"IF(Tabelle3[[#This Row],[Position\nG / D / FC / FW]]=\"G\",VLOOKUP($M$5-Tabelle3[[#This Row],[Jahr\nannée]],GOALI,7),VLOOKUP($M$5-Tabelle3[[#This Row],[Jahr\nannée]],SPIELER,7))","v":10},{"$f":"IF(Tabelle3[[#This Row],[Position\nG / D / FC / FW]]=\"G\",VLOOKUP($M$5-Tabelle3[[#This Row],[Jahr\nannée]],GOALI,8),VLOOKUP($M$5-Tabelle3[[#This Row],[Jahr\nannée]],SPIELER,8))","v":0},{"$f":"IF(Tabelle3[[#This Row],[Position\nG / D / FC / FW]]=\"G\",VLOOKUP($M$5-Tabelle3[[#This Row],[Jahr\nannée]],GOALI,10),VLOOKUP($M$5-Tabelle3[[#This Row],[Jahr\nannée]],SPIELER,10))","v":0},{"$f":"IF(Tabelle3[[#This Row],[Position\nG / D / FC / FW]]=\"G\",VLOOKUP($M$5-Tabelle3[[#This Row],[Jahr\nannée]],GOALI,11),VLOOKUP($M$5-Tabelle3[[#This Row],[Jahr\nannée]],SPIELER,11))","v":10},{"$f":"IF(Tabelle3[[#This Row],[Position\nG / D / FC / FW]]=\"G\",VLOOKUP($M$5-Tabelle3[[#This Row],[Jahr\nannée]],FGOALIE,2),VLOOKUP($M$5-Tabelle3[[#This Row],[Jahr\nannée]],FSPIELER,2))","v":10},{"$f":"IF(Tabelle3[[#This Row],[Position\nG / D / FC / FW]]=\"G\",VLOOKUP($M$5-Tabelle3[[#This Row],[Jahr\nannée]],FGOALIE,3),VLOOKUP($M$5-Tabelle3[[#This Row],[Jahr\nannée]],FSPIELER,3))","v":10},{"$f":"IF(Tabelle3[[#This Row],[Position\nG / D / FC / FW]]=\"G\",VLOOKUP($M$5-Tabelle3[[#This Row],[Jahr\nannée]],FGOALIE,4),VLOOKUP($M$5-Tabelle3[[#This Row],[Jahr\nannée]],FSPIELER,4))","v":20},{"$f":"IF(Tabelle3[[#This Row],[Position\nG / D / FC / FW]]=\"G\",VLOOKUP($M$5-Tabelle3[[#This Row],[Jahr\nannée]],FGOALIE,5),VLOOKUP($M$5-Tabelle3[[#This Row],[Jahr\nannée]],FSPIELER,5))","v":15},{"$f":"IF(Tabelle3[[#This Row],[Position\nG / D / FC / FW]]=\"G\",VLOOKUP($M$5-Tabelle3[[#This Row],[Jahr\nannée]],FGOALIE,6),VLOOKUP($M$5-Tabelle3[[#This Row],[Jahr\nannée]],FSPIELER,6))","v":10},{"$f":"IF(Tabelle3[[#This Row],[Position\nG / D / FC / FW]]=\"G\",VLOOKUP($M$5-Tabelle3[[#This Row],[Jahr\nannée]],FGOALIE,9),VLOOKUP($M$5-Tabelle3[[#This Row],[Jahr\nannée]],FSPIELER,9))","v":15},{"$f":"IF(Tabelle3[[#This Row],[Position\nG / D / FC / FW]]=\"G\",VLOOKUP($M$5-Tabelle3[[#This Row],[Jahr\nannée]],FGOALIE,7),VLOOKUP($M$5-Tabelle3[[#This Row],[Jahr\nannée]],FSPIELER,7))","v":10},{"$f":"IF(Tabelle3[[#This Row],[Position\nG / D / FC / FW]]=\"G\",VLOOKUP($M$5-Tabelle3[[#This Row],[Jahr\nannée]],FGOALIE,8),VLOOKUP($M$5-Tabelle3[[#This Row],[Jahr\nannée]],FSPIELER,8))","v":0},{"$f":"IF(Tabelle3[[#This Row],[Position\nG / D / FC / FW]]=\"G\",VLOOKUP($M$5-Tabelle3[[#This Row],[Jahr\nannée]],FGOALIE,10),VLOOKUP($M$5-Tabelle3[[#This Row],[Jahr\nannée]],FSPIELER,10))","v":0},{"$f":"IF(Tabelle3[[#This Row],[Position\nG / D / FC / FW]]=\"G\",VLOOKUP($M$5-Tabelle3[[#This Row],[Jahr\nannée]],FGOALIE,11),VLOOKUP($M$5-Tabelle3[[#This Row],[Jahr\nannée]],FSPIELER,11))","v":10}]
[21,null,null,{"$f":"'21'!$K$4","v":"-"},null,null,null,null,null,{"$f":"IF(ISBLANK('21'!$H$4),\"-\",'21'!$H$4)","v":"-"},{"$f":"IF(ISBLANK('21'!$H$5),\"-\",'21'!$H$5)","v":"-"},{"$f":"IF(ISBLANK('21'!$H$2),\"-\",'21'!$H$2)","v":"-"},null,null,null,null,{"$f":"'21'!$M$19","v":0},{"$f":"'21'!$M$24","v":0},{"$f":"'21'!$M$30","v":0},{"$f":"'21'!$M$36","v":0},{"$f":"'21'!$M$41","v":0},{"$f":"'21'!$M$46","v":0},{"$f":"'21'!$M$13","v":0},{"$f":"'21'!$AA$2","v":0},{"$f":"'21'!$AA$4","v":0},{"$f":"'21'!$AA$3","v":0},{"$f":"IF(Tabelle3[[#This Row],[SKATING]]=0,\"-\",IF(Tabelle3[[#This Row],[Sex]]=\"M\",SUMPRODUCT(Tabelle3[[#This Row],[SKATING]:[VERANLAGUNG\nPREDISPOSITION]],AG31:AP31),SUMPRODUCT(Tabelle3[[#This Row],[SKATING]:[VERANLAGUNG\nPREDISPOSITION]],AQ31:AZ31)))","v":"-"},{"$f":"IFERROR(RANK(Tabelle3[[#This Row],[TOTAL ]],Tabelle3[[TOTAL ]],0),\"-\")","v":"-"},null,null,null,null,{"$f":"IF(Tabelle3[[#This Row],[Position\nG / D / FC / FW]]=\"G\",VLOOKUP($M$5-Tabelle3[[#This Row],[Jahr\nannée]],GOALI,2),VLOOKUP($M$5-Tabelle3[[#This Row],[Jahr\nannée]],SPIELER,2))","v":10},{"$f":"IF(Tabelle3[[#This Row],[Position\nG / D / FC / FW]]=\"G\",VLOOKUP($M$5-Tabelle3[[#This Row],[Jahr\nannée]],GOALI,3),VLOOKUP($M$5-Tabelle3[[#This Row],[Jahr\nannée]],SPIELER,3))","v":10},{"$f":"IF(Tabelle3[[#This Row],[Position\nG / D / FC / FW]]=\"G\",VLOOKUP($M$5-Tabelle3[[#This Row],[Jahr\nannée]],GOALI,4),VLOOKUP($M$5-Tabelle3[[#This Row],[Jahr\nannée]],SPIELER,4))","v":20},{"$f":"IF(Tabelle3[[#This Row],[Position\nG / D / FC / FW]]=\"G\",VLOOKUP($M$5-Tabelle3[[#This Row],[Jahr\nannée]],GOALI,5),VLOOKUP($M$5-Tabelle3[[#This Row],[Jahr\nannée]],SPIELER,5))","v":15},{"$f":"IF(Tabelle3[[#This Row],[Position\nG / D / FC / FW]]=\"G\",VLOOKUP($M$5-Tabelle3[[#This Row],[Jahr\nannée]],GOALI,6),VLOOKUP($M$5-Tabelle3[[#This Row],[Jahr\nannée]],SPIELER,6))","v":10},{"$f":"IF(Tabelle3[[#This Row],[Position\nG / D / FC / FW]]=\"G\",VLOOKUP($M$5-Tabelle3[[#This Row],[Jahr\nannée]],GOALI,9),VLOOKUP($M$5-Tabelle3[[#This Row],[Jahr\nannée]],SPIELER,9))","v":15},{"$f":"IF(Tabelle3[[#This Row],[Position\nG / D / FC / FW]]=\"G\",VLOOKUP($M$5-Tabelle3[[#This Row],[Jahr\nannée]],GOALI,7),VLOOKUP($M$5-Tabelle3[[#This Row],[Jahr\nannée]],SPIELER,7))","v":10},{"$f":"IF(Tabelle3[[#This Row],[Position\nG / D / FC / FW]]=\"G\",VLOOKUP($M$5-Tabelle3[[#This Row],[Jahr\nannée]],GOALI,8),VLOOKUP($M$5-Tabelle3[[#This Row],[Jahr\nannée]],SPIELER,8))","v":0},{"$f":"IF(Tabelle3[[#This Row],[Position\nG / D / FC / FW]]=\"G\",VLOOKUP($M$5-Tabelle3[[#This Row],[Jahr\nannée]],GOALI,10),VLOOKUP($M$5-Tabelle3[[#This Row],[Jahr\nannée]],SPIELER,10))","v":0},{"$f":"IF(Tabelle3[[#This Row],[Position\nG / D / FC / FW]]=\"G\",VLOOKUP($M$5-Tabelle3[[#This Row],[Jahr\nannée]],GOALI,11),VLOOKUP($M$5-Tabelle3[[#This Row],[Jahr\nannée]],SPIELER,11))","v":10},{"$f":"IF(Tabelle3[[#This Row],[Position\nG / D / FC / FW]]=\"G\",VLOOKUP($M$5-Tabelle3[[#This Row],[Jahr\nannée]],FGOALIE,2),VLOOKUP($M$5-Tabelle3[[#This Row],[Jahr\nannée]],FSPIELER,2))","v":10},{"$f":"IF(Tabelle3[[#This Row],[Position\nG / D / FC / FW]]=\"G\",VLOOKUP($M$5-Tabelle3[[#This Row],[Jahr\nannée]],FGOALIE,3),VLOOKUP($M$5-Tabelle3[[#This Row],[Jahr\nannée]],FSPIELER,3))","v":10},{"$f":"IF(Tabelle3[[#This Row],[Position\nG / D / FC / FW]]=\"G\",VLOOKUP($M$5-Tabelle3[[#This Row],[Jahr\nannée]],FGOALIE,4),VLOOKUP($M$5-Tabelle3[[#This Row],[Jahr\nannée]],FSPIELER,4))","v":20},{"$f":"IF(Tabelle3[[#This Row],[Position\nG / D / FC / FW]]=\"G\",VLOOKUP($M$5-Tabelle3[[#This Row],[Jahr\nannée]],FGOALIE,5),VLOOKUP($M$5-Tabelle3[[#This Row],[Jahr\nannée]],FSPIELER,5))","v":15},{"$f":"IF(Tabelle3[[#This Row],[Position\nG / D / FC / FW]]=\"G\",VLOOKUP($M$5-Tabelle3[[#This Row],[Jahr\nannée]],FGOALIE,6),VLOOKUP($M$5-Tabelle3[[#This Row],[Jahr\nannée]],FSPIELER,6))","v":10},{"$f":"IF(Tabelle3[[#This Row],[Position\nG / D / FC / FW]]=\"G\",VLOOKUP($M$5-Tabelle3[[#This Row],[Jahr\nannée]],FGOALIE,9),VLOOKUP($M$5-Tabelle3[[#This Row],[Jahr\nannée]],FSPIELER,9))","v":15},{"$f":"IF(Tabelle3[[#This Row],[Position\nG / D / FC / FW]]=\"G\",VLOOKUP($M$5-Tabelle3[[#This Row],[Jahr\nannée]],FGOALIE,7),VLOOKUP($M$5-Tabelle3[[#This Row],[Jahr\nannée]],FSPIELER,7))","v":10},{"$f":"IF(Tabelle3[[#This Row],[Position\nG / D / FC / FW]]=\"G\",VLOOKUP($M$5-Tabelle3[[#This Row],[Jahr\nannée]],FGOALIE,8),VLOOKUP($M$5-Tabelle3[[#This Row],[Jahr\nannée]],FSPIELER,8))","v":0},{"$f":"IF(Tabelle3[[#This Row],[Position\nG / D / FC / FW]]=\"G\",VLOOKUP($M$5-Tabelle3[[#This Row],[Jahr\nannée]],FGOALIE,10),VLOOKUP($M$5-Tabelle3[[#This Row],[Jahr\nannée]],FSPIELER,10))","v":0},{"$f":"IF(Tabelle3[[#This Row],[Position\nG / D / FC / FW]]=\"G\",VLOOKUP($M$5-Tabelle3[[#This Row],[Jahr\nannée]],FGOALIE,11),VLOOKUP($M$5-Tabelle3[[#This Row],[Jahr\nannée]],FSPIELER,11))","v":10}]
[22,null,null,{"$f":"'22'!$K$4","v":"-"},null,null,null,null,null,{"$f":"IF(ISBLANK('22'!$H$4),\"-\",'22'!$H$4)","v":"-"},{"$f":"IF(ISBLANK('22'!$H$5),\"-\",'22'!$H$5)","v":"-"},{"$f":"IF(ISBLANK('22'!$H$2),\"-\",'22'!$H$2)","v":"-"},null,null,null,null,{"$f":"'22'!$M$19","v":0},{"$f":"'22'!$M$24","v":0},{"$f":"'22'!$M$30","v":0},{"$f":"'22'!$M$36","v":0},{"$f":"'22'!$M$41","v":0},{"$f":"'22'!$M$46","v":0},{"$f":"'22'!$M$13","v":0},{"$f":"'22'!$AA$2","v":0},{"$f":"'22'!$AA$4","v":0},{"$f":"'22'!$AA$3","v":0},{"$f":"IF(Tabelle3[[#This Row],[SKATING]]=0,\"-\",IF(Tabelle3[[#This Row],[Sex]]=\"M\",SUMPRODUCT(Tabelle3[[#This Row],[SKATING]:[VERANLAGUNG\nPREDISPOSITION]],AG32:AP32),SUMPRODUCT(Tabelle3[[#This Row],[SKATING]:[VERANLAGUNG\nPREDISPOSITION]],AQ32:AZ32)))","v":"-"},{"$f":"IFERROR(RANK(Tabelle3[[#This Row],[TOTAL ]],Tabelle3[[TOTAL ]],0),\"-\")","v":"-"},null,null,null,null,{"$f":"IF(Tabelle3[[#This Row],[Position\nG / D / FC / FW]]=\"G\",VLOOKUP($M$5-Tabelle3[[#This Row],[Jahr\nannée]],GOALI,2),VLOOKUP($M$5-Tabelle3[[#This Row],[Jahr\nannée]],SPIELER,2))","v":10},{"$f":"IF(Tabelle3[[#This Row],[Position\nG / D / FC / FW]]=\"G\",VLOOKUP($M$5-Tabelle3[[#This Row],[Jahr\nannée]],GOALI,3),VLOOKUP($M$5-Tabelle3[[#This Row],[Jahr\nannée]],SPIELER,3))","v":10},{"$f":"IF(Tabelle3[[#This Row],[Position\nG / D / FC / FW]]=\"G\",VLOOKUP($M$5-Tabelle3[[#This Row],[Jahr\nannée]],GOALI,4),VLOOKUP($M$5-Tabelle3[[#This Row],[Jahr\nannée]],SPIELER,4))","v":20},{"$f":"IF(Tabelle3[[#This Row],[Position\nG / D / FC / FW]]=\"G\",VLOOKUP($M$5-Tabelle3[[#This Row],[Jahr\nannée]],GOALI,5),VLOOKUP($M$5-Tabelle3[[#This Row],[Jahr\nannée]],SPIELER,5))","v":15},{"$f":"IF(Tabelle3[[#This Row],[Position\nG / D / FC / FW]]=\"G\",VLOOKUP($M$5-Tabelle3[[#This Row],[Jahr\nannée]],GOALI,6),VLOOKUP($M$5-Tabelle3[[#This Row],[Jahr\nannée]],SPIELER,6))","v":10},{"$f":"IF(Tabelle3[[#This Row],[Position\nG / D / FC / FW]]=\"G\",VLOOKUP($M$5-Tabelle3[[#This Row],[Jahr\nannée]],GOALI,9),VLOOKUP($M$5-Tabelle3[[#This Row],[Jahr\nannée]],SPIELER,9))","v":15},{"$f":"IF(Tabelle3[[#This Row],[Position\nG / D / FC / FW]]=\"G\",VLOOKUP($M$5-Tabelle3[[#This Row],[Jahr\nannée]],GOALI,7),VLOOKUP($M$5-Tabelle3[[#This Row],[Jahr\nannée]],SPIELER,7))","v":10},{"$f":"IF(Tabelle3[[#This Row],[Position\nG / D / FC / FW]]=\"G\",VLOOKUP($M$5-Tabelle3[[#This Row],[Jahr\nannée]],GOALI,8),VLOOKUP($M$5-Tabelle3[[#This Row],[Jahr\nannée]],SPIELER,8))","v":0},{"$f":"IF(Tabelle3[[#This Row],[Position\nG / D / FC / FW]]=\"G\",VLOOKUP($M$5-Tabelle3[[#This Row],[Jahr\nannée]],GOALI,10),VLOOKUP($M$5-Tabelle3[[#This Row],[Jahr\nannée]],SPIELER,10))","v":0},{"$f":"IF(Tabelle3[[#This Row],[Position\nG / D / FC / FW]]=\"G\",VLOOKUP($M$5-Tabelle3[[#This Row],[Jahr\nannée]],GOALI,11),VLOOKUP($M$5-Tabelle3[[#This Row],[Jahr\nannée]],SPIELER,11))","v":10},{"$f":"IF(Tabelle3[[#This Row],[Position\nG / D / FC / FW]]=\"G\",VLOOKUP($M$5-Tabelle3[[#This Row],[Jahr\nannée]],FGOALIE,2),VLOOKUP($M$5-Tabelle3[[#This Row],[Jahr\nannée]],FSPIELER,2))","v":10},{"$f":"IF(Tabelle3[[#This Row],[Position\nG / D / FC / FW]]=\"G\",VLOOKUP($M$5-Tabelle3[[#This Row],[Jahr\nannée]],FGOALIE,3),VLOOKUP($M$5-Tabelle3[[#This Row],[Jahr\nannée]],FSPIELER,3))","v":10},{"$f":"IF(Tabelle3[[#This Row],[Position\nG / D / FC / FW]]=\"G\",VLOOKUP($M$5-Tabelle3[[#This Row],[Jahr\nannée]],FGOALIE,4),VLOOKUP($M$5-Tabelle3[[#This Row],[Jahr\nannée]],FSPIELER,4))","v":20},{"$f":"IF(Tabelle3[[#This Row],[Position\nG / D / FC / FW]]=\"G\",VLOOKUP($M$5-Tabelle3[[#This Row],[Jahr\nannée]],FGOALIE,5),VLOOKUP($M$5-Tabelle3[[#This Row],[Jahr\nannée]],FSPIELER,5))","v":15},{"$f":"IF(Tabelle3[[#This Row],[Position\nG / D / FC / FW]]=\"G\",VLOOKUP($M$5-Tabelle3[[#This Row],[Jahr\nannée]],FGOALIE,6),VLOOKUP($M$5-Tabelle3[[#This Row],[Jahr\nannée]],FSPIELER,6))","v":10},{"$f":"IF(Tabelle3[[#This Row],[Position\nG / D / FC / FW]]=\"G\",VLOOKUP($M$5-Tabelle3[[#This Row],[Jahr\nannée]],FGOALIE,9),VLOOKUP($M$5-Tabelle3[[#This Row],[Jahr\nannée]],FSPIELER,9))","v":15},{"$f":"IF(Tabelle3[[#This Row],[Position\nG / D / FC / FW]]=\"G\",VLOOKUP($M$5-Tabelle3[[#This Row],[Jahr\nannée]],FGOALIE,7),VLOOKUP($M$5-Tabelle3[[#This Row],[Jahr\nannée]],FSPIELER,7))","v":10},{"$f":"IF(Tabelle3[[#This Row],[Position\nG / D / FC / FW]]=\"G\",VLOOKUP($M$5-Tabelle3[[#This Row],[Jahr\nannée]],FGOALIE,8),VLOOKUP($M$5-Tabelle3[[#This Row],[Jahr\nannée]],FSPIELER,8))","v":0},{"$f":"IF(Tabelle3[[#This Row],[Position\nG / D / FC / FW]]=\"G\",VLOOKUP($M$5-Tabelle3[[#This Row],[Jahr\nannée]],FGOALIE,10),VLOOKUP($M$5-Tabelle3[[#This Row],[Jahr\nannée]],FSPIELER,10))","v":0},{"$f":"IF(Tabelle3[[#This Row],[Position\nG / D / FC / FW]]=\"G\",VLOOKUP($M$5-Tabelle3[[#This Row],[Jahr\nannée]],FGOALIE,11),VLOOKUP($M$5-Tabelle3[[#This Row],[Jahr\nannée]],FSPIELER,11))","v":10}]
[23,null,null,{"$f":"'23'!$K$4","v":"-"},null,null,null,null,null,{"$f":"IF(ISBLANK('23'!$H$4),\"-\",'23'!$H$4)","v":"-"},{"$f":"IF(ISBLANK('23'!$H$5),\"-\",'23'!$H$5)","v":"-"},{"$f":"IF(ISBLANK('23'!$H$2),\"-\",'23'!$H$2)","v":"-"},null,null,null,null,{"$f":"'23'!$M$19","v":0},{"$f":"'23'!$M$24","v":0},{"$f":"'23'!$M$30","v":0},{"$f":"'23'!$M$36","v":0},{"$f":"'23'!$M$41","v":0},{"$f":"'23'!$M$46","v":0},{"$f":"'23'!$M$13","v":0},{"$f":"'23'!$AA$2","v":0},{"$f":"'23'!$AA$4","v":0},{"$f":"'23'!$AA$3","v":0},{"$f":"IF(Tabelle3[[#This Row],[SKATING]]=0,\"-\",IF(Tabelle3[[#This Row],[Sex]]=\"M\",SUMPRODUCT(Tabelle3[[#This Row],[SKATING]:[VERANLAGUNG\nPREDISPOSITION]],AG33:AP33),SUMPRODUCT(Tabelle3[[#This Row],[SKATING]:[VERANLAGUNG\nPREDISPOSITION]],AQ33:AZ33)))","v":"-"},{"$f":"IFERROR(RANK(Tabelle3[[#This Row],[TOTAL ]],Tabelle3[[TOTAL ]],0),\"-\")","v":"-"},null,null,null,null,{"$f":"IF(Tabelle3[[#This Row],[Position\nG / D / FC / FW]]=\"G\",VLOOKUP($M$5-Tabelle3[[#This Row],[Jahr\nannée]],GOALI,2),VLOOKUP($M$5-Tabelle3[[#This Row],[Jahr\nannée]],SPIELER,2))","v":10},{"$f":"IF(Tabelle3[[#This Row],[Position\nG / D / FC / FW]]=\"G\",VLOOKUP($M$5-Tabelle3[[#This Row],[Jahr\nannée]],GOALI,3),VLOOKUP($M$5-Tabelle3[[#This Row],[Jahr\nannée]],SPIELER,3))","v":10},{"$f":"IF(Tabelle3[[#This Row],[Position\nG / D / FC / FW]]=\"G\",VLOOKUP($M$5-Tabelle3[[#This Row],[Jahr\nannée]],GOALI,4),VLOOKUP($M$5-Tabelle3[[#This Row],[Jahr\nannée]],SPIELER,4))","v":20},{"$f":"IF(Tabelle3[[#This Row],[Position\nG / D / FC / FW]]=\"G\",VLOOKUP($M$5-Tabelle3[[#This Row],[Jahr\nannée]],GOALI,5),VLOOKUP($M$5-Tabelle3[[#This Row],[Jahr\nannée]],SPIELER,5))","v":15},{"$f":"IF(Tabelle3[[#This Row],[Position\nG / D / FC / FW]]=\"G\",VLOOKUP($M$5-Tabelle3[[#This Row],[Jahr\nannée]],GOALI,6),VLOOKUP($M$5-Tabelle3[[#This Row],[Jahr\nannée]],SPIELER,6))","v":10},{"$f":"IF(Tabelle3[[#This Row],[Position\nG / D / FC / FW]]=\"G\",VLOOKUP($M$5-Tabelle3[[#This Row],[Jahr\nannée]],GOALI,9),VLOOKUP($M$5-Tabelle3[[#This Row],[Jahr\nannée]],SPIELER,9))","v":15},{"$f":"IF(Tabelle3[[#This Row],[Position\nG / D / FC / FW]]=\"G\",VLOOKUP($M$5-Tabelle3[[#This Row],[Jahr\nannée]],GOALI,7),VLOOKUP($M$5-Tabelle3[[#This Row],[Jahr\nannée]],SPIELER,7))","v":10},{"$f":"IF(Tabelle3[[#This Row],[Position\nG / D / FC / FW]]=\"G\",VLOOKUP($M$5-Tabelle3[[#This Row],[Jahr\nannée]],GOALI,8),VLOOKUP($M$5-Tabelle3[[#This Row],[Jahr\nannée]],SPIELER,8))","v":0},{"$f":"IF(Tabelle3[[#This Row],[Position\nG / D / FC / FW]]=\"G\",VLOOKUP($M$5-Tabelle3[[#This Row],[Jahr\nannée]],GOALI,10),VLOOKUP($M$5-Tabelle3[[#This Row],[Jahr\nannée]],SPIELER,10))","v":0},{"$f":"IF(Tabelle3[[#This Row],[Position\nG / D / FC / FW]]=\"G\",VLOOKUP($M$5-Tabelle3[[#This Row],[Jahr\nannée]],GOALI,11),VLOOKUP($M$5-Tabelle3[[#This Row],[Jahr\nannée]],SPIELER,11))","v":10},{"$f":"IF(Tabelle3[[#This Row],[Position\nG / D / FC / FW]]=\"G\",VLOOKUP($M$5-Tabelle3[[#This Row],[Jahr\nannée]],FGOALIE,2),VLOOKUP($M$5-Tabelle3[[#This Row],[Jahr\nannée]],FSPIELER,2))","v":10},{"$f":"IF(Tabelle3[[#This Row],[Position\nG / D / FC / FW]]=\"G\",VLOOKUP($M$5-Tabelle3[[#This Row],[Jahr\nannée]],FGOALIE,3),VLOOKUP($M$5-Tabelle3[[#This Row],[Jahr\nannée]],FSPIELER,3))","v":10},{"$f":"IF(Tabelle3[[#This Row],[Position\nG / D / FC / FW]]=\"G\",VLOOKUP($M$5-Tabelle3[[#This Row],[Jahr\nannée]],FGOALIE,4),VLOOKUP($M$5-Tabelle3[[#This Row],[Jahr\nannée]],FSPIELER,4))","v":20},{"$f":"IF(Tabelle3[[#This Row],[Position\nG / D / FC / FW]]=\"G\",VLOOKUP($M$5-Tabelle3[[#This Row],[Jahr\nannée]],FGOALIE,5),VLOOKUP($M$5-Tabelle3[[#This Row],[Jahr\nannée]],FSPIELER,5))","v":15},{"$f":"IF(Tabelle3[[#This Row],[Position\nG / D / FC / FW]]=\"G\",VLOOKUP($M$5-Tabelle3[[#This Row],[Jahr\nannée]],FGOALIE,6),VLOOKUP($M$5-Tabelle3[[#This Row],[Jahr\nannée]],FSPIELER,6))","v":10},{"$f":"IF(Tabelle3[[#This Row],[Position\nG / D / FC / FW]]=\"G\",VLOOKUP($M$5-Tabelle3[[#This Row],[Jahr\nannée]],FGOALIE,9),VLOOKUP($M$5-Tabelle3[[#This Row],[Jahr\nannée]],FSPIELER,9))","v":15},{"$f":"IF(Tabelle3[[#This Row],[Position\nG / D / FC / FW]]=\"G\",VLOOKUP($M$5-Tabelle3[[#This Row],[Jahr\nannée]],FGOALIE,7),VLOOKUP($M$5-Tabelle3[[#This Row],[Jahr\nannée]],FSPIELER,7))","v":10},{"$f":"IF(Tabelle3[[#This Row],[Position\nG / D / FC / FW]]=\"G\",VLOOKUP($M$5-Tabelle3[[#This Row],[Jahr\nannée]],FGOALIE,8),VLOOKUP($M$5-Tabelle3[[#This Row],[Jahr\nannée]],FSPIELER,8))","v":0},{"$f":"IF(Tabelle3[[#This Row],[Position\nG / D / FC / FW]]=\"G\",VLOOKUP($M$5-Tabelle3[[#This Row],[Jahr\nannée]],FGOALIE,10),VLOOKUP($M$5-Tabelle3[[#This Row],[Jahr\nannée]],FSPIELER,10))","v":0},{"$f":"IF(Tabelle3[[#This Row],[Position\nG / D / FC / FW]]=\"G\",VLOOKUP($M$5-Tabelle3[[#This Row],[Jahr\nannée]],FGOALIE,11),VLOOKUP($M$5-Tabelle3[[#This Row],[Jahr\nannée]],FSPIELER,11))","v":10}]
[24,null,null,{"$f":"'24'!$K$4","v":"-"},null,null,null,null,null,{"$f":"IF(ISBLANK('24'!$H$4),\"-\",'24'!$H$4)","v":"-"},{"$f":"IF(ISBLANK('24'!$H$5),\"-\",'24'!$H$5)","v":"-"},{"$f":"IF(ISBLANK('24'!$H$2),\"-\",'24'!$H$2)","v":"-"},null,null,null,null,{"$f":"'24'!$M$19","v":0},{"$f":"'24'!$M$24","v":0},{"$f":"'24'!$M$30","v":0},{"$f":"'24'!$M$36","v":0},{"$f":"'24'!$M$41","v":0},{"$f":"'24'!$M$46","v":0},{"$f":"'24'!$M$13","v":0},{"$f":"'24'!$AA$2","v":0},{"$f":"'24'!$AA$4","v":0},{"$f":"'24'!$AA$3","v":0},{"$f":"IF(Tabelle3[[#This Row],[SKATING]]=0,\"-\",IF(Tabelle3[[#This Row],[Sex]]=\"M\",SUMPRODUCT(Tabelle3[[#This Row],[SKATING]:[VERANLAGUNG\nPREDISPOSITION]],AG34:AP34),SUMPRODUCT(Tabelle3[[#This Row],[SKATING]:[VERANLAGUNG\nPREDISPOSITION]],AQ34:AZ34)))","v":"-"},{"$f":"IFERROR(RANK(Tabelle3[[#This Row],[TOTAL ]],Tabelle3[[TOTAL ]],0),\"-\")","v":"-"},null,null,null,null,{"$f":"IF(Tabelle3[[#This Row],[Position\nG / D / FC / FW]]=\"G\",VLOOKUP($M$5-Tabelle3[[#This Row],[Jahr\nannée]],GOALI,2),VLOOKUP($M$5-Tabelle3[[#This Row],[Jahr\nannée]],SPIELER,2))","v":10},{"$f":"IF(Tabelle3[[#This Row],[Position\nG / D / FC / FW]]=\"G\",VLOOKUP($M$5-Tabelle3[[#This Row],[Jahr\nannée]],GOALI,3),VLOOKUP($M$5-Tabelle3[[#This Row],[Jahr\nannée]],SPIELER,3))","v":10},{"$f":"IF(Tabelle3[[#This Row],[Position\nG / D / FC / FW]]=\"G\",VLOOKUP($M$5-Tabelle3[[#This Row],[Jahr\nannée]],GOALI,4),VLOOKUP($M$5-Tabelle3[[#This Row],[Jahr\nannée]],SPIELER,4))","v":20},{"$f":"IF(Tabelle3[[#This Row],[Position\nG / D / FC / FW]]=\"G\",VLOOKUP($M$5-Tabelle3[[#This Row],[Jahr\nannée]],GOALI,5),VLOOKUP($M$5-Tabelle3[[#This Row],[Jahr\nannée]],SPIELER,5))","v":15},{"$f":"IF(Tabelle3[[#This Row],[Position\nG / D / FC / FW]]=\"G\",VLOOKUP($M$5-Tabelle3[[#This Row],[Jahr\nannée]],GOALI,6),VLOOKUP($M$5-Tabelle3[[#This Row],[Jahr\nannée]],SPIELER,6))","v":10},{"$f":"IF(Tabelle3[[#This Row],[Position\nG / D / FC / FW]]=\"G\",VLOOKUP($M$5-Tabelle3[[#This Row],[Jahr\nannée]],GOALI,9),VLOOKUP($M$5-Tabelle3[[#This Row],[Jahr\nannée]],SPIELER,9))","v":15},{"$f":"IF(Tabelle3[[#This Row],[Position\nG / D / FC / FW]]=\"G\",VLOOKUP($M$5-Tabelle3[[#This Row],[Jahr\nannée]],GOALI,7),VLOOKUP($M$5-Tabelle3[[#This Row],[Jahr\nannée]],SPIELER,7))","v":10},{"$f":"IF(Tabelle3[[#This Row],[Position\nG / D / FC / FW]]=\"G\",VLOOKUP($M$5-Tabelle3[[#This Row],[Jahr\nannée]],GOALI,8),VLOOKUP($M$5-Tabelle3[[#This Row],[Jahr\nannée]],SPIELER,8))","v":0},{"$f":"IF(Tabelle3[[#This Row],[Position\nG / D / FC / FW]]=\"G\",VLOOKUP($M$5-Tabelle3[[#This Row],[Jahr\nannée]],GOALI,10),VLOOKUP($M$5-Tabelle3[[#This Row],[Jahr\nannée]],SPIELER,10))","v":0},{"$f":"IF(Tabelle3[[#This Row],[Position\nG / D / FC / FW]]=\"G\",VLOOKUP($M$5-Tabelle3[[#This Row],[Jahr\nannée]],GOALI,11),VLOOKUP($M$5-Tabelle3[[#This Row],[Jahr\nannée]],SPIELER,11))","v":10},{"$f":"IF(Tabelle3[[#This Row],[Position\nG / D / FC / FW]]=\"G\",VLOOKUP($M$5-Tabelle3[[#This Row],[Jahr\nannée]],FGOALIE,2),VLOOKUP($M$5-Tabelle3[[#This Row],[Jahr\nannée]],FSPIELER,2))","v":10},{"$f":"IF(Tabelle3[[#This Row],[Position\nG / D / FC / FW]]=\"G\",VLOOKUP($M$5-Tabelle3[[#This Row],[Jahr\nannée]],FGOALIE,3),VLOOKUP($M$5-Tabelle3[[#This Row],[Jahr\nannée]],FSPIELER,3))","v":10},{"$f":"IF(Tabelle3[[#This Row],[Position\nG / D / FC / FW]]=\"G\",VLOOKUP($M$5-Tabelle3[[#This Row],[Jahr\nannée]],FGOALIE,4),VLOOKUP($M$5-Tabelle3[[#This Row],[Jahr\nannée]],FSPIELER,4))","v":20},{"$f":"IF(Tabelle3[[#This Row],[Position\nG / D / FC / FW]]=\"G\",VLOOKUP($M$5-Tabelle3[[#This Row],[Jahr\nannée]],FGOALIE,5),VLOOKUP($M$5-Tabelle3[[#This Row],[Jahr\nannée]],FSPIELER,5))","v":15},{"$f":"IF(Tabelle3[[#This Row],[Position\nG / D / FC / FW]]=\"G\",VLOOKUP($M$5-Tabelle3[[#This Row],[Jahr\nannée]],FGOALIE,6),VLOOKUP($M$5-Tabelle3[[#This Row],[Jahr\nannée]],FSPIELER,6))","v":10},{"$f":"IF(Tabelle3[[#This Row],[Position\nG / D / FC / FW]]=\"G\",VLOOKUP($M$5-Tabelle3[[#This Row],[Jahr\nannée]],FGOALIE,9),VLOOKUP($M$5-Tabelle3[[#This Row],[Jahr\nannée]],FSPIELER,9))","v":15},{"$f":"IF(Tabelle3[[#This Row],[Position\nG / D / FC / FW]]=\"G\",VLOOKUP($M$5-Tabelle3[[#This Row],[Jahr\nannée]],FGOALIE,7),VLOOKUP($M$5-Tabelle3[[#This Row],[Jahr\nannée]],FSPIELER,7))","v":10},{"$f":"IF(Tabelle3[[#This Row],[Position\nG / D / FC / FW]]=\"G\",VLOOKUP($M$5-Tabelle3[[#This Row],[Jahr\nannée]],FGOALIE,8),VLOOKUP($M$5-Tabelle3[[#This Row],[Jahr\nannée]],FSPIELER,8))","v":0},{"$f":"IF(Tabelle3[[#This Row],[Position\nG / D / FC / FW]]=\"G\",VLOOKUP($M$5-Tabelle3[[#This Row],[Jahr\nannée]],FGOALIE,10),VLOOKUP($M$5-Tabelle3[[#This Row],[Jahr\nannée]],FSPIELER,10))","v":0},{"$f":"IF(Tabelle3[[#This Row],[Position\nG / D / FC / FW]]=\"G\",VLOOKUP($M$5-Tabelle3[[#This Row],[Jahr\nannée]],FGOALIE,11),VLOOKUP($M$5-Tabelle3[[#This Row],[Jahr\nannée]],FSPIELER,11))","v":10}]
[25,null,null,{"$f":"'25'!$K$4","v":"-"},null,null,null,null,null,{"$f":"IF(ISBLANK('25'!$H$4),\"-\",'25'!$H$4)","v":"-"},{"$f":"IF(ISBLANK('25'!$H$5),\"-\",'25'!$H$5)","v":"-"},{"$f":"IF(ISBLANK('25'!$H$2),\"-\",'25'!$H$2)","v":"-"},null,null,null,null,{"$f":"'25'!$M$19","v":0},{"$f":"'25'!$M$24","v":0},{"$f":"'25'!$M$30","v":0},{"$f":"'25'!$M$36","v":0},{"$f":"'25'!$M$41","v":0},{"$f":"'25'!$M$46","v":0},{"$f":"'25'!$M$13","v":0},{"$f":"'25'!$AA$2","v":0},{"$f":"'25'!$AA$4","v":0},{"$f":"'25'!$AA$3","v":0},{"$f":"IF(Tabelle3[[#This Row],[SKATING]]=0,\"-\",IF(Tabelle3[[#This Row],[Sex]]=\"M\",SUMPRODUCT(Tabelle3[[#This Row],[SKATING]:[VERANLAGUNG\nPREDISPOSITION]],AG35:AP35),SUMPRODUCT(Tabelle3[[#This Row],[SKATING]:[VERANLAGUNG\nPREDISPOSITION]],AQ35:AZ35)))","v":"-"},{"$f":"IFERROR(RANK(Tabelle3[[#This Row],[TOTAL ]],Tabelle3[[TOTAL ]],0),\"-\")","v":"-"},null,null,null,null,{"$f":"IF(Tabelle3[[#This Row],[Position\nG / D / FC / FW]]=\"G\",VLOOKUP($M$5-Tabelle3[[#This Row],[Jahr\nannée]],GOALI,2),VLOOKUP($M$5-Tabelle3[[#This Row],[Jahr\nannée]],SPIELER,2))","v":10},{"$f":"IF(Tabelle3[[#This Row],[Position\nG / D / FC / FW]]=\"G\",VLOOKUP($M$5-Tabelle3[[#This Row],[Jahr\nannée]],GOALI,3),VLOOKUP($M$5-Tabelle3[[#This Row],[Jahr\nannée]],SPIELER,3))","v":10},{"$f":"IF(Tabelle3[[#This Row],[Position\nG / D / FC / FW]]=\"G\",VLOOKUP($M$5-Tabelle3[[#This Row],[Jahr\nannée]],GOALI,4),VLOOKUP($M$5-Tabelle3[[#This Row],[Jahr\nannée]],SPIELER,4))","v":20},{"$f":"IF(Tabelle3[[#This Row],[Position\nG / D / FC / FW]]=\"G\",VLOOKUP($M$5-Tabelle3[[#This Row],[Jahr\nannée]],GOALI,5),VLOOKUP($M$5-Tabelle3[[#This Row],[Jahr\nannée]],SPIELER,5))","v":15},{"$f":"IF(Tabelle3[[#This Row],[Position\nG / D / FC / FW]]=\"G\",VLOOKUP($M$5-Tabelle3[[#This Row],[Jahr\nannée]],GOALI,6),VLOOKUP($M$5-Tabelle3[[#This Row],[Jahr\nannée]],SPIELER,6))","v":10},{"$f":"IF(Tabelle3[[#This Row],[Position\nG / D / FC / FW]]=\"G\",VLOOKUP($M$5-Tabelle3[[#This Row],[Jahr\nannée]],GOALI,9),VLOOKUP($M$5-Tabelle3[[#This Row],[Jahr\nannée]],SPIELER,9))","v":15},{"$f":"IF(Tabelle3[[#This Row],[Position\nG / D / FC / FW]]=\"G\",VLOOKUP($M$5-Tabelle3[[#This Row],[Jahr\nannée]],GOALI,7),VLOOKUP($M$5-Tabelle3[[#This Row],[Jahr\nannée]],SPIELER,7))","v":10},{"$f":"IF(Tabelle3[[#This Row],[Position\nG / D / FC / FW]]=\"G\",VLOOKUP($M$5-Tabelle3[[#This Row],[Jahr\nannée]],GOALI,8),VLOOKUP($M$5-Tabelle3[[#This Row],[Jahr\nannée]],SPIELER,8))","v":0},{"$f":"IF(Tabelle3[[#This Row],[Position\nG / D / FC / FW]]=\"G\",VLOOKUP($M$5-Tabelle3[[#This Row],[Jahr\nannée]],GOALI,10),VLOOKUP($M$5-Tabelle3[[#This Row],[Jahr\nannée]],SPIELER,10))","v":0},{"$f":"IF(Tabelle3[[#This Row],[Position\nG / D / FC / FW]]=\"G\",VLOOKUP($M$5-Tabelle3[[#This Row],[Jahr\nannée]],GOALI,11),VLOOKUP($M$5-Tabelle3[[#This Row],[Jahr\nannée]],SPIELER,11))","v":10},{"$f":"IF(Tabelle3[[#This Row],[Position\nG / D / FC / FW]]=\"G\",VLOOKUP($M$5-Tabelle3[[#This Row],[Jahr\nannée]],FGOALIE,2),VLOOKUP($M$5-Tabelle3[[#This Row],[Jahr\nannée]],FSPIELER,2))","v":10},{"$f":"IF(Tabelle3[[#This Row],[Position\nG / D / FC / FW]]=\"G\",VLOOKUP($M$5-Tabelle3[[#This Row],[Jahr\nannée]],FGOALIE,3),VLOOKUP($M$5-Tabelle3[[#This Row],[Jahr\nannée]],FSPIELER,3))","v":10},{"$f":"IF(Tabelle3[[#This Row],[Position\nG / D / FC / FW]]=\"G\",VLOOKUP($M$5-Tabelle3[[#This Row],[Jahr\nannée]],FGOALIE,4),VLOOKUP($M$5-Tabelle3[[#This Row],[Jahr\nannée]],FSPIELER,4))","v":20},{"$f":"IF(Tabelle3[[#This Row],[Position\nG / D / FC / FW]]=\"G\",VLOOKUP($M$5-Tabelle3[[#This Row],[Jahr\nannée]],FGOALIE,5),VLOOKUP($M$5-Tabelle3[[#This Row],[Jahr\nannée]],FSPIELER,5))","v":15},{"$f":"IF(Tabelle3[[#This Row],[Position\nG / D / FC / FW]]=\"G\",VLOOKUP($M$5-Tabelle3[[#This Row],[Jahr\nannée]],FGOALIE,6),VLOOKUP($M$5-Tabelle3[[#This Row],[Jahr\nannée]],FSPIELER,6))","v":10},{"$f":"IF(Tabelle3[[#This Row],[Position\nG / D / FC / FW]]=\"G\",VLOOKUP($M$5-Tabelle3[[#This Row],[Jahr\nannée]],FGOALIE,9),VLOOKUP($M$5-Tabelle3[[#This Row],[Jahr\nannée]],FSPIELER,9))","v":15},{"$f":"IF(Tabelle3[[#This Row],[Position\nG / D / FC / FW]]=\"G\",VLOOKUP($M$5-Tabelle3[[#This Row],[Jahr\nannée]],FGOALIE,7),VLOOKUP($M$5-Tabelle3[[#This Row],[Jahr\nannée]],FSPIELER,7))","v":10},{"$f":"IF(Tabelle3[[#This Row],[Position\nG / D / FC / FW]]=\"G\",VLOOKUP($M$5-Tabelle3[[#This Row],[Jahr\nannée]],FGOALIE,8),VLOOKUP($M$5-Tabelle3[[#This Row],[Jahr\nannée]],FSPIELER,8))","v":0},{"$f":"IF(Tabelle3[[#This Row],[Position\nG / D / FC / FW]]=\"G\",VLOOKUP($M$5-Tabelle3[[#This Row],[Jahr\nannée]],FGOALIE,10),VLOOKUP($M$5-Tabelle3[[#This Row],[Jahr\nannée]],FSPIELER,10))","v":0},{"$f":"IF(Tabelle3[[#This Row],[Position\nG / D / FC / FW]]=\"G\",VLOOKUP($M$5-Tabelle3[[#This Row],[Jahr\nannée]],FGOALIE,11),VLOOKUP($M$5-Tabelle3[[#This Row],[Jahr\nannée]],FSPIELER,11))","v":10}]
[26,null,null,{"$f":"'26'!$K$4","v":"-"},null,null,null,null,null,{"$f":"IF(ISBLANK('26'!$H$4),\"-\",'26'!$H$4)","v":"-"},{"$f":"IF(ISBLANK('26'!$H$5),\"-\",'26'!$H$5)","v":"-"},{"$f":"IF(ISBLANK('26'!$H$2),\"-\",'26'!$H$2)","v":"-"},null,null,null,null,{"$f":"'26'!$M$19","v":0},{"$f":"'26'!$M$24","v":0},{"$f":"'26'!$M$30","v":0},{"$f":"'26'!$M$36","v":0},{"$f":"'26'!$M$41","v":0},{"$f":"'26'!$M$46","v":0},{"$f":"'26'!$M$13","v":0},{"$f":"'26'!$AA$2","v":0},{"$f":"'26'!$AA$4","v":0},{"$f":"'26'!$AA$3","v":0},{"$f":"IF(Tabelle3[[#This Row],[SKATING]]=0,\"-\",IF(Tabelle3[[#This Row],[Sex]]=\"M\",SUMPRODUCT(Tabelle3[[#This Row],[SKATING]:[VERANLAGUNG\nPREDISPOSITION]],AG36:AP36),SUMPRODUCT(Tabelle3[[#This Row],[SKATING]:[VERANLAGUNG\nPREDISPOSITION]],AQ36:AZ36)))","v":"-"},{"$f":"IFERROR(RANK(Tabelle3[[#This Row],[TOTAL ]],Tabelle3[[TOTAL ]],0),\"-\")","v":"-"},null,null,null,null,{"$f":"IF(Tabelle3[[#This Row],[Position\nG / D / FC / FW]]=\"G\",VLOOKUP($M$5-Tabelle3[[#This Row],[Jahr\nannée]],GOALI,2),VLOOKUP($M$5-Tabelle3[[#This Row],[Jahr\nannée]],SPIELER,2))","v":10},{"$f":"IF(Tabelle3[[#This Row],[Position\nG / D / FC / FW]]=\"G\",VLOOKUP($M$5-Tabelle3[[#This Row],[Jahr\nannée]],GOALI,3),VLOOKUP($M$5-Tabelle3[[#This Row],[Jahr\nannée]],SPIELER,3))","v":10},{"$f":"IF(Tabelle3[[#This Row],[Position\nG / D / FC / FW]]=\"G\",VLOOKUP($M$5-Tabelle3[[#This Row],[Jahr\nannée]],GOALI,4),VLOOKUP($M$5-Tabelle3[[#This Row],[Jahr\nannée]],SPIELER,4))","v":20},{"$f":"IF(Tabelle3[[#This Row],[Position\nG / D / FC / FW]]=\"G\",VLOOKUP($M$5-Tabelle3[[#This Row],[Jahr\nannée]],GOALI,5),VLOOKUP($M$5-Tabelle3[[#This Row],[Jahr\nannée]],SPIELER,5))","v":15},{"$f":"IF(Tabelle3[[#This Row],[Position\nG / D / FC / FW]]=\"G\",VLOOKUP($M$5-Tabelle3[[#This Row],[Jahr\nannée]],GOALI,6),VLOOKUP($M$5-Tabelle3[[#This Row],[Jahr\nannée]],SPIELER,6))","v":10},{"$f":"IF(Tabelle3[[#This Row],[Position\nG / D / FC / FW]]=\"G\",VLOOKUP($M$5-Tabelle3[[#This Row],[Jahr\nannée]],GOALI,9),VLOOKUP($M$5-Tabelle3[[#This Row],[Jahr\nannée]],SPIELER,9))","v":15},{"$f":"IF(Tabelle3[[#This Row],[Position\nG / D / FC / FW]]=\"G\",VLOOKUP($M$5-Tabelle3[[#This Row],[Jahr\nannée]],GOALI,7),VLOOKUP($M$5-Tabelle3[[#This Row],[Jahr\nannée]],SPIELER,7))","v":10},{"$f":"IF(Tabelle3[[#This Row],[Position\nG / D / FC / FW]]=\"G\",VLOOKUP($M$5-Tabelle3[[#This Row],[Jahr\nannée]],GOALI,8),VLOOKUP($M$5-Tabelle3[[#This Row],[Jahr\nannée]],SPIELER,8))","v":0},{"$f":"IF(Tabelle3[[#This Row],[Position\nG / D / FC / FW]]=\"G\",VLOOKUP($M$5-Tabelle3[[#This Row],[Jahr\nannée]],GOALI,10),VLOOKUP($M$5-Tabelle3[[#This Row],[Jahr\nannée]],SPIELER,10))","v":0},{"$f":"IF(Tabelle3[[#This Row],[Position\nG / D / FC / FW]]=\"G\",VLOOKUP($M$5-Tabelle3[[#This Row],[Jahr\nannée]],GOALI,11),VLOOKUP($M$5-Tabelle3[[#This Row],[Jahr\nannée]],SPIELER,11))","v":10},{"$f":"IF(Tabelle3[[#This Row],[Position\nG / D / FC / FW]]=\"G\",VLOOKUP($M$5-Tabelle3[[#This Row],[Jahr\nannée]],FGOALIE,2),VLOOKUP($M$5-Tabelle3[[#This Row],[Jahr\nannée]],FSPIELER,2))","v":10},{"$f":"IF(Tabelle3[[#This Row],[Position\nG / D / FC / FW]]=\"G\",VLOOKUP($M$5-Tabelle3[[#This Row],[Jahr\nannée]],FGOALIE,3),VLOOKUP($M$5-Tabelle3[[#This Row],[Jahr\nannée]],FSPIELER,3))","v":10},{"$f":"IF(Tabelle3[[#This Row],[Position\nG / D / FC / FW]]=\"G\",VLOOKUP($M$5-Tabelle3[[#This Row],[Jahr\nannée]],FGOALIE,4),VLOOKUP($M$5-Tabelle3[[#This Row],[Jahr\nannée]],FSPIELER,4))","v":20},{"$f":"IF(Tabelle3[[#This Row],[Position\nG / D / FC / FW]]=\"G\",VLOOKUP($M$5-Tabelle3[[#This Row],[Jahr\nannée]],FGOALIE,5),VLOOKUP($M$5-Tabelle3[[#This Row],[Jahr\nannée]],FSPIELER,5))","v":15},{"$f":"IF(Tabelle3[[#This Row],[Position\nG / D / FC / FW]]=\"G\",VLOOKUP($M$5-Tabelle3[[#This Row],[Jahr\nannée]],FGOALIE,6),VLOOKUP($M$5-Tabelle3[[#This Row],[Jahr\nannée]],FSPIELER,6))","v":10},{"$f":"IF(Tabelle3[[#This Row],[Position\nG / D / FC / FW]]=\"G\",VLOOKUP($M$5-Tabelle3[[#This Row],[Jahr\nannée]],FGOALIE,9),VLOOKUP($M$5-Tabelle3[[#This Row],[Jahr\nannée]],FSPIELER,9))","v":15},{"$f":"IF(Tabelle3[[#This Row],[Position\nG / D / FC / FW]]=\"G\",VLOOKUP($M$5-Tabelle3[[#This Row],[Jahr\nannée]],FGOALIE,7),VLOOKUP($M$5-Tabelle3[[#This Row],[Jahr\nannée]],FSPIELER,7))","v":10},{"$f":"IF(Tabelle3[[#This Row],[Position\nG / D / FC / FW]]=\"G\",VLOOKUP($M$5-Tabelle3[[#This Row],[Jahr\nannée]],FGOALIE,8),VLOOKUP($M$5-Tabelle3[[#This Row],[Jahr\nannée]],FSPIELER,8))","v":0},{"$f":"IF(Tabelle3[[#This Row],[Position\nG / D / FC / FW]]=\"G\",VLOOKUP($M$5-Tabelle3[[#This Row],[Jahr\nannée]],FGOALIE,10),VLOOKUP($M$5-Tabelle3[[#This Row],[Jahr\nannée]],FSPIELER,10))","v":0},{"$f":"IF(Tabelle3[[#This Row],[Position\nG / D / FC / FW]]=\"G\",VLOOKUP($M$5-Tabelle3[[#This Row],[Jahr\nannée]],FGOALIE,11),VLOOKUP($M$5-Tabelle3[[#This Row],[Jahr\nannée]],FSPIELER,11))","v":10}]
[27,null,null,{"$f":"'27'!$K$4","v":"-"},null,null,null,null,null,{"$f":"IF(ISBLANK('27'!$H$4),\"-\",'27'!$H$4)","v":"-"},{"$f":"IF(ISBLANK('27'!$H$5),\"-\",'27'!$H$5)","v":"-"},{"$f":"IF(ISBLANK('27'!$H$2),\"-\",'27'!$H$2)","v":"-"},null,null,null,null,{"$f":"'27'!$M$19","v":0},{"$f":"'27'!$M$24","v":0},{"$f":"'27'!$M$30","v":0},{"$f":"'27'!$M$36","v":0},{"$f":"'27'!$M$41","v":0},{"$f":"'27'!$M$46","v":0},{"$f":"'27'!$M$13","v":0},{"$f":"'27'!$AA$2","v":0},{"$f":"'27'!$AA$4","v":0},{"$f":"'27'!$AA$3","v":0},{"$f":"IF(Tabelle3[[#This Row],[SKATING]]=0,\"-\",IF(Tabelle3[[#This Row],[Sex]]=\"M\",SUMPRODUCT(Tabelle3[[#This Row],[SKATING]:[VERANLAGUNG\nPREDISPOSITION]],AG37:AP37),SUMPRODUCT(Tabelle3[[#This Row],[SKATING]:[VERANLAGUNG\nPREDISPOSITION]],AQ37:AZ37)))","v":"-"},{"$f":"IFERROR(RANK(Tabelle3[[#This Row],[TOTAL ]],Tabelle3[[TOTAL ]],0),\"-\")","v":"-"},null,null,null,null,{"$f":"IF(Tabelle3[[#This Row],[Position\nG / D / FC / FW]]=\"G\",VLOOKUP($M$5-Tabelle3[[#This Row],[Jahr\nannée]],GOALI,2),VLOOKUP($M$5-Tabelle3[[#This Row],[Jahr\nannée]],SPIELER,2))","v":10},{"$f":"IF(Tabelle3[[#This Row],[Position\nG / D / FC / FW]]=\"G\",VLOOKUP($M$5-Tabelle3[[#This Row],[Jahr\nannée]],GOALI,3),VLOOKUP($M$5-Tabelle3[[#This Row],[Jahr\nannée]],SPIELER,3))","v":10},{"$f":"IF(Tabelle3[[#This Row],[Position\nG / D / FC / FW]]=\"G\",VLOOKUP($M$5-Tabelle3[[#This Row],[Jahr\nannée]],GOALI,4),VLOOKUP($M$5-Tabelle3[[#This Row],[Jahr\nannée]],SPIELER,4))","v":20},{"$f":"IF(Tabelle3[[#This Row],[Position\nG / D / FC / FW]]=\"G\",VLOOKUP($M$5-Tabelle3[[#This Row],[Jahr\nannée]],GOALI,5),VLOOKUP($M$5-Tabelle3[[#This Row],[Jahr\nannée]],SPIELER,5))","v":15},{"$f":"IF(Tabelle3[[#This Row],[Position\nG / D / FC / FW]]=\"G\",VLOOKUP($M$5-Tabelle3[[#This Row],[Jahr\nannée]],GOALI,6),VLOOKUP($M$5-Tabelle3[[#This Row],[Jahr\nannée]],SPIELER,6))","v":10},{"$f":"IF(Tabelle3[[#This Row],[Position\nG / D / FC / FW]]=\"G\",VLOOKUP($M$5-Tabelle3[[#This Row],[Jahr\nannée]],GOALI,9),VLOOKUP($M$5-Tabelle3[[#This Row],[Jahr\nannée]],SPIELER,9))","v":15},{"$f":"IF(Tabelle3[[#This Row],[Position\nG / D / FC / FW]]=\"G\",VLOOKUP($M$5-Tabelle3[[#This Row],[Jahr\nannée]],GOALI,7),VLOOKUP($M$5-Tabelle3[[#This Row],[Jahr\nannée]],SPIELER,7))","v":10},{"$f":"IF(Tabelle3[[#This Row],[Position\nG / D / FC / FW]]=\"G\",VLOOKUP($M$5-Tabelle3[[#This Row],[Jahr\nannée]],GOALI,8),VLOOKUP($M$5-Tabelle3[[#This Row],[Jahr\nannée]],SPIELER,8))","v":0},{"$f":"IF(Tabelle3[[#This Row],[Position\nG / D / FC / FW]]=\"G\",VLOOKUP($M$5-Tabelle3[[#This Row],[Jahr\nannée]],GOALI,10),VLOOKUP($M$5-Tabelle3[[#This Row],[Jahr\nannée]],SPIELER,10))","v":0},{"$f":"IF(Tabelle3[[#This Row],[Position\nG / D / FC / FW]]=\"G\",VLOOKUP($M$5-Tabelle3[[#This Row],[Jahr\nannée]],GOALI,11),VLOOKUP($M$5-Tabelle3[[#This Row],[Jahr\nannée]],SPIELER,11))","v":10},{"$f":"IF(Tabelle3[[#This Row],[Position\nG / D / FC / FW]]=\"G\",VLOOKUP($M$5-Tabelle3[[#This Row],[Jahr\nannée]],FGOALIE,2),VLOOKUP($M$5-Tabelle3[[#This Row],[Jahr\nannée]],FSPIELER,2))","v":10},{"$f":"IF(Tabelle3[[#This Row],[Position\nG / D / FC / FW]]=\"G\",VLOOKUP($M$5-Tabelle3[[#This Row],[Jahr\nannée]],FGOALIE,3),VLOOKUP($M$5-Tabelle3[[#This Row],[Jahr\nannée]],FSPIELER,3))","v":10},{"$f":"IF(Tabelle3[[#This Row],[Position\nG / D / FC / FW]]=\"G\",VLOOKUP($M$5-Tabelle3[[#This Row],[Jahr\nannée]],FGOALIE,4),VLOOKUP($M$5-Tabelle3[[#This Row],[Jahr\nannée]],FSPIELER,4))","v":20},{"$f":"IF(Tabelle3[[#This Row],[Position\nG / D / FC / FW]]=\"G\",VLOOKUP($M$5-Tabelle3[[#This Row],[Jahr\nannée]],FGOALIE,5),VLOOKUP($M$5-Tabelle3[[#This Row],[Jahr\nannée]],FSPIELER,5))","v":15},{"$f":"IF(Tabelle3[[#This Row],[Position\nG / D / FC / FW]]=\"G\",VLOOKUP($M$5-Tabelle3[[#This Row],[Jahr\nannée]],FGOALIE,6),VLOOKUP($M$5-Tabelle3[[#This Row],[Jahr\nannée]],FSPIELER,6))","v":10},{"$f":"IF(Tabelle3[[#This Row],[Position\nG / D / FC / FW]]=\"G\",VLOOKUP($M$5-Tabelle3[[#This Row],[Jahr\nannée]],FGOALIE,9),VLOOKUP($M$5-Tabelle3[[#This Row],[Jahr\nannée]],FSPIELER,9))","v":15},{"$f":"IF(Tabelle3[[#This Row],[Position\nG / D / FC / FW]]=\"G\",VLOOKUP($M$5-Tabelle3[[#This Row],[Jahr\nannée]],FGOALIE,7),VLOOKUP($M$5-Tabelle3[[#This Row],[Jahr\nannée]],FSPIELER,7))","v":10},{"$f":"IF(Tabelle3[[#This Row],[Position\nG / D / FC / FW]]=\"G\",VLOOKUP($M$5-Tabelle3[[#This Row],[Jahr\nannée]],FGOALIE,8),VLOOKUP($M$5-Tabelle3[[#This Row],[Jahr\nannée]],FSPIELER,8))","v":0},{"$f":"IF(Tabelle3[[#This Row],[Position\nG / D / FC / FW]]=\"G\",VLOOKUP($M$5-Tabelle3[[#This Row],[Jahr\nannée]],FGOALIE,10),VLOOKUP($M$5-Tabelle3[[#This Row],[Jahr\nannée]],FSPIELER,10))","v":0},{"$f":"IF(Tabelle3[[#This Row],[Position\nG / D / FC / FW]]=\"G\",VLOOKUP($M$5-Tabelle3[[#This Row],[Jahr\nannée]],FGOALIE,11),VLOOKUP($M$5-Tabelle3[[#This Row],[Jahr\nannée]],FSPIELER,11))","v":10}]
[28,null,null,{"$f":"'28'!$K$4","v":"-"},null,null,null,null,null,{"$f":"IF(ISBLANK('28'!$H$4),\"-\",'28'!$H$4)","v":"-"},{"$f":"IF(ISBLANK('28'!$H$5),\"-\",'28'!$H$5)","v":"-"},{"$f":"IF(ISBLANK('28'!$H$2),\"-\",'28'!$H$2)","v":"-"},null,null,null,null,{"$f":"'28'!$M$19","v":0},{"$f":"'28'!$M$24","v":0},{"$f":"'28'!$M$30","v":0},{"$f":"'28'!$M$36","v":0},{"$f":"'28'!$M$41","v":0},{"$f":"'28'!$M$46","v":0},{"$f":"'28'!$M$13","v":0},{"$f":"'28'!$AA$2","v":0},{"$f":"'28'!$AA$4","v":0},{"$f":"'28'!$AA$3","v":0},{"$f":"IF(Tabelle3[[#This Row],[SKATING]]=0,\"-\",IF(Tabelle3[[#This Row],[Sex]]=\"M\",SUMPRODUCT(Tabelle3[[#This Row],[SKATING]:[VERANLAGUNG\nPREDISPOSITION]],AG38:AP38),SUMPRODUCT(Tabelle3[[#This Row],[SKATING]:[VERANLAGUNG\nPREDISPOSITION]],AQ38:AZ38)))","v":"-"},{"$f":"IFERROR(RANK(Tabelle3[[#This Row],[TOTAL ]],Tabelle3[[TOTAL ]],0),\"-\")","v":"-"},null,null,null,null,{"$f":"IF(Tabelle3[[#This Row],[Position\nG / D / FC / FW]]=\"G\",VLOOKUP($M$5-Tabelle3[[#This Row],[Jahr\nannée]],GOALI,2),VLOOKUP($M$5-Tabelle3[[#This Row],[Jahr\nannée]],SPIELER,2))","v":10},{"$f":"IF(Tabelle3[[#This Row],[Position\nG / D / FC / FW]]=\"G\",VLOOKUP($M$5-Tabelle3[[#This Row],[Jahr\nannée]],GOALI,3),VLOOKUP($M$5-Tabelle3[[#This Row],[Jahr\nannée]],SPIELER,3))","v":10},{"$f":"IF(Tabelle3[[#This Row],[Position\nG / D / FC / FW]]=\"G\",VLOOKUP($M$5-Tabelle3[[#This Row],[Jahr\nannée]],GOALI,4),VLOOKUP($M$5-Tabelle3[[#This Row],[Jahr\nannée]],SPIELER,4))","v":20},{"$f":"IF(Tabelle3[[#This Row],[Position\nG / D / FC / FW]]=\"G\",VLOOKUP($M$5-Tabelle3[[#This Row],[Jahr\nannée]],GOALI,5),VLOOKUP($M$5-Tabelle3[[#This Row],[Jahr\nannée]],SPIELER,5))","v":15},{"$f":"IF(Tabelle3[[#This Row],[Position\nG / D / FC / FW]]=\"G\",VLOOKUP($M$5-Tabelle3[[#This Row],[Jahr\nannée]],GOALI,6),VLOOKUP($M$5-Tabelle3[[#This Row],[Jahr\nannée]],SPIELER,6))","v":10},{"$f":"IF(Tabelle3[[#This Row],[Position\nG / D / FC / FW]]=\"G\",VLOOKUP($M$5-Tabelle3[[#This Row],[Jahr\nannée]],GOALI,9),VLOOKUP($M$5-Tabelle3[[#This Row],[Jahr\nannée]],SPIELER,9))","v":15},{"$f":"IF(Tabelle3[[#This Row],[Position\nG / D / FC / FW]]=\"G\",VLOOKUP($M$5-Tabelle3[[#This Row],[Jahr\nannée]],GOALI,7),VLOOKUP($M$5-Tabelle3[[#This Row],[Jahr\nannée]],SPIELER,7))","v":10},{"$f":"IF(Tabelle3[[#This Row],[Position\nG / D / FC / FW]]=\"G\",VLOOKUP($M$5-Tabelle3[[#This Row],[Jahr\nannée]],GOALI,8),VLOOKUP($M$5-Tabelle3[[#This Row],[Jahr\nannée]],SPIELER,8))","v":0},{"$f":"IF(Tabelle3[[#This Row],[Position\nG / D / FC / FW]]=\"G\",VLOOKUP($M$5-Tabelle3[[#This Row],[Jahr\nannée]],GOALI,10),VLOOKUP($M$5-Tabelle3[[#This Row],[Jahr\nannée]],SPIELER,10))","v":0},{"$f":"IF(Tabelle3[[#This Row],[Position\nG / D / FC / FW]]=\"G\",VLOOKUP($M$5-Tabelle3[[#This Row],[Jahr\nannée]],GOALI,11),VLOOKUP($M$5-Tabelle3[[#This Row],[Jahr\nannée]],SPIELER,11))","v":10},{"$f":"IF(Tabelle3[[#This Row],[Position\nG / D / FC / FW]]=\"G\",VLOOKUP($M$5-Tabelle3[[#This Row],[Jahr\nannée]],FGOALIE,2),VLOOKUP($M$5-Tabelle3[[#This Row],[Jahr\nannée]],FSPIELER,2))","v":10},{"$f":"IF(Tabelle3[[#This Row],[Position\nG / D / FC / FW]]=\"G\",VLOOKUP($M$5-Tabelle3[[#This Row],[Jahr\nannée]],FGOALIE,3),VLOOKUP($M$5-Tabelle3[[#This Row],[Jahr\nannée]],FSPIELER,3))","v":10},{"$f":"IF(Tabelle3[[#This Row],[Position\nG / D / FC / FW]]=\"G\",VLOOKUP($M$5-Tabelle3[[#This Row],[Jahr\nannée]],FGOALIE,4),VLOOKUP($M$5-Tabelle3[[#This Row],[Jahr\nannée]],FSPIELER,4))","v":20},{"$f":"IF(Tabelle3[[#This Row],[Position\nG / D / FC / FW]]=\"G\",VLOOKUP($M$5-Tabelle3[[#This Row],[Jahr\nannée]],FGOALIE,5),VLOOKUP($M$5-Tabelle3[[#This Row],[Jahr\nannée]],FSPIELER,5))","v":15},{"$f":"IF(Tabelle3[[#This Row],[Position\nG / D / FC / FW]]=\"G\",VLOOKUP($M$5-Tabelle3[[#This Row],[Jahr\nannée]],FGOALIE,6),VLOOKUP($M$5-Tabelle3[[#This Row],[Jahr\nannée]],FSPIELER,6))","v":10},{"$f":"IF(Tabelle3[[#This Row],[Position\nG / D / FC / FW]]=\"G\",VLOOKUP($M$5-Tabelle3[[#This Row],[Jahr\nannée]],FGOALIE,9),VLOOKUP($M$5-Tabelle3[[#This Row],[Jahr\nannée]],FSPIELER,9))","v":15},{"$f":"IF(Tabelle3[[#This Row],[Position\nG / D / FC / FW]]=\"G\",VLOOKUP($M$5-Tabelle3[[#This Row],[Jahr\nannée]],FGOALIE,7),VLOOKUP($M$5-Tabelle3[[#This Row],[Jahr\nannée]],FSPIELER,7))","v":10},{"$f":"IF(Tabelle3[[#This Row],[Position\nG / D / FC / FW]]=\"G\",VLOOKUP($M$5-Tabelle3[[#This Row],[Jahr\nannée]],FGOALIE,8),VLOOKUP($M$5-Tabelle3[[#This Row],[Jahr\nannée]],FSPIELER,8))","v":0},{"$f":"IF(Tabelle3[[#This Row],[Position\nG / D / FC / FW]]=\"G\",VLOOKUP($M$5-Tabelle3[[#This Row],[Jahr\nannée]],FGOALIE,10),VLOOKUP($M$5-Tabelle3[[#This Row],[Jahr\nannée]],FSPIELER,10))","v":0},{"$f":"IF(Tabelle3[[#This Row],[Position\nG / D / FC / FW]]=\"G\",VLOOKUP($M$5-Tabelle3[[#This Row],[Jahr\nannée]],FGOALIE,11),VLOOKUP($M$5-Tabelle3[[#This Row],[Jahr\nannée]],FSPIELER,11))","v":10}]
[29,null,null,{"$f":"'29'!$K$4","v":"-"},null,null,null,null,null,{"$f":"IF(ISBLANK('29'!$H$4),\"-\",'29'!$H$4)","v":"-"},{"$f":"IF(ISBLANK('29'!$H$5),\"-\",'29'!$H$5)","v":"-"},{"$f":"IF(ISBLANK('29'!$H$2),\"-\",'29'!$H$2)","v":"-"},null,null,null,null,{"$f":"'29'!$M$19","v":0},{"$f":"'29'!$M$24","v":0},{"$f":"'29'!$M$30","v":0},{"$f":"'29'!$M$36","v":0},{"$f":"'29'!$M$41","v":0},{"$f":"'29'!$M$46","v":0},{"$f":"'29'!$M$13","v":0},{"$f":"'29'!$AA$2","v":0},{"$f":"'29'!$AA$4","v":0},{"$f":"'29'!$AA$3","v":0},{"$f":"IF(Tabelle3[[#This Row],[SKATING]]=0,\"-\",IF(Tabelle3[[#This Row],[Sex]]=\"M\",SUMPRODUCT(Tabelle3[[#This Row],[SKATING]:[VERANLAGUNG\nPREDISPOSITION]],AG39:AP39),SUMPRODUCT(Tabelle3[[#This Row],[SKATING]:[VERANLAGUNG\nPREDISPOSITION]],AQ39:AZ39)))","v":"-"},{"$f":"IFERROR(RANK(Tabelle3[[#This Row],[TOTAL ]],Tabelle3[[TOTAL ]],0),\"-\")","v":"-"},null,null,null,null,{"$f":"IF(Tabelle3[[#This Row],[Position\nG / D / FC / FW]]=\"G\",VLOOKUP($M$5-Tabelle3[[#This Row],[Jahr\nannée]],GOALI,2),VLOOKUP($M$5-Tabelle3[[#This Row],[Jahr\nannée]],SPIELER,2))","v":10},{"$f":"IF(Tabelle3[[#This Row],[Position\nG / D / FC / FW]]=\"G\",VLOOKUP($M$5-Tabelle3[[#This Row],[Jahr\nannée]],GOALI,3),VLOOKUP($M$5-Tabelle3[[#This Row],[Jahr\nannée]],SPIELER,3))","v":10},{"$f":"IF(Tabelle3[[#This Row],[Position\nG / D / FC / FW]]=\"G\",VLOOKUP($M$5-Tabelle3[[#This Row],[Jahr\nannée]],GOALI,4),VLOOKUP($M$5-Tabelle3[[#This Row],[Jahr\nannée]],SPIELER,4))","v":20},{"$f":"IF(Tabelle3[[#This Row],[Position\nG / D / FC / FW]]=\"G\",VLOOKUP($M$5-Tabelle3[[#This Row],[Jahr\nannée]],GOALI,5),VLOOKUP($M$5-Tabelle3[[#This Row],[Jahr\nannée]],SPIELER,5))","v":15},{"$f":"IF(Tabelle3[[#This Row],[Position\nG / D / FC / FW]]=\"G\",VLOOKUP($M$5-Tabelle3[[#This Row],[Jahr\nannée]],GOALI,6),VLOOKUP($M$5-Tabelle3[[#This Row],[Jahr\nannée]],SPIELER,6))","v":10},{"$f":"IF(Tabelle3[[#This Row],[Position\nG / D / FC / FW]]=\"G\",VLOOKUP($M$5-Tabelle3[[#This Row],[Jahr\nannée]],GOALI,9),VLOOKUP($M$5-Tabelle3[[#This Row],[Jahr\nannée]],SPIELER,9))","v":15},{"$f":"IF(Tabelle3[[#This Row],[Position\nG / D / FC / FW]]=\"G\",VLOOKUP($M$5-Tabelle3[[#This Row],[Jahr\nannée]],GOALI,7),VLOOKUP($M$5-Tabelle3[[#This Row],[Jahr\nannée]],SPIELER,7))","v":10},{"$f":"IF(Tabelle3[[#This Row],[Position\nG / D / FC / FW]]=\"G\",VLOOKUP($M$5-Tabelle3[[#This Row],[Jahr\nannée]],GOALI,8),VLOOKUP($M$5-Tabelle3[[#This Row],[Jahr\nannée]],SPIELER,8))","v":0},{"$f":"IF(Tabelle3[[#This Row],[Position\nG / D / FC / FW]]=\"G\",VLOOKUP($M$5-Tabelle3[[#This Row],[Jahr\nannée]],GOALI,10),VLOOKUP($M$5-Tabelle3[[#This Row],[Jahr\nannée]],SPIELER,10))","v":0},{"$f":"IF(Tabelle3[[#This Row],[Position\nG / D / FC / FW]]=\"G\",VLOOKUP($M$5-Tabelle3[[#This Row],[Jahr\nannée]],GOALI,11),VLOOKUP($M$5-Tabelle3[[#This Row],[Jahr\nannée]],SPIELER,11))","v":10},{"$f":"IF(Tabelle3[[#This Row],[Position\nG / D / FC / FW]]=\"G\",VLOOKUP($M$5-Tabelle3[[#This Row],[Jahr\nannée]],FGOALIE,2),VLOOKUP($M$5-Tabelle3[[#This Row],[Jahr\nannée]],FSPIELER,2))","v":10},{"$f":"IF(Tabelle3[[#This Row],[Position\nG / D / FC / FW]]=\"G\",VLOOKUP($M$5-Tabelle3[[#This Row],[Jahr\nannée]],FGOALIE,3),VLOOKUP($M$5-Tabelle3[[#This Row],[Jahr\nannée]],FSPIELER,3))","v":10},{"$f":"IF(Tabelle3[[#This Row],[Position\nG / D / FC / FW]]=\"G\",VLOOKUP($M$5-Tabelle3[[#This Row],[Jahr\nannée]],FGOALIE,4),VLOOKUP($M$5-Tabelle3[[#This Row],[Jahr\nannée]],FSPIELER,4))","v":20},{"$f":"IF(Tabelle3[[#This Row],[Position\nG / D / FC / FW]]=\"G\",VLOOKUP($M$5-Tabelle3[[#This Row],[Jahr\nannée]],FGOALIE,5),VLOOKUP($M$5-Tabelle3[[#This Row],[Jahr\nannée]],FSPIELER,5))","v":15},{"$f":"IF(Tabelle3[[#This Row],[Position\nG / D / FC / FW]]=\"G\",VLOOKUP($M$5-Tabelle3[[#This Row],[Jahr\nannée]],FGOALIE,6),VLOOKUP($M$5-Tabelle3[[#This Row],[Jahr\nannée]],FSPIELER,6))","v":10},{"$f":"IF(Tabelle3[[#This Row],[Position\nG / D / FC / FW]]=\"G\",VLOOKUP($M$5-Tabelle3[[#This Row],[Jahr\nannée]],FGOALIE,9),VLOOKUP($M$5-Tabelle3[[#This Row],[Jahr\nannée]],FSPIELER,9))","v":15},{"$f":"IF(Tabelle3[[#This Row],[Position\nG / D / FC / FW]]=\"G\",VLOOKUP($M$5-Tabelle3[[#This Row],[Jahr\nannée]],FGOALIE,7),VLOOKUP($M$5-Tabelle3[[#This Row],[Jahr\nannée]],FSPIELER,7))","v":10},{"$f":"IF(Tabelle3[[#This Row],[Position\nG / D / FC / FW]]=\"G\",VLOOKUP($M$5-Tabelle3[[#This Row],[Jahr\nannée]],FGOALIE,8),VLOOKUP($M$5-Tabelle3[[#This Row],[Jahr\nannée]],FSPIELER,8))","v":0},{"$f":"IF(Tabelle3[[#This Row],[Position\nG / D / FC / FW]]=\"G\",VLOOKUP($M$5-Tabelle3[[#This Row],[Jahr\nannée]],FGOALIE,10),VLOOKUP($M$5-Tabelle3[[#This Row],[Jahr\nannée]],FSPIELER,10))","v":0},{"$f":"IF(Tabelle3[[#This Row],[Position\nG / D / FC / FW]]=\"G\",VLOOKUP($M$5-Tabelle3[[#This Row],[Jahr\nannée]],FGOALIE,11),VLOOKUP($M$5-Tabelle3[[#This Row],[Jahr\nannée]],FSPIELER,11))","v":10}]
[30,null,null,{"$f":"'30'!$K$4","v":"-"},null,null,null,null,null,{"$f":"IF(ISBLANK('30'!$H$4),\"-\",'30'!$H$4)","v":"-"},{"$f":"IF(ISBLANK('30'!$H$5),\"-\",'30'!$H$5)","v":"-"},{"$f":"IF(ISBLANK('30'!$H$2),\"-\",'30'!$H$2)","v":"-"},null,null,null,null,{"$f":"'30'!$M$19","v":0},{"$f":"'30'!$M$24","v":0},{"$f":"'30'!$M$30","v":0},{"$f":"'30'!$M$36","v":0},{"$f":"'30'!$M$41","v":0},{"$f":"'30'!$M$46","v":0},{"$f":"'30'!$M$13","v":0},{"$f":"'30'!$AA$2","v":0},{"$f":"'30'!$AA$4","v":0},{"$f":"'30'!$AA$3","v":0},{"$f":"IF(Tabelle3[[#This Row],[SKATING]]=0,\"-\",IF(Tabelle3[[#This Row],[Sex]]=\"M\",SUMPRODUCT(Tabelle3[[#This Row],[SKATING]:[VERANLAGUNG\nPREDISPOSITION]],AG40:AP40),SUMPRODUCT(Tabelle3[[#This Row],[SKATING]:[VERANLAGUNG\nPREDISPOSITION]],AQ40:AZ40)))","v":"-"},{"$f":"IFERROR(RANK(Tabelle3[[#This Row],[TOTAL ]],Tabelle3[[TOTAL ]],0),\"-\")","v":"-"},null,null,null,null,{"$f":"IF(Tabelle3[[#This Row],[Position\nG / D / FC / FW]]=\"G\",VLOOKUP($M$5-Tabelle3[[#This Row],[Jahr\nannée]],GOALI,2),VLOOKUP($M$5-Tabelle3[[#This Row],[Jahr\nannée]],SPIELER,2))","v":10},{"$f":"IF(Tabelle3[[#This Row],[Position\nG / D / FC / FW]]=\"G\",VLOOKUP($M$5-Tabelle3[[#This Row],[Jahr\nannée]],GOALI,3),VLOOKUP($M$5-Tabelle3[[#This Row],[Jahr\nannée]],SPIELER,3))","v":10},{"$f":"IF(Tabelle3[[#This Row],[Position\nG / D / FC / FW]]=\"G\",VLOOKUP($M$5-Tabelle3[[#This Row],[Jahr\nannée]],GOALI,4),VLOOKUP($M$5-Tabelle3[[#This Row],[Jahr\nannée]],SPIELER,4))","v":20},{"$f":"IF(Tabelle3[[#This Row],[Position\nG / D / FC / FW]]=\"G\",VLOOKUP($M$5-Tabelle3[[#This Row],[Jahr\nannée]],GOALI,5),VLOOKUP($M$5-Tabelle3[[#This Row],[Jahr\nannée]],SPIELER,5))","v":15},{"$f":"IF(Tabelle3[[#This Row],[Position\nG / D / FC / FW]]=\"G\",VLOOKUP($M$5-Tabelle3[[#This Row],[Jahr\nannée]],GOALI,6),VLOOKUP($M$5-Tabelle3[[#This Row],[Jahr\nannée]],SPIELER,6))","v":10},{"$f":"IF(Tabelle3[[#This Row],[Position\nG / D / FC / FW]]=\"G\",VLOOKUP($M$5-Tabelle3[[#This Row],[Jahr\nannée]],GOALI,9),VLOOKUP($M$5-Tabelle3[[#This Row],[Jahr\nannée]],SPIELER,9))","v":15},{"$f":"IF(Tabelle3[[#This Row],[Position\nG / D / FC / FW]]=\"G\",VLOOKUP($M$5-Tabelle3[[#This Row],[Jahr\nannée]],GOALI,7),VLOOKUP($M$5-Tabelle3[[#This Row],[Jahr\nannée]],SPIELER,7))","v":10},{"$f":"IF(Tabelle3[[#This Row],[Position\nG / D / FC / FW]]=\"G\",VLOOKUP($M$5-Tabelle3[[#This Row],[Jahr\nannée]],GOALI,8),VLOOKUP($M$5-Tabelle3[[#This Row],[Jahr\nannée]],SPIELER,8))","v":0},{"$f":"IF(Tabelle3[[#This Row],[Position\nG / D / FC / FW]]=\"G\",VLOOKUP($M$5-Tabelle3[[#This Row],[Jahr\nannée]],GOALI,10),VLOOKUP($M$5-Tabelle3[[#This Row],[Jahr\nannée]],SPIELER,10))","v":0},{"$f":"IF(Tabelle3[[#This Row],[Position\nG / D / FC / FW]]=\"G\",VLOOKUP($M$5-Tabelle3[[#This Row],[Jahr\nannée]],GOALI,11),VLOOKUP($M$5-Tabelle3[[#This Row],[Jahr\nannée]],SPIELER,11))","v":10},{"$f":"IF(Tabelle3[[#This Row],[Position\nG / D / FC / FW]]=\"G\",VLOOKUP($M$5-Tabelle3[[#This Row],[Jahr\nannée]],FGOALIE,2),VLOOKUP($M$5-Tabelle3[[#This Row],[Jahr\nannée]],FSPIELER,2))","v":10},{"$f":"IF(Tabelle3[[#This Row],[Position\nG / D / FC / FW]]=\"G\",VLOOKUP($M$5-Tabelle3[[#This Row],[Jahr\nannée]],FGOALIE,3),VLOOKUP($M$5-Tabelle3[[#This Row],[Jahr\nannée]],FSPIELER,3))","v":10},{"$f":"IF(Tabelle3[[#This Row],[Position\nG / D / FC / FW]]=\"G\",VLOOKUP($M$5-Tabelle3[[#This Row],[Jahr\nannée]],FGOALIE,4),VLOOKUP($M$5-Tabelle3[[#This Row],[Jahr\nannée]],FSPIELER,4))","v":20},{"$f":"IF(Tabelle3[[#This Row],[Position\nG / D / FC / FW]]=\"G\",VLOOKUP($M$5-Tabelle3[[#This Row],[Jahr\nannée]],FGOALIE,5),VLOOKUP($M$5-Tabelle3[[#This Row],[Jahr\nannée]],FSPIELER,5))","v":15},{"$f":"IF(Tabelle3[[#This Row],[Position\nG / D / FC / FW]]=\"G\",VLOOKUP($M$5-Tabelle3[[#This Row],[Jahr\nannée]],FGOALIE,6),VLOOKUP($M$5-Tabelle3[[#This Row],[Jahr\nannée]],FSPIELER,6))","v":10},{"$f":"IF(Tabelle3[[#This Row],[Position\nG / D / FC / FW]]=\"G\",VLOOKUP($M$5-Tabelle3[[#This Row],[Jahr\nannée]],FGOALIE,9),VLOOKUP($M$5-Tabelle3[[#This Row],[Jahr\nannée]],FSPIELER,9))","v":15},{"$f":"IF(Tabelle3[[#This Row],[Position\nG / D / FC / FW]]=\"G\",VLOOKUP($M$5-Tabelle3[[#This Row],[Jahr\nannée]],FGOALIE,7),VLOOKUP($M$5-Tabelle3[[#This Row],[Jahr\nannée]],FSPIELER,7))","v":10},{"$f":"IF(Tabelle3[[#This Row],[Position\nG / D / FC / FW]]=\"G\",VLOOKUP($M$5-Tabelle3[[#This Row],[Jahr\nannée]],FGOALIE,8),VLOOKUP($M$5-Tabelle3[[#This Row],[Jahr\nannée]],FSPIELER,8))","v":0},{"$f":"IF(Tabelle3[[#This Row],[Position\nG / D / FC / FW]]=\"G\",VLOOKUP($M$5-Tabelle3[[#This Row],[Jahr\nannée]],FGOALIE,10),VLOOKUP($M$5-Tabelle3[[#This Row],[Jahr\nannée]],FSPIELER,10))","v":0},{"$f":"IF(Tabelle3[[#This Row],[Position\nG / D / FC / FW]]=\"G\",VLOOKUP($M$5-Tabelle3[[#This Row],[Jahr\nannée]],FGOALIE,11),VLOOKUP($M$5-Tabelle3[[#This Row],[Jahr\nannée]],FSPIELER,11))","v":10}]

{"sheet":"1","index":4,"n_rows":50,"n_cols":36,"rows_kept":50,"cut":false,"hidden":false,"merged":[[38,3,38,5],[38,6,38,11],[43,3,43,5],[43,6,43,11],[48,3,48,5],[48,6,48,11],[15,3,15,5],[34,3,34,5],[34,6,34,11],[40,6,40,11],[41,3,41,5],[41,6,41,11],[32,6,32,11],[0,0,0,24],[23,15,28,15],[11,6,11,11],[11,13,11,14],[11,15,11,16],[11,17,11,18],[12,12,16,12],[18,12,22,12],[1,0,1,1],[1,2,1,5],[23,12,28,12],[1,10,1,24],[2,11,2,24],[3,10,3,24],[4,10,4,24],[12,15,16,15],[12,17,16,17],[12,19,16,19],[12,21,16,21],[12,23,16,23],[11,19,11,20],[11,21,11,22],[11,23,11,24],[13,6,13,11],[0,25,0,26],[0,27,0,32],[0,33,0,35],[35,34,39,34],[40,25,44,25],[40,26,44,32],[40,34,44,34],[12,34,16,34],[18,25,22,25],[18,26,22,32],[18,34,22,34],[23,25,28,25],[23,26,28,32],[23,34,28,34],[29,25,33,25],[29,26,33,32],[29,34,33,34],[35,26,39,32],[34,26,34,32],[17,26,17,32],[12,26,16,32],[35,25,39,25],[34,15,34,16],[34,17,34,18],[34,19,34,20],[34,21,34,22],[34,23,34,24],[17,13,17,14],[17,15,17,16],[17,17,17,18],[29,13,33,13],[29,17,33,17],[29,19,33,19],[29,21,33,21],[29,23,33,23],[23,19,28,19],[23,21,28,21],[23,23,28,23],[23,17,28,17],[29,15,33,15],[35,15,39,15],[35,17,39,17],[35,19,39,19],[35,21,39,21],[40,17,44,17],[35,0,39,2],[12,25,16,25],[6,2,6,35],[35,3,35,5],[35,6,35,11],[35,23,39,23],[18,15,22,15],[18,17,22,17],[18,19,22,19],[18,21,22,21],[18,23,22,23],[25,6,25,11],[23,13,28,13],[18,13,22,13],[17,19,17,20],[17,21,17,22],[17,23,17,24],[35,13,39,13],[34,13,34,14],[7,0,7,1],[11,26,11,32],[12,13,16,13],[29,6,29,11],[31,3,31,5],[29,12,33,12],[30,3,30,5],[33,3,33,5],[33,6,33,11],[29,3,29,5],[24,3,24,5],[31,6,31,11],[30,6,30,11],[11,3,11,5],[13,3,13,5],[14,3,14,5],[14,6,14,11],[15,6,15,11],[21,6,21,11],[26,3,26,5],[26,6,26,11],[27,3,27,5],[27,6,27,11],[32,3,32,5],[29,0,33,2],[34,0,34,2],[23,6,23,11],[23,0,28,2],[7,2,7,35],[37,3,37,5],[37,6,37,11],[19,3,19,5],[12,3,12,5],[12,6,12,11],[35,12,39,12],[19,6,19,11],[17,3,17,5],[17,6,17,11],[16,3,16,5],[16,6,16,11],[24,6,24,11],[28,3,28,5],[28,6,28,11],[23,3,23,5],[36,3,36,5],[36,6,36,11],[25,3,25,5],[21,3,21,5],[40,0,44,2],[6,0,6,1],[2,2,2,5],[4,2,4,5],[18,3,18,5],[18,6,18,11],[4,0,4,1],[2,0,2,1],[3,0,3,1],[11,0,11,2],[12,0,16,2],[17,0,17,2],[18,0,22,2],[8,0,8,1],[20,3,20,5],[20,6,20,11],[22,3,22,5],[22,6,22,11],[40,3,40,5],[39,6,39,11],[39,3,39,5],[8,2,8,35],[10,0,10,24],[10,25,10,35],[45,0,49,2],[45,3,45,5],[45,6,45,11],[45,12,49,12],[45,13,49,13],[45,15,49,15],[45,17,49,17],[45,19,49,19],[45,21,49,21],[45,23,49,23],[45,25,49,25],[45,26,49,32],[45,34,49,34],[46,3,46,5],[46,6,46,11],[49,3,49,5],[49,6,49,11],[42,3,42,5],[42,6,42,11],[47,3,47,5],[47,6,47,11],[40,12,44,12],[44,3,44,5],[44,6,44,11],[40,13,44,13],[40,21,44,21],[40,23,44,23],[40,19,44,19],[40,15,44,15]]}
["Personalien",null,null,null,null,null,null,null,null,null,null,null,null,null,null,null,null,null,null,null,null,null,null,null,null,"Vorausetzungen",null,"Evaluationen",null,null,null,null,null,"Rating"]
["VORNAME",null,null,null,null,null,"POSITION",null,null,"ADRESSE",null,null,null,null,null,null,null,null,null,null,null,null,null,null,null,"\"Alter\" (Biologisch/Relative Age)",null,"Datum 1",null,null,"cm",null,"Kg",null,"AUSGEZEICHNET",5]
["NAME",null,null,null,null,null,"STOCK",null,null,"WOHNORT",null,null,null,null,null,null,null,null,null,null,null,null,null,null,null,"Veranlagung",null,"Datum 2",null,null,"cm",null,"Kg",null,"GUT",4]
["GEB. DATUM",null,null,null,null,null,"GRÖSSE",null,"cm (Final)","CLUB",null,null,null,null,null,null,null,null,null,null,null,null,null,null,null,"Umfeld",null,"Datum 3",null,null,"cm",null,"Kg",null,"DURCHSCHNITT",3]
["SEX",null,null,null,null,null,"GEWICHT",null,"Kg (Final)","E-Mail",null,null,null,null,null,null,null,null,null,null,null,null,null,null,null,null,null,"Datum 4",null,null,"cm",null,"Kg",null,"MANGELHAFT",2]
[null,null,null,null,null,null,null,null,null,null,null,null,null,null,null,null,null,null,null,null,null,null,null,null,null,null,null,"Datum 5",null,null,"cm",null,"Kg",null,"UNGENÜGEND",1]
["Vision",null,"xxx"]
["Ziele",null,"xxx"]
["Stärken",null,"xxx"]
[]
["EVALUATION (COACH / SPIELERIN)",null,null,null,null,null,null,null,null,null,null,null,null,null,null,null,null,null,null,null,null,null,null,null,null,"SMART"]
[{"$f":"Skillserleuterungen_FTEM!A3","v":"TEAM"},null,null,{"$f":"Skillserleuterungen_FTEM!B3","v":"FÄHIGKEIT"},null,null,{"$f":"Skillserleuterungen_FTEM!C3","v":"BEOBACHTUNG"},null,null,null,null,null,"Final","Datum1",null,"Datum2",null,"Datum3",null,"Datum4",null,"Datum5",null,"Player",null,"ZIEL","MASSNAHME:\nSPEZIFISCH,  MESSBAR, REALISITISCH",null,null,null,null,null,null,"TERMIN","ZIEL-KONTROLLE","Datum"]
[{"$f":"Skillserleuterungen_FTEM!A4","v":"TEAM"},null,null,{"$f":"IF($H$2=\"G\",Skillserleuterungen_FTEM!F4,Skillserleuterungen_FTEM!B4)","v":"Kommunikation"},null,null,{"$f":"IF($H$2=\"G\",Skillserleuterungen_FTEM!G4,Skillserleuterungen_FTEM!C4)","v":"pflegt einen offenen, respektvollen Umgang, Vertrauensbasis als Grundlage, trägt Konflikte aus ohne die Stabilität der Gruppe zu gefährden, kommuniziert mit Mitspielerinnen, Trainern und Funktionären gleichermassen wertschätzend"},null,null,{"$f":"IF($H$2=\"G\",Skillserleuterungen_FTEM!#REF!,Skillserleuterungen_FTEM!#REF!)","v":{"$error":"#REF!"}},null,null,null,{"$f":"IFERROR(AVERAGE(O13:O17),\"-\")","v":"-"},null,{"$f":"IFERROR(AVERAGE(Q13:Q17),\"-\")","v":"-"},null,{"$f":"IFERROR(AVERAGE(S13:S17),\"-\")","v":"-"},null,{"$f":"IFERROR(AVERAGE(U13:U17),\"-\")","v":"-"},null,null,null,{"$f":"IFERROR(AVERAGE(Y13:Y17),\"-\")","v":"-"}]
[null,null,null,{"$f":"IF($H$2=\"G\",Skillserleuterungen_FTEM!F5,Skillserleuterungen_FTEM!B5)","v":"Teamfähigkeit"},null,null,{"$f":"IF($H$2=\"G\",Skillserleuterungen_FTEM!G5,Skillserleuterungen_FTEM!C5)","v":"Integration in die Gruppe, gemeinsame Ziele bestimmen und verfolgen können, WIR vor dem ICH, trägt zu einem guten Team-Spirit und Arbeitsklima bei"},null,null,{"$f":"IF($H$2=\"G\",Skillserleuterungen_FTEM!#REF!,Skillserleuterungen_FTEM!#REF!)","v":{"$error":"#REF!"}}]
[null,null,null,{"$f":"IF($H$2=\"G\",Skillserleuterungen_FTEM!F6,Skillserleuterungen_FTEM!B6)","v":"Leadership"},null,null,{"$f":"IF($H$2=\"G\",Skillserleuterungen_FTEM!G6,Skillserleuterungen_FTEM!C6)","v":"übernimmt Verantwortung in der Gruppe, versucht Team und Mitspielerinnen besser zu machen, nimmt positiven Einfluss auf die Gruppendynamik"},null,null,{"$f":"IF($H$2=\"G\",Skillserleuterungen_FTEM!#REF!,Skillserleuterungen_FTEM!#REF!)","v":{"$error":"#REF!"}}]
[null,null,null,{"$f":"IF($H$2=\"G\",Skillserleuterungen_FTEM!F7,Skillserleuterungen_FTEM!B7)","v":"Rollenverteilung"},null,null,{"$f":"IF($H$2=\"G\",Skillserleuterungen_FTEM!G7,Skillserleuterungen_FTEM!C7)","v":"kennt ihre Rolle und füllt diese aus, ist sich ihrer Stellung im Team und im System bewusst, stellt eigene Kompetenzen in den Dienst des Teams"},null,null,{"$f":"IF($H$2=\"G\",Skillserleuterungen_FTEM!#REF!,Skillserleuterungen_FTEM!#REF!)","v":{"$error":"#REF!"}}]
[null,null,null,{"$f":"IF($H$2=\"G\",Skillserleuterungen_FTEM!F8,Skillserleuterungen_FTEM!B8)","v":"Respekt"},null,null,{"$f":"IF($H$2=\"G\",Skillserleuterungen_FTEM!G8,Skillserleuterungen_FTEM!C8)","v":"Respektvoller Umgang mit Mitspielerinnen, Trainern, Gegnern, Schiedsrichter und Staff; achtet die Regeln, Fairplayprinzipien (inkl. Anti-Doping)"},null,null,{"$f":"IF($H$2=\"G\",Skillserleuterungen_FTEM!#REF!,Skillserleuterungen_FTEM!#REF!)","v":{"$error":"#REF!"}}]
[{"$f":"Skillserleuterungen_FTEM!A9","v":"ON ICE"},null,null,{"$f":"Skillserleuterungen_FTEM!B9","v":"FÄHIGKEIT"},null,null,{"$f":"Skillserleuterungen_FTEM!C9","v":"BEOBACHTUNG"},null,null,null,null,null,null,"Datum1",null,"Datum2",null,"Datum3",null,"Datum4",null,"Datum5",null,"Player",null,"ZIEL","MASSNAHME:\nSPEZIFISCH,  MESSBAR, REALISITISCH",null,null,null,null,null,null,"TERMIN","ZIEL-KONTROLLE","Datum"]
[{"$f":"Skillserleuterungen_FTEM!A10","v":"SKATING"},null,null,{"$f":"IF($H$2=\"G\",Skillserleuterungen_FTEM!F10,Skillserleuterungen_FTEM!B10)","v":"Footspeed"},null,null,{"$f":"IF($H$2=\"G\",Skillserleuterungen_FTEM!G10,Skillserleuterungen_FTEM!C10)","v":"Beschleunigung, Antritt, erste 3 Schritte Explosivität, Frequenz"},null,null,{"$f":"IF($H$2=\"G\",Skillserleuterungen_FTEM!#REF!,Skillserleuterungen_FTEM!#REF!)","v":{"$error":"#REF!"}},null,null,null,{"$f":"IFERROR(AVERAGE(O19:O23),\"-\")","v":"-"},null,{"$f":"IFERROR(AVERAGE(Q19:Q23),\"-\")","v":"-"},null,{"$f":"IFERROR(AVERAGE(S19:S23),\"-\")","v":"-"},null,{"$f":"IFERROR(AVERAGE(U19:U23),\"-\")","v":"-"},null,{"$f":"IFERROR(AVERAGE(W19:W23),\"-\")","v":"-"},null,{"$f":"IFERROR(AVERAGE(Y19:Y23),\"-\")","v":"-"}]
[null,null,null,{"$f":"IF($H$2=\"G\",Skillserleuterungen_FTEM!F11,Skillserleuterungen_FTEM!B11)","v":"Topspeed"},null,null,{"$f":"IF($H$2=\"G\",Skillserleuterungen_FTEM!G11,Skillserleuterungen_FTEM!C11)","v":"Schnelligkeit, Gleitfähigkeit, vorwärts und rückwärts, Ökonomie"},null,null,{"$f":"IF($H$2=\"G\",Skillserleuterungen_FTEM!#REF!,Skillserleuterungen_FTEM!#REF!)","v":{"$error":"#REF!"}}]
[null,null,null,{"$f":"IF($H$2=\"G\",Skillserleuterungen_FTEM!F12,Skillserleuterungen_FTEM!B12)","v":"Agilität"},null,null,{"$f":"IF($H$2=\"G\",Skillserleuterungen_FTEM!G12,Skillserleuterungen_FTEM!C12)","v":"Richtungsänderung, Drehung, Stop und Start, \"Nummelin\""},null,null,{"$f":"IF($H$2=\"G\",Skillserleuterungen_FTEM!#REF!,Skillserleuterungen_FTEM!#REF!)","v":{"$error":"#REF!"}},null,null,null,{"$f":"IFERROR(AVERAGE(O21:O23),\"-\")","v":"-"},null,{"$f":"IFERROR(AVERAGE(Q21:Q23),\"-\")","v":"-"},null,{"$f":"IFERROR(AVERAGE(S21:S23),\"-\")","v":"-"},null,{"$f":"IFERROR(AVERAGE(U21:U23),\"-\")","v":"-"},null,{"$f":"IFERROR(AVERAGE(W21:W23),\"-\")","v":"-"},null,"-"]
[null,null,null,{"$f":"IF($H$2=\"G\",Skillserleuterungen_FTEM!F13,Skillserleuterungen_FTEM!B13)","v":"Balance"},null,null,{"$f":"IF($H$2=\"G\",Skillserleuterungen_FTEM!G13,Skillserleuterungen_FTEM!C13)","v":"Gleichgewicht, Standhaftfähigkeit, tiefe Position, ein- und beidbeinig"},null,null,{"$f":"IF($H$2=\"G\",Skillserleuterungen_FTEM!#REF!,Skillserleuterungen_FTEM!#REF!)","v":{"$error":"#REF!"}}]
[null,null,null,{"$f":"IF($H$2=\"G\",Skillserleuterungen_FTEM!F14,Skillserleuterungen_FTEM!B14)","v":"Backwards Skating"},null,null,{"$f":"IF($H$2=\"G\",Skillserleuterungen_FTEM!G14,Skillserleuterungen_FTEM!C14)","v":"Beschleunigung, Geschwindigkeit, Balance"},null,null,{"$f":"IF($H$2=\"G\",Skillserleuterungen_FTEM!#REF!,Skillserleuterungen_FTEM!#REF!)","v":{"$error":"#REF!"}}]
[{"$f":"Skillserleuterungen_FTEM!A15","v":"SKILLS"},null,null,{"$f":"IF($H$2=\"G\",Skillserleuterungen_FTEM!F15,Skillserleuterungen_FTEM!B15)","v":"Schiessen"},null,null,{"$f":"IF($H$2=\"G\",Skillserleuterungen_FTEM!G15,Skillserleuterungen_FTEM!C15)","v":"Effizienz (no space no time), Variantenreichtum, Überraschungsgrad (Quick Release), Präzision, Härte, (taktische Abschlüsse)"},null,null,{"$f":"IF($H$2=\"G\",Skillserleuterungen_FTEM!#REF!,Skillserleuterungen_FTEM!#REF!)","v":{"$error":"#REF!"}},null,null,null,{"$f":"IFERROR(AVERAGE(O24:O29),\"-\")","v":"-"},null,{"$f":"IFERROR(AVERAGE(Q24:Q29),\"-\")","v":"-"},null,{"$f":"IFERROR(AVERAGE(S24:S29),\"-\")","v":"-"},null,{"$f":"IFERROR(AVERAGE(U24:U29),\"-\")","v":"-"},null,{"$f":"IFERROR(AVERAGE(W24:W29),\"-\")","v":"-"},null,{"$f":"IFERROR(AVERAGE(Y24:Y29),\"-\")","v":"-"}]
[null,null,null,{"$f":"IF($H$2=\"G\",Skillserleuterungen_FTEM!F16,Skillserleuterungen_FTEM!B16)","v":"Passen"},null,null,{"$f":"IF($H$2=\"G\",Skillserleuterungen_FTEM!G16,Skillserleuterungen_FTEM!C16)","v":"Passabgabe (Distanz, Flippass Backhand), Passannahme (Präzision, Timing, Vorhand, Rückhand, Schlittschuh), Puckspeed "},null,null,{"$f":"IF($H$2=\"G\",Skillserleuterungen_FTEM!#REF!,Skillserleuterungen_FTEM!#REF!)","v":{"$error":"#REF!"}}]
[null,null,null,{"$f":"IF($H$2=\"G\",Skillserleuterungen_FTEM!F17,Skillserleuterungen_FTEM!B17)","v":"Stockarbeit"},null,null,{"$f":"IF($H$2=\"G\",Skillserleuterungen_FTEM!G17,Skillserleuterungen_FTEM!C17)","v":"Stock zum Puck, Passlinie unterbinden, ablenken, Stockkontrolle Gegenspielerin"},null,null,{"$f":"IF($H$2=\"G\",Skillserleuterungen_FTEM!#REF!,Skillserleuterungen_FTEM!#REF!)","v":{"$error":"#REF!"}}]
[null,null,null,{"$f":"IF($H$2=\"G\",Skillserleuterungen_FTEM!F18,Skillserleuterungen_FTEM!B18)","v":"Puck besitzen "},null,null,{"$f":"IF($H$2=\"G\",Skillserleuterungen_FTEM!G18,Skillserleuterungen_FTEM!C18)","v":"Puckkontrolle, Dribblings, Puck schützen, Finten (Varianten: mit Schlittschuh, mit sowie ohne Bande), Face-Off"},null,null,{"$f":"IF($H$2=\"G\",Skillserleuterungen_FTEM!#REF!,Skillserleuterungen_FTEM!#REF!)","v":{"$error":"#REF!"}}]
[null,null,null,{"$f":"IF($H$2=\"G\",Skillserleuterungen_FTEM!F19,Skillserleuterungen_FTEM!B19)","v":"Körperspiel"},null,null,{"$f":"IF($H$2=\"G\",Skillserleuterungen_FTEM!G19,Skillserleuterungen_FTEM!C19)","v":"Phyisches Durchsetzungsvermögen, Zweikampf (offenes Eis/Bande), Checks nehmen/Head up, Battle Level, Hart aber fair"},null,null,{"$f":"IF($H$2=\"G\",Skillserleuterungen_FTEM!#REF!,Skillserleuterungen_FTEM!#REF!)","v":{"$error":"#REF!"}}]
[null,null,null,{"$f":"IF($H$2=\"G\",Skillserleuterungen_FTEM!F20,Skillserleuterungen_FTEM!B20)","v":"-"},null,null,{"$f":"IF($H$2=\"G\",Skillserleuterungen_FTEM!G20,Skillserleuterungen_FTEM!C20)","v":"-"},null,null,{"$f":"IF($H$2=\"G\",Skillserleuterungen_FTEM!#REF!,Skillserleuterungen_FTEM!#REF!)","v":{"$error":"#REF!"}}]
[{"$f":"Skillserleuterungen_FTEM!A21","v":"HOCKEY SENSE"},null,null,{"$f":"IF($H$2=\"G\",Skillserleuterungen_FTEM!F21,Skillserleuterungen_FTEM!B21)","v":"Spielintelligenz"},null,null,{"$f":"IF($H$2=\"G\",Skillserleuterungen_FTEM!G21,Skillserleuterungen_FTEM!C21)","v":"Freie Räume und Spielerin sehen und Überzahlsituationen kreieren, lösungsorientiert agieren bei allen Bedingungen, Headspeed"},null,null,{"$f":"IF($H$2=\"G\",Skillserleuterungen_FTEM!#REF!,Skillserleuterungen_FTEM!#REF!)","v":{"$error":"#REF!"}},null,null,null,{"$f":"IFERROR(AVERAGE(O30:O34),\"-\")","v":"-"},null,{"$f":"IFERROR(AVERAGE(Q30:Q34),\"-\")","v":"-"},null,{"$f":"IFERROR(AVERAGE(S30:S34),\"-\")","v":"-"},null,{"$f":"IFERROR(AVERAGE(U30:U34),\"-\")","v":"-"},null,{"$f":"IFERROR(AVERAGE(W30:W34),\"-\")","v":"-"},null,{"$f":"IFERROR(AVERAGE(Y30:Y34),\"-\")","v":"-"}]
[null,null,null,{"$f":"IF($H$2=\"G\",Skillserleuterungen_FTEM!F22,Skillserleuterungen_FTEM!B22)","v":"Offensives Bewusstsein"},null,null,{"$f":"IF($H$2=\"G\",Skillserleuterungen_FTEM!G22,Skillserleuterungen_FTEM!C22)","v":"Anspielbar, Antizipation der Spielsituationen, Freiräume für Mitspielerinnen öffnen, Abschlussorientiert sein, Gapspeed, gute Kommunikation"},null,null,{"$f":"IF($H$2=\"G\",Skillserleuterungen_FTEM!#REF!,Skillserleuterungen_FTEM!#REF!)","v":{"$error":"#REF!"}}]
[null,null,null,{"$f":"IF($H$2=\"G\",Skillserleuterungen_FTEM!F23,Skillserleuterungen_FTEM!B23)","v":"Defensiv Bewusstsein"},null,null,{"$f":"IF($H$2=\"G\",Skillserleuterungen_FTEM!G23,Skillserleuterungen_FTEM!C23)","v":"Inside Position halten, Slot beschützen, Mitspieler absichern/Support, Passlinie erkennen, Schüsse blockieren. Gapspeed, gute Komunikation"},null,null,{"$f":"IF($H$2=\"G\",Skillserleuterungen_FTEM!#REF!,Skillserleuterungen_FTEM!#REF!)","v":{"$error":"#REF!"}}]
[null,null,null,{"$f":"IF($H$2=\"G\",Skillserleuterungen_FTEM!F24,Skillserleuterungen_FTEM!B24)","v":"Puckmanagement"},null,null,{"$f":"IF($H$2=\"G\",Skillserleuterungen_FTEM!G24,Skillserleuterungen_FTEM!C24)","v":"Situationsadäquate Entscheidungen treffen, Support, Overload"},null,null,{"$f":"IF($H$2=\"G\",Skillserleuterungen_FTEM!#REF!,Skillserleuterungen_FTEM!#REF!)","v":{"$error":"#REF!"}}]
[null,null,null,{"$f":"IF($H$2=\"G\",Skillserleuterungen_FTEM!F25,Skillserleuterungen_FTEM!B25)","v":"Kreativität"},null,null,{"$f":"IF($H$2=\"G\",Skillserleuterungen_FTEM!G25,Skillserleuterungen_FTEM!C25)","v":"Überraschende Lösungen, Torriecher"},null,null,{"$f":"IF($H$2=\"G\",Skillserleuterungen_FTEM!#REF!,Skillserleuterungen_FTEM!#REF!)","v":{"$error":"#REF!"}}]
[{"$f":"Skillserleuterungen_FTEM!A26","v":"PERSONALITY"},null,null,{"$f":"Skillserleuterungen_FTEM!B26","v":"FÄHIGKEIT"},null,null,{"$f":"Skillserleuterungen_FTEM!C26","v":"BEOBACHTUNG"},null,null,null,null,null,null,"Datum1",null,"Datum2",null,"Datum3",null,"Datum4",null,"Datum5",null,"Player",null,"ZIEL","MASSNAHME:\nSPEZIFISCH,  MESSBAR, REALISITISCH",null,null,null,null,null,null,"TERMIN","ZIEL-KONTROLLE","Datum"]
[{"$f":"Skillserleuterungen_FTEM!A27","v":"PERSÖNLICHKEIT"},null,null,{"$f":"IF($H$2=\"G\",Skillserleuterungen_FTEM!F27,Skillserleuterungen_FTEM!B27)","v":"Selbstbewusstsein"},null,null,{"$f":"IF($H$2=\"G\",Skillserleuterungen_FTEM!G27,Skillserleuterungen_FTEM!C27)","v":"hat das nötige Selbstvertrauen,\"I can do it\"-Haltung, kann eigene Fähigkeiten einschätzen (kennt eigene Stärken/Schwächen), kann ihre Stärken konstant einsetzen, agiert mutig und nimmt kalkulierte Risiken"},null,null,{"$f":"IF($H$2=\"G\",Skillserleuterungen_FTEM!#REF!,Skillserleuterungen_FTEM!#REF!)","v":{"$error":"#REF!"}},null,null,null,{"$f":"IFERROR(AVERAGE(O36:O40),\"-\")","v":"-"},null,{"$f":"IFERROR(AVERAGE(Q36:Q40),\"-\")","v":"-"},null,{"$f":"IFERROR(AVERAGE(S36:S40),\"-\")","v":"-"},null,{"$f":"IFERROR(AVERAGE(U36:U40),\"-\")","v":"-"},null,{"$f":"IFERROR(AVERAGE(W36:W40),\"-\")","v":"-"},null,{"$f":"IFERROR(AVERAGE(Y36:Y40),\"-\")","v":"-"}]
[null,null,null,{"$f":"IF($H$2=\"G\",Skillserleuterungen_FTEM!F28,Skillserleuterungen_FTEM!B28)","v":"Lernfähigkeit"},null,null,{"$f":"IF($H$2=\"G\",Skillserleuterungen_FTEM!G28,Skillserleuterungen_FTEM!C28)","v":"hat eine gute Auffassungsgabe (nimmt auf und kann umsetzen), reflektiert eigenes Handeln, versucht aus Fehlern zu lernen und kann Massnahmen ableiten"},null,null,{"$f":"IF($H$2=\"G\",Skillserleuterungen_FTEM!#REF!,Skillserleuterungen_FTEM!#REF!)","v":{"$error":"#REF!"}}]
[null,null,null,{"$f":"IF($H$2=\"G\",Skillserleuterungen_FTEM!F29,Skillserleuterungen_FTEM!B29)","v":"Eigenverantwortung"},null,null,{"$f":"IF($H$2=\"G\",Skillserleuterungen_FTEM!G29,Skillserleuterungen_FTEM!C29)","v":"übernimmt Verantwortung für eigene Leistungen und Entwicklung, handelt selbständig, achtet auf Details, zeigt grosses Engagement in allen Bereichen"},null,null,{"$f":"IF($H$2=\"G\",Skillserleuterungen_FTEM!#REF!,Skillserleuterungen_FTEM!#REF!)","v":{"$error":"#REF!"}}]
[null,null,null,{"$f":"IF($H$2=\"G\",Skillserleuterungen_FTEM!F30,Skillserleuterungen_FTEM!B30)","v":"Motivation"},null,null,{"$f":"IF($H$2=\"G\",Skillserleuterungen_FTEM!G30,Skillserleuterungen_FTEM!C30)","v":"Intrinsischer Antrieb, will sich ständig weiterentwickeln und lernen, will die Erste sein und Erfolg haben, gibt nie auf und lässt sich auch durch Misserfolge nicht vom Weg abbringen"},null,null,{"$f":"IF($H$2=\"G\",Skillserleuterungen_FTEM!#REF!,Skillserleuterungen_FTEM!#REF!)","v":{"$error":"#REF!"}}]
[null,null,null,{"$f":"IF($H$2=\"G\",Skillserleuterungen_FTEM!F31,Skillserleuterungen_FTEM!B31)","v":"Performance Lifestyle"},null,null,{"$f":"IF($H$2=\"G\",Skillserleuterungen_FTEM!G31,Skillserleuterungen_FTEM!C31)","v":"managt Alltag und Umfeld nach dem Leistungsprinzip, hartnäckig, beharrlich und zielgerichtet, Fokus auf eigene Leistung, zeigt Biss und kann sich auch gegen Widerstände durchsetzen, Herausforderungen spornen sie an"},null,null,{"$f":"IF($H$2=\"G\",Skillserleuterungen_FTEM!#REF!,Skillserleuterungen_FTEM!#REF!)","v":{"$error":"#REF!"}}]
[{"$f":"Skillserleuterungen_FTEM!A32","v":"MENTALE STÄRKE"},null,null,{"$f":"IF($H$2=\"G\",Skillserleuterungen_FTEM!F32,Skillserleuterungen_FTEM!B32)","v":"Einsatzbereitschaft"},null,null,{"$f":"IF($H$2=\"G\",Skillserleuterungen_FTEM!G32,Skillserleuterungen_FTEM!C32)","v":"zeigt im Spiel und im Training hohe Intensität, gibt immer ihr Maximum und will ihre Limiten pushen, zeigt Leidenschaft, ist um hohe Trainingsqualität bemüht"},null,null,{"$f":"IF($H$2=\"G\",Skillserleuterungen_FTEM!#REF!,Skillserleuterungen_FTEM!#REF!)","v":{"$error":"#REF!"}},null,null,null,{"$f":"IFERROR(AVERAGE(O41:O45),\"-\")","v":"-"},null,{"$f":"IFERROR(AVERAGE(Q41:Q45),\"-\")","v":"-"},null,{"$f":"IFERROR(AVERAGE(S41:S45),\"-\")","v":"-"},null,{"$f":"IFERROR(AVERAGE(U41:U45),\"-\")","v":"-"},null,{"$f":"IFERROR(AVERAGE(W41:W45),\"-\")","v":"-"},null,{"$f":"IFERROR(AVERAGE(Y41:Y45),\"-\")","v":"-"}]
[null,null,null,{"$f":"IF($H$2=\"G\",Skillserleuterungen_FTEM!F33,Skillserleuterungen_FTEM!B33)","v":"Vorbereitung"},null,null,{"$f":"IF($H$2=\"G\",Skillserleuterungen_FTEM!G33,Skillserleuterungen_FTEM!C33)","v":"bewusste und gezielte Vorbereitung, mental wie auch physisch, verfügt über einen effizienten Ablauf zur Erreichung des idealen Leistungszustand (ILZ)"},null,null,{"$f":"IF($H$2=\"G\",Skillserleuterungen_FTEM!#REF!,Skillserleuterungen_FTEM!#REF!)","v":{"$error":"#REF!"}}]
[null,null,null,{"$f":"IF($H$2=\"G\",Skillserleuterungen_FTEM!F34,Skillserleuterungen_FTEM!B34)","v":"Selbstcoaching"},null,null,{"$f":"IF($H$2=\"G\",Skillserleuterungen_FTEM!G34,Skillserleuterungen_FTEM!C34)","v":"verfügt über gute Konzentrationsfähigkeit, kann während Spiel/Training ihren ILZ halten, kann mentale Grundtechniken anwenden, widerstandsfähig gegen negative Gedanken und Einflüsse, ist sich ihrer Körpersprache bewusst und kann diese regulieren"},null,null,{"$f":"IF($H$2=\"G\",Skillserleuterungen_FTEM!#REF!,Skillserleuterungen_FTEM!#REF!)","v":{"$error":"#REF!"}}]
[null,null,null,{"$f":"IF($H$2=\"G\",Skillserleuterungen_FTEM!F35,Skillserleuterungen_FTEM!B35)","v":"Energiemanagement"},null,null,{"$f":"IF($H$2=\"G\",Skillserleuterungen_FTEM!G35,Skillserleuterungen_FTEM!C35)","v":"kann eigene Energie regulieren, bereit zur Regeneration, weiss wann sie \"Vollgas\" geben muss und wann abschalten, On/Off-Schalter"},null,null,{"$f":"IF($H$2=\"G\",Skillserleuterungen_FTEM!#REF!,Skillserleuterungen_FTEM!#REF!)","v":{"$error":"#REF!"}}]
[null,null,null,{"$f":"IF($H$2=\"G\",Skillserleuterungen_FTEM!F36,Skillserleuterungen_FTEM!B36)","v":"Emotionskontrolle"},null,null,{"$f":"IF($H$2=\"G\",Skillserleuterungen_FTEM!G36,Skillserleuterungen_FTEM!C36)","v":"kann eigene Emotionen und Impulse regulieren, behält auch unter Druck die Kontrolle, kann auch in emotional anspruchsvollen oder frustrierenden Situationen angemessen agieren"},null,null,{"$f":"IF($H$2=\"G\",Skillserleuterungen_FTEM!#REF!,Skillserleuterungen_FTEM!#REF!)","v":{"$error":"#REF!"}}]
[{"$f":"Skillserleuterungen_FTEM!A37","v":"PHYSE"},null,null,{"$f":"IF($H$2=\"G\",Skillserleuterungen_FTEM!F37,Skillserleuterungen_FTEM!B37)","v":"Leistungserzeugung"},null,null,{"$f":"IF($H$2=\"G\",Skillserleuterungen_FTEM!G37,Skillserleuterungen_FTEM!C37)","v":"verfügt über die nötige Power/Kraft/Schnelligkeit in den Beinen und im Oberkörper (Neuromuskuläre Faktoren)"},null,null,{"$f":"IF($H$2=\"G\",Skillserleuterungen_FTEM!#REF!,Skillserleuterungen_FTEM!#REF!)","v":{"$error":"#REF!"}},null,null,null,{"$f":"IFERROR(AVERAGE(O46:O50),\"-\")","v":"-"},null,{"$f":"IFERROR(AVERAGE(Q46:Q50),\"-\")","v":"-"},null,{"$f":"IFERROR(AVERAGE(S46:S50),\"-\")","v":"-"},null,{"$f":"IFERROR(AVERAGE(U46:U50),\"-\")","v":"-"},null,{"$f":"IFERROR(AVERAGE(W46:W50),\"-\")","v":"-"},null,{"$f":"IFERROR(AVERAGE(Y46:Y50),\"-\")","v":"-"}]
[null,null,null,{"$f":"IF($H$2=\"G\",Skillserleuterungen_FTEM!F38,Skillserleuterungen_FTEM!B38)","v":"sporartspez. Ermüdungsresistenz"},null,null,{"$f":"IF($H$2=\"G\",Skillserleuterungen_FTEM!G38,Skillserleuterungen_FTEM!C38)","v":"Ist fähig  die Power/Kraft/Schnelligkeit innerhalb des Einsatzes lange aufrechtzuerhalten und kann sich zwischen den Einsätzen jeweils vollkommen erholen (Metabolische und kardiovaskuläre Faktoren)"},null,null,{"$f":"IF($H$2=\"G\",Skillserleuterungen_FTEM!#REF!,Skillserleuterungen_FTEM!#REF!)","v":{"$error":"#REF!"}}]
[null,null,null,{"$f":"IF($H$2=\"G\",Skillserleuterungen_FTEM!F39,Skillserleuterungen_FTEM!B39)","v":"Gesundheit / Prävention"},null,null,{"$f":"IF($H$2=\"G\",Skillserleuterungen_FTEM!G39,Skillserleuterungen_FTEM!C39)","v":"verfügt über die nötige Stabilität (z.B. Beinachsenstabilität) und Beweglichkeit in den zentralen Gelenken"},null,null,{"$f":"IF($H$2=\"G\",Skillserleuterungen_FTEM!#REF!,Skillserleuterungen_FTEM!#REF!)","v":{"$error":"#REF!"}}]
[null,null,null,{"$f":"IF($H$2=\"G\",Skillserleuterungen_FTEM!F40,Skillserleuterungen_FTEM!B40)","v":"Bewegungskompetenzen"},null,null,{"$f":"IF($H$2=\"G\",Skillserleuterungen_FTEM!G40,Skillserleuterungen_FTEM!C40)","v":"beherrscht die grundlegenden Bewegungsfertigkeiten, die eine unerlässliche Zubringerfunktion für die sportspezifischen \"Skills\" darstellt sowie zur nötigen Bewegungseffizienz führt"},null,null,{"$f":"IF($H$2=\"G\",Skillserleuterungen_FTEM!#REF!,Skillserleuterungen_FTEM!#REF!)","v":{"$error":"#REF!"}}]
[null,null,null,{"$f":"IF($H$2=\"G\",Skillserleuterungen_FTEM!F41,Skillserleuterungen_FTEM!B41)","v":"Robustheit"},null,null,{"$f":"IF($H$2=\"G\",Skillserleuterungen_FTEM!G41,Skillserleuterungen_FTEM!C41)","v":"verfügt über die nötige Grundkraft (Körperspannung), um sich in Zweikämpfen durchzusetzen und bei Zusammestössen standzuhalten"},null,null,{"$f":"IF($H$2=\"G\",Skillserleuterungen_FTEM!#REF!,Skillserleuterungen_FTEM!#REF!)","v":{"$error":"#REF!"}}]

{"sheet":"2","index":5,"n_rows":50,"n_cols":36,"rows_kept":50,"cut":false,"hidden":false,"merged":[[13,6,13,11],[14,6,14,11],[15,6,15,11],[21,3,21,5],[21,6,21,11],[26,3,26,5],[26,6,26,11],[27,3,27,5],[27,6,27,11],[35,34,39,34],[40,25,44,25],[40,26,44,32],[40,34,44,34],[12,25,16,25],[12,26,16,32],[12,34,16,34],[18,34,22,34],[23,25,28,25],[23,26,28,32],[23,34,28,34],[29,25,33,25],[29,26,33,32],[29,34,33,34],[17,26,17,32],[34,26,34,32],[35,25,39,25],[35,26,39,32],[1,10,1,24],[2,0,2,1],[2,2,2,5],[2,11,2,24],[6,0,6,1],[6,2,6,35],[0,0,0,24],[0,25,0,26],[0,27,0,32],[0,33,0,35],[1,0,1,1],[1,2,1,5],[7,0,7,1],[7,2,7,35],[8,0,8,1],[8,2,8,35],[3,0,3,1],[3,10,3,24],[4,0,4,1],[4,2,4,5],[4,10,4,24],[10,0,10,24],[10,25,10,35],[11,0,11,2],[11,3,11,5],[11,13,11,14],[11,15,11,16],[11,17,11,18],[11,19,11,20],[11,21,11,22],[11,23,11,24],[11,26,11,32],[11,6,11,11],[12,23,16,23],[16,3,16,5],[16,6,16,11],[17,0,17,2],[17,3,17,5],[17,6,17,11],[17,13,17,14],[17,15,17,16],[17,17,17,18],[17,19,17,20],[17,21,17,22],[17,23,17,24],[12,0,16,2],[12,3,12,5],[12,6,12,11],[12,12,16,12],[12,13,16,13],[12,15,16,15],[12,17,16,17],[12,19,16,19],[12,21,16,21],[13,3,13,5],[14,3,14,5],[15,3,15,5],[18,15,22,15],[18,17,22,17],[18,19,22,19],[18,21,22,21],[18,23,22,23],[22,3,22,5],[22,6,22,11],[18,25,22,25],[18,26,22,32],[18,0,22,2],[18,3,18,5],[18,6,18,11],[18,12,22,12],[18,13,22,13],[19,3,19,5],[19,6,19,11],[20,3,20,5],[20,6,20,11],[23,0,28,2],[23,3,23,5],[23,6,23,11],[23,12,28,12],[23,13,28,13],[23,15,28,15],[23,17,28,17],[29,13,33,13],[29,15,33,15],[29,0,33,2],[32,3,32,5],[32,6,32,11],[23,19,28,19],[23,21,28,21],[23,23,28,23],[24,3,24,5],[24,6,24,11],[28,3,28,5],[28,6,28,11],[33,3,33,5],[33,6,33,11],[29,23,33,23],[29,17,33,17],[29,19,33,19],[29,21,33,21],[30,3,30,5],[30,6,30,11],[31,3,31,5],[31,6,31,11],[29,3,29,5],[29,6,29,11],[29,12,33,12],[40,21,44,21],[40,23,44,23],[41,3,41,5],[41,6,41,11],[44,3,44,5],[44,6,44,11],[34,23,34,24],[35,23,39,23],[34,0,34,2],[34,3,34,5],[34,6,34,11],[34,13,34,14],[34,15,34,16],[34,17,34,18],[34,19,34,20],[34,21,34,22],[35,17,39,17],[35,19,39,19],[35,21,39,21],[35,0,39,2],[35,3,35,5],[35,6,35,11],[35,12,39,12],[35,13,39,13],[45,0,49,2],[40,0,44,2],[40,3,40,5],[40,6,40,11],[40,12,44,12],[40,13,44,13],[40,15,44,15],[36,3,36,5],[36,6,36,11],[37,3,37,5],[37,6,37,11],[35,15,39,15],[39,3,39,5],[39,6,39,11],[38,3,38,5],[38,6,38,11],[43,3,43,5],[43,6,43,11],[48,3,48,5],[48,6,48,11],[45,34,49,34],[25,3,25,5],[25,6,25,11],[42,3,42,5],[42,6,42,11],[45,12,49,12],[45,13,49,13],[45,15,49,15],[45,17,49,17],[45,19,49,19],[45,21,49,21],[45,23,49,23],[45,25,49,25],[45,26,49,32],[45,3,45,5],[45,6,45,11],[46,3,46,5],[46,6,46,11],[47,3,47,5],[47,6,47,11],[49,3,49,5],[49,6,49,11],[40,17,44,17],[40,19,44,19]]}
["Personalien",null,null,null,null,null,null,null,null,null,null,null,null,null,null,null,null,null,null,null,null,null,null,null,null,"Vorausetzungen",null,"Evaluationen",null,null,null,null,null,"Rating"]
["VORNAME",null,{"$f":"IF(ISBLANK(VLOOKUP(2,Tabelle3[],3,0)),\"-\",VLOOKUP(2,Tabelle3[],3,0))","v":"-"},null,null,null,"POSITION",null,null,"ADRESSE",{"$f":"IF(ISBLANK(VLOOKUP(2,Tabelle3[],5,0)),\"-\",VLOOKUP(2,Tabelle3[],5,0))","v":"-"},null,null,null,null,null,null,null,null,null,null,null,null,null,null,"\"Alter\" (Biologisch/Relative Age)",null,"Datum 1",null,null,"cm",null,"Kg",null,"AUSGEZEICHNET",5]
["NAME",null,{"$f":"IF(ISBLANK(VLOOKUP(2,Tabelle3[],2,0)),\"-\",VLOOKUP(2,Tabelle3[],2,0))","v":"-"},null,null,null,"STOCK",null,null,"WOHNORT",{"$f":"IF(ISBLANK(VLOOKUP(2,Tabelle3[],7,0)),\"-\",VLOOKUP(2,Tabelle3[],7,0))","v":"-"},{"$f":"IF(ISBLANK(VLOOKUP(2,Tabelle3[],6,0)),\"-\",VLOOKUP(2,Tabelle3[],6,0))","v":"-"},null,null,null,null,null,null,null,null,null,null,null,null,null,"Veranlagung",null,"Datum 2",null,null,"cm",null,"Kg",null,"GUT",4]
["GEB. DATUM",null,{"$f":"IF(ISBLANK(VLOOKUP(2,Tabelle3[],14,0)),\"-\",VLOOKUP(2,Tabelle3[],14,0))","v":"-"},{"$f":"IF(ISBLANK(VLOOKUP(2,Tabelle3[],15,0)),\"-\",VLOOKUP(2,Tabelle3[],15,0))","v":"-"},{"$f":"IF(ISBLANK(VLOOKUP(2,Tabelle3[],16,0)),\"-\",VLOOKUP(2,Tabelle3[],16,0))","v":"-"},null,"GRÖSSE",null,"cm (Final)","CLUB",{"$f":"IF(ISBLANK(VLOOKUP(2,Tabelle3[],8,0)),\"-\",VLOOKUP(2,Tabelle3[],8,0))","v":"-"},null,null,null,null,null,null,null,null,null,null,null,null,null,null,"Umfeld",null,"Datum 3",null,null,"cm",null,"Kg",null,"DURCHSCHNITT",3]
["SEX",null,{"$f":"IF(ISBLANK(VLOOKUP(2,Tabelle3[],13,0)),\"-\",VLOOKUP(2,Tabelle3[],13,0))","v":"-"},null,null,null,"GEWICHT",null,"Kg (Final)","E-Mail",{"$f":"IF(ISBLANK(VLOOKUP(2,Tabelle3[],9,0)),\"-\",VLOOKUP(2,Tabelle3[],9,0))","v":"-"},null,null,null,null,null,null,null,null,null,null,null,null,null,null,null,null,"Datum 4",null,null,"cm",null,"Kg",null,"MANGELHAFT",2]
[null,null,null,null,null,null,null,null,null,null,null,null,null,null,null,null,null,null,null,null,null,null,null,null,null,null,null,"Datum 5",null,null,"cm",null,"Kg",null,"UNGENÜGEND",1]
["Vision",null,"xxx"]
["Ziele",null,"xxx"]
["Stärken",null,"xxx"]
[]
["EVALUATION (COACH / SPIELERIN)",null,null,null,null,null,null,null,null,null,null,null,null,null,null,null,null,null,null,null,null,null,null,null,null,"SMART"]
[{"$f":"Skillserleuterungen_FTEM!A3","v":"TEAM"},null,null,{"$f":"Skillserleuterungen_FTEM!B3","v":"FÄHIGKEIT"},null,null,{"$f":"Skillserleuterungen_FTEM!C3","v":"BEOBACHTUNG"},null,null,null,null,null,"Final","Datum1",null,"Datum2",null,"Datum3",null,"Datum4",null,"Datum5",null,"Player",null,"ZIEL","MASSNAHME:\nSPEZIFISCH,  MESSBAR, REALISITISCH",null,null,null,null,null,null,"TERMIN","ZIEL-KONTROLLE","Datum"]
[{"$f":"Skillserleuterungen_FTEM!A4","v":"TEAM"},null,null,{"$f":"IF($H$2=\"G\",Skillserleuterungen_FTEM!F4,Skillserleuterungen_FTEM!B4)","v":"Kommunikation"},null,null,{"$f":"IF($H$2=\"G\",Skillserleuterungen_FTEM!G4,Skillserleuterungen_FTEM!C4)","v":"pflegt einen offenen, respektvollen Umgang, Vertrauensbasis als Grundlage, trägt Konflikte aus ohne die Stabilität der Gruppe zu gefährden, kommuniziert mit Mitspielerinnen, Trainern und Funktionären gleichermassen wertschätzend"},null,null,{"$f":"IF($H$2=\"G\",Skillserleuterungen_FTEM!#REF!,Skillserleuterungen_FTEM!#REF!)","v":{"$error":"#REF!"}},null,null,null,{"$f":"IFERROR(AVERAGE(O13:O17),\"-\")","v":"-"},null,{"$f":"IFERROR(AVERAGE(Q13:Q17),\"-\")","v":"-"},null,{"$f":"IFERROR(AVERAGE(S13:S17),\"-\")","v":"-"},null,{"$f":"IFERROR(AVERAGE(U13:U17),\"-\")","v":"-"},null,null,null,{"$f":"IFERROR(AVERAGE(Y13:Y17),\"-\")","v":"-"}]
[null,null,null,{"$f":"IF($H$2=\"G\",Skillserleuterungen_FTEM!F5,Skillserleuterungen_FTEM!B5)","v":"Teamfähigkeit"},null,null,{"$f":"IF($H$2=\"G\",Skillserleuterungen_FTEM!G5,Skillserleuterungen_FTEM!C5)","v":"Integration in die Gruppe, gemeinsame Ziele bestimmen und verfolgen können, WIR vor dem ICH, trägt zu einem guten Team-Spirit und Arbeitsklima bei"},null,null,{"$f":"IF($H$2=\"G\",Skillserleuterungen_FTEM!#REF!,Skillserleuterungen_FTEM!#REF!)","v":{"$error":"#REF!"}}]
[null,null,null,{"$f":"IF($H$2=\"G\",Skillserleuterungen_FTEM!F6,Skillserleuterungen_FTEM!B6)","v":"Leadership"},null,null,{"$f":"IF($H$2=\"G\",Skillserleuterungen_FTEM!G6,Skillserleuterungen_FTEM!C6)","v":"übernimmt Verantwortung in der Gruppe, versucht Team und Mitspielerinnen besser zu machen, nimmt positiven Einfluss auf die Gruppendynamik"},null,null,{"$f":"IF($H$2=\"G\",Skillserleuterungen_FTEM!#REF!,Skillserleuterungen_FTEM!#REF!)","v":{"$error":"#REF!"}}]
[null,null,null,{"$f":"IF($H$2=\"G\",Skillserleuterungen_FTEM!F7,Skillserleuterungen_FTEM!B7)","v":"Rollenverteilung"},null,null,{"$f":"IF($H$2=\"G\",Skillserleuterungen_FTEM!G7,Skillserleuterungen_FTEM!C7)","v":"kennt ihre Rolle und füllt diese aus, ist sich ihrer Stellung im Team und im System bewusst, stellt eigene Kompetenzen in den Dienst des Teams"},null,null,{"$f":"IF($H$2=\"G\",Skillserleuterungen_FTEM!#REF!,Skillserleuterungen_FTEM!#REF!)","v":{"$error":"#REF!"}}]
[null,null,null,{"$f":"IF($H$2=\"G\",Skillserleuterungen_FTEM!F8,Skillserleuterungen_FTEM!B8)","v":"Respekt"},null,null,{"$f":"IF($H$2=\"G\",Skillserleuterungen_FTEM!G8,Skillserleuterungen_FTEM!C8)","v":"Respektvoller Umgang mit Mitspielerinnen, Trainern, Gegnern, Schiedsrichter und Staff; achtet die Regeln, Fairplayprinzipien (inkl. Anti-Doping)"},null,null,{"$f":"IF($H$2=\"G\",Skillserleuterungen_FTEM!#REF!,Skillserleuterungen_FTEM!#REF!)","v":{"$error":"#REF!"}}]
[{"$f":"Skillserleuterungen_FTEM!A9","v":"ON ICE"},null,null,{"$f":"Skillserleuterungen_FTEM!B9","v":"FÄHIGKEIT"},null,null,{"$f":"Skillserleuterungen_FTEM!C9","v":"BEOBACHTUNG"},null,null,null,null,null,null,"Datum1",null,"Datum2",null,"Datum3",null,"Datum4",null,"Datum5",null,"Player",null,"ZIEL","MASSNAHME:\nSPEZIFISCH,  MESSBAR, REALISITISCH",null,null,null,null,null,null,"TERMIN","ZIEL-KONTROLLE","Datum"]
[{"$f":"Skillserleuterungen_FTEM!A10","v":"SKATING"},null,null,{"$f":"IF($H$2=\"G\",Skillserleuterungen_FTEM!F10,Skillserleuterungen_FTEM!B10)","v":"Footspeed"},null,null,{"$f":"IF($H$2=\"G\",Skillserleuterungen_FTEM!G10,Skillserleuterungen_FTEM!C10)","v":"Beschleunigung, Antritt, erste 3 Schritte Explosivität, Frequenz"},null,null,{"$f":"IF($H$2=\"G\",Skillserleuterungen_FTEM!#REF!,Skillserleuterungen_FTEM!#REF!)","v":{"$error":"#REF!"}},null,null,null,{"$f":"IFERROR(AVERAGE(O19:O23),\"-\")","v":"-"},null,{"$f":"IFERROR(AVERAGE(Q19:Q23),\"-\")","v":"-"},null,{"$f":"IFERROR(AVERAGE(S19:S23),\"-\")","v":"-"},null,{"$f":"IFERROR(AVERAGE(U19:U23),\"-\")","v":"-"},null,{"$f":"IFERROR(AVERAGE(W19:W23),\"-\")","v":"-"},null,{"$f":"IFERROR(AVERAGE(Y19:Y23),\"-\")","v":"-"}]
[null,null,null,{"$f":"IF($H$2=\"G\",Skillserleuterungen_FTEM!F11,Skillserleuterungen_FTEM!B11)","v":"Topspeed"},null,null,{"$f":"IF($H$2=\"G\",Skillserleuterungen_FTEM!G11,Skillserleuterungen_FTEM!C11)","v":"Schnelligkeit, Gleitfähigkeit, vorwärts und rückwärts, Ökonomie"},null,null,{"$f":"IF($H$2=\"G\",Skillserleuterungen_FTEM!#REF!,Skillserleuterungen_FTEM!#REF!)","v":{"$error":"#REF!"}}]
[null,null,null,{"$f":"IF($H$2=\"G\",Skillserleuterungen_FTEM!F12,Skillserleuterungen_FTEM!B12)","v":"Agilität"},null,null,{"$f":"IF($H$2=\"G\",Skillserleuterungen_FTEM!G12,Skillserleuterungen_FTEM!C12)","v":"Richtungsänderung, Drehung, Stop und Start, \"Nummelin\""},null,null,{"$f":"IF($H$2=\"G\",Skillserleuterungen_FTEM!#REF!,Skillserleuterungen_FTEM!#REF!)","v":{"$error":"#REF!"}},null,null,null,{"$f":"IFERROR(AVERAGE(O21:O23),\"-\")","v":"-"},null,{"$f":"IFERROR(AVERAGE(Q21:Q23),\"-\")","v":"-"},null,{"$f":"IFERROR(AVERAGE(S21:S23),\"-\")","v":"-"},null,{"$f":"IFERROR(AVERAGE(U21:U23),\"-\")","v":"-"},null,{"$f":"IFERROR(AVERAGE(W21:W23),\"-\")","v":"-"},null,{"$f":"IFERROR(AVERAGE(Y21:Y23),\"-\")","v":"-"}]
[null,null,null,{"$f":"IF($H$2=\"G\",Skillserleuterungen_FTEM!F13,Skillserleuterungen_FTEM!B13)","v":"Balance"},null,null,{"$f":"IF($H$2=\"G\",Skillserleuterungen_FTEM!G13,Skillserleuterungen_FTEM!C13)","v":"Gleichgewicht, Standhaftfähigkeit, tiefe Position, ein- und beidbeinig"},null,null,{"$f":"IF($H$2=\"G\",Skillserleuterungen_FTEM!#REF!,Skillserleuterungen_FTEM!#REF!)","v":{"$error":"#REF!"}}]
[null,null,null,{"$f":"IF($H$2=\"G\",Skillserleuterungen_FTEM!F14,Skillserleuterungen_FTEM!B14)","v":"Backwards Skating"},null,null,{"$f":"IF($H$2=\"G\",Skillserleuterungen_FTEM!G14,Skillserleuterungen_FTEM!C14)","v":"Beschleunigung, Geschwindigkeit, Balance"},null,null,{"$f":"IF($H$2=\"G\",Skillserleuterungen_FTEM!#REF!,Skillserleuterungen_FTEM!#REF!)","v":{"$error":"#REF!"}}]
[{"$f":"Skillserleuterungen_FTEM!A15","v":"SKILLS"},null,null,{"$f":"IF($H$2=\"G\",Skillserleuterungen_FTEM!F15,Skillserleuterungen_FTEM!B15)","v":"Schiessen"},null,null,{"$f":"IF($H$2=\"G\",Skillserleuterungen_FTEM!G15,Skillserleuterungen_FTEM!C15)","v":"Effizienz (no space no time), Variantenreichtum, Überraschungsgrad (Quick Release), Präzision, Härte, (taktische Abschlüsse)"},null,null,{"$f":"IF($H$2=\"G\",Skillserleuterungen_FTEM!#REF!,Skillserleuterungen_FTEM!#REF!)","v":{"$error":"#REF!"}},null,null,null,{"$f":"IFERROR(AVERAGE(O24:O29),\"-\")","v":"-"},null,{"$f":"IFERROR(AVERAGE(Q24:Q29),\"-\")","v":"-"},null,{"$f":"IFERROR(AVERAGE(S24:S29),\"-\")","v":"-"},null,{"$f":"IFERROR(AVERAGE(U24:U29),\"-\")","v":"-"},null,{"$f":"IFERROR(AVERAGE(W24:W29),\"-\")","v":"-"},null,{"$f":"IFERROR(AVERAGE(Y24:Y29),\"-\")","v":"-"}]
[null,null,null,{"$f":"IF($H$2=\"G\",Skillserleuterungen_FTEM!F16,Skillserleuterungen_FTEM!B16)","v":"Passen"},null,null,{"$f":"IF($H$2=\"G\",Skillserleuterungen_FTEM!G16,Skillserleuterungen_FTEM!C16)","v":"Passabgabe (Distanz, Flippass Backhand), Passannahme (Präzision, Timing, Vorhand, Rückhand, Schlittschuh), Puckspeed "},null,null,{"$f":"IF($H$2=\"G\",Skillserleuterungen_FTEM!#REF!,Skillserleuterungen_FTEM!#REF!)","v":{"$error":"#REF!"}}]
[null,null,null,{"$f":"IF($H$2=\"G\",Skillserleuterungen_FTEM!F17,Skillserleuterungen_FTEM!B17)","v":"Stockarbeit"},null,null,{"$f":"IF($H$2=\"G\",Skillserleuterungen_FTEM!G17,Skillserleuterungen_FTEM!C17)","v":"Stock zum Puck, Passlinie unterbinden, ablenken, Stockkontrolle Gegenspielerin"},null,null,{"$f":"IF($H$2=\"G\",Skillserleuterungen_FTEM!#REF!,Skillserleuterungen_FTEM!#REF!)","v":{"$error":"#REF!"}}]
[null,null,null,{"$f":"IF($H$2=\"G\",Skillserleuterungen_FTEM!F18,Skillserleuterungen_FTEM!B18)","v":"Puck besitzen "},null,null,{"$f":"IF($H$2=\"G\",Skillserleuterungen_FTEM!G18,Skillserleuterungen_FTEM!C18)","v":"Puckkontrolle, Dribblings, Puck schützen, Finten (Varianten: mit Schlittschuh, mit sowie ohne Bande), Face-Off"},null,null,{"$f":"IF($H$2=\"G\",Skillserleuterungen_FTEM!#REF!,Skillserleuterungen_FTEM!#REF!)","v":{"$error":"#REF!"}}]
[null,null,null,{"$f":"IF($H$2=\"G\",Skillserleuterungen_FTEM!F19,Skillserleuterungen_FTEM!B19)","v":"Körperspiel"},null,null,{"$f":"IF($H$2=\"G\",Skillserleuterungen_FTEM!G19,Skillserleuterungen_FTEM!C19)","v":"Phyisches Durchsetzungsvermögen, Zweikampf (offenes Eis/Bande), Checks nehmen/Head up, Battle Level, Hart aber fair"},null,null,{"$f":"IF($H$2=\"G\",Skillserleuterungen_FTEM!#REF!,Skillserleuterungen_FTEM!#REF!)","v":{"$error":"#REF!"}}]
[null,null,null,{"$f":"IF($H$2=\"G\",Skillserleuterungen_FTEM!F20,Skillserleuterungen_FTEM!B20)","v":"-"},null,null,{"$f":"IF($H$2=\"G\",Skillserleuterungen_FTEM!G20,Skillserleuterungen_FTEM!C20)","v":"-"},null,null,{"$f":"IF($H$2=\"G\",Skillserleuterungen_FTEM!#REF!,Skillserleuterungen_FTEM!#REF!)","v":{"$error":"#REF!"}}]
[{"$f":"Skillserleuterungen_FTEM!A21","v":"HOCKEY SENSE"},null,null,{"$f":"IF($H$2=\"G\",Skillserleuterungen_FTEM!F21,Skillserleuterungen_FTEM!B21)","v":"Spielintelligenz"},null,null,{"$f":"IF($H$2=\"G\",Skillserleuterungen_FTEM!G21,Skillserleuterungen_FTEM!C21)","v":"Freie Räume und Spielerin sehen und Überzahlsituationen kreieren, lösungsorientiert agieren bei allen Bedingungen, Headspeed"},null,null,{"$f":"IF($H$2=\"G\",Skillserleuterungen_FTEM!#REF!,Skillserleuterungen_FTEM!#REF!)","v":{"$error":"#REF!"}},null,null,null,{"$f":"IFERROR(AVERAGE(O30:O34),\"-\")","v":"-"},null,{"$f":"IFERROR(AVERAGE(Q30:Q34),\"-\")","v":"-"},null,{"$f":"IFERROR(AVERAGE(S30:S34),\"-\")","v":"-"},null,{"$f":"IFERROR(AVERAGE(U30:U34),\"-\")","v":"-"},null,{"$f":"IFERROR(AVERAGE(W30:W34),\"-\")","v":"-"},null,{"$f":"IFERROR(AVERAGE(Y30:Y34),\"-\")","v":"-"}]
[null,null,null,{"$f":"IF($H$2=\"G\",Skillserleuterungen_FTEM!F22,Skillserleuterungen_FTEM!B22)","v":"Offensives Bewusstsein"},null,null,{"$f":"IF($H$2=\"G\",Skillserleuterungen_FTEM!G22,Skillserleuterungen_FTEM!C22)","v":"Anspielbar, Antizipation der Spielsituationen, Freiräume für Mitspielerinnen öffnen, Abschlussorientiert sein, Gapspeed, gute Kommunikation"},null,null,{"$f":"IF($H$2=\"G\",Skillserleuterungen_FTEM!#REF!,Skillserleuterungen_FTEM!#REF!)","v":{"$error":"#REF!"}}]
[null,null,null,{"$f":"IF($H$2=\"G\",Skillserleuterungen_FTEM!F23,Skillserleuterungen_FTEM!B23)","v":"Defensiv Bewusstsein"},null,null,{"$f":"IF($H$2=\"G\",Skillserleuterungen_FTEM!G23,Skillserleuterungen_FTEM!C23)","v":"Inside Position halten, Slot beschützen, Mitspieler absichern/Support, Passlinie erkennen, Schüsse blockieren. Gapspeed, gute Komunikation"},null,null,{"$f":"IF($H$2=\"G\",Skillserleuterungen_FTEM!#REF!,Skillserleuterungen_FTEM!#REF!)","v":{"$error":"#REF!"}}]
[null,null,null,{"$f":"IF($H$2=\"G\",Skillserleuterungen_FTEM!F24,Skillserleuterungen_FTEM!B24)","v":"Puckmanagement"},null,null,{"$f":"IF($H$2=\"G\",Skillserleuterungen_FTEM!G24,Skillserleuterungen_FTEM!C24)","v":"Situationsadäquate Entscheidungen treffen, Support, Overload"},null,null,{"$f":"IF($H$2=\"G\",Skillserleuterungen_FTEM!#REF!,Skillserleuterungen_FTEM!#REF!)","v":{"$error":"#REF!"}}]
[null,null,null,{"$f":"IF($H$2=\"G\",Skillserleuterungen_FTEM!F25,Skillserleuterungen_FTEM!B25)","v":"Kreativität"},null,null,{"$f":"IF($H$2=\"G\",Skillserleuterungen_FTEM!G25,Skillserleuterungen_FTEM!C25)","v":"Überraschende Lösungen, Torriecher"},null,null,{"$f":"IF($H$2=\"G\",Skillserleuterungen_FTEM!#REF!,Skillserleuterungen_FTEM!#REF!)","v":{"$error":"#REF!"}}]
[{"$f":"Skillserleuterungen_FTEM!A26","v":"PERSONALITY"},null,null,{"$f":"Skillserleuterungen_FTEM!B26","v":"FÄHIGKEIT"},null,null,{"$f":"Skillserleuterungen_FTEM!C26","v":"BEOBACHTUNG"},null,null,null,null,null,null,"Datum1",null,"Datum2",null,"Datum3",null,"Datum4",null,"Datum5",null,"Player",null,"ZIEL","MASSNAHME:\nSPEZIFISCH,  MESSBAR, REALISITISCH",null,null,null,null,null,null,"TERMIN","ZIEL-KONTROLLE","Datum"]
[{"$f":"Skillserleuterungen_FTEM!A27","v":"PERSÖNLICHKEIT"},null,null,{"$f":"IF($H$2=\"G\",Skillserleuterungen_FTEM!F27,Skillserleuterungen_FTEM!B27)","v":"Selbstbewusstsein"},null,null,{"$f":"IF($H$2=\"G\",Skillserleuterungen_FTEM!G27,Skillserleuterungen_FTEM!C27)","v":"hat das nötige Selbstvertrauen,\"I can do it\"-Haltung, kann eigene Fähigkeiten einschätzen (kennt eigene Stärken/Schwächen), kann ihre Stärken konstant einsetzen, agiert mutig und nimmt kalkulierte Risiken"},null,null,{"$f":"IF($H$2=\"G\",Skillserleuterungen_FTEM!#REF!,Skillserleuterungen_FTEM!#REF!)","v":{"$error":"#REF!"}},null,null,null,{"$f":"IFERROR(AVERAGE(O36:O40),\"-\")","v":"-"},null,{"$f":"IFERROR(AVERAGE(Q36:Q40),\"-\")","v":"-"},null,{"$f":"IFERROR(AVERAGE(S36:S40),\"-\")","v":"-"},null,{"$f":"IFERROR(AVERAGE(U36:U40),\"-\")","v":"-"},null,{"$f":"IFERROR(AVERAGE(W36:W40),\"-\")","v":"-"},null,{"$f":"IFERROR(AVERAGE(Y36:Y40),\"-\")","v":"-"}]
[null,null,null,{"$f":"IF($H$2=\"G\",Skillserleuterungen_FTEM!F28,Skillserleuterungen_FTEM!B28)","v":"Lernfähigkeit"},null,null,{"$f":"IF($H$2=\"G\",Skillserleuterungen_FTEM!G28,Skillserleuterungen_FTEM!C28)","v":"hat eine gute Auffassungsgabe (nimmt auf und kann umsetzen), reflektiert eigenes Handeln, versucht aus Fehlern zu lernen und kann Massnahmen ableiten"},null,null,{"$f":"IF($H$2=\"G\",Skillserleuterungen_FTEM!#REF!,Skillserleuterungen_FTEM!#REF!)","v":{"$error":"#REF!"}}]
[null,null,null,{"$f":"IF($H$2=\"G\",Skillserleuterungen_FTEM!F29,Skillserleuterungen_FTEM!B29)","v":"Eigenverantwortung"},null,null,{"$f":"IF($H$2=\"G\",Skillserleuterungen_FTEM!G29,Skillserleuterungen_FTEM!C29)","v":"übernimmt Verantwortung für eigene Leistungen und Entwicklung, handelt selbständig, achtet auf Details, zeigt grosses Engagement in allen Bereichen"},null,null,{"$f":"IF($H$2=\"G\",Skillserleuterungen_FTEM!#REF!,Skillserleuterungen_FTEM!#REF!)","v":{"$error":"#REF!"}}]
[null,null,null,{"$f":"IF($H$2=\"G\",Skillserleuterungen_FTEM!F30,Skillserleuterungen_FTEM!B30)","v":"Motivation"},null,null,{"$f":"IF($H$2=\"G\",Skillserleuterungen_FTEM!G30,Skillserleuterungen_FTEM!C30)","v":"Intrinsischer Antrieb, will sich ständig weiterentwickeln und lernen, will die Erste sein und Erfolg haben, gibt nie auf und lässt sich auch durch Misserfolge nicht vom Weg abbringen"},null,null,{"$f":"IF($H$2=\"G\",Skillserleuterungen_FTEM!#REF!,Skillserleuterungen_FTEM!#REF!)","v":{"$error":"#REF!"}}]
[null,null,null,{"$f":"IF($H$2=\"G\",Skillserleuterungen_FTEM!F31,Skillserleuterungen_FTEM!B31)","v":"Performance Lifestyle"},null,null,{"$f":"IF($H$2=\"G\",Skillserleuterungen_FTEM!G31,Skillserleuterungen_FTEM!C31)","v":"managt Alltag und Umfeld nach dem Leistungsprinzip, hartnäckig, beharrlich und zielgerichtet, Fokus auf eigene Leistung, zeigt Biss und kann sich auch gegen Widerstände durchsetzen, Herausforderungen spornen sie an"},null,null,{"$f":"IF($H$2=\"G\",Skillserleuterungen_FTEM!#REF!,Skillserleuterungen_FTEM!#REF!)","v":{"$error":"#REF!"}}]
[{"$f":"Skillserleuterungen_FTEM!A32","v":"MENTALE STÄRKE"},null,null,{"$f":"IF($H$2=\"G\",Skillserleuterungen_FTEM!F32,Skillserleuterungen_FTEM!B32)","v":"Einsatzbereitschaft"},null,null,{"$f":"IF($H$2=\"G\",Skillserleuterungen_FTEM!G32,Skillserleuterungen_FTEM!C32)","v":"zeigt im Spiel und im Training hohe Intensität, gibt immer ihr Maximum und will ihre Limiten pushen, zeigt Leidenschaft, ist um hohe Trainingsqualität bemüht"},null,null,{"$f":"IF($H$2=\"G\",Skillserleuterungen_FTEM!#REF!,Skillserleuterungen_FTEM!#REF!)","v":{"$error":"#REF!"}},null,null,null,{"$f":"IFERROR(AVERAGE(O41:O45),\"-\")","v":"-"},null,{"$f":"IFERROR(AVERAGE(Q41:Q45),\"-\")","v":"-"},null,{"$f":"IFERROR(AVERAGE(S41:S45),\"-\")","v":"-"},null,{"$f":"IFERROR(AVERAGE(U41:U45),\"-\")","v":"-"},null,{"$f":"IFERROR(AVERAGE(W41:W45),\"-\")","v":"-"},null,{"$f":"IFERROR(AVERAGE(Y41:Y45),\"-\")","v":"-"}]
[null,null,null,{"$f":"IF($H$2=\"G\",Skillserleuterungen_FTEM!F33,Skillserleuterungen_FTEM!B33)","v":"Vorbereitung"},null,null,{"$f":"IF($H$2=\"G\",Skillserleuterungen_FTEM!G33,Skillserleuterungen_FTEM!C33)","v":"bewusste und gezielte Vorbereitung, mental wie auch physisch, verfügt über einen effizienten Ablauf zur Erreichung des idealen Leistungszustand (ILZ)"},null,null,{"$f":"IF($H$2=\"G\",Skillserleuterungen_FTEM!#REF!,Skillserleuterungen_FTEM!#REF!)","v":{"$error":"#REF!"}}]
[null,null,null,{"$f":"IF($H$2=\"G\",Skillserleuterungen_FTEM!F34,Skillserleuterungen_FTEM!B34)","v":"Selbstcoaching"},null,null,{"$f":"IF($H$2=\"G\",Skillserleuterungen_FTEM!G34,Skillserleuterungen_FTEM!C34)","v":"verfügt über gute Konzentrationsfähigkeit, kann während Spiel/Training ihren ILZ halten, kann mentale Grundtechniken anwenden, widerstandsfähig gegen negative Gedanken und Einflüsse, ist sich ihrer Körpersprache bewusst und kann diese regulieren"},null,null,{"$f":"IF($H$2=\"G\",Skillserleuterungen_FTEM!#REF!,Skillserleuterungen_FTEM!#REF!)","v":{"$error":"#REF!"}}]
[null,null,null,{"$f":"IF($H$2=\"G\",Skillserleuterungen_FTEM!F35,Skillserleuterungen_FTEM!B35)","v":"Energiemanagement"},null,null,{"$f":"IF($H$2=\"G\",Skillserleuterungen_FTEM!G35,Skillserleuterungen_FTEM!C35)","v":"kann eigene Energie regulieren, bereit zur Regeneration, weiss wann sie \"Vollgas\" geben muss und wann abschalten, On/Off-Schalter"},null,null,{"$f":"IF($H$2=\"G\",Skillserleuterungen_FTEM!#REF!,Skillserleuterungen_FTEM!#REF!)","v":{"$error":"#REF!"}}]
[null,null,null,{"$f":"IF($H$2=\"G\",Skillserleuterungen_FTEM!F36,Skillserleuterungen_FTEM!B36)","v":"Emotionskontrolle"},null,null,{"$f":"IF($H$2=\"G\",Skillserleuterungen_FTEM!G36,Skillserleuterungen_FTEM!C36)","v":"kann eigene Emotionen und Impulse regulieren, behält auch unter Druck die Kontrolle, kann auch in emotional anspruchsvollen oder frustrierenden Situationen angemessen agieren"},null,null,{"$f":"IF($H$2=\"G\",Skillserleuterungen_FTEM!#REF!,Skillserleuterungen_FTEM!#REF!)","v":{"$error":"#REF!"}}]
[{"$f":"Skillserleuterungen_FTEM!A37","v":"PHYSE"},null,null,{"$f":"IF($H$2=\"G\",Skillserleuterungen_FTEM!F37,Skillserleuterungen_FTEM!B37)","v":"Leistungserzeugung"},null,null,{"$f":"IF($H$2=\"G\",Skillserleuterungen_FTEM!G37,Skillserleuterungen_FTEM!C37)","v":"verfügt über die nötige Power/Kraft/Schnelligkeit in den Beinen und im Oberkörper (Neuromuskuläre Faktoren)"},null,null,{"$f":"IF($H$2=\"G\",Skillserleuterungen_FTEM!#REF!,Skillserleuterungen_FTEM!#REF!)","v":{"$error":"#REF!"}},null,null,null,{"$f":"IFERROR(AVERAGE(O46:O50),\"-\")","v":"-"},null,{"$f":"IFERROR(AVERAGE(Q46:Q50),\"-\")","v":"-"},null,{"$f":"IFERROR(AVERAGE(S46:S50),\"-\")","v":"-"},null,{"$f":"IFERROR(AVERAGE(U46:U50),\"-\")","v":"-"},null,{"$f":"IFERROR(AVERAGE(W46:W50),\"-\")","v":"-"},null,{"$f":"IFERROR(AVERAGE(Y46:Y50),\"-\")","v":"-"}]
[null,null,null,{"$f":"IF($H$2=\"G\",Skillserleuterungen_FTEM!F38,Skillserleuterungen_FTEM!B38)","v":"sporartspez. Ermüdungsresistenz"},null,null,{"$f":"IF($H$2=\"G\",Skillserleuterungen_FTEM!G38,Skillserleuterungen_FTEM!C38)","v":"Ist fähig  die Power/Kraft/Schnelligkeit innerhalb des Einsatzes lange aufrechtzuerhalten und kann sich zwischen den Einsätzen jeweils vollkommen erholen (Metabolische und kardiovaskuläre Faktoren)"},null,null,{"$f":"IF($H$2=\"G\",Skillserleuterungen_FTEM!#REF!,Skillserleuterungen_FTEM!#REF!)","v":{"$error":"#REF!"}}]
[null,null,null,{"$f":"IF($H$2=\"G\",Skillserleuterungen_FTEM!F39,Skillserleuterungen_FTEM!B39)","v":"Gesundheit / Prävention"},null,null,{"$f":"IF($H$2=\"G\",Skillserleuterungen_FTEM!G39,Skillserleuterungen_FTEM!C39)","v":"verfügt über die nötige Stabilität (z.B. Beinachsenstabilität) und Beweglichkeit in den zentralen Gelenken"},null,null,{"$f":"IF($H$2=\"G\",Skillserleuterungen_FTEM!#REF!,Skillserleuterungen_FTEM!#REF!)","v":{"$error":"#REF!"}}]
[null,null,null,{"$f":"IF($H$2=\"G\",Skillserleuterungen_FTEM!F40,Skillserleuterungen_FTEM!B40)","v":"Bewegungskompetenzen"},null,null,{"$f":"IF($H$2=\"G\",Skillserleuterungen_FTEM!G40,Skillserleuterungen_FTEM!C40)","v":"beherrscht die grundlegenden Bewegungsfertigkeiten, die eine unerlässliche Zubringerfunktion für die sportspezifischen \"Skills\" darstellt sowie zur nötigen Bewegungseffizienz führt"},null,null,{"$f":"IF($H$2=\"G\",Skillserleuterungen_FTEM!#REF!,Skillserleuterungen_FTEM!#REF!)","v":{"$error":"#REF!"}}]
[null,null,null,{"$f":"IF($H$2=\"G\",Skillserleuterungen_FTEM!F41,Skillserleuterungen_FTEM!B41)","v":"Robustheit"},null,null,{"$f":"IF($H$2=\"G\",Skillserleuterungen_FTEM!G41,Skillserleuterungen_FTEM!C41)","v":"verfügt über die nötige Grundkraft (Körperspannung), um sich in Zweikämpfen durchzusetzen und bei Zusammestössen standzuhalten"},null,null,{"$f":"IF($H$2=\"G\",Skillserleuterungen_FTEM!#REF!,Skillserleuterungen_FTEM!#REF!)","v":{"$error":"#REF!"}}]

{"sheet":"3","index":6,"n_rows":50,"n_cols":36,"rows_kept":50,"cut":false,"hidden":false,"merged":[[13,3,13,5],[14,3,14,5],[15,3,15,5],[13,6,13,11],[14,6,14,11],[15,6,15,11],[21,3,21,5],[21,6,21,11],[26,3,26,5],[26,6,26,11],[0,0,0,24],[0,25,0,26],[0,27,0,32],[0,33,0,35],[29,25,33,25],[29,26,33,32],[29,34,33,34],[35,25,39,25],[35,26,39,32],[35,34,39,34],[1,0,1,1],[1,2,1,5],[1,10,1,24],[2,0,2,1],[2,2,2,5],[2,11,2,24],[6,0,6,1],[6,2,6,35],[7,0,7,1],[7,2,7,35],[8,0,8,1],[8,2,8,35],[3,0,3,1],[3,10,3,24],[4,0,4,1],[4,2,4,5],[4,10,4,24],[10,0,10,24],[10,25,10,35],[40,25,44,25],[40,26,44,32],[40,34,44,34],[12,25,16,25],[12,26,16,32],[12,34,16,34],[18,25,22,25],[18,26,22,32],[18,34,22,34],[23,25,28,25],[23,26,28,32],[23,34,28,34],[17,26,17,32],[11,0,11,2],[11,3,11,5],[11,13,11,14],[11,15,11,16],[11,17,11,18],[11,19,11,20],[11,21,11,22],[11,23,11,24],[11,26,11,32],[11,6,11,11],[12,23,16,23],[16,3,16,5],[16,6,16,11],[17,0,17,2],[17,3,17,5],[17,6,17,11],[17,13,17,14],[17,15,17,16],[17,17,17,18],[17,19,17,20],[17,21,17,22],[17,23,17,24],[12,0,16,2],[12,3,12,5],[12,6,12,11],[12,12,16,12],[12,13,16,13],[12,15,16,15],[12,17,16,17],[12,19,16,19],[12,21,16,21],[18,15,22,15],[18,17,22,17],[18,19,22,19],[18,21,22,21],[18,23,22,23],[22,3,22,5],[22,6,22,11],[23,0,28,2],[23,3,23,5],[23,6,23,11],[23,12,28,12],[23,13,28,13],[23,15,28,15],[23,17,28,17],[18,0,22,2],[18,3,18,5],[18,6,18,11],[18,12,22,12],[18,13,22,13],[19,3,19,5],[19,6,19,11],[20,3,20,5],[20,6,20,11],[23,19,28,19],[23,21,28,21],[23,23,28,23],[24,3,24,5],[24,6,24,11],[28,3,28,5],[28,6,28,11],[33,3,33,5],[33,6,33,11],[29,23,33,23],[29,17,33,17],[29,19,33,19],[29,21,33,21],[30,3,30,5],[30,6,30,11],[31,3,31,5],[31,6,31,11],[27,3,27,5],[27,6,27,11],[32,3,32,5],[32,6,32,11],[29,0,33,2],[29,3,29,5],[29,6,29,11],[29,12,33,12],[29,13,33,13],[29,15,33,15],[34,23,34,24],[34,26,34,32],[35,0,39,2],[35,3,35,5],[35,6,35,11],[35,12,39,12],[35,13,39,13],[35,15,39,15],[39,3,39,5],[39,6,39,11],[35,23,39,23],[34,0,34,2],[34,3,34,5],[34,6,34,11],[34,13,34,14],[34,15,34,16],[34,17,34,18],[34,19,34,20],[36,3,36,5],[36,6,36,11],[37,3,37,5],[37,6,37,11],[40,17,44,17],[40,19,44,19],[40,21,44,21],[41,3,41,5],[41,6,41,11],[44,3,44,5],[44,6,44,11],[38,3,38,5],[38,6,38,11],[43,3,43,5],[43,6,43,11],[45,26,49,32],[45,34,49,34],[25,3,25,5],[25,6,25,11],[42,3,42,5],[42,6,42,11],[45,0,49,2],[45,12,49,12],[45,13,49,13],[45,15,49,15],[45,17,49,17],[45,19,49,19],[45,21,49,21],[45,23,49,23],[45,25,49,25],[45,3,45,5],[45,6,45,11],[46,3,46,5],[46,6,46,11],[40,15,44,15],[34,21,34,22],[35,17,39,17],[35,19,39,19],[35,21,39,21],[47,3,47,5],[47,6,47,11],[49,3,49,5],[49,6,49,11],[40,23,44,23],[40,0,44,2],[40,3,40,5],[40,6,40,11],[40,12,44,12],[40,13,44,13],[48,3,48,5],[48,6,48,11]]}
["Personalien",null,null,null,null,null,null,null,null,null,null,null,null,null,null,null,null,null,null,null,null,null,null,null,null,"Vorausetzungen",null,"Evaluationen",null,null,null,null,null,"Rating"]
["VORNAME",null,{"$f":"IF(ISBLANK(VLOOKUP(3,Tabelle3[],3,0)),\"-\",VLOOKUP(3,Tabelle3[],3,0))","v":"-"},null,null,null,"POSITION",null,null,"ADRESSE",{"$f":"IF(ISBLANK(VLOOKUP(3,Tabelle3[],5,0)),\"-\",VLOOKUP(3,Tabelle3[],5,0))","v":"-"},null,null,null,null,null,null,null,null,null,null,null,null,null,null,"\"Alter\" (Biologisch/Relative Age)",null,"Datum 1",null,null,"cm",null,"Kg",null,"AUSGEZEICHNET",5]
["NAME",null,{"$f":"IF(ISBLANK(VLOOKUP(3,Tabelle3[],2,0)),\"-\",VLOOKUP(3,Tabelle3[],2,0))","v":"-"},null,null,null,"STOCK",null,null,"WOHNORT",{"$f":"IF(ISBLANK(VLOOKUP(3,Tabelle3[],7,0)),\"-\",VLOOKUP(3,Tabelle3[],7,0))","v":"-"},{"$f":"IF(ISBLANK(VLOOKUP(3,Tabelle3[],6,0)),\"-\",VLOOKUP(3,Tabelle3[],6,0))","v":"-"},null,null,null,null,null,null,null,null,null,null,null,null,null,"Veranlagung",null,"Datum 2",null,null,"cm",null,"Kg",null,"GUT",4]
["GEB. DATUM",null,{"$f":"IF(ISBLANK(VLOOKUP(3,Tabelle3[],14,0)),\"-\",VLOOKUP(3,Tabelle3[],14,0))","v":"-"},{"$f":"IF(ISBLANK(VLOOKUP(3,Tabelle3[],15,0)),\"-\",VLOOKUP(3,Tabelle3[],15,0))","v":"-"},{"$f":"IF(ISBLANK(VLOOKUP(3,Tabelle3[],16,0)),\"-\",VLOOKUP(3,Tabelle3[],16,0))","v":"-"},null,"GRÖSSE",null,"cm (Final)","CLUB",{"$f":"IF(ISBLANK(VLOOKUP(3,Tabelle3[],8,0)),\"-\",VLOOKUP(3,Tabelle3[],8,0))","v":"-"},null,null,null,null,null,null,null,null,null,null,null,null,null,null,"Umfeld",null,"Datum 3",null,null,"cm",null,"Kg",null,"DURCHSCHNITT",3]
["SEX",null,{"$f":"IF(ISBLANK(VLOOKUP(3,Tabelle3[],13,0)),\"-\",VLOOKUP(3,Tabelle3[],13,0))","v":"-"},null,null,null,"GEWICHT",null,"Kg (Final)","E-Mail",{"$f":"IF(ISBLANK(VLOOKUP(3,Tabelle3[],9,0)),\"-\",VLOOKUP(3,Tabelle3[],9,0))","v":"-"},null,null,null,null,null,null,null,null,null,null,null,null,null,null,null,null,"Datum 4",null,null,"cm",null,"Kg",null,"MANGELHAFT",2]
[null,null,null,null,null,null,null,null,null,null,null,null,null,null,null,null,null,null,null,null,null,null,null,null,null,null,null,"Datum 5",null,null,"cm",null,"Kg",null,"UNGENÜGEND",1]
["Vision",null,"xxx"]
["Ziele",null,"xxx"]
["Stärken",null,"xxx"]
[]
["EVALUATION (COACH / SPIELERIN)",null,null,null,null,null,null,null,null,null,null,null,null,null,null,null,null,null,null,null,null,null,null,null,null,"SMART"]
[{"$f":"Skillserleuterungen_FTEM!A3","v":"TEAM"},null,null,{"$f":"Skillserleuterungen_FTEM!B3","v":"FÄHIGKEIT"},null,null,{"$f":"Skillserleuterungen_FTEM!C3","v":"BEOBACHTUNG"},null,null,null,null,null,"Final","Datum1",null,"Datum2",null,"Datum3",null,"Datum4",null,"Datum5",null,"Player",null,"ZIEL","MASSNAHME:\nSPEZIFISCH,  MESSBAR, REALISITISCH",null,null,null,null,null,null,"TERMIN","ZIEL-KONTROLLE","Datum"]
[{"$f":"Skillserleuterungen_FTEM!A4","v":"TEAM"},null,null,{"$f":"IF($H$2=\"G\",Skillserleuterungen_FTEM!F4,Skillserleuterungen_FTEM!B4)","v":"Kommunikation"},null,null,{"$f":"IF($H$2=\"G\",Skillserleuterungen_FTEM!G4,Skillserleuterungen_FTEM!C4)","v":"pflegt einen offenen, respektvollen Umgang, Vertrauensbasis als Grundlage, trägt Konflikte aus ohne die Stabilität der Gruppe zu gefährden, kommuniziert mit Mitspielerinnen, Trainern und Funktionären gleichermassen wertschätzend"},null,null,{"$f":"IF($H$2=\"G\",Skillserleuterungen_FTEM!#REF!,Skillserleuterungen_FTEM!#REF!)","v":{"$error":"#REF!"}},null,null,null,{"$f":"IFERROR(AVERAGE(O13:O17),\"-\")","v":"-"},null,{"$f":"IFERROR(AVERAGE(Q13:Q17),\"-\")","v":"-"},null,{"$f":"IFERROR(AVERAGE(S13:S17),\"-\")","v":"-"},null,{"$f":"IFERROR(AVERAGE(U13:U17),\"-\")","v":"-"},null,null,null,{"$f":"IFERROR(AVERAGE(Y13:Y17),\"-\")","v":"-"}]
[null,null,null,{"$f":"IF($H$2=\"G\",Skillserleuterungen_FTEM!F5,Skillserleuterungen_FTEM!B5)","v":"Teamfähigkeit"},null,null,{"$f":"IF($H$2=\"G\",Skillserleuterungen_FTEM!G5,Skillserleuterungen_FTEM!C5)","v":"Integration in die Gruppe, gemeinsame Ziele bestimmen und verfolgen können, WIR vor dem ICH, trägt zu einem guten Team-Spirit und Arbeitsklima bei"},null,null,{"$f":"IF($H$2=\"G\",Skillserleuterungen_FTEM!#REF!,Skillserleuterungen_FTEM!#REF!)","v":{"$error":"#REF!"}}]
[null,null,null,{"$f":"IF($H$2=\"G\",Skillserleuterungen_FTEM!F6,Skillserleuterungen_FTEM!B6)","v":"Leadership"},null,null,{"$f":"IF($H$2=\"G\",Skillserleuterungen_FTEM!G6,Skillserleuterungen_FTEM!C6)","v":"übernimmt Verantwortung in der Gruppe, versucht Team und Mitspielerinnen besser zu machen, nimmt positiven Einfluss auf die Gruppendynamik"},null,null,{"$f":"IF($H$2=\"G\",Skillserleuterungen_FTEM!#REF!,Skillserleuterungen_FTEM!#REF!)","v":{"$error":"#REF!"}}]
[null,null,null,{"$f":"IF($H$2=\"G\",Skillserleuterungen_FTEM!F7,Skillserleuterungen_FTEM!B7)","v":"Rollenverteilung"},null,null,{"$f":"IF($H$2=\"G\",Skillserleuterungen_FTEM!G7,Skillserleuterungen_FTEM!C7)","v":"kennt ihre Rolle und füllt diese aus, ist sich ihrer Stellung im Team und im System bewusst, stellt eigene Kompetenzen in den Dienst des Teams"},null,null,{"$f":"IF($H$2=\"G\",Skillserleuterungen_FTEM!#REF!,Skillserleuterungen_FTEM!#REF!)","v":{"$error":"#REF!"}}]
[null,null,null,{"$f":"IF($H$2=\"G\",Skillserleuterungen_FTEM!F8,Skillserleuterungen_FTEM!B8)","v":"Respekt"},null,null,{"$f":"IF($H$2=\"G\",Skillserleuterungen_FTEM!G8,Skillserleuterungen_FTEM!C8)","v":"Respektvoller Umgang mit Mitspielerinnen, Trainern, Gegnern, Schiedsrichter und Staff; achtet die Regeln, Fairplayprinzipien (inkl. Anti-Doping)"},null,null,{"$f":"IF($H$2=\"G\",Skillserleuterungen_FTEM!#REF!,Skillserleuterungen_FTEM!#REF!)","v":{"$error":"#REF!"}}]
[{"$f":"Skillserleuterungen_FTEM!A9","v":"ON ICE"},null,null,{"$f":"Skillserleuterungen_FTEM!B9","v":"FÄHIGKEIT"},null,null,{"$f":"Skillserleuterungen_FTEM!C9","v":"BEOBACHTUNG"},null,null,null,null,null,null,"Datum1",null,"Datum2",null,"Datum3",null,"Datum4",null,"Datum5",null,"Player",null,"ZIEL","MASSNAHME:\nSPEZIFISCH,  MESSBAR, REALISITISCH",null,null,null,null,null,null,"TERMIN","ZIEL-KONTROLLE","Datum"]
[{"$f":"Skillserleuterungen_FTEM!A10","v":"SKATING"},null,null,{"$f":"IF($H$2=\"G\",Skillserleuterungen_FTEM!F10,Skillserleuterungen_FTEM!B10)","v":"Footspeed"},null,null,{"$f":"IF($H$2=\"G\",Skillserleuterungen_FTEM!G10,Skillserleuterungen_FTEM!C10)","v":"Beschleunigung, Antritt, erste 3 Schritte Explosivität, Frequenz"},null,null,{"$f":"IF($H$2=\"G\",Skillserleuterungen_FTEM!#REF!,Skillserleuterungen_FTEM!#REF!)","v":{"$error":"#REF!"}},null,null,null,{"$f":"IFERROR(AVERAGE(O19:O23),\"-\")","v":"-"},null,{"$f":"IFERROR(AVERAGE(Q19:Q23),\"-\")","v":"-"},null,{"$f":"IFERROR(AVERAGE(S19:S23),\"-\")","v":"-"},null,{"$f":"IFERROR(AVERAGE(U19:U23),\"-\")","v":"-"},null,{"$f":"IFERROR(AVERAGE(W19:W23),\"-\")","v":"-"},null,{"$f":"IFERROR(AVERAGE(Y19:Y23),\"-\")","v":"-"}]
[null,null,null,{"$f":"IF($H$2=\"G\",Skillserleuterungen_FTEM!F11,Skillserleuterungen_FTEM!B11)","v":"Topspeed"},null,null,{"$f":"IF($H$2=\"G\",Skillserleuterungen_FTEM!G11,Skillserleuterungen_FTEM!C11)","v":"Schnelligkeit, Gleitfähigkeit, vorwärts und rückwärts, Ökonomie"},null,null,{"$f":"IF($H$2=\"G\",Skillserleuterungen_FTEM!#REF!,Skillserleuterungen_FTEM!#REF!)","v":{"$error":"#REF!"}}]
[null,null,null,{"$f":"IF($H$2=\"G\",Skillserleuterungen_FTEM!F12,Skillserleuterungen_FTEM!B12)","v":"Agilität"},null,null,{"$f":"IF($H$2=\"G\",Skillserleuterungen_FTEM!G12,Skillserleuterungen_FTEM!C12)","v":"Richtungsänderung, Drehung, Stop und Start, \"Nummelin\""},null,null,{"$f":"IF($H$2=\"G\",Skillserleuterungen_FTEM!#REF!,Skillserleuterungen_FTEM!#REF!)","v":{"$error":"#REF!"}},null,null,null,{"$f":"IFERROR(AVERAGE(O21:O23),\"-\")","v":"-"},null,{"$f":"IFERROR(AVERAGE(Q21:Q23),\"-\")","v":"-"},null,{"$f":"IFERROR(AVERAGE(S21:S23),\"-\")","v":"-"},null,{"$f":"IFERROR(AVERAGE(U21:U23),\"-\")","v":"-"},null,{"$f":"IFERROR(AVERAGE(W21:W23),\"-\")","v":"-"},null,{"$f":"IFERROR(AVERAGE(Y21:Y23),\"-\")","v":"-"}]
[null,null,null,{"$f":"IF($H$2=\"G\",Skillserleuterungen_FTEM!F13,Skillserleuterungen_FTEM!B13)","v":"Balance"},null,null,{"$f":"IF($H$2=\"G\",Skillserleuterungen_FTEM!G13,Skillserleuterungen_FTEM!C13)","v":"Gleichgewicht, Standhaftfähigkeit, tiefe Position, ein- und beidbeinig"},null,null,{"$f":"IF($H$2=\"G\",Skillserleuterungen_FTEM!#REF!,Skillserleuterungen_FTEM!#REF!)","v":{"$error":"#REF!"}}]
[null,null,null,{"$f":"IF($H$2=\"G\",Skillserleuterungen_FTEM!F14,Skillserleuterungen_FTEM!B14)","v":"Backwards Skating"},null,null,{"$f":"IF($H$2=\"G\",Skillserleuterungen_FTEM!G14,Skillserleuterungen_FTEM!C14)","v":"Beschleunigung, Geschwindigkeit, Balance"},null,null,{"$f":"IF($H$2=\"G\",Skillserleuterungen_FTEM!#REF!,Skillserleuterungen_FTEM!#REF!)","v":{"$error":"#REF!"}}]
[{"$f":"Skillserleuterungen_FTEM!A15","v":"SKILLS"},null,null,{"$f":"IF($H$2=\"G\",Skillserleuterungen_FTEM!F15,Skillserleuterungen_FTEM!B15)","v":"Schiessen"},null,null,{"$f":"IF($H$2=\"G\",Skillserleuterungen_FTEM!G15,Skillserleuterungen_FTEM!C15)","v":"Effizienz (no space no time), Variantenreichtum, Überraschungsgrad (Quick Release), Präzision, Härte, (taktische Abschlüsse)"},null,null,{"$f":"IF($H$2=\"G\",Skillserleuterungen_FTEM!#REF!,Skillserleuterungen_FTEM!#REF!)","v":{"$error":"#REF!"}},null,null,null,{"$f":"IFERROR(AVERAGE(O24:O29),\"-\")","v":"-"},null,{"$f":"IFERROR(AVERAGE(Q24:Q29),\"-\")","v":"-"},null,{"$f":"IFERROR(AVERAGE(S24:S29),\"-\")","v":"-"},null,{"$f":"IFERROR(AVERAGE(U24:U29),\"-\")","v":"-"},null,{"$f":"IFERROR(AVERAGE(W24:W29),\"-\")","v":"-"},null,{"$f":"IFERROR(AVERAGE(Y24:Y29),\"-\")","v":"-"}]
[null,null,null,{"$f":"IF($H$2=\"G\",Skillserleuterungen_FTEM!F16,Skillserleuterungen_FTEM!B16)","v":"Passen"},null,null,{"$f":"IF($H$2=\"G\",Skillserleuterungen_FTEM!G16,Skillserleuterungen_FTEM!C16)","v":"Passabgabe (Distanz, Flippass Backhand), Passannahme (Präzision, Timing, Vorhand, Rückhand, Schlittschuh), Puckspeed "},null,null,{"$f":"IF($H$2=\"G\",Skillserleuterungen_FTEM!#REF!,Skillserleuterungen_FTEM!#REF!)","v":{"$error":"#REF!"}}]
[null,null,null,{"$f":"IF($H$2=\"G\",Skillserleuterungen_FTEM!F17,Skillserleuterungen_FTEM!B17)","v":"Stockarbeit"},null,null,{"$f":"IF($H$2=\"G\",Skillserleuterungen_FTEM!G17,Skillserleuterungen_FTEM!C17)","v":"Stock zum Puck, Passlinie unterbinden, ablenken, Stockkontrolle Gegenspielerin"},null,null,{"$f":"IF($H$2=\"G\",Skillserleuterungen_FTEM!#REF!,Skillserleuterungen_FTEM!#REF!)","v":{"$error":"#REF!"}}]
[null,null,null,{"$f":"IF($H$2=\"G\",Skillserleuterungen_FTEM!F18,Skillserleuterungen_FTEM!B18)","v":"Puck besitzen "},null,null,{"$f":"IF($H$2=\"G\",Skillserleuterungen_FTEM!G18,Skillserleuterungen_FTEM!C18)","v":"Puckkontrolle, Dribblings, Puck schützen, Finten (Varianten: mit Schlittschuh, mit sowie ohne Bande), Face-Off"},null,null,{"$f":"IF($H$2=\"G\",Skillserleuterungen_FTEM!#REF!,Skillserleuterungen_FTEM!#REF!)","v":{"$error":"#REF!"}}]
[null,null,null,{"$f":"IF($H$2=\"G\",Skillserleuterungen_FTEM!F19,Skillserleuterungen_FTEM!B19)","v":"Körperspiel"},null,null,{"$f":"IF($H$2=\"G\",Skillserleuterungen_FTEM!G19,Skillserleuterungen_FTEM!C19)","v":"Phyisches Durchsetzungsvermögen, Zweikampf (offenes Eis/Bande), Checks nehmen/Head up, Battle Level, Hart aber fair"},null,null,{"$f":"IF($H$2=\"G\",Skillserleuterungen_FTEM!#REF!,Skillserleuterungen_FTEM!#REF!)","v":{"$error":"#REF!"}}]
[null,null,null,{"$f":"IF($H$2=\"G\",Skillserleuterungen_FTEM!F20,Skillserleuterungen_FTEM!B20)","v":"-"},null,null,{"$f":"IF($H$2=\"G\",Skillserleuterungen_FTEM!G20,Skillserleuterungen_FTEM!C20)","v":"-"},null,null,{"$f":"IF($H$2=\"G\",Skillserleuterungen_FTEM!#REF!,Skillserleuterungen_FTEM!#REF!)","v":{"$error":"#REF!"}}]
[{"$f":"Skillserleuterungen_FTEM!A21","v":"HOCKEY SENSE"},null,null,{"$f":"IF($H$2=\"G\",Skillserleuterungen_FTEM!F21,Skillserleuterungen_FTEM!B21)","v":"Spielintelligenz"},null,null,{"$f":"IF($H$2=\"G\",Skillserleuterungen_FTEM!G21,Skillserleuterungen_FTEM!C21)","v":"Freie Räume und Spielerin sehen und Überzahlsituationen kreieren, lösungsorientiert agieren bei allen Bedingungen, Headspeed"},null,null,{"$f":"IF($H$2=\"G\",Skillserleuterungen_FTEM!#REF!,Skillserleuterungen_FTEM!#REF!)","v":{"$error":"#REF!"}},null,null,null,{"$f":"IFERROR(AVERAGE(O30:O34),\"-\")","v":"-"},null,{"$f":"IFERROR(AVERAGE(Q30:Q34),\"-\")","v":"-"},null,{"$f":"IFERROR(AVERAGE(S30:S34),\"-\")","v":"-"},null,{"$f":"IFERROR(AVERAGE(U30:U34),\"-\")","v":"-"},null,{"$f":"IFERROR(AVERAGE(W30:W34),\"-\")","v":"-"},null,{"$f":"IFERROR(AVERAGE(Y30:Y34),\"-\")","v":"-"}]
[null,null,null,{"$f":"IF($H$2=\"G\",Skillserleuterungen_FTEM!F22,Skillserleuterungen_FTEM!B22)","v":"Offensives Bewusstsein"},null,null,{"$f":"IF($H$2=\"G\",Skillserleuterungen_FTEM!G22,Skillserleuterungen_FTEM!C22)","v":"Anspielbar, Antizipation der Spielsituationen, Freiräume für Mitspielerinnen öffnen, Abschlussorientiert sein, Gapspeed, gute Kommunikation"},null,null,{"$f":"IF($H$2=\"G\",Skillserleuterungen_FTEM!#REF!,Skillserleuterungen_FTEM!#REF!)","v":{"$error":"#REF!"}}]
[null,null,null,{"$f":"IF($H$2=\"G\",Skillserleuterungen_FTEM!F23,Skillserleuterungen_FTEM!B23)","v":"Defensiv Bewusstsein"},null,null,{"$f":"IF($H$2=\"G\",Skillserleuterungen_FTEM!G23,Skillserleuterungen_FTEM!C23)","v":"Inside Position halten, Slot beschützen, Mitspieler absichern/Support, Passlinie erkennen, Schüsse blockieren. Gapspeed, gute Komunikation"},null,null,{"$f":"IF($H$2=\"G\",Skillserleuterungen_FTEM!#REF!,Skillserleuterungen_FTEM!#REF!)","v":{"$error":"#REF!"}}]
[null,null,null,{"$f":"IF($H$2=\"G\",Skillserleuterungen_FTEM!F24,Skillserleuterungen_FTEM!B24)","v":"Puckmanagement"},null,null,{"$f":"IF($H$2=\"G\",Skillserleuterungen_FTEM!G24,Skillserleuterungen_FTEM!C24)","v":"Situationsadäquate Entscheidungen treffen, Support, Overload"},null,null,{"$f":"IF($H$2=\"G\",Skillserleuterungen_FTEM!#REF!,Skillserleuterungen_FTEM!#REF!)","v":{"$error":"#REF!"}}]
[null,null,null,{"$f":"IF($H$2=\"G\",Skillserleuterungen_FTEM!F25,Skillserleuterungen_FTEM!B25)","v":"Kreativität"},null,null,{"$f":"IF($H$2=\"G\",Skillserleuterungen_FTEM!G25,Skillserleuterungen_FTEM!C25)","v":"Überraschende Lösungen, Torriecher"},null,null,{"$f":"IF($H$2=\"G\",Skillserleuterungen_FTEM!#REF!,Skillserleuterungen_FTEM!#REF!)","v":{"$error":"#REF!"}}]
[{"$f":"Skillserleuterungen_FTEM!A26","v":"PERSONALITY"},null,null,{"$f":"Skillserleuterungen_FTEM!B26","v":"FÄHIGKEIT"},null,null,{"$f":"Skillserleuterungen_FTEM!C26","v":"BEOBACHTUNG"},null,null,null,null,null,null,"Datum1",null,"Datum2",null,"Datum3",null,"Datum4",null,"Datum5",null,"Player",null,"ZIEL","MASSNAHME:\nSPEZIFISCH,  MESSBAR, REALISITISCH",null,null,null,null,null,null,"TERMIN","ZIEL-KONTROLLE","Datum"]
[{"$f":"Skillserleuterungen_FTEM!A27","v":"PERSÖNLICHKEIT"},null,null,{"$f":"IF($H$2=\"G\",Skillserleuterungen_FTEM!F27,Skillserleuterungen_FTEM!B27)","v":"Selbstbewusstsein"},null,null,{"$f":"IF($H$2=\"G\",Skillserleuterungen_FTEM!G27,Skillserleuterungen_FTEM!C27)","v":"hat das nötige Selbstvertrauen,\"I can do it\"-Haltung, kann eigene Fähigkeiten einschätzen (kennt eigene Stärken/Schwächen), kann ihre Stärken konstant einsetzen, agiert mutig und nimmt kalkulierte Risiken"},null,null,{"$f":"IF($H$2=\"G\",Skillserleuterungen_FTEM!#REF!,Skillserleuterungen_FTEM!#REF!)","v":{"$error":"#REF!"}},null,null,null,{"$f":"IFERROR(AVERAGE(O36:O40),\"-\")","v":"-"},null,{"$f":"IFERROR(AVERAGE(Q36:Q40),\"-\")","v":"-"},null,{"$f":"IFERROR(AVERAGE(S36:S40),\"-\")","v":"-"},null,{"$f":"IFERROR(AVERAGE(U36:U40),\"-\")","v":"-"},null,{"$f":"IFERROR(AVERAGE(W36:W40),\"-\")","v":"-"},null,{"$f":"IFERROR(AVERAGE(Y36:Y40),\"-\")","v":"-"}]
[null,null,null,{"$f":"IF($H$2=\"G\",Skillserleuterungen_FTEM!F28,Skillserleuterungen_FTEM!B28)","v":"Lernfähigkeit"},null,null,{"$f":"IF($H$2=\"G\",Skillserleuterungen_FTEM!G28,Skillserleuterungen_FTEM!C28)","v":"hat eine gute Auffassungsgabe (nimmt auf und kann umsetzen), reflektiert eigenes Handeln, versucht aus Fehlern zu lernen und kann Massnahmen ableiten"},null,null,{"$f":"IF($H$2=\"G\",Skillserleuterungen_FTEM!#REF!,Skillserleuterungen_FTEM!#REF!)","v":{"$error":"#REF!"}}]
[null,null,null,{"$f":"IF($H$2=\"G\",Skillserleuterungen_FTEM!F29,Skillserleuterungen_FTEM!B29)","v":"Eigenverantwortung"},null,null,{"$f":"IF($H$2=\"G\",Skillserleuterungen_FTEM!G29,Skillserleuterungen_FTEM!C29)","v":"übernimmt Verantwortung für eigene Leistungen und Entwicklung, handelt selbständig, achtet auf Details, zeigt grosses Engagement in allen Bereichen"},null,null,{"$f":"IF($H$2=\"G\",Skillserleuterungen_FTEM!#REF!,Skillserleuterungen_FTEM!#REF!)","v":{"$error":"#REF!"}}]
[null,null,null,{"$f":"IF($H$2=\"G\",Skillserleuterungen_FTEM!F30,Skillserleuterungen_FTEM!B30)","v":"Motivation"},null,null,{"$f":"IF($H$2=\"G\",Skillserleuterungen_FTEM!G30,Skillserleuterungen_FTEM!C30)","v":"Intrinsischer Antrieb, will sich ständig weiterentwickeln und lernen, will die Erste sein und Erfolg haben, gibt nie auf und lässt sich auch durch Misserfolge nicht vom Weg abbringen"},null,null,{"$f":"IF($H$2=\"G\",Skillserleuterungen_FTEM!#REF!,Skillserleuterungen_FTEM!#REF!)","v":{"$error":"#REF!"}}]
[null,null,null,{"$f":"IF($H$2=\"G\",Skillserleuterungen_FTEM!F31,Skillserleuterungen_FTEM!B31)","v":"Performance Lifestyle"},null,null,{"$f":"IF($H$2=\"G\",Skillserleuterungen_FTEM!G31,Skillserleuterungen_FTEM!C31)","v":"managt Alltag und Umfeld nach dem Leistungsprinzip, hartnäckig, beharrlich und zielgerichtet, Fokus auf eigene Leistung, zeigt Biss und kann sich auch gegen Widerstände durchsetzen, Herausforderungen spornen sie an"},null,null,{"$f":"IF($H$2=\"G\",Skillserleuterungen_FTEM!#REF!,Skillserleuterungen_FTEM!#REF!)","v":{"$error":"#REF!"}}]
[{"$f":"Skillserleuterungen_FTEM!A32","v":"MENTALE STÄRKE"},null,null,{"$f":"IF($H$2=\"G\",Skillserleuterungen_FTEM!F32,Skillserleuterungen_FTEM!B32)","v":"Einsatzbereitschaft"},null,null,{"$f":"IF($H$2=\"G\",Skillserleuterungen_FTEM!G32,Skillserleuterungen_FTEM!C32)","v":"zeigt im Spiel und im Training hohe Intensität, gibt immer ihr Maximum und will ihre Limiten pushen, zeigt Leidenschaft, ist um hohe Trainingsqualität bemüht"},null,null,{"$f":"IF($H$2=\"G\",Skillserleuterungen_FTEM!#REF!,Skillserleuterungen_FTEM!#REF!)","v":{"$error":"#REF!"}},null,null,null,{"$f":"IFERROR(AVERAGE(O41:O45),\"-\")","v":"-"},null,{"$f":"IFERROR(AVERAGE(Q41:Q45),\"-\")","v":"-"},null,{"$f":"IFERROR(AVERAGE(S41:S45),\"-\")","v":"-"},null,{"$f":"IFERROR(AVERAGE(U41:U45),\"-\")","v":"-"},null,{"$f":"IFERROR(AVERAGE(W41:W45),\"-\")","v":"-"},null,{"$f":"IFERROR(AVERAGE(Y41:Y45),\"-\")","v":"-"}]
[null,null,null,{"$f":"IF($H$2=\"G\",Skillserleuterungen_FTEM!F33,Skillserleuterungen_FTEM!B33)","v":"Vorbereitung"},null,null,{"$f":"IF($H$2=\"G\",Skillserleuterungen_FTEM!G33,Skillserleuterungen_FTEM!C33)","v":"bewusste und gezielte Vorbereitung, mental wie auch physisch, verfügt über einen effizienten Ablauf zur Erreichung des idealen Leistungszustand (ILZ)"},null,null,{"$f":"IF($H$2=\"G\",Skillserleuterungen_FTEM!#REF!,Skillserleuterungen_FTEM!#REF!)","v":{"$error":"#REF!"}}]
[null,null,null,{"$f":"IF($H$2=\"G\",Skillserleuterungen_FTEM!F34,Skillserleuterungen_FTEM!B34)","v":"Selbstcoaching"},null,null,{"$f":"IF($H$2=\"G\",Skillserleuterungen_FTEM!G34,Skillserleuterungen_FTEM!C34)","v":"verfügt über gute Konzentrationsfähigkeit, kann während Spiel/Training ihren ILZ halten, kann mentale Grundtechniken anwenden, widerstandsfähig gegen negative Gedanken und Einflüsse, ist sich ihrer Körpersprache bewusst und kann diese regulieren"},null,null,{"$f":"IF($H$2=\"G\",Skillserleuterungen_FTEM!#REF!,Skillserleuterungen_FTEM!#REF!)","v":{"$error":"#REF!"}}]
[null,null,null,{"$f":"IF($H$2=\"G\",Skillserleuterungen_FTEM!F35,Skillserleuterungen_FTEM!B35)","v":"Energiemanagement"},null,null,{"$f":"IF($H$2=\"G\",Skillserleuterungen_FTEM!G35,Skillserleuterungen_FTEM!C35)","v":"kann eigene Energie regulieren, bereit zur Regeneration, weiss wann sie \"Vollgas\" geben muss und wann abschalten, On/Off-Schalter"},null,null,{"$f":"IF($H$2=\"G\",Skillserleuterungen_FTEM!#REF!,Skillserleuterungen_FTEM!#REF!)","v":{"$error":"#REF!"}}]
[null,null,null,{"$f":"IF($H$2=\"G\",Skillserleuterungen_FTEM!F36,Skillserleuterungen_FTEM!B36)","v":"Emotionskontrolle"},null,null,{"$f":"IF($H$2=\"G\",Skillserleuterungen_FTEM!G36,Skillserleuterungen_FTEM!C36)","v":"kann eigene Emotionen und Impulse regulieren, behält auch unter Druck die Kontrolle, kann auch in emotional anspruchsvollen oder frustrierenden Situationen angemessen agieren"},null,null,{"$f":"IF($H$2=\"G\",Skillserleuterungen_FTEM!#REF!,Skillserleuterungen_FTEM!#REF!)","v":{"$error":"#REF!"}}]
[{"$f":"Skillserleuterungen_FTEM!A37","v":"PHYSE"},null,null,{"$f":"IF($H$2=\"G\",Skillserleuterungen_FTEM!F37,Skillserleuterungen_FTEM!B37)","v":"Leistungserzeugung"},null,null,{"$f":"IF($H$2=\"G\",Skillserleuterungen_FTEM!G37,Skillserleuterungen_FTEM!C37)","v":"verfügt über die nötige Power/Kraft/Schnelligkeit in den Beinen und im Oberkörper (Neuromuskuläre Faktoren)"},null,null,{"$f":"IF($H$2=\"G\",Skillserleuterungen_FTEM!#REF!,Skillserleuterungen_FTEM!#REF!)","v":{"$error":"#REF!"}},null,null,null,{"$f":"IFERROR(AVERAGE(O46:O50),\"-\")","v":"-"},null,{"$f":"IFERROR(AVERAGE(Q46:Q50),\"-\")","v":"-"},null,{"$f":"IFERROR(AVERAGE(S46:S50),\"-\")","v":"-"},null,{"$f":"IFERROR(AVERAGE(U46:U50),\"-\")","v":"-"},null,{"$f":"IFERROR(AVERAGE(W46:W50),\"-\")","v":"-"},null,{"$f":"IFERROR(AVERAGE(Y46:Y50),\"-\")","v":"-"}]
[null,null,null,{"$f":"IF($H$2=\"G\",Skillserleuterungen_FTEM!F38,Skillserleuterungen_FTEM!B38)","v":"sporartspez. Ermüdungsresistenz"},null,null,{"$f":"IF($H$2=\"G\",Skillserleuterungen_FTEM!G38,Skillserleuterungen_FTEM!C38)","v":"Ist fähig  die Power/Kraft/Schnelligkeit innerhalb des Einsatzes lange aufrechtzuerhalten und kann sich zwischen den Einsätzen jeweils vollkommen erholen (Metabolische und kardiovaskuläre Faktoren)"},null,null,{"$f":"IF($H$2=\"G\",Skillserleuterungen_FTEM!#REF!,Skillserleuterungen_FTEM!#REF!)","v":{"$error":"#REF!"}}]
[null,null,null,{"$f":"IF($H$2=\"G\",Skillserleuterungen_FTEM!F39,Skillserleuterungen_FTEM!B39)","v":"Gesundheit / Prävention"},null,null,{"$f":"IF($H$2=\"G\",Skillserleuterungen_FTEM!G39,Skillserleuterungen_FTEM!C39)","v":"verfügt über die nötige Stabilität (z.B. Beinachsenstabilität) und Beweglichkeit in den zentralen Gelenken"},null,null,{"$f":"IF($H$2=\"G\",Skillserleuterungen_FTEM!#REF!,Skillserleuterungen_FTEM!#REF!)","v":{"$error":"#REF!"}}]
[null,null,null,{"$f":"IF($H$2=\"G\",Skillserleuterungen_FTEM!F40,Skillserleuterungen_FTEM!B40)","v":"Bewegungskompetenzen"},null,null,{"$f":"IF($H$2=\"G\",Skillserleuterungen_FTEM!G40,Skillserleuterungen_FTEM!C40)","v":"beherrscht die grundlegenden Bewegungsfertigkeiten, die eine unerlässliche Zubringerfunktion für die sportspezifischen \"Skills\" darstellt sowie zur nötigen Bewegungseffizienz führt"},null,null,{"$f":"IF($H$2=\"G\",Skillserleuterungen_FTEM!#REF!,Skillserleuterungen_FTEM!#REF!)","v":{"$error":"#REF!"}}]
[null,null,null,{"$f":"IF($H$2=\"G\",Skillserleuterungen_FTEM!F41,Skillserleuterungen_FTEM!B41)","v":"Robustheit"},null,null,{"$f":"IF($H$2=\"G\",Skillserleuterungen_FTEM!G41,Skillserleuterungen_FTEM!C41)","v":"verfügt über die nötige Grundkraft (Körperspannung), um sich in Zweikämpfen durchzusetzen und bei Zusammestössen standzuhalten"},null,null,{"$f":"IF($H$2=\"G\",Skillserleuterungen_FTEM!#REF!,Skillserleuterungen_FTEM!#REF!)","v":{"$error":"#REF!"}}]

{"sheet":"4","index":7,"n_rows":50,"n_cols":36,"rows_kept":50,"cut":false,"hidden":false,"merged":[[13,3,13,5],[14,3,14,5],[15,3,15,5],[13,6,13,11],[14,6,14,11],[15,6,15,11],[21,3,21,5],[21,6,21,11],[26,3,26,5],[26,6,26,11],[0,0,0,24],[0,25,0,26],[0,27,0,32],[0,33,0,35],[29,25,33,25],[29,26,33,32],[29,34,33,34],[35,25,39,25],[35,26,39,32],[35,34,39,34],[1,0,1,1],[1,2,1,5],[1,10,1,24],[2,0,2,1],[2,2,2,5],[2,11,2,24],[6,0,6,1],[6,2,6,35],[7,0,7,1],[7,2,7,35],[8,0,8,1],[8,2,8,35],[3,0,3,1],[3,10,3,24],[4,0,4,1],[4,2,4,5],[4,10,4,24],[10,0,10,24],[10,25,10,35],[40,25,44,25],[40,26,44,32],[40,34,44,34],[12,25,16,25],[12,26,16,32],[12,34,16,34],[18,25,22,25],[18,26,22,32],[18,34,22,34],[23,25,28,25],[23,26,28,32],[23,34,28,34],[17,26,17,32],[11,0,11,2],[11,3,11,5],[11,13,11,14],[11,15,11,16],[11,17,11,18],[11,19,11,20],[11,21,11,22],[11,23,11,24],[11,26,11,32],[11,6,11,11],[12,23,16,23],[16,3,16,5],[16,6,16,11],[17,0,17,2],[17,3,17,5],[17,6,17,11],[17,13,17,14],[17,15,17,16],[17,17,17,18],[17,19,17,20],[17,21,17,22],[17,23,17,24],[12,0,16,2],[12,3,12,5],[12,6,12,11],[12,12,16,12],[12,13,16,13],[12,15,16,15],[12,17,16,17],[12,19,16,19],[12,21,16,21],[18,15,22,15],[18,17,22,17],[18,19,22,19],[18,21,22,21],[18,23,22,23],[22,3,22,5],[22,6,22,11],[23,0,28,2],[23,3,23,5],[23,6,23,11],[23,12,28,12],[23,13,28,13],[23,15,28,15],[23,17,28,17],[18,0,22,2],[18,3,18,5],[18,6,18,11],[18,12,22,12],[18,13,22,13],[19,3,19,5],[19,6,19,11],[20,3,20,5],[20,6,20,11],[23,19,28,19],[23,21,28,21],[23,23,28,23],[24,3,24,5],[24,6,24,11],[28,3,28,5],[28,6,28,11],[33,3,33,5],[33,6,33,11],[29,23,33,23],[29,17,33,17],[29,19,33,19],[29,21,33,21],[30,3,30,5],[30,6,30,11],[31,3,31,5],[31,6,31,11],[27,3,27,5],[27,6,27,11],[32,3,32,5],[32,6,32,11],[29,0,33,2],[29,3,29,5],[29,6,29,11],[29,12,33,12],[29,13,33,13],[29,15,33,15],[34,23,34,24],[34,26,34,32],[35,0,39,2],[35,3,35,5],[35,6,35,11],[35,12,39,12],[35,13,39,13],[35,15,39,15],[39,3,39,5],[39,6,39,11],[35,23,39,23],[34,0,34,2],[34,3,34,5],[34,6,34,11],[34,13,34,14],[34,15,34,16],[34,17,34,18],[34,19,34,20],[36,3,36,5],[36,6,36,11],[37,3,37,5],[37,6,37,11],[40,17,44,17],[40,19,44,19],[40,21,44,21],[41,3,41,5],[41,6,41,11],[44,3,44,5],[44,6,44,11],[38,3,38,5],[38,6,38,11],[43,3,43,5],[43,6,43,11],[45,26,49,32],[45,34,49,34],[25,3,25,5],[25,6,25,11],[42,3,42,5],[42,6,42,11],[45,0,49,2],[45,12,49,12],[45,13,49,13],[45,15,49,15],[45,17,49,17],[45,19,49,19],[45,21,49,21],[45,23,49,23],[45,25,49,25],[45,3,45,5],[45,6,45,11],[46,3,46,5],[46,6,46,11],[40,15,44,15],[34,21,34,22],[35,17,39,17],[35,19,39,19],[35,21,39,21],[47,3,47,5],[47,6,47,11],[49,3,49,5],[49,6,49,11],[40,23,44,23],[40,0,44,2],[40,3,40,5],[40,6,40,11],[40,12,44,12],[40,13,44,13],[48,3,48,5],[48,6,48,11]]}
["Personalien",null,null,null,null,null,null,null,null,null,null,null,null,null,null,null,null,null,null,null,null,null,null,null,null,"Vorausetzungen",null,"Evaluationen",null,null,null,null,null,"Rating"]
["VORNAME",null,{"$f":"IF(ISBLANK(VLOOKUP(4,Tabelle3[],3,0)),\"-\",VLOOKUP(4,Tabelle3[],3,0))","v":"-"},null,null,null,"POSITION",null,null,"ADRESSE",{"$f":"IF(ISBLANK(VLOOKUP(4,Tabelle3[],5,0)),\"-\",VLOOKUP(4,Tabelle3[],5,0))","v":"-"},null,null,null,null,null,null,null,null,null,null,null,null,null,null,"\"Alter\" (Biologisch/Relative Age)",null,"Datum 1",null,null,"cm",null,"Kg",null,"AUSGEZEICHNET",5]
["NAME",null,{"$f":"IF(ISBLANK(VLOOKUP(4,Tabelle3[],2,0)),\"-\",VLOOKUP(4,Tabelle3[],2,0))","v":"-"},null,null,null,"STOCK",null,null,"WOHNORT",{"$f":"IF(ISBLANK(VLOOKUP(4,Tabelle3[],7,0)),\"-\",VLOOKUP(4,Tabelle3[],7,0))","v":"-"},{"$f":"IF(ISBLANK(VLOOKUP(4,Tabelle3[],6,0)),\"-\",VLOOKUP(4,Tabelle3[],6,0))","v":"-"},null,null,null,null,null,null,null,null,null,null,null,null,null,"Veranlagung",null,"Datum 2",null,null,"cm",null,"Kg",null,"GUT",4]
["GEB. DATUM",null,{"$f":"IF(ISBLANK(VLOOKUP(4,Tabelle3[],14,0)),\"-\",VLOOKUP(4,Tabelle3[],14,0))","v":"-"},{"$f":"IF(ISBLANK(VLOOKUP(4,Tabelle3[],15,0)),\"-\",VLOOKUP(4,Tabelle3[],15,0))","v":"-"},{"$f":"IF(ISBLANK(VLOOKUP(4,Tabelle3[],16,0)),\"-\",VLOOKUP(4,Tabelle3[],16,0))","v":"-"},null,"GRÖSSE",null,"cm (Final)","CLUB",{"$f":"IF(ISBLANK(VLOOKUP(4,Tabelle3[],8,0)),\"-\",VLOOKUP(4,Tabelle3[],8,0))","v":"-"},null,null,null,null,null,null,null,null,null,null,null,null,null,null,"Umfeld",null,"Datum 3",null,null,"cm",null,"Kg",null,"DURCHSCHNITT",3]
["SEX",null,{"$f":"IF(ISBLANK(VLOOKUP(4,Tabelle3[],13,0)),\"-\",VLOOKUP(4,Tabelle3[],13,0))","v":"-"},null,null,null,"GEWICHT",null,"Kg (Final)","E-Mail",{"$f":"IF(ISBLANK(VLOOKUP(4,Tabelle3[],9,0)),\"-\",VLOOKUP(4,Tabelle3[],9,0))","v":"-"},null,null,null,null,null,null,null,null,null,null,null,null,null,null,null,null,"Datum 4",null,null,"cm",null,"Kg",null,"MANGELHAFT",2]
[null,null,null,null,null,null,null,null,null,null,null,null,null,null,null,null,null,null,null,null,null,null,null,null,null,null,null,"Datum 5",null,null,"cm",null,"Kg",null,"UNGENÜGEND",1]
["Vision",null,"xxx"]
["Ziele",null,"xxx"]
["Stärken",null,"xxx"]
[]
["EVALUATION (COACH / SPIELERIN)",null,null,null,null,null,null,null,null,null,null,null,null,null,null,null,null,null,null,null,null,null,null,null,null,"SMART"]
[{"$f":"Skillserleuterungen_FTEM!A3","v":"TEAM"},null,null,{"$f":"Skillserleuterungen_FTEM!B3","v":"FÄHIGKEIT"},null,null,{"$f":"Skillserleuterungen_FTEM!C3","v":"BEOBACHTUNG"},null,null,null,null,null,"Final","Datum1",null,"Datum2",null,"Datum3",null,"Datum4",null,"Datum5",null,"Player",null,"ZIEL","MASSNAHME:\nSPEZIFISCH,  MESSBAR, REALISITISCH",null,null,null,null,null,null,"TERMIN","ZIEL-KONTROLLE","Datum"]
[{"$f":"Skillserleuterungen_FTEM!A4","v":"TEAM"},null,null,{"$f":"IF($H$2=\"G\",Skillserleuterungen_FTEM!F4,Skillserleuterungen_FTEM!B4)","v":"Kommunikation"},null,null,{"$f":"IF($H$2=\"G\",Skillserleuterungen_FTEM!G4,Skillserleuterungen_FTEM!C4)","v":"pflegt einen offenen, respektvollen Umgang, Vertrauensbasis als Grundlage, trägt Konflikte aus ohne die Stabilität der Gruppe zu gefährden, kommuniziert mit Mitspielerinnen, Trainern und Funktionären gleichermassen wertschätzend"},null,null,{"$f":"IF($H$2=\"G\",Skillserleuterungen_FTEM!#REF!,Skillserleuterungen_FTEM!#REF!)","v":{"$error":"#REF!"}},null,null,null,{"$f":"IFERROR(AVERAGE(O13:O17),\"-\")","v":"-"},null,{"$f":"IFERROR(AVERAGE(Q13:Q17),\"-\")","v":"-"},null,{"$f":"IFERROR(AVERAGE(S13:S17),\"-\")","v":"-"},null,{"$f":"IFERROR(AVERAGE(U13:U17),\"-\")","v":"-"},null,null,null,{"$f":"IFERROR(AVERAGE(Y13:Y17),\"-\")","v":"-"}]
[null,null,null,{"$f":"IF($H$2=\"G\",Skillserleuterungen_FTEM!F5,Skillserleuterungen_FTEM!B5)","v":"Teamfähigkeit"},null,null,{"$f":"IF($H$2=\"G\",Skillserleuterungen_FTEM!G5,Skillserleuterungen_FTEM!C5)","v":"Integration in die Gruppe, gemeinsame Ziele bestimmen und verfolgen können, WIR vor dem ICH, trägt zu einem guten Team-Spirit und Arbeitsklima bei"},null,null,{"$f":"IF($H$2=\"G\",Skillserleuterungen_FTEM!#REF!,Skillserleuterungen_FTEM!#REF!)","v":{"$error":"#REF!"}}]
[null,null,null,{"$f":"IF($H$2=\"G\",Skillserleuterungen_FTEM!F6,Skillserleuterungen_FTEM!B6)","v":"Leadership"},null,null,{"$f":"IF($H$2=\"G\",Skillserleuterungen_FTEM!G6,Skillserleuterungen_FTEM!C6)","v":"übernimmt Verantwortung in der Gruppe, versucht Team und Mitspielerinnen besser zu machen, nimmt positiven Einfluss auf die Gruppendynamik"},null,null,{"$f":"IF($H$2=\"G\",Skillserleuterungen_FTEM!#REF!,Skillserleuterungen_FTEM!#REF!)","v":{"$error":"#REF!"}}]
[null,null,null,{"$f":"IF($H$2=\"G\",Skillserleuterungen_FTEM!F7,Skillserleuterungen_FTEM!B7)","v":"Rollenverteilung"},null,null,{"$f":"IF($H$2=\"G\",Skillserleuterungen_FTEM!G7,Skillserleuterungen_FTEM!C7)","v":"kennt ihre Rolle und füllt diese aus, ist sich ihrer Stellung im Team und im System bewusst, stellt eigene Kompetenzen in den Dienst des Teams"},null,null,{"$f":"IF($H$2=\"G\",Skillserleuterungen_FTEM!#REF!,Skillserleuterungen_FTEM!#REF!)","v":{"$error":"#REF!"}}]
[null,null,null,{"$f":"IF($H$2=\"G\",Skillserleuterungen_FTEM!F8,Skillserleuterungen_FTEM!B8)","v":"Respekt"},null,null,{"$f":"IF($H$2=\"G\",Skillserleuterungen_FTEM!G8,Skillserleuterungen_FTEM!C8)","v":"Respektvoller Umgang mit Mitspielerinnen, Trainern, Gegnern, Schiedsrichter und Staff; achtet die Regeln, Fairplayprinzipien (inkl. Anti-Doping)"},null,null,{"$f":"IF($H$2=\"G\",Skillserleuterungen_FTEM!#REF!,Skillserleuterungen_FTEM!#REF!)","v":{"$error":"#REF!"}}]
[{"$f":"Skillserleuterungen_FTEM!A9","v":"ON ICE"},null,null,{"$f":"Skillserleuterungen_FTEM!B9","v":"FÄHIGKEIT"},null,null,{"$f":"Skillserleuterungen_FTEM!C9","v":"BEOBACHTUNG"},null,null,null,null,null,null,"Datum1",null,"Datum2",null,"Datum3",null,"Datum4",null,"Datum5",null,"Player",null,"ZIEL","MASSNAHME:\nSPEZIFISCH,  MESSBAR, REALISITISCH",null,null,null,null,null,null,"TERMIN","ZIEL-KONTROLLE","Datum"]
[{"$f":"Skillserleuterungen_FTEM!A10","v":"SKATING"},null,null,{"$f":"IF($H$2=\"G\",Skillserleuterungen_FTEM!F10,Skillserleuterungen_FTEM!B10)","v":"Footspeed"},null,null,{"$f":"IF($H$2=\"G\",Skillserleuterungen_FTEM!G10,Skillserleuterungen_FTEM!C10)","v":"Beschleunigung, Antritt, erste 3 Schritte Explosivität, Frequenz"},null,null,{"$f":"IF($H$2=\"G\",Skillserleuterungen_FTEM!#REF!,Skillserleuterungen_FTEM!#REF!)","v":{"$error":"#REF!"}},null,null,null,{"$f":"IFERROR(AVERAGE(O19:O23),\"-\")","v":"-"},null,{"$f":"IFERROR(AVERAGE(Q19:Q23),\"-\")","v":"-"},null,{"$f":"IFERROR(AVERAGE(S19:S23),\"-\")","v":"-"},null,{"$f":"IFERROR(AVERAGE(U19:U23),\"-\")","v":"-"},null,{"$f":"IFERROR(AVERAGE(W19:W23),\"-\")","v":"-"},null,{"$f":"IFERROR(AVERAGE(Y19:Y23),\"-\")","v":"-"}]
[null,null,null,{"$f":"IF($H$2=\"G\",Skillserleuterungen_FTEM!F11,Skillserleuterungen_FTEM!B11)","v":"Topspeed"},null,null,{"$f":"IF($H$2=\"G\",Skillserleuterungen_FTEM!G11,Skillserleuterungen_FTEM!C11)","v":"Schnelligkeit, Gleitfähigkeit, vorwärts und rückwärts, Ökonomie"},null,null,{"$f":"IF($H$2=\"G\",Skillserleuterungen_FTEM!#REF!,Skillserleuterungen_FTEM!#REF!)","v":{"$error":"#REF!"}}]
[null,null,null,{"$f":"IF($H$2=\"G\",Skillserleuterungen_FTEM!F12,Skillserleuterungen_FTEM!B12)","v":"Agilität"},null,null,{"$f":"IF($H$2=\"G\",Skillserleuterungen_FTEM!G12,Skillserleuterungen_FTEM!C12)","v":"Richtungsänderung, Drehung, Stop und Start, \"Nummelin\""},null,null,{"$f":"IF($H$2=\"G\",Skillserleuterungen_FTEM!#REF!,Skillserleuterungen_FTEM!#REF!)","v":{"$error":"#REF!"}},null,null,null,{"$f":"IFERROR(AVERAGE(O21:O23),\"-\")","v":"-"},null,{"$f":"IFERROR(AVERAGE(Q21:Q23),\"-\")","v":"-"},null,{"$f":"IFERROR(AVERAGE(S21:S23),\"-\")","v":"-"},null,{"$f":"IFERROR(AVERAGE(U21:U23),\"-\")","v":"-"},null,{"$f":"IFERROR(AVERAGE(W21:W23),\"-\")","v":"-"},null,{"$f":"IFERROR(AVERAGE(Y21:Y23),\"-\")","v":"-"}]
[null,null,null,{"$f":"IF($H$2=\"G\",Skillserleuterungen_FTEM!F13,Skillserleuterungen_FTEM!B13)","v":"Balance"},null,null,{"$f":"IF($H$2=\"G\",Skillserleuterungen_FTEM!G13,Skillserleuterungen_FTEM!C13)","v":"Gleichgewicht, Standhaftfähigkeit, tiefe Position, ein- und beidbeinig"},null,null,{"$f":"IF($H$2=\"G\",Skillserleuterungen_FTEM!#REF!,Skillserleuterungen_FTEM!#REF!)","v":{"$error":"#REF!"}}]
[null,null,null,{"$f":"IF($H$2=\"G\",Skillserleuterungen_FTEM!F14,Skillserleuterungen_FTEM!B14)","v":"Backwards Skating"},null,null,{"$f":"IF($H$2=\"G\",Skillserleuterungen_FTEM!G14,Skillserleuterungen_FTEM!C14)","v":"Beschleunigung, Geschwindigkeit, Balance"},null,null,{"$f":"IF($H$2=\"G\",Skillserleuterungen_FTEM!#REF!,Skillserleuterungen_FTEM!#REF!)","v":{"$error":"#REF!"}}]
[{"$f":"Skillserleuterungen_FTEM!A15","v":"SKILLS"},null,null,{"$f":"IF($H$2=\"G\",Skillserleuterungen_FTEM!F15,Skillserleuterungen_FTEM!B15)","v":"Schiessen"},null,null,{"$f":"IF($H$2=\"G\",Skillserleuterungen_FTEM!G15,Skillserleuterungen_FTEM!C15)","v":"Effizienz (no space no time), Variantenreichtum, Überraschungsgrad (Quick Release), Präzision, Härte, (taktische Abschlüsse)"},null,null,{"$f":"IF($H$2=\"G\",Skillserleuterungen_FTEM!#REF!,Skillserleuterungen_FTEM!#REF!)","v":{"$error":"#REF!"}},null,null,null,{"$f":"IFERROR(AVERAGE(O24:O29),\"-\")","v":"-"},null,{"$f":"IFERROR(AVERAGE(Q24:Q29),\"-\")","v":"-"},null,{"$f":"IFERROR(AVERAGE(S24:S29),\"-\")","v":"-"},null,{"$f":"IFERROR(AVERAGE(U24:U29),\"-\")","v":"-"},null,{"$f":"IFERROR(AVERAGE(W24:W29),\"-\")","v":"-"},null,{"$f":"IFERROR(AVERAGE(Y24:Y29),\"-\")","v":"-"}]
[null,null,null,{"$f":"IF($H$2=\"G\",Skillserleuterungen_FTEM!F16,Skillserleuterungen_FTEM!B16)","v":"Passen"},null,null,{"$f":"IF($H$2=\"G\",Skillserleuterungen_FTEM!G16,Skillserleuterungen_FTEM!C16)","v":"Passabgabe (Distanz, Flippass Backhand), Passannahme (Präzision, Timing, Vorhand, Rückhand, Schlittschuh), Puckspeed "},null,null,{"$f":"IF($H$2=\"G\",Skillserleuterungen_FTEM!#REF!,Skillserleuterungen_FTEM!#REF!)","v":{"$error":"#REF!"}}]
[null,null,null,{"$f":"IF($H$2=\"G\",Skillserleuterungen_FTEM!F17,Skillserleuterungen_FTEM!B17)","v":"Stockarbeit"},null,null,{"$f":"IF($H$2=\"G\",Skillserleuterungen_FTEM!G17,Skillserleuterungen_FTEM!C17)","v":"Stock zum Puck, Passlinie unterbinden, ablenken, Stockkontrolle Gegenspielerin"},null,null,{"$f":"IF($H$2=\"G\",Skillserleuterungen_FTEM!#REF!,Skillserleuterungen_FTEM!#REF!)","v":{"$error":"#REF!"}}]
[null,null,null,{"$f":"IF($H$2=\"G\",Skillserleuterungen_FTEM!F18,Skillserleuterungen_FTEM!B18)","v":"Puck besitzen "},null,null,{"$f":"IF($H$2=\"G\",Skillserleuterungen_FTEM!G18,Skillserleuterungen_FTEM!C18)","v":"Puckkontrolle, Dribblings, Puck schützen, Finten (Varianten: mit Schlittschuh, mit sowie ohne Bande), Face-Off"},null,null,{"$f":"IF($H$2=\"G\",Skillserleuterungen_FTEM!#REF!,Skillserleuterungen_FTEM!#REF!)","v":{"$error":"#REF!"}}]
[null,null,null,{"$f":"IF($H$2=\"G\",Skillserleuterungen_FTEM!F19,Skillserleuterungen_FTEM!B19)","v":"Körperspiel"},null,null,{"$f":"IF($H$2=\"G\",Skillserleuterungen_FTEM!G19,Skillserleuterungen_FTEM!C19)","v":"Phyisches Durchsetzungsvermögen, Zweikampf (offenes Eis/Bande), Checks nehmen/Head up, Battle Level, Hart aber fair"},null,null,{"$f":"IF($H$2=\"G\",Skillserleuterungen_FTEM!#REF!,Skillserleuterungen_FTEM!#REF!)","v":{"$error":"#REF!"}}]
[null,null,null,{"$f":"IF($H$2=\"G\",Skillserleuterungen_FTEM!F20,Skillserleuterungen_FTEM!B20)","v":"-"},null,null,{"$f":"IF($H$2=\"G\",Skillserleuterungen_FTEM!G20,Skillserleuterungen_FTEM!C20)","v":"-"},null,null,{"$f":"IF($H$2=\"G\",Skillserleuterungen_FTEM!#REF!,Skillserleuterungen_FTEM!#REF!)","v":{"$error":"#REF!"}}]
[{"$f":"Skillserleuterungen_FTEM!A21","v":"HOCKEY SENSE"},null,null,{"$f":"IF($H$2=\"G\",Skillserleuterungen_FTEM!F21,Skillserleuterungen_FTEM!B21)","v":"Spielintelligenz"},null,null,{"$f":"IF($H$2=\"G\",Skillserleuterungen_FTEM!G21,Skillserleuterungen_FTEM!C21)","v":"Freie Räume und Spielerin sehen und Überzahlsituationen kreieren, lösungsorientiert agieren bei allen Bedingungen, Headspeed"},null,null,{"$f":"IF($H$2=\"G\",Skillserleuterungen_FTEM!#REF!,Skillserleuterungen_FTEM!#REF!)","v":{"$error":"#REF!"}},null,null,null,{"$f":"IFERROR(AVERAGE(O30:O34),\"-\")","v":"-"},null,{"$f":"IFERROR(AVERAGE(Q30:Q34),\"-\")","v":"-"},null,{"$f":"IFERROR(AVERAGE(S30:S34),\"-\")","v":"-"},null,{"$f":"IFERROR(AVERAGE(U30:U34),\"-\")","v":"-"},null,{"$f":"IFERROR(AVERAGE(W30:W34),\"-\")","v":"-"},null,{"$f":"IFERROR(AVERAGE(Y30:Y34),\"-\")","v":"-"}]
[null,null,null,{"$f":"IF($H$2=\"G\",Skillserleuterungen_FTEM!F22,Skillserleuterungen_FTEM!B22)","v":"Offensives Bewusstsein"},null,null,{"$f":"IF($H$2=\"G\",Skillserleuterungen_FTEM!G22,Skillserleuterungen_FTEM!C22)","v":"Anspielbar, Antizipation der Spielsituationen, Freiräume für Mitspielerinnen öffnen, Abschlussorientiert sein, Gapspeed, gute Kommunikation"},null,null,{"$f":"IF($H$2=\"G\",Skillserleuterungen_FTEM!#REF!,Skillserleuterungen_FTEM!#REF!)","v":{"$error":"#REF!"}}]
[null,null,null,{"$f":"IF($H$2=\"G\",Skillserleuterungen_FTEM!F23,Skillserleuterungen_FTEM!B23)","v":"Defensiv Bewusstsein"},null,null,{"$f":"IF($H$2=\"G\",Skillserleuterungen_FTEM!G23,Skillserleuterungen_FTEM!C23)","v":"Inside Position halten, Slot beschützen, Mitspieler absichern/Support, Passlinie erkennen, Schüsse blockieren. Gapspeed, gute Komunikation"},null,null,{"$f":"IF($H$2=\"G\",Skillserleuterungen_FTEM!#REF!,Skillserleuterungen_FTEM!#REF!)","v":{"$error":"#REF!"}}]
[null,null,null,{"$f":"IF($H$2=\"G\",Skillserleuterungen_FTEM!F24,Skillserleuterungen_FTEM!B24)","v":"Puckmanagement"},null,null,{"$f":"IF($H$2=\"G\",Skillserleuterungen_FTEM!G24,Skillserleuterungen_FTEM!C24)","v":"Situationsadäquate Entscheidungen treffen, Support, Overload"},null,null,{"$f":"IF($H$2=\"G\",Skillserleuterungen_FTEM!#REF!,Skillserleuterungen_FTEM!#REF!)","v":{"$error":"#REF!"}}]
[null,null,null,{"$f":"IF($H$2=\"G\",Skillserleuterungen_FTEM!F25,Skillserleuterungen_FTEM!B25)","v":"Kreativität"},null,null,{"$f":"IF($H$2=\"G\",Skillserleuterungen_FTEM!G25,Skillserleuterungen_FTEM!C25)","v":"Überraschende Lösungen, Torriecher"},null,null,{"$f":"IF($H$2=\"G\",Skillserleuterungen_FTEM!#REF!,Skillserleuterungen_FTEM!#REF!)","v":{"$error":"#REF!"}}]
[{"$f":"Skillserleuterungen_FTEM!A26","v":"PERSONALITY"},null,null,{"$f":"Skillserleuterungen_FTEM!B26","v":"FÄHIGKEIT"},null,null,{"$f":"Skillserleuterungen_FTEM!C26","v":"BEOBACHTUNG"},null,null,null,null,null,null,"Datum1",null,"Datum2",null,"Datum3",null,"Datum4",null,"Datum5",null,"Player",null,"ZIEL","MASSNAHME:\nSPEZIFISCH,  MESSBAR, REALISITISCH",null,null,null,null,null,null,"TERMIN","ZIEL-KONTROLLE","Datum"]
[{"$f":"Skillserleuterungen_FTEM!A27","v":"PERSÖNLICHKEIT"},null,null,{"$f":"IF($H$2=\"G\",Skillserleuterungen_FTEM!F27,Skillserleuterungen_FTEM!B27)","v":"Selbstbewusstsein"},null,null,{"$f":"IF($H$2=\"G\",Skillserleuterungen_FTEM!G27,Skillserleuterungen_FTEM!C27)","v":"hat das nötige Selbstvertrauen,\"I can do it\"-Haltung, kann eigene Fähigkeiten einschätzen (kennt eigene Stärken/Schwächen), kann ihre Stärken konstant einsetzen, agiert mutig und nimmt kalkulierte Risiken"},null,null,{"$f":"IF($H$2=\"G\",Skillserleuterungen_FTEM!#REF!,Skillserleuterungen_FTEM!#REF!)","v":{"$error":"#REF!"}},null,null,null,{"$f":"IFERROR(AVERAGE(O36:O40),\"-\")","v":"-"},null,{"$f":"IFERROR(AVERAGE(Q36:Q40),\"-\")","v":"-"},null,{"$f":"IFERROR(AVERAGE(S36:S40),\"-\")","v":"-"},null,{"$f":"IFERROR(AVERAGE(U36:U40),\"-\")","v":"-"},null,{"$f":"IFERROR(AVERAGE(W36:W40),\"-\")","v":"-"},null,{"$f":"IFERROR(AVERAGE(Y36:Y40),\"-\")","v":"-"}]
[null,null,null,{"$f":"IF($H$2=\"G\",Skillserleuterungen_FTEM!F28,Skillserleuterungen_FTEM!B28)","v":"Lernfähigkeit"},null,null,{"$f":"IF($H$2=\"G\",Skillserleuterungen_FTEM!G28,Skillserleuterungen_FTEM!C28)","v":"hat eine gute Auffassungsgabe (nimmt auf und kann umsetzen), reflektiert eigenes Handeln, versucht aus Fehlern zu lernen und kann Massnahmen ableiten"},null,null,{"$f":"IF($H$2=\"G\",Skillserleuterungen_FTEM!#REF!,Skillserleuterungen_FTEM!#REF!)","v":{"$error":"#REF!"}}]
[null,null,null,{"$f":"IF($H$2=\"G\",Skillserleuterungen_FTEM!F29,Skillserleuterungen_FTEM!B29)","v":"Eigenverantwortung"},null,null,{"$f":"IF($H$2=\"G\",Skillserleuterungen_FTEM!G29,Skillserleuterungen_FTEM!C29)","v":"übernimmt Verantwortung für eigene Leistungen und Entwicklung, handelt selbständig, achtet auf Details, zeigt grosses Engagement in allen Bereichen"},null,null,{"$f":"IF($H$2=\"G\",Skillserleuterungen_FTEM!#REF!,Skillserleuterungen_FTEM!#REF!)","v":{"$error":"#REF!"}}]
[null,null,null,{"$f":"IF($H$2=\"G\",Skillserleuterungen_FTEM!F30,Skillserleuterungen_FTEM!B30)","v":"Motivation"},null,null,{"$f":"IF($H$2=\"G\",Skillserleuterungen_FTEM!G30,Skillserleuterungen_FTEM!C30)","v":"Intrinsischer Antrieb, will sich ständig weiterentwickeln und lernen, will die Erste sein und Erfolg haben, gibt nie auf und lässt sich auch durch Misserfolge nicht vom Weg abbringen"},null,null,{"$f":"IF($H$2=\"G\",Skillserleuterungen_FTEM!#REF!,Skillserleuterungen_FTEM!#REF!)","v":{"$error":"#REF!"}}]
[null,null,null,{"$f":"IF($H$2=\"G\",Skillserleuterungen_FTEM!F31,Skillserleuterungen_FTEM!B31)","v":"Performance Lifestyle"},null,null,{"$f":"IF($H$2=\"G\",Skillserleuterungen_FTEM!G31,Skillserleuterungen_FTEM!C31)","v":"managt Alltag und Umfeld nach dem Leistungsprinzip, hartnäckig, beharrlich und zielgerichtet, Fokus auf eigene Leistung, zeigt Biss und kann sich auch gegen Widerstände durchsetzen, Herausforderungen spornen sie an"},null,null,{"$f":"IF($H$2=\"G\",Skillserleuterungen_FTEM!#REF!,Skillserleuterungen_FTEM!#REF!)","v":{"$error":"#REF!"}}]
[{"$f":"Skillserleuterungen_FTEM!A32","v":"MENTALE STÄRKE"},null,null,{"$f":"IF($H$2=\"G\",Skillserleuterungen_FTEM!F32,Skillserleuterungen_FTEM!B32)","v":"Einsatzbereitschaft"},null,null,{"$f":"IF($H$2=\"G\",Skillserleuterungen_FTEM!G32,Skillserleuterungen_FTEM!C32)","v":"zeigt im Spiel und im Training hohe Intensität, gibt immer ihr Maximum und will ihre Limiten pushen, zeigt Leidenschaft, ist um hohe Trainingsqualität bemüht"},null,null,{"$f":"IF($H$2=\"G\",Skillserleuterungen_FTEM!#REF!,Skillserleuterungen_FTEM!#REF!)","v":{"$error":"#REF!"}},null,null,null,{"$f":"IFERROR(AVERAGE(O41:O45),\"-\")","v":"-"},null,{"$f":"IFERROR(AVERAGE(Q41:Q45),\"-\")","v":"-"},null,{"$f":"IFERROR(AVERAGE(S41:S45),\"-\")","v":"-"},null,{"$f":"IFERROR(AVERAGE(U41:U45),\"-\")","v":"-"},null,{"$f":"IFERROR(AVERAGE(W41:W45),\"-\")","v":"-"},null,{"$f":"IFERROR(AVERAGE(Y41:Y45),\"-\")","v":"-"}]
[null,null,null,{"$f":"IF($H$2=\"G\",Skillserleuterungen_FTEM!F33,Skillserleuterungen_FTEM!B33)","v":"Vorbereitung"},null,null,{"$f":"IF($H$2=\"G\",Skillserleuterungen_FTEM!G33,Skillserleuterungen_FTEM!C33)","v":"bewusste und gezielte Vorbereitung, mental wie auch physisch, verfügt über einen effizienten Ablauf zur Erreichung des idealen Leistungszustand (ILZ)"},null,null,{"$f":"IF($H$2=\"G\",Skillserleuterungen_FTEM!#REF!,Skillserleuterungen_FTEM!#REF!)","v":{"$error":"#REF!"}}]
[null,null,null,{"$f":"IF($H$2=\"G\",Skillserleuterungen_FTEM!F34,Skillserleuterungen_FTEM!B34)","v":"Selbstcoaching"},null,null,{"$f":"IF($H$2=\"G\",Skillserleuterungen_FTEM!G34,Skillserleuterungen_FTEM!C34)","v":"verfügt über gute Konzentrationsfähigkeit, kann während Spiel/Training ihren ILZ halten, kann mentale Grundtechniken anwenden, widerstandsfähig gegen negative Gedanken und Einflüsse, ist sich ihrer Körpersprache bewusst und kann diese regulieren"},null,null,{"$f":"IF($H$2=\"G\",Skillserleuterungen_FTEM!#REF!,Skillserleuterungen_FTEM!#REF!)","v":{"$error":"#REF!"}}]
[null,null,null,{"$f":"IF($H$2=\"G\",Skillserleuterungen_FTEM!F35,Skillserleuterungen_FTEM!B35)","v":"Energiemanagement"},null,null,{"$f":"IF($H$2=\"G\",Skillserleuterungen_FTEM!G35,Skillserleuterungen_FTEM!C35)","v":"kann eigene Energie regulieren, bereit zur Regeneration, weiss wann sie \"Vollgas\" geben muss und wann abschalten, On/Off-Schalter"},null,null,{"$f":"IF($H$2=\"G\",Skillserleuterungen_FTEM!#REF!,Skillserleuterungen_FTEM!#REF!)","v":{"$error":"#REF!"}}]
[null,null,null,{"$f":"IF($H$2=\"G\",Skillserleuterungen_FTEM!F36,Skillserleuterungen_FTEM!B36)","v":"Emotionskontrolle"},null,null,{"$f":"IF($H$2=\"G\",Skillserleuterungen_FTEM!G36,Skillserleuterungen_FTEM!C36)","v":"kann eigene Emotionen und Impulse regulieren, behält auch unter Druck die Kontrolle, kann auch in emotional anspruchsvollen oder frustrierenden Situationen angemessen agieren"},null,null,{"$f":"IF($H$2=\"G\",Skillserleuterungen_FTEM!#REF!,Skillserleuterungen_FTEM!#REF!)","v":{"$error":"#REF!"}}]
[{"$f":"Skillserleuterungen_FTEM!A37","v":"PHYSE"},null,null,{"$f":"IF($H$2=\"G\",Skillserleuterungen_FTEM!F37,Skillserleuterungen_FTEM!B37)","v":"Leistungserzeugung"},null,null,{"$f":"IF($H$2=\"G\",Skillserleuterungen_FTEM!G37,Skillserleuterungen_FTEM!C37)","v":"verfügt über die nötige Power/Kraft/Schnelligkeit in den Beinen und im Oberkörper (Neuromuskuläre Faktoren)"},null,null,{"$f":"IF($H$2=\"G\",Skillserleuterungen_FTEM!#REF!,Skillserleuterungen_FTEM!#REF!)","v":{"$error":"#REF!"}},null,null,null,{"$f":"IFERROR(AVERAGE(O46:O50),\"-\")","v":"-"},null,{"$f":"IFERROR(AVERAGE(Q46:Q50),\"-\")","v":"-"},null,{"$f":"IFERROR(AVERAGE(S46:S50),\"-\")","v":"-"},null,{"$f":"IFERROR(AVERAGE(U46:U50),\"-\")","v":"-"},null,{"$f":"IFERROR(AVERAGE(W46:W50),\"-\")","v":"-"},null,{"$f":"IFERROR(AVERAGE(Y46:Y50),\"-\")","v":"-"}]
[null,null,null,{"$f":"IF($H$2=\"G\",Skillserleuterungen_FTEM!F38,Skillserleuterungen_FTEM!B38)","v":"sporartspez. Ermüdungsresistenz"},null,null,{"$f":"IF($H$2=\"G\",Skillserleuterungen_FTEM!G38,Skillserleuterungen_FTEM!C38)","v":"Ist fähig  die Power/Kraft/Schnelligkeit innerhalb des Einsatzes lange aufrechtzuerhalten und kann sich zwischen den Einsätzen jeweils vollkommen erholen (Metabolische und kardiovaskuläre Faktoren)"},null,null,{"$f":"IF($H$2=\"G\",Skillserleuterungen_FTEM!#REF!,Skillserleuterungen_FTEM!#REF!)","v":{"$error":"#REF!"}}]
[null,null,null,{"$f":"IF($H$2=\"G\",Skillserleuterungen_FTEM!F39,Skillserleuterungen_FTEM!B39)","v":"Gesundheit / Prävention"},null,null,{"$f":"IF($H$2=\"G\",Skillserleuterungen_FTEM!G39,Skillserleuterungen_FTEM!C39)","v":"verfügt über die nötige Stabilität (z.B. Beinachsenstabilität) und Beweglichkeit in den zentralen Gelenken"},null,null,{"$f":"IF($H$2=\"G\",Skillserleuterungen_FTEM!#REF!,Skillserleuterungen_FTEM!#REF!)","v":{"$error":"#REF!"}}]
[null,null,null,{"$f":"IF($H$2=\"G\",Skillserleuterungen_FTEM!F40,Skillserleuterungen_FTEM!B40)","v":"Bewegungskompetenzen"},null,null,{"$f":"IF($H$2=\"G\",Skillserleuterungen_FTEM!G40,Skillserleuterungen_FTEM!C40)","v":"beherrscht die grundlegenden Bewegungsfertigkeiten, die eine unerlässliche Zubringerfunktion für die sportspezifischen \"Skills\" darstellt sowie zur nötigen Bewegungseffizienz führt"},null,null,{"$f":"IF($H$2=\"G\",Skillserleuterungen_FTEM!#REF!,Skillserleuterungen_FTEM!#REF!)","v":{"$error":"#REF!"}}]
[null,null,null,{"$f":"IF($H$2=\"G\",Skillserleuterungen_FTEM!F41,Skillserleuterungen_FTEM!B41)","v":"Robustheit"},null,null,{"$f":"IF($H$2=\"G\",Skillserleuterungen_FTEM!G41,Skillserleuterungen_FTEM!C41)","v":"verfügt über die nötige Grundkraft (Körperspannung), um sich in Zweikämpfen durchzusetzen und bei Zusammestössen standzuhalten"},null,null,{"$f":"IF($H$2=\"G\",Skillserleuterungen_FTEM!#REF!,Skillserleuterungen_FTEM!#REF!)","v":{"$error":"#REF!"}}]

{"sheet":"5","index":8,"n_rows":50,"n_cols":36,"rows_kept":50,"cut":false,"hidden":false,"merged":[[13,3,13,5],[14,3,14,5],[15,3,15,5],[13,6,13,11],[14,6,14,11],[15,6,15,11],[21,3,21,5],[21,6,21,11],[26,3,26,5],[26,6,26,11],[0,0,0,24],[0,25,0,26],[0,27,0,32],[0,33,0,35],[29,25,33,25],[29,26,33,32],[29,34,33,34],[35,25,39,25],[35,26,39,32],[35,34,39,34],[1,0,1,1],[1,2,1,5],[1,10,1,24],[2,0,2,1],[2,2,2,5],[2,11,2,24],[6,0,6,1],[6,2,6,35],[7,0,7,1],[7,2,7,35],[8,0,8,1],[8,2,8,35],[3,0,3,1],[3,10,3,24],[4,0,4,1],[4,2,4,5],[4,10,4,24],[10,0,10,24],[10,25,10,35],[40,25,44,25],[40,26,44,32],[40,34,44,34],[12,25,16,25],[12,26,16,32],[12,34,16,34],[18,25,22,25],[18,26,22,32],[18,34,22,34],[23,25,28,25],[23,26,28,32],[23,34,28,34],[17,26,17,32],[11,0,11,2],[11,3,11,5],[11,13,11,14],[11,15,11,16],[11,17,11,18],[11,19,11,20],[11,21,11,22],[11,23,11,24],[11,26,11,32],[11,6,11,11],[12,23,16,23],[16,3,16,5],[16,6,16,11],[17,0,17,2],[17,3,17,5],[17,6,17,11],[17,13,17,14],[17,15,17,16],[17,17,17,18],[17,19,17,20],[17,21,17,22],[17,23,17,24],[12,0,16,2],[12,3,12,5],[12,6,12,11],[12,12,16,12],[12,13,16,13],[12,15,16,15],[12,17,16,17],[12,19,16,19],[12,21,16,21],[18,15,22,15],[18,17,22,17],[18,19,22,19],[18,21,22,21],[18,23,22,23],[22,3,22,5],[22,6,22,11],[23,0,28,2],[23,3,23,5],[23,6,23,11],[23,12,28,12],[23,13,28,13],[23,15,28,15],[23,17,28,17],[18,0,22,2],[18,3,18,5],[18,6,18,11],[18,12,22,12],[18,13,22,13],[19,3,19,5],[19,6,19,11],[20,3,20,5],[20,6,20,11],[23,19,28,19],[23,21,28,21],[23,23,28,23],[24,3,24,5],[24,6,24,11],[28,3,28,5],[28,6,28,11],[33,3,33,5],[33,6,33,11],[29,23,33,23],[29,17,33,17],[29,19,33,19],[29,21,33,21],[30,3,30,5],[30,6,30,11],[31,3,31,5],[31,6,31,11],[27,3,27,5],[27,6,27,11],[32,3,32,5],[32,6,32,11],[29,0,33,2],[29,3,29,5],[29,6,29,11],[29,12,33,12],[29,13,33,13],[29,15,33,15],[34,23,34,24],[34,26,34,32],[35,0,39,2],[35,3,35,5],[35,6,35,11],[35,12,39,12],[35,13,39,13],[35,15,39,15],[39,3,39,5],[39,6,39,11],[35,23,39,23],[34,0,34,2],[34,3,34,5],[34,6,34,11],[34,13,34,14],[34,15,34,16],[34,17,34,18],[34,19,34,20],[36,3,36,5],[36,6,36,11],[37,3,37,5],[37,6,37,11],[40,17,44,17],[40,19,44,19],[40,21,44,21],[41,3,41,5],[41,6,41,11],[44,3,44,5],[44,6,44,11],[38,3,38,5],[38,6,38,11],[43,3,43,5],[43,6,43,11],[45,26,49,32],[45,34,49,34],[25,3,25,5],[25,6,25,11],[42,3,42,5],[42,6,42,11],[45,0,49,2],[45,12,49,12],[45,13,49,13],[45,15,49,15],[45,17,49,17],[45,19,49,19],[45,21,49,21],[45,23,49,23],[45,25,49,25],[45,3,45,5],[45,6,45,11],[46,3,46,5],[46,6,46,11],[40,15,44,15],[34,21,34,22],[35,17,39,17],[35,19,39,19],[35,21,39,21],[47,3,47,5],[47,6,47,11],[49,3,49,5],[49,6,49,11],[40,23,44,23],[40,0,44,2],[40,3,40,5],[40,6,40,11],[40,12,44,12],[40,13,44,13],[48,3,48,5],[48,6,48,11]]}
["Personalien",null,null,null,null,null,null,null,null,null,null,null,null,null,null,null,null,null,null,null,null,null,null,null,null,"Vorausetzungen",null,"Evaluationen",null,null,null,null,null,"Rating"]
["VORNAME",null,{"$f":"IF(ISBLANK(VLOOKUP(5,Tabelle3[],3,0)),\"-\",VLOOKUP(5,Tabelle3[],3,0))","v":"-"},null,null,null,"POSITION",null,null,"ADRESSE",{"$f":"IF(ISBLANK(VLOOKUP(5,Tabelle3[],5,0)),\"-\",VLOOKUP(5,Tabelle3[],5,0))","v":"-"},null,null,null,null,null,null,null,null,null,null,null,null,null,null,"\"Alter\" (Biologisch/Relative Age)",null,"Datum 1",null,null,"cm",null,"Kg",null,"AUSGEZEICHNET",5]
["NAME",null,{"$f":"IF(ISBLANK(VLOOKUP(5,Tabelle3[],2,0)),\"-\",VLOOKUP(5,Tabelle3[],2,0))","v":"-"},null,null,null,"STOCK",null,null,"WOHNORT",{"$f":"IF(ISBLANK(VLOOKUP(5,Tabelle3[],7,0)),\"-\",VLOOKUP(5,Tabelle3[],7,0))","v":"-"},{"$f":"IF(ISBLANK(VLOOKUP(5,Tabelle3[],6,0)),\"-\",VLOOKUP(5,Tabelle3[],6,0))","v":"-"},null,null,null,null,null,null,null,null,null,null,null,null,null,"Veranlagung",null,"Datum 2",null,null,"cm",null,"Kg",null,"GUT",4]
["GEB. DATUM",null,{"$f":"IF(ISBLANK(VLOOKUP(5,Tabelle3[],14,0)),\"-\",VLOOKUP(5,Tabelle3[],14,0))","v":"-"},{"$f":"IF(ISBLANK(VLOOKUP(5,Tabelle3[],15,0)),\"-\",VLOOKUP(5,Tabelle3[],15,0))","v":"-"},{"$f":"IF(ISBLANK(VLOOKUP(5,Tabelle3[],16,0)),\"-\",VLOOKUP(5,Tabelle3[],16,0))","v":"-"},null,"GRÖSSE",null,"cm (Final)","CLUB",{"$f":"IF(ISBLANK(VLOOKUP(5,Tabelle3[],8,0)),\"-\",VLOOKUP(5,Tabelle3[],8,0))","v":"-"},null,null,null,null,null,null,null,null,null,null,null,null,null,null,"Umfeld",null,"Datum 3",null,null,"cm",null,"Kg",null,"DURCHSCHNITT",3]
["SEX",null,{"$f":"IF(ISBLANK(VLOOKUP(5,Tabelle3[],13,0)),\"-\",VLOOKUP(5,Tabelle3[],13,0))","v":"-"},null,null,null,"GEWICHT",null,"Kg (Final)","E-Mail",{"$f":"IF(ISBLANK(VLOOKUP(5,Tabelle3[],9,0)),\"-\",VLOOKUP(5,Tabelle3[],9,0))","v":"-"},null,null,null,null,null,null,null,null,null,null,null,null,null,null,null,null,"Datum 4",null,null,"cm",null,"Kg",null,"MANGELHAFT",2]
[null,null,null,null,null,null,null,null,null,null,null,null,null,null,null,null,null,null,null,null,null,null,null,null,null,null,null,"Datum 5",null,null,"cm",null,"Kg",null,"UNGENÜGEND",1]
["Vision",null,"xxx"]
["Ziele",null,"xxx"]
["Stärken",null,"xxx"]
[]
["EVALUATION (COACH / SPIELERIN)",null,null,null,null,null,null,null,null,null,null,null,null,null,null,null,null,null,null,null,null,null,null,null,null,"SMART"]
[{"$f":"Skillserleuterungen_FTEM!A3","v":"TEAM"},null,null,{"$f":"Skillserleuterungen_FTEM!B3","v":"FÄHIGKEIT"},null,null,{"$f":"Skillserleuterungen_FTEM!C3","v":"BEOBACHTUNG"},null,null,null,null,null,"Final","Datum1",null,"Datum2",null,"Datum3",null,"Datum4",null,"Datum5",null,"Player",null,"ZIEL","MASSNAHME:\nSPEZIFISCH,  MESSBAR, REALISITISCH",null,null,null,null,null,null,"TERMIN","ZIEL-KONTROLLE","Datum"]
[{"$f":"Skillserleuterungen_FTEM!A4","v":"TEAM"},null,null,{"$f":"IF($H$2=\"G\",Skillserleuterungen_FTEM!F4,Skillserleuterungen_FTEM!B4)","v":"Kommunikation"},null,null,{"$f":"IF($H$2=\"G\",Skillserleuterungen_FTEM!G4,Skillserleuterungen_FTEM!C4)","v":"pflegt einen offenen, respektvollen Umgang, Vertrauensbasis als Grundlage, trägt Konflikte aus ohne die Stabilität der Gruppe zu gefährden, kommuniziert mit Mitspielerinnen, Trainern und Funktionären gleichermassen wertschätzend"},null,null,{"$f":"IF($H$2=\"G\",Skillserleuterungen_FTEM!#REF!,Skillserleuterungen_FTEM!#REF!)","v":{"$error":"#REF!"}},null,null,null,{"$f":"IFERROR(AVERAGE(O13:O17),\"-\")","v":"-"},null,{"$f":"IFERROR(AVERAGE(Q13:Q17),\"-\")","v":"-"},null,{"$f":"IFERROR(AVERAGE(S13:S17),\"-\")","v":"-"},null,{"$f":"IFERROR(AVERAGE(U13:U17),\"-\")","v":"-"},null,null,null,{"$f":"IFERROR(AVERAGE(Y13:Y17),\"-\")","v":"-"}]
[null,null,null,{"$f":"IF($H$2=\"G\",Skillserleuterungen_FTEM!F5,Skillserleuterungen_FTEM!B5)","v":"Teamfähigkeit"},null,null,{"$f":"IF($H$2=\"G\",Skillserleuterungen_FTEM!G5,Skillserleuterungen_FTEM!C5)","v":"Integration in die Gruppe, gemeinsame Ziele bestimmen und verfolgen können, WIR vor dem ICH, trägt zu einem guten Team-Spirit und Arbeitsklima bei"},null,null,{"$f":"IF($H$2=\"G\",Skillserleuterungen_FTEM!#REF!,Skillserleuterungen_FTEM!#REF!)","v":{"$error":"#REF!"}}]
[null,null,null,{"$f":"IF($H$2=\"G\",Skillserleuterungen_FTEM!F6,Skillserleuterungen_FTEM!B6)","v":"Leadership"},null,null,{"$f":"IF($H$2=\"G\",Skillserleuterungen_FTEM!G6,Skillserleuterungen_FTEM!C6)","v":"übernimmt Verantwortung in der Gruppe, versucht Team und Mitspielerinnen besser zu machen, nimmt positiven Einfluss auf die Gruppendynamik"},null,null,{"$f":"IF($H$2=\"G\",Skillserleuterungen_FTEM!#REF!,Skillserleuterungen_FTEM!#REF!)","v":{"$error":"#REF!"}}]
[null,null,null,{"$f":"IF($H$2=\"G\",Skillserleuterungen_FTEM!F7,Skillserleuterungen_FTEM!B7)","v":"Rollenverteilung"},null,null,{"$f":"IF($H$2=\"G\",Skillserleuterungen_FTEM!G7,Skillserleuterungen_FTEM!C7)","v":"kennt ihre Rolle und füllt diese aus, ist sich ihrer Stellung im Team und im System bewusst, stellt eigene Kompetenzen in den Dienst des Teams"},null,null,{"$f":"IF($H$2=\"G\",Skillserleuterungen_FTEM!#REF!,Skillserleuterungen_FTEM!#REF!)","v":{"$error":"#REF!"}}]
[null,null,null,{"$f":"IF($H$2=\"G\",Skillserleuterungen_FTEM!F8,Skillserleuterungen_FTEM!B8)","v":"Respekt"},null,null,{"$f":"IF($H$2=\"G\",Skillserleuterungen_FTEM!G8,Skillserleuterungen_FTEM!C8)","v":"Respektvoller Umgang mit Mitspielerinnen, Trainern, Gegnern, Schiedsrichter und Staff; achtet die Regeln, Fairplayprinzipien (inkl. Anti-Doping)"},null,null,{"$f":"IF($H$2=\"G\",Skillserleuterungen_FTEM!#REF!,Skillserleuterungen_FTEM!#REF!)","v":{"$error":"#REF!"}}]
[{"$f":"Skillserleuterungen_FTEM!A9","v":"ON ICE"},null,null,{"$f":"Skillserleuterungen_FTEM!B9","v":"FÄHIGKEIT"},null,null,{"$f":"Skillserleuterungen_FTEM!C9","v":"BEOBACHTUNG"},null,null,null,null,null,null,"Datum1",null,"Datum2",null,"Datum3",null,"Datum4",null,"Datum5",null,"Player",null,"ZIEL","MASSNAHME:\nSPEZIFISCH,  MESSBAR, REALISITISCH",null,null,null,null,null,null,"TERMIN","ZIEL-KONTROLLE","Datum"]
[{"$f":"Skillserleuterungen_FTEM!A10","v":"SKATING"},null,null,{"$f":"IF($H$2=\"G\",Skillserleuterungen_FTEM!F10,Skillserleuterungen_FTEM!B10)","v":"Footspeed"},null,null,{"$f":"IF($H$2=\"G\",Skillserleuterungen_FTEM!G10,Skillserleuterungen_FTEM!C10)","v":"Beschleunigung, Antritt, erste 3 Schritte Explosivität, Frequenz"},null,null,{"$f":"IF($H$2=\"G\",Skillserleuterungen_FTEM!#REF!,Skillserleuterungen_FTEM!#REF!)","v":{"$error":"#REF!"}},null,null,null,{"$f":"IFERROR(AVERAGE(O19:O23),\"-\")","v":"-"},null,{"$f":"IFERROR(AVERAGE(Q19:Q23),\"-\")","v":"-"},null,{"$f":"IFERROR(AVERAGE(S19:S23),\"-\")","v":"-"},null,{"$f":"IFERROR(AVERAGE(U19:U23),\"-\")","v":"-"},null,{"$f":"IFERROR(AVERAGE(W19:W23),\"-\")","v":"-"},null,{"$f":"IFERROR(AVERAGE(Y19:Y23),\"-\")","v":"-"}]
[null,null,null,{"$f":"IF($H$2=\"G\",Skillserleuterungen_FTEM!F11,Skillserleuterungen_FTEM!B11)","v":"Topspeed"},null,null,{"$f":"IF($H$2=\"G\",Skillserleuterungen_FTEM!G11,Skillserleuterungen_FTEM!C11)","v":"Schnelligkeit, Gleitfähigkeit, vorwärts und rückwärts, Ökonomie"},null,null,{"$f":"IF($H$2=\"G\",Skillserleuterungen_FTEM!#REF!,Skillserleuterungen_FTEM!#REF!)","v":{"$error":"#REF!"}}]
[null,null,null,{"$f":"IF($H$2=\"G\",Skillserleuterungen_FTEM!F12,Skillserleuterungen_FTEM!B12)","v":"Agilität"},null,null,{"$f":"IF($H$2=\"G\",Skillserleuterungen_FTEM!G12,Skillserleuterungen_FTEM!C12)","v":"Richtungsänderung, Drehung, Stop und Start, \"Nummelin\""},null,null,{"$f":"IF($H$2=\"G\",Skillserleuterungen_FTEM!#REF!,Skillserleuterungen_FTEM!#REF!)","v":{"$error":"#REF!"}},null,null,null,{"$f":"IFERROR(AVERAGE(O21:O23),\"-\")","v":"-"},null,{"$f":"IFERROR(AVERAGE(Q21:Q23),\"-\")","v":"-"},null,{"$f":"IFERROR(AVERAGE(S21:S23),\"-\")","v":"-"},null,{"$f":"IFERROR(AVERAGE(U21:U23),\"-\")","v":"-"},null,{"$f":"IFERROR(AVERAGE(W21:W23),\"-\")","v":"-"},null,{"$f":"IFERROR(AVERAGE(Y21:Y23),\"-\")","v":"-"}]
[null,null,null,{"$f":"IF($H$2=\"G\",Skillserleuterungen_FTEM!F13,Skillserleuterungen_FTEM!B13)","v":"Balance"},null,null,{"$f":"IF($H$2=\"G\",Skillserleuterungen_FTEM!G13,Skillserleuterungen_FTEM!C13)","v":"Gleichgewicht, Standhaftfähigkeit, tiefe Position, ein- und beidbeinig"},null,null,{"$f":"IF($H$2=\"G\",Skillserleuterungen_FTEM!#REF!,Skillserleuterungen_FTEM!#REF!)","v":{"$error":"#REF!"}}]
[null,null,null,{"$f":"IF($H$2=\"G\",Skillserleuterungen_FTEM!F14,Skillserleuterungen_FTEM!B14)","v":"Backwards Skating"},null,null,{"$f":"IF($H$2=\"G\",Skillserleuterungen_FTEM!G14,Skillserleuterungen_FTEM!C14)","v":"Beschleunigung, Geschwindigkeit, Balance"},null,null,{"$f":"IF($H$2=\"G\",Skillserleuterungen_FTEM!#REF!,Skillserleuterungen_FTEM!#REF!)","v":{"$error":"#REF!"}}]
[{"$f":"Skillserleuterungen_FTEM!A15","v":"SKILLS"},null,null,{"$f":"IF($H$2=\"G\",Skillserleuterungen_FTEM!F15,Skillserleuterungen_FTEM!B15)","v":"Schiessen"},null,null,{"$f":"IF($H$2=\"G\",Skillserleuterungen_FTEM!G15,Skillserleuterungen_FTEM!C15)","v":"Effizienz (no space no time), Variantenreichtum, Überraschungsgrad (Quick Release), Präzision, Härte, (taktische Abschlüsse)"},null,null,{"$f":"IF($H$2=\"G\",Skillserleuterungen_FTEM!#REF!,Skillserleuterungen_FTEM!#REF!)","v":{"$error":"#REF!"}},null,null,null,{"$f":"IFERROR(AVERAGE(O24:O29),\"-\")","v":"-"},null,{"$f":"IFERROR(AVERAGE(Q24:Q29),\"-\")","v":"-"},null,{"$f":"IFERROR(AVERAGE(S24:S29),\"-\")","v":"-"},null,{"$f":"IFERROR(AVERAGE(U24:U29),\"-\")","v":"-"},null,{"$f":"IFERROR(AVERAGE(W24:W29),\"-\")","v":"-"},null,{"$f":"IFERROR(AVERAGE(Y24:Y29),\"-\")","v":"-"}]
[null,null,null,{"$f":"IF($H$2=\"G\",Skillserleuterungen_FTEM!F16,Skillserleuterungen_FTEM!B16)","v":"Passen"},null,null,{"$f":"IF($H$2=\"G\",Skillserleuterungen_FTEM!G16,Skillserleuterungen_FTEM!C16)","v":"Passabgabe (Distanz, Flippass Backhand), Passannahme (Präzision, Timing, Vorhand, Rückhand, Schlittschuh), Puckspeed "},null,null,{"$f":"IF($H$2=\"G\",Skillserleuterungen_FTEM!#REF!,Skillserleuterungen_FTEM!#REF!)","v":{"$error":"#REF!"}}]
[null,null,null,{"$f":"IF($H$2=\"G\",Skillserleuterungen_FTEM!F17,Skillserleuterungen_FTEM!B17)","v":"Stockarbeit"},null,null,{"$f":"IF($H$2=\"G\",Skillserleuterungen_FTEM!G17,Skillserleuterungen_FTEM!C17)","v":"Stock zum Puck, Passlinie unterbinden, ablenken, Stockkontrolle Gegenspielerin"},null,null,{"$f":"IF($H$2=\"G\",Skillserleuterungen_FTEM!#REF!,Skillserleuterungen_FTEM!#REF!)","v":{"$error":"#REF!"}}]
[null,null,null,{"$f":"IF($H$2=\"G\",Skillserleuterungen_FTEM!F18,Skillserleuterungen_FTEM!B18)","v":"Puck besitzen "},null,null,{"$f":"IF($H$2=\"G\",Skillserleuterungen_FTEM!G18,Skillserleuterungen_FTEM!C18)","v":"Puckkontrolle, Dribblings, Puck schützen, Finten (Varianten: mit Schlittschuh, mit sowie ohne Bande), Face-Off"},null,null,{"$f":"IF($H$2=\"G\",Skillserleuterungen_FTEM!#REF!,Skillserleuterungen_FTEM!#REF!)","v":{"$error":"#REF!"}}]
[null,null,null,{"$f":"IF($H$2=\"G\",Skillserleuterungen_FTEM!F19,Skillserleuterungen_FTEM!B19)","v":"Körperspiel"},null,null,{"$f":"IF($H$2=\"G\",Skillserleuterungen_FTEM!G19,Skillserleuterungen_FTEM!C19)","v":"Phyisches Durchsetzungsvermögen, Zweikampf (offenes Eis/Bande), Checks nehmen/Head up, Battle Level, Hart aber fair"},null,null,{"$f":"IF($H$2=\"G\",Skillserleuterungen_FTEM!#REF!,Skillserleuterungen_FTEM!#REF!)","v":{"$error":"#REF!"}}]
[null,null,null,{"$f":"IF($H$2=\"G\",Skillserleuterungen_FTEM!F20,Skillserleuterungen_FTEM!B20)","v":"-"},null,null,{"$f":"IF($H$2=\"G\",Skillserleuterungen_FTEM!G20,Skillserleuterungen_FTEM!C20)","v":"-"},null,null,{"$f":"IF($H$2=\"G\",Skillserleuterungen_FTEM!#REF!,Skillserleuterungen_FTEM!#REF!)","v":{"$error":"#REF!"}}]
[{"$f":"Skillserleuterungen_FTEM!A21","v":"HOCKEY SENSE"},null,null,{"$f":"IF($H$2=\"G\",Skillserleuterungen_FTEM!F21,Skillserleuterungen_FTEM!B21)","v":"Spielintelligenz"},null,null,{"$f":"IF($H$2=\"G\",Skillserleuterungen_FTEM!G21,Skillserleuterungen_FTEM!C21)","v":"Freie Räume und Spielerin sehen und Überzahlsituationen kreieren, lösungsorientiert agieren bei allen Bedingungen, Headspeed"},null,null,{"$f":"IF($H$2=\"G\",Skillserleuterungen_FTEM!#REF!,Skillserleuterungen_FTEM!#REF!)","v":{"$error":"#REF!"}},null,null,null,{"$f":"IFERROR(AVERAGE(O30:O34),\"-\")","v":"-"},null,{"$f":"IFERROR(AVERAGE(Q30:Q34),\"-\")","v":"-"},null,{"$f":"IFERROR(AVERAGE(S30:S34),\"-\")","v":"-"},null,{"$f":"IFERROR(AVERAGE(U30:U34),\"-\")","v":"-"},null,{"$f":"IFERROR(AVERAGE(W30:W34),\"-\")","v":"-"},null,{"$f":"IFERROR(AVERAGE(Y30:Y34),\"-\")","v":"-"}]
[null,null,null,{"$f":"IF($H$2=\"G\",Skillserleuterungen_FTEM!F22,Skillserleuterungen_FTEM!B22)","v":"Offensives Bewusstsein"},null,null,{"$f":"IF($H$2=\"G\",Skillserleuterungen_FTEM!G22,Skillserleuterungen_FTEM!C22)","v":"Anspielbar, Antizipation der Spielsituationen, Freiräume für Mitspielerinnen öffnen, Abschlussorientiert sein, Gapspeed, gute Kommunikation"},null,null,{"$f":"IF($H$2=\"G\",Skillserleuterungen_FTEM!#REF!,Skillserleuterungen_FTEM!#REF!)","v":{"$error":"#REF!"}}]
[null,null,null,{"$f":"IF($H$2=\"G\",Skillserleuterungen_FTEM!F23,Skillserleuterungen_FTEM!B23)","v":"Defensiv Bewusstsein"},null,null,{"$f":"IF($H$2=\"G\",Skillserleuterungen_FTEM!G23,Skillserleuterungen_FTEM!C23)","v":"Inside Position halten, Slot beschützen, Mitspieler absichern/Support, Passlinie erkennen, Schüsse blockieren. Gapspeed, gute Komunikation"},null,null,{"$f":"IF($H$2=\"G\",Skillserleuterungen_FTEM!#REF!,Skillserleuterungen_FTEM!#REF!)","v":{"$error":"#REF!"}}]
[null,null,null,{"$f":"IF($H$2=\"G\",Skillserleuterungen_FTEM!F24,Skillserleuterungen_FTEM!B24)","v":"Puckmanagement"},null,null,{"$f":"IF($H$2=\"G\",Skillserleuterungen_FTEM!G24,Skillserleuterungen_FTEM!C24)","v":"Situationsadäquate Entscheidungen treffen, Support, Overload"},null,null,{"$f":"IF($H$2=\"G\",Skillserleuterungen_FTEM!#REF!,Skillserleuterungen_FTEM!#REF!)","v":{"$error":"#REF!"}}]
[null,null,null,{"$f":"IF($H$2=\"G\",Skillserleuterungen_FTEM!F25,Skillserleuterungen_FTEM!B25)","v":"Kreativität"},null,null,{"$f":"IF($H$2=\"G\",Skillserleuterungen_FTEM!G25,Skillserleuterungen_FTEM!C25)","v":"Überraschende Lösungen, Torriecher"},null,null,{"$f":"IF($H$2=\"G\",Skillserleuterungen_FTEM!#REF!,Skillserleuterungen_FTEM!#REF!)","v":{"$error":"#REF!"}}]
[{"$f":"Skillserleuterungen_FTEM!A26","v":"PERSONALITY"},null,null,{"$f":"Skillserleuterungen_FTEM!B26","v":"FÄHIGKEIT"},null,null,{"$f":"Skillserleuterungen_FTEM!C26","v":"BEOBACHTUNG"},null,null,null,null,null,null,"Datum1",null,"Datum2",null,"Datum3",null,"Datum4",null,"Datum5",null,"Player",null,"ZIEL","MASSNAHME:\nSPEZIFISCH,  MESSBAR, REALISITISCH",null,null,null,null,null,null,"TERMIN","ZIEL-KONTROLLE","Datum"]
[{"$f":"Skillserleuterungen_FTEM!A27","v":"PERSÖNLICHKEIT"},null,null,{"$f":"IF($H$2=\"G\",Skillserleuterungen_FTEM!F27,Skillserleuterungen_FTEM!B27)","v":"Selbstbewusstsein"},null,null,{"$f":"IF($H$2=\"G\",Skillserleuterungen_FTEM!G27,Skillserleuterungen_FTEM!C27)","v":"hat das nötige Selbstvertrauen,\"I can do it\"-Haltung, kann eigene Fähigkeiten einschätzen (kennt eigene Stärken/Schwächen), kann ihre Stärken konstant einsetzen, agiert mutig und nimmt kalkulierte Risiken"},null,null,{"$f":"IF($H$2=\"G\",Skillserleuterungen_FTEM!#REF!,Skillserleuterungen_FTEM!#REF!)","v":{"$error":"#REF!"}},null,null,null,{"$f":"IFERROR(AVERAGE(O36:O40),\"-\")","v":"-"},null,{"$f":"IFERROR(AVERAGE(Q36:Q40),\"-\")","v":"-"},null,{"$f":"IFERROR(AVERAGE(S36:S40),\"-\")","v":"-"},null,{"$f":"IFERROR(AVERAGE(U36:U40),\"-\")","v":"-"},null,{"$f":"IFERROR(AVERAGE(W36:W40),\"-\")","v":"-"},null,{"$f":"IFERROR(AVERAGE(Y36:Y40),\"-\")","v":"-"}]
[null,null,null,{"$f":"IF($H$2=\"G\",Skillserleuterungen_FTEM!F28,Skillserleuterungen_FTEM!B28)","v":"Lernfähigkeit"},null,null,{"$f":"IF($H$2=\"G\",Skillserleuterungen_FTEM!G28,Skillserleuterungen_FTEM!C28)","v":"hat eine gute Auffassungsgabe (nimmt auf und kann umsetzen), reflektiert eigenes Handeln, versucht aus Fehlern zu lernen und kann Massnahmen ableiten"},null,null,{"$f":"IF($H$2=\"G\",Skillserleuterungen_FTEM!#REF!,Skillserleuterungen_FTEM!#REF!)","v":{"$error":"#REF!"}}]
[null,null,null,{"$f":"IF($H$2=\"G\",Skillserleuterungen_FTEM!F29,Skillserleuterungen_FTEM!B29)","v":"Eigenverantwortung"},null,null,{"$f":"IF($H$2=\"G\",Skillserleuterungen_FTEM!G29,Skillserleuterungen_FTEM!C29)","v":"übernimmt Verantwortung für eigene Leistungen und Entwicklung, handelt selbständig, achtet auf Details, zeigt grosses Engagement in allen Bereichen"},null,null,{"$f":"IF($H$2=\"G\",Skillserleuterungen_FTEM!#REF!,Skillserleuterungen_FTEM!#REF!)","v":{"$error":"#REF!"}}]
[null,null,null,{"$f":"IF($H$2=\"G\",Skillserleuterungen_FTEM!F30,Skillserleuterungen_FTEM!B30)","v":"Motivation"},null,null,{"$f":"IF($H$2=\"G\",Skillserleuterungen_FTEM!G30,Skillserleuterungen_FTEM!C30)","v":"Intrinsischer Antrieb, will sich ständig weiterentwickeln und lernen, will die Erste sein und Erfolg haben, gibt nie auf und lässt sich auch durch Misserfolge nicht vom Weg abbringen"},null,null,{"$f":"IF($H$2=\"G\",Skillserleuterungen_FTEM!#REF!,Skillserleuterungen_FTEM!#REF!)","v":{"$error":"#REF!"}}]
[null,null,null,{"$f":"IF($H$2=\"G\",Skillserleuterungen_FTEM!F31,Skillserleuterungen_FTEM!B31)","v":"Performance Lifestyle"},null,null,{"$f":"IF($H$2=\"G\",Skillserleuterungen_FTEM!G31,Skillserleuterungen_FTEM!C31)","v":"managt Alltag und Umfeld nach dem Leistungsprinzip, hartnäckig, beharrlich und zielgerichtet, Fokus auf eigene Leistung, zeigt Biss und kann sich auch gegen Widerstände durchsetzen, Herausforderungen spornen sie an"},null,null,{"$f":"IF($H$2=\"G\",Skillserleuterungen_FTEM!#REF!,Skillserleuterungen_FTEM!#REF!)","v":{"$error":"#REF!"}}]
[{"$f":"Skillserleuterungen_FTEM!A32","v":"MENTALE STÄRKE"},null,null,{"$f":"IF($H$2=\"G\",Skillserleuterungen_FTEM!F32,Skillserleuterungen_FTEM!B32)","v":"Einsatzbereitschaft"},null,null,{"$f":"IF($H$2=\"G\",Skillserleuterungen_FTEM!G32,Skillserleuterungen_FTEM!C32)","v":"zeigt im Spiel und im Training hohe Intensität, gibt immer ihr Maximum und will ihre Limiten pushen, zeigt Leidenschaft, ist um hohe Trainingsqualität bemüht"},null,null,{"$f":"IF($H$2=\"G\",Skillserleuterungen_FTEM!#REF!,Skillserleuterungen_FTEM!#REF!)","v":{"$error":"#REF!"}},null,null,null,{"$f":"IFERROR(AVERAGE(O41:O45),\"-\")","v":"-"},null,{"$f":"IFERROR(AVERAGE(Q41:Q45),\"-\")","v":"-"},null,{"$f":"IFERROR(AVERAGE(S41:S45),\"-\")","v":"-"},null,{"$f":"IFERROR(AVERAGE(U41:U45),\"-\")","v":"-"},null,{"$f":"IFERROR(AVERAGE(W41:W45),\"-\")","v":"-"},null,{"$f":"IFERROR(AVERAGE(Y41:Y45),\"-\")","v":"-"}]
[null,null,null,{"$f":"IF($H$2=\"G\",Skillserleuterungen_FTEM!F33,Skillserleuterungen_FTEM!B33)","v":"Vorbereitung"},null,null,{"$f":"IF($H$2=\"G\",Skillserleuterungen_FTEM!G33,Skillserleuterungen_FTEM!C33)","v":"bewusste und gezielte Vorbereitung, mental wie auch physisch, verfügt über einen effizienten Ablauf zur Erreichung des idealen Leistungszustand (ILZ)"},null,null,{"$f":"IF($H$2=\"G\",Skillserleuterungen_FTEM!#REF!,Skillserleuterungen_FTEM!#REF!)","v":{"$error":"#REF!"}}]
[null,null,null,{"$f":"IF($H$2=\"G\",Skillserleuterungen_FTEM!F34,Skillserleuterungen_FTEM!B34)","v":"Selbstcoaching"},null,null,{"$f":"IF($H$2=\"G\",Skillserleuterungen_FTEM!G34,Skillserleuterungen_FTEM!C34)","v":"verfügt über gute Konzentrationsfähigkeit, kann während Spiel/Training ihren ILZ halten, kann mentale Grundtechniken anwenden, widerstandsfähig gegen negative Gedanken und Einflüsse, ist sich ihrer Körpersprache bewusst und kann diese regulieren"},null,null,{"$f":"IF($H$2=\"G\",Skillserleuterungen_FTEM!#REF!,Skillserleuterungen_FTEM!#REF!)","v":{"$error":"#REF!"}}]
[null,null,null,{"$f":"IF($H$2=\"G\",Skillserleuterungen_FTEM!F35,Skillserleuterungen_FTEM!B35)","v":"Energiemanagement"},null,null,{"$f":"IF($H$2=\"G\",Skillserleuterungen_FTEM!G35,Skillserleuterungen_FTEM!C35)","v":"kann eigene Energie regulieren, bereit zur Regeneration, weiss wann sie \"Vollgas\" geben muss und wann abschalten, On/Off-Schalter"},null,null,{"$f":"IF($H$2=\"G\",Skillserleuterungen_FTEM!#REF!,Skillserleuterungen_FTEM!#REF!)","v":{"$error":"#REF!"}}]
[null,null,null,{"$f":"IF($H$2=\"G\",Skillserleuterungen_FTEM!F36,Skillserleuterungen_FTEM!B36)","v":"Emotionskontrolle"},null,null,{"$f":"IF($H$2=\"G\",Skillserleuterungen_FTEM!G36,Skillserleuterungen_FTEM!C36)","v":"kann eigene Emotionen und Impulse regulieren, behält auch unter Druck die Kontrolle, kann auch in emotional anspruchsvollen oder frustrierenden Situationen angemessen agieren"},null,null,{"$f":"IF($H$2=\"G\",Skillserleuterungen_FTEM!#REF!,Skillserleuterungen_FTEM!#REF!)","v":{"$error":"#REF!"}}]
[{"$f":"Skillserleuterungen_FTEM!A37","v":"PHYSE"},null,null,{"$f":"IF($H$2=\"G\",Skillserleuterungen_FTEM!F37,Skillserleuterungen_FTEM!B37)","v":"Leistungserzeugung"},null,null,{"$f":"IF($H$2=\"G\",Skillserleuterungen_FTEM!G37,Skillserleuterungen_FTEM!C37)","v":"verfügt über die nötige Power/Kraft/Schnelligkeit in den Beinen und im Oberkörper (Neuromuskuläre Faktoren)"},null,null,{"$f":"IF($H$2=\"G\",Skillserleuterungen_FTEM!#REF!,Skillserleuterungen_FTEM!#REF!)","v":{"$error":"#REF!"}},null,null,null,{"$f":"IFERROR(AVERAGE(O46:O50),\"-\")","v":"-"},null,{"$f":"IFERROR(AVERAGE(Q46:Q50),\"-\")","v":"-"},null,{"$f":"IFERROR(AVERAGE(S46:S50),\"-\")","v":"-"},null,{"$f":"IFERROR(AVERAGE(U46:U50),\"-\")","v":"-"},null,{"$f":"IFERROR(AVERAGE(W46:W50),\"-\")","v":"-"},null,{"$f":"IFERROR(AVERAGE(Y46:Y50),\"-\")","v":"-"}]
[null,null,null,{"$f":"IF($H$2=\"G\",Skillserleuterungen_FTEM!F38,Skillserleuterungen_FTEM!B38)","v":"sporartspez. Ermüdungsresistenz"},null,null,{"$f":"IF($H$2=\"G\",Skillserleuterungen_FTEM!G38,Skillserleuterungen_FTEM!C38)","v":"Ist fähig  die Power/Kraft/Schnelligkeit innerhalb des Einsatzes lange aufrechtzuerhalten und kann sich zwischen den Einsätzen jeweils vollkommen erholen (Metabolische und kardiovaskuläre Faktoren)"},null,null,{"$f":"IF($H$2=\"G\",Skillserleuterungen_FTEM!#REF!,Skillserleuterungen_FTEM!#REF!)","v":{"$error":"#REF!"}}]
[null,null,null,{"$f":"IF($H$2=\"G\",Skillserleuterungen_FTEM!F39,Skillserleuterungen_FTEM!B39)","v":"Gesundheit / Prävention"},null,null,{"$f":"IF($H$2=\"G\",Skillserleuterungen_FTEM!G39,Skillserleuterungen_FTEM!C39)","v":"verfügt über die nötige Stabilität (z.B. Beinachsenstabilität) und Beweglichkeit in den zentralen Gelenken"},null,null,{"$f":"IF($H$2=\"G\",Skillserleuterungen_FTEM!#REF!,Skillserleuterungen_FTEM!#REF!)","v":{"$error":"#REF!"}}]
[null,null,null,{"$f":"IF($H$2=\"G\",Skillserleuterungen_FTEM!F40,Skillserleuterungen_FTEM!B40)","v":"Bewegungskompetenzen"},null,null,{"$f":"IF($H$2=\"G\",Skillserleuterungen_FTEM!G40,Skillserleuterungen_FTEM!C40)","v":"beherrscht die grundlegenden Bewegungsfertigkeiten, die eine unerlässliche Zubringerfunktion für die sportspezifischen \"Skills\" darstellt sowie zur nötigen Bewegungseffizienz führt"},null,null,{"$f":"IF($H$2=\"G\",Skillserleuterungen_FTEM!#REF!,Skillserleuterungen_FTEM!#REF!)","v":{"$error":"#REF!"}}]
[null,null,null,{"$f":"IF($H$2=\"G\",Skillserleuterungen_FTEM!F41,Skillserleuterungen_FTEM!B41)","v":"Robustheit"},null,null,{"$f":"IF($H$2=\"G\",Skillserleuterungen_FTEM!G41,Skillserleuterungen_FTEM!C41)","v":"verfügt über die nötige Grundkraft (Körperspannung), um sich in Zweikämpfen durchzusetzen und bei Zusammestössen standzuhalten"},null,null,{"$f":"IF($H$2=\"G\",Skillserleuterungen_FTEM!#REF!,Skillserleuterungen_FTEM!#REF!)","v":{"$error":"#REF!"}}]

{"sheet":"6","index":9,"n_rows":50,"n_cols":36,"rows_kept":50,"cut":false,"hidden":false,"merged":[[13,3,13,5],[14,3,14,5],[15,3,15,5],[13,6,13,11],[14,6,14,11],[15,6,15,11],[21,3,21,5],[21,6,21,11],[26,3,26,5],[26,6,26,11],[0,0,0,24],[0,25,0,26],[0,27,0,32],[0,33,0,35],[29,25,33,25],[29,26,33,32],[29,34,33,34],[35,25,39,25],[35,26,39,32],[35,34,39,34],[1,0,1,1],[1,2,1,5],[1,10,1,24],[2,0,2,1],[2,2,2,5],[2,11,2,24],[6,0,6,1],[6,2,6,35],[7,0,7,1],[7,2,7,35],[8,0,8,1],[8,2,8,35],[3,0,3,1],[3,10,3,24],[4,0,4,1],[4,2,4,5],[4,10,4,24],[10,0,10,24],[10,25,10,35],[40,25,44,25],[40,26,44,32],[40,34,44,34],[12,25,16,25],[12,26,16,32],[12,34,16,34],[18,25,22,25],[18,26,22,32],[18,34,22,34],[23,25,28,25],[23,26,28,32],[23,34,28,34],[17,26,17,32],[11,0,11,2],[11,3,11,5],[11,13,11,14],[11,15,11,16],[11,17,11,18],[11,19,11,20],[11,21,11,22],[11,23,11,24],[11,26,11,32],[11,6,11,11],[12,23,16,23],[16,3,16,5],[16,6,16,11],[17,0,17,2],[17,3,17,5],[17,6,17,11],[17,13,17,14],[17,15,17,16],[17,17,17,18],[17,19,17,20],[17,21,17,22],[17,23,17,24],[12,0,16,2],[12,3,12,5],[12,6,12,11],[12,12,16,12],[12,13,16,13],[12,15,16,15],[12,17,16,17],[12,19,16,19],[12,21,16,21],[18,15,22,15],[18,17,22,17],[18,19,22,19],[18,21,22,21],[18,23,22,23],[22,3,22,5],[22,6,22,11],[23,0,28,2],[23,3,23,5],[23,6,23,11],[23,12,28,12],[23,13,28,13],[23,15,28,15],[23,17,28,17],[18,0,22,2],[18,3,18,5],[18,6,18,11],[18,12,22,12],[18,13,22,13],[19,3,19,5],[19,6,19,11],[20,3,20,5],[20,6,20,11],[23,19,28,19],[23,21,28,21],[23,23,28,23],[24,3,24,5],[24,6,24,11],[28,3,28,5],[28,6,28,11],[33,3,33,5],[33,6,33,11],[29,23,33,23],[29,17,33,17],[29,19,33,19],[29,21,33,21],[30,3,30,5],[30,6,30,11],[31,3,31,5],[31,6,31,11],[27,3,27,5],[27,6,27,11],[32,3,32,5],[32,6,32,11],[29,0,33,2],[29,3,29,5],[29,6,29,11],[29,12,33,12],[29,13,33,13],[29,15,33,15],[34,23,34,24],[34,26,34,32],[35,0,39,2],[35,3,35,5],[35,6,35,11],[35,12,39,12],[35,13,39,13],[35,15,39,15],[39,3,39,5],[39,6,39,11],[35,23,39,23],[34,0,34,2],[34,3,34,5],[34,6,34,11],[34,13,34,14],[34,15,34,16],[34,17,34,18],[34,19,34,20],[36,3,36,5],[36,6,36,11],[37,3,37,5],[37,6,37,11],[40,17,44,17],[40,19,44,19],[40,21,44,21],[41,3,41,5],[41,6,41,11],[44,3,44,5],[44,6,44,11],[38,3,38,5],[38,6,38,11],[43,3,43,5],[43,6,43,11],[45,26,49,32],[45,34,49,34],[25,3,25,5],[25,6,25,11],[42,3,42,5],[42,6,42,11],[45,0,49,2],[45,12,49,12],[45,13,49,13],[45,15,49,15],[45,17,49,17],[45,19,49,19],[45,21,49,21],[45,23,49,23],[45,25,49,25],[45,3,45,5],[45,6,45,11],[46,3,46,5],[46,6,46,11],[40,15,44,15],[34,21,34,22],[35,17,39,17],[35,19,39,19],[35,21,39,21],[47,3,47,5],[47,6,47,11],[49,3,49,5],[49,6,49,11],[40,23,44,23],[40,0,44,2],[40,3,40,5],[40,6,40,11],[40,12,44,12],[40,13,44,13],[48,3,48,5],[48,6,48,11]]}
["Personalien",null,null,null,null,null,null,null,null,null,null,null,null,null,null,null,null,null,null,null,null,null,null,null,null,"Vorausetzungen",null,"Evaluationen",null,null,null,null,null,"Rating"]
["VORNAME",null,{"$f":"IF(ISBLANK(VLOOKUP(6,Tabelle3[],3,0)),\"-\",VLOOKUP(6,Tabelle3[],3,0))","v":"-"},null,null,null,"POSITION",null,null,"ADRESSE",{"$f":"IF(ISBLANK(VLOOKUP(6,Tabelle3[],5,0)),\"-\",VLOOKUP(6,Tabelle3[],5,0))","v":"-"},null,null,null,null,null,null,null,null,null,null,null,null,null,null,"\"Alter\" (Biologisch/Relative Age)",null,"Datum 1",null,null,"cm",null,"Kg",null,"AUSGEZEICHNET",5]
["NAME",null,{"$f":"IF(ISBLANK(VLOOKUP(6,Tabelle3[],2,0)),\"-\",VLOOKUP(6,Tabelle3[],2,0))","v":"-"},null,null,null,"STOCK",null,null,"WOHNORT",{"$f":"IF(ISBLANK(VLOOKUP(6,Tabelle3[],7,0)),\"-\",VLOOKUP(6,Tabelle3[],7,0))","v":"-"},{"$f":"IF(ISBLANK(VLOOKUP(6,Tabelle3[],6,0)),\"-\",VLOOKUP(6,Tabelle3[],6,0))","v":"-"},null,null,null,null,null,null,null,null,null,null,null,null,null,"Veranlagung",null,"Datum 2",null,null,"cm",null,"Kg",null,"GUT",4]
["GEB. DATUM",null,{"$f":"IF(ISBLANK(VLOOKUP(6,Tabelle3[],14,0)),\"-\",VLOOKUP(6,Tabelle3[],14,0))","v":"-"},{"$f":"IF(ISBLANK(VLOOKUP(6,Tabelle3[],15,0)),\"-\",VLOOKUP(6,Tabelle3[],15,0))","v":"-"},{"$f":"IF(ISBLANK(VLOOKUP(6,Tabelle3[],16,0)),\"-\",VLOOKUP(6,Tabelle3[],16,0))","v":"-"},null,"GRÖSSE",null,"cm (Final)","CLUB",{"$f":"IF(ISBLANK(VLOOKUP(6,Tabelle3[],8,0)),\"-\",VLOOKUP(6,Tabelle3[],8,0))","v":"-"},null,null,null,null,null,null,null,null,null,null,null,null,null,null,"Umfeld",null,"Datum 3",null,null,"cm",null,"Kg",null,"DURCHSCHNITT",3]
["SEX",null,{"$f":"IF(ISBLANK(VLOOKUP(6,Tabelle3[],13,0)),\"-\",VLOOKUP(6,Tabelle3[],13,0))","v":"-"},null,null,null,"GEWICHT",null,"Kg (Final)","E-Mail",{"$f":"IF(ISBLANK(VLOOKUP(6,Tabelle3[],9,0)),\"-\",VLOOKUP(6,Tabelle3[],9,0))","v":"-"},null,null,null,null,null,null,null,null,null,null,null,null,null,null,null,null,"Datum 4",null,null,"cm",null,"Kg",null,"MANGELHAFT",2]
[null,null,null,null,null,null,null,null,null,null,null,null,null,null,null,null,null,null,null,null,null,null,null,null,null,null,null,"Datum 5",null,null,"cm",null,"Kg",null,"UNGENÜGEND",1]
["Vision",null,"xxx"]
["Ziele",null,"xxx"]
["Stärken",null,"xxx"]
[]
["EVALUATION (COACH / SPIELERIN)",null,null,null,null,null,null,null,null,null,null,null,null,null,null,null,null,null,null,null,null,null,null,null,null,"SMART"]
[{"$f":"Skillserleuterungen_FTEM!A3","v":"TEAM"},null,null,{"$f":"Skillserleuterungen_FTEM!B3","v":"FÄHIGKEIT"},null,null,{"$f":"Skillserleuterungen_FTEM!C3","v":"BEOBACHTUNG"},null,null,null,null,null,"Final","Datum1",null,"Datum2",null,"Datum3",null,"Datum4",null,"Datum5",null,"Player",null,"ZIEL","MASSNAHME:\nSPEZIFISCH,  MESSBAR, REALISITISCH",null,null,null,null,null,null,"TERMIN","ZIEL-KONTROLLE","Datum"]
[{"$f":"Skillserleuterungen_FTEM!A4","v":"TEAM"},null,null,{"$f":"IF($H$2=\"G\",Skillserleuterungen_FTEM!F4,Skillserleuterungen_FTEM!B4)","v":"Kommunikation"},null,null,{"$f":"IF($H$2=\"G\",Skillserleuterungen_FTEM!G4,Skillserleuterungen_FTEM!C4)","v":"pflegt einen offenen, respektvollen Umgang, Vertrauensbasis als Grundlage, trägt Konflikte aus ohne die Stabilität der Gruppe zu gefährden, kommuniziert mit Mitspielerinnen, Trainern und Funktionären gleichermassen wertschätzend"},null,null,{"$f":"IF($H$2=\"G\",Skillserleuterungen_FTEM!#REF!,Skillserleuterungen_FTEM!#REF!)","v":{"$error":"#REF!"}},null,null,null,{"$f":"IFERROR(AVERAGE(O13:O17),\"-\")","v":"-"},null,{"$f":"IFERROR(AVERAGE(Q13:Q17),\"-\")","v":"-"},null,{"$f":"IFERROR(AVERAGE(S13:S17),\"-\")","v":"-"},null,{"$f":"IFERROR(AVERAGE(U13:U17),\"-\")","v":"-"},null,null,null,{"$f":"IFERROR(AVERAGE(Y13:Y17),\"-\")","v":"-"}]
[null,null,null,{"$f":"IF($H$2=\"G\",Skillserleuterungen_FTEM!F5,Skillserleuterungen_FTEM!B5)","v":"Teamfähigkeit"},null,null,{"$f":"IF($H$2=\"G\",Skillserleuterungen_FTEM!G5,Skillserleuterungen_FTEM!C5)","v":"Integration in die Gruppe, gemeinsame Ziele bestimmen und verfolgen können, WIR vor dem ICH, trägt zu einem guten Team-Spirit und Arbeitsklima bei"},null,null,{"$f":"IF($H$2=\"G\",Skillserleuterungen_FTEM!#REF!,Skillserleuterungen_FTEM!#REF!)","v":{"$error":"#REF!"}}]
[null,null,null,{"$f":"IF($H$2=\"G\",Skillserleuterungen_FTEM!F6,Skillserleuterungen_FTEM!B6)","v":"Leadership"},null,null,{"$f":"IF($H$2=\"G\",Skillserleuterungen_FTEM!G6,Skillserleuterungen_FTEM!C6)","v":"übernimmt Verantwortung in der Gruppe, versucht Team und Mitspielerinnen besser zu machen, nimmt positiven Einfluss auf die Gruppendynamik"},null,null,{"$f":"IF($H$2=\"G\",Skillserleuterungen_FTEM!#REF!,Skillserleuterungen_FTEM!#REF!)","v":{"$error":"#REF!"}}]
[null,null,null,{"$f":"IF($H$2=\"G\",Skillserleuterungen_FTEM!F7,Skillserleuterungen_FTEM!B7)","v":"Rollenverteilung"},null,null,{"$f":"IF($H$2=\"G\",Skillserleuterungen_FTEM!G7,Skillserleuterungen_FTEM!C7)","v":"kennt ihre Rolle und füllt diese aus, ist sich ihrer Stellung im Team und im System bewusst, stellt eigene Kompetenzen in den Dienst des Teams"},null,null,{"$f":"IF($H$2=\"G\",Skillserleuterungen_FTEM!#REF!,Skillserleuterungen_FTEM!#REF!)","v":{"$error":"#REF!"}}]
[null,null,null,{"$f":"IF($H$2=\"G\",Skillserleuterungen_FTEM!F8,Skillserleuterungen_FTEM!B8)","v":"Respekt"},null,null,{"$f":"IF($H$2=\"G\",Skillserleuterungen_FTEM!G8,Skillserleuterungen_FTEM!C8)","v":"Respektvoller Umgang mit Mitspielerinnen, Trainern, Gegnern, Schiedsrichter und Staff; achtet die Regeln, Fairplayprinzipien (inkl. Anti-Doping)"},null,null,{"$f":"IF($H$2=\"G\",Skillserleuterungen_FTEM!#REF!,Skillserleuterungen_FTEM!#REF!)","v":{"$error":"#REF!"}}]
[{"$f":"Skillserleuterungen_FTEM!A9","v":"ON ICE"},null,null,{"$f":"Skillserleuterungen_FTEM!B9","v":"FÄHIGKEIT"},null,null,{"$f":"Skillserleuterungen_FTEM!C9","v":"BEOBACHTUNG"},null,null,null,null,null,null,"Datum1",null,"Datum2",null,"Datum3",null,"Datum4",null,"Datum5",null,"Player",null,"ZIEL","MASSNAHME:\nSPEZIFISCH,  MESSBAR, REALISITISCH",null,null,null,null,null,null,"TERMIN","ZIEL-KONTROLLE","Datum"]
[{"$f":"Skillserleuterungen_FTEM!A10","v":"SKATING"},null,null,{"$f":"IF($H$2=\"G\",Skillserleuterungen_FTEM!F10,Skillserleuterungen_FTEM!B10)","v":"Footspeed"},null,null,{"$f":"IF($H$2=\"G\",Skillserleuterungen_FTEM!G10,Skillserleuterungen_FTEM!C10)","v":"Beschleunigung, Antritt, erste 3 Schritte Explosivität, Frequenz"},null,null,{"$f":"IF($H$2=\"G\",Skillserleuterungen_FTEM!#REF!,Skillserleuterungen_FTEM!#REF!)","v":{"$error":"#REF!"}},null,null,null,{"$f":"IFERROR(AVERAGE(O19:O23),\"-\")","v":"-"},null,{"$f":"IFERROR(AVERAGE(Q19:Q23),\"-\")","v":"-"},null,{"$f":"IFERROR(AVERAGE(S19:S23),\"-\")","v":"-"},null,{"$f":"IFERROR(AVERAGE(U19:U23),\"-\")","v":"-"},null,{"$f":"IFERROR(AVERAGE(W19:W23),\"-\")","v":"-"},null,{"$f":"IFERROR(AVERAGE(Y19:Y23),\"-\")","v":"-"}]
[null,null,null,{"$f":"IF($H$2=\"G\",Skillserleuterungen_FTEM!F11,Skillserleuterungen_FTEM!B11)","v":"Topspeed"},null,null,{"$f":"IF($H$2=\"G\",Skillserleuterungen_FTEM!G11,Skillserleuterungen_FTEM!C11)","v":"Schnelligkeit, Gleitfähigkeit, vorwärts und rückwärts, Ökonomie"},null,null,{"$f":"IF($H$2=\"G\",Skillserleuterungen_FTEM!#REF!,Skillserleuterungen_FTEM!#REF!)","v":{"$error":"#REF!"}}]
[null,null,null,{"$f":"IF($H$2=\"G\",Skillserleuterungen_FTEM!F12,Skillserleuterungen_FTEM!B12)","v":"Agilität"},null,null,{"$f":"IF($H$2=\"G\",Skillserleuterungen_FTEM!G12,Skillserleuterungen_FTEM!C12)","v":"Richtungsänderung, Drehung, Stop und Start, \"Nummelin\""},null,null,{"$f":"IF($H$2=\"G\",Skillserleuterungen_FTEM!#REF!,Skillserleuterungen_FTEM!#REF!)","v":{"$error":"#REF!"}},null,null,null,{"$f":"IFERROR(AVERAGE(O21:O23),\"-\")","v":"-"},null,{"$f":"IFERROR(AVERAGE(Q21:Q23),\"-\")","v":"-"},null,{"$f":"IFERROR(AVERAGE(S21:S23),\"-\")","v":"-"},null,{"$f":"IFERROR(AVERAGE(U21:U23),\"-\")","v":"-"},null,{"$f":"IFERROR(AVERAGE(W21:W23),\"-\")","v":"-"},null,{"$f":"IFERROR(AVERAGE(Y21:Y23),\"-\")","v":"-"}]
[null,null,null,{"$f":"IF($H$2=\"G\",Skillserleuterungen_FTEM!F13,Skillserleuterungen_FTEM!B13)","v":"Balance"},null,null,{"$f":"IF($H$2=\"G\",Skillserleuterungen_FTEM!G13,Skillserleuterungen_FTEM!C13)","v":"Gleichgewicht, Standhaftfähigkeit, tiefe Position, ein- und beidbeinig"},null,null,{"$f":"IF($H$2=\"G\",Skillserleuterungen_FTEM!#REF!,Skillserleuterungen_FTEM!#REF!)","v":{"$error":"#REF!"}}]
[null,null,null,{"$f":"IF($H$2=\"G\",Skillserleuterungen_FTEM!F14,Skillserleuterungen_FTEM!B14)","v":"Backwards Skating"},null,null,{"$f":"IF($H$2=\"G\",Skillserleuterungen_FTEM!G14,Skillserleuterungen_FTEM!C14)","v":"Beschleunigung, Geschwindigkeit, Balance"},null,null,{"$f":"IF($H$2=\"G\",Skillserleuterungen_FTEM!#REF!,Skillserleuterungen_FTEM!#REF!)","v":{"$error":"#REF!"}}]
[{"$f":"Skillserleuterungen_FTEM!A15","v":"SKILLS"},null,null,{"$f":"IF($H$2=\"G\",Skillserleuterungen_FTEM!F15,Skillserleuterungen_FTEM!B15)","v":"Schiessen"},null,null,{"$f":"IF($H$2=\"G\",Skillserleuterungen_FTEM!G15,Skillserleuterungen_FTEM!C15)","v":"Effizienz (no space no time), Variantenreichtum, Überraschungsgrad (Quick Release), Präzision, Härte, (taktische Abschlüsse)"},null,null,{"$f":"IF($H$2=\"G\",Skillserleuterungen_FTEM!#REF!,Skillserleuterungen_FTEM!#REF!)","v":{"$error":"#REF!"}},null,null,null,{"$f":"IFERROR(AVERAGE(O24:O29),\"-\")","v":"-"},null,{"$f":"IFERROR(AVERAGE(Q24:Q29),\"-\")","v":"-"},null,{"$f":"IFERROR(AVERAGE(S24:S29),\"-\")","v":"-"},null,{"$f":"IFERROR(AVERAGE(U24:U29),\"-\")","v":"-"},null,{"$f":"IFERROR(AVERAGE(W24:W29),\"-\")","v":"-"},null,{"$f":"IFERROR(AVERAGE(Y24:Y29),\"-\")","v":"-"}]
[null,null,null,{"$f":"IF($H$2=\"G\",Skillserleuterungen_FTEM!F16,Skillserleuterungen_FTEM!B16)","v":"Passen"},null,null,{"$f":"IF($H$2=\"G\",Skillserleuterungen_FTEM!G16,Skillserleuterungen_FTEM!C16)","v":"Passabgabe (Distanz, Flippass Backhand), Passannahme (Präzision, Timing, Vorhand, Rückhand, Schlittschuh), Puckspeed "},null,null,{"$f":"IF($H$2=\"G\",Skillserleuterungen_FTEM!#REF!,Skillserleuterungen_FTEM!#REF!)","v":{"$error":"#REF!"}}]
[null,null,null,{"$f":"IF($H$2=\"G\",Skillserleuterungen_FTEM!F17,Skillserleuterungen_FTEM!B17)","v":"Stockarbeit"},null,null,{"$f":"IF($H$2=\"G\",Skillserleuterungen_FTEM!G17,Skillserleuterungen_FTEM!C17)","v":"Stock zum Puck, Passlinie unterbinden, ablenken, Stockkontrolle Gegenspielerin"},null,null,{"$f":"IF($H$2=\"G\",Skillserleuterungen_FTEM!#REF!,Skillserleuterungen_FTEM!#REF!)","v":{"$error":"#REF!"}}]
[null,null,null,{"$f":"IF($H$2=\"G\",Skillserleuterungen_FTEM!F18,Skillserleuterungen_FTEM!B18)","v":"Puck besitzen "},null,null,{"$f":"IF($H$2=\"G\",Skillserleuterungen_FTEM!G18,Skillserleuterungen_FTEM!C18)","v":"Puckkontrolle, Dribblings, Puck schützen, Finten (Varianten: mit Schlittschuh, mit sowie ohne Bande), Face-Off"},null,null,{"$f":"IF($H$2=\"G\",Skillserleuterungen_FTEM!#REF!,Skillserleuterungen_FTEM!#REF!)","v":{"$error":"#REF!"}}]
[null,null,null,{"$f":"IF($H$2=\"G\",Skillserleuterungen_FTEM!F19,Skillserleuterungen_FTEM!B19)","v":"Körperspiel"},null,null,{"$f":"IF($H$2=\"G\",Skillserleuterungen_FTEM!G19,Skillserleuterungen_FTEM!C19)","v":"Phyisches Durchsetzungsvermögen, Zweikampf (offenes Eis/Bande), Checks nehmen/Head up, Battle Level, Hart aber fair"},null,null,{"$f":"IF($H$2=\"G\",Skillserleuterungen_FTEM!#REF!,Skillserleuterungen_FTEM!#REF!)","v":{"$error":"#REF!"}}]
[null,null,null,{"$f":"IF($H$2=\"G\",Skillserleuterungen_FTEM!F20,Skillserleuterungen_FTEM!B20)","v":"-"},null,null,{"$f":"IF($H$2=\"G\",Skillserleuterungen_FTEM!G20,Skillserleuterungen_FTEM!C20)","v":"-"},null,null,{"$f":"IF($H$2=\"G\",Skillserleuterungen_FTEM!#REF!,Skillserleuterungen_FTEM!#REF!)","v":{"$error":"#REF!"}}]
[{"$f":"Skillserleuterungen_FTEM!A21","v":"HOCKEY SENSE"},null,null,{"$f":"IF($H$2=\"G\",Skillserleuterungen_FTEM!F21,Skillserleuterungen_FTEM!B21)","v":"Spielintelligenz"},null,null,{"$f":"IF($H$2=\"G\",Skillserleuterungen_FTEM!G21,Skillserleuterungen_FTEM!C21)","v":"Freie Räume und Spielerin sehen und Überzahlsituationen kreieren, lösungsorientiert agieren bei allen Bedingungen, Headspeed"},null,null,{"$f":"IF($H$2=\"G\",Skillserleuterungen_FTEM!#REF!,Skillserleuterungen_FTEM!#REF!)","v":{"$error":"#REF!"}},null,null,null,{"$f":"IFERROR(AVERAGE(O30:O34),\"-\")","v":"-"},null,{"$f":"IFERROR(AVERAGE(Q30:Q34),\"-\")","v":"-"},null,{"$f":"IFERROR(AVERAGE(S30:S34),\"-\")","v":"-"},null,{"$f":"IFERROR(AVERAGE(U30:U34),\"-\")","v":"-"},null,{"$f":"IFERROR(AVERAGE(W30:W34),\"-\")","v":"-"},null,{"$f":"IFERROR(AVERAGE(Y30:Y34),\"-\")","v":"-"}]
[null,null,null,{"$f":"IF($H$2=\"G\",Skillserleuterungen_FTEM!F22,Skillserleuterungen_FTEM!B22)","v":"Offensives Bewusstsein"},null,null,{"$f":"IF($H$2=\"G\",Skillserleuterungen_FTEM!G22,Skillserleuterungen_FTEM!C22)","v":"Anspielbar, Antizipation der Spielsituationen, Freiräume für Mitspielerinnen öffnen, Abschlussorientiert sein, Gapspeed, gute Kommunikation"},null,null,{"$f":"IF($H$2=\"G\",Skillserleuterungen_FTEM!#REF!,Skillserleuterungen_FTEM!#REF!)","v":{"$error":"#REF!"}}]
[null,null,null,{"$f":"IF($H$2=\"G\",Skillserleuterungen_FTEM!F23,Skillserleuterungen_FTEM!B23)","v":"Defensiv Bewusstsein"},null,null,{"$f":"IF($H$2=\"G\",Skillserleuterungen_FTEM!G23,Skillserleuterungen_FTEM!C23)","v":"Inside Position halten, Slot beschützen, Mitspieler absichern/Support, Passlinie erkennen, Schüsse blockieren. Gapspeed, gute Komunikation"},null,null,{"$f":"IF($H$2=\"G\",Skillserleuterungen_FTEM!#REF!,Skillserleuterungen_FTEM!#REF!)","v":{"$error":"#REF!"}}]
[null,null,null,{"$f":"IF($H$2=\"G\",Skillserleuterungen_FTEM!F24,Skillserleuterungen_FTEM!B24)","v":"Puckmanagement"},null,null,{"$f":"IF($H$2=\"G\",Skillserleuterungen_FTEM!G24,Skillserleuterungen_FTEM!C24)","v":"Situationsadäquate Entscheidungen treffen, Support, Overload"},null,null,{"$f":"IF($H$2=\"G\",Skillserleuterungen_FTEM!#REF!,Skillserleuterungen_FTEM!#REF!)","v":{"$error":"#REF!"}}]
[null,null,null,{"$f":"IF($H$2=\"G\",Skillserleuterungen_FTEM!F25,Skillserleuterungen_FTEM!B25)","v":"Kreativität"},null,null,{"$f":"IF($H$2=\"G\",Skillserleuterungen_FTEM!G25,Skillserleuterungen_FTEM!C25)","v":"Überraschende Lösungen, Torriecher"},null,null,{"$f":"IF($H$2=\"G\",Skillserleuterungen_FTEM!#REF!,Skillserleuterungen_FTEM!#REF!)","v":{"$error":"#REF!"}}]
[{"$f":"Skillserleuterungen_FTEM!A26","v":"PERSONALITY"},null,null,{"$f":"Skillserleuterungen_FTEM!B26","v":"FÄHIGKEIT"},null,null,{"$f":"Skillserleuterungen_FTEM!C26","v":"BEOBACHTUNG"},null,null,null,null,null,null,"Datum1",null,"Datum2",null,"Datum3",null,"Datum4",null,"Datum5",null,"Player",null,"ZIEL","MASSNAHME:\nSPEZIFISCH,  MESSBAR, REALISITISCH",null,null,null,null,null,null,"TERMIN","ZIEL-KONTROLLE","Datum"]
[{"$f":"Skillserleuterungen_FTEM!A27","v":"PERSÖNLICHKEIT"},null,null,{"$f":"IF($H$2=\"G\",Skillserleuterungen_FTEM!F27,Skillserleuterungen_FTEM!B27)","v":"Selbstbewusstsein"},null,null,{"$f":"IF($H$2=\"G\",Skillserleuterungen_FTEM!G27,Skillserleuterungen_FTEM!C27)","v":"hat das nötige Selbstvertrauen,\"I can do it\"-Haltung, kann eigene Fähigkeiten einschätzen (kennt eigene Stärken/Schwächen), kann ihre Stärken konstant einsetzen, agiert mutig und nimmt kalkulierte Risiken"},null,null,{"$f":"IF($H$2=\"G\",Skillserleuterungen_FTEM!#REF!,Skillserleuterungen_FTEM!#REF!)","v":{"$error":"#REF!"}},null,null,null,{"$f":"IFERROR(AVERAGE(O36:O40),\"-\")","v":"-"},null,{"$f":"IFERROR(AVERAGE(Q36:Q40),\"-\")","v":"-"},null,{"$f":"IFERROR(AVERAGE(S36:S40),\"-\")","v":"-"},null,{"$f":"IFERROR(AVERAGE(U36:U40),\"-\")","v":"-"},null,{"$f":"IFERROR(AVERAGE(W36:W40),\"-\")","v":"-"},null,{"$f":"IFERROR(AVERAGE(Y36:Y40),\"-\")","v":"-"}]
[null,null,null,{"$f":"IF($H$2=\"G\",Skillserleuterungen_FTEM!F28,Skillserleuterungen_FTEM!B28)","v":"Lernfähigkeit"},null,null,{"$f":"IF($H$2=\"G\",Skillserleuterungen_FTEM!G28,Skillserleuterungen_FTEM!C28)","v":"hat eine gute Auffassungsgabe (nimmt auf und kann umsetzen), reflektiert eigenes Handeln, versucht aus Fehlern zu lernen und kann Massnahmen ableiten"},null,null,{"$f":"IF($H$2=\"G\",Skillserleuterungen_FTEM!#REF!,Skillserleuterungen_FTEM!#REF!)","v":{"$error":"#REF!"}}]
[null,null,null,{"$f":"IF($H$2=\"G\",Skillserleuterungen_FTEM!F29,Skillserleuterungen_FTEM!B29)","v":"Eigenverantwortung"},null,null,{"$f":"IF($H$2=\"G\",Skillserleuterungen_FTEM!G29,Skillserleuterungen_FTEM!C29)","v":"übernimmt Verantwortung für eigene Leistungen und Entwicklung, handelt selbständig, achtet auf Details, zeigt grosses Engagement in allen Bereichen"},null,null,{"$f":"IF($H$2=\"G\",Skillserleuterungen_FTEM!#REF!,Skillserleuterungen_FTEM!#REF!)","v":{"$error":"#REF!"}}]
[null,null,null,{"$f":"IF($H$2=\"G\",Skillserleuterungen_FTEM!F30,Skillserleuterungen_FTEM!B30)","v":"Motivation"},null,null,{"$f":"IF($H$2=\"G\",Skillserleuterungen_FTEM!G30,Skillserleuterungen_FTEM!C30)","v":"Intrinsischer Antrieb, will sich ständig weiterentwickeln und lernen, will die Erste sein und Erfolg haben, gibt nie auf und lässt sich auch durch Misserfolge nicht vom Weg abbringen"},null,null,{"$f":"IF($H$2=\"G\",Skillserleuterungen_FTEM!#REF!,Skillserleuterungen_FTEM!#REF!)","v":{"$error":"#REF!"}}]
[null,null,null,{"$f":"IF($H$2=\"G\",Skillserleuterungen_FTEM!F31,Skillserleuterungen_FTEM!B31)","v":"Performance Lifestyle"},null,null,{"$f":"IF($H$2=\"G\",Skillserleuterungen_FTEM!G31,Skillserleuterungen_FTEM!C31)","v":"managt Alltag und Umfeld nach dem Leistungsprinzip, hartnäckig, beharrlich und zielgerichtet, Fokus auf eigene Leistung, zeigt Biss und kann sich auch gegen Widerstände durchsetzen, Herausforderungen spornen sie an"},null,null,{"$f":"IF($H$2=\"G\",Skillserleuterungen_FTEM!#REF!,Skillserleuterungen_FTEM!#REF!)","v":{"$error":"#REF!"}}]
[{"$f":"Skillserleuterungen_FTEM!A32","v":"MENTALE STÄRKE"},null,null,{"$f":"IF($H$2=\"G\",Skillserleuterungen_FTEM!F32,Skillserleuterungen_FTEM!B32)","v":"Einsatzbereitschaft"},null,null,{"$f":"IF($H$2=\"G\",Skillserleuterungen_FTEM!G32,Skillserleuterungen_FTEM!C32)","v":"zeigt im Spiel und im Training hohe Intensität, gibt immer ihr Maximum und will ihre Limiten pushen, zeigt Leidenschaft, ist um hohe Trainingsqualität bemüht"},null,null,{"$f":"IF($H$2=\"G\",Skillserleuterungen_FTEM!#REF!,Skillserleuterungen_FTEM!#REF!)","v":{"$error":"#REF!"}},null,null,null,{"$f":"IFERROR(AVERAGE(O41:O45),\"-\")","v":"-"},null,{"$f":"IFERROR(AVERAGE(Q41:Q45),\"-\")","v":"-"},null,{"$f":"IFERROR(AVERAGE(S41:S45),\"-\")","v":"-"},null,{"$f":"IFERROR(AVERAGE(U41:U45),\"-\")","v":"-"},null,{"$f":"IFERROR(AVERAGE(W41:W45),\"-\")","v":"-"},null,{"$f":"IFERROR(AVERAGE(Y41:Y45),\"-\")","v":"-"}]
[null,null,null,{"$f":"IF($H$2=\"G\",Skillserleuterungen_FTEM!F33,Skillserleuterungen_FTEM!B33)","v":"Vorbereitung"},null,null,{"$f":"IF($H$2=\"G\",Skillserleuterungen_FTEM!G33,Skillserleuterungen_FTEM!C33)","v":"bewusste und gezielte Vorbereitung, mental wie auch physisch, verfügt über einen effizienten Ablauf zur Erreichung des idealen Leistungszustand (ILZ)"},null,null,{"$f":"IF($H$2=\"G\",Skillserleuterungen_FTEM!#REF!,Skillserleuterungen_FTEM!#REF!)","v":{"$error":"#REF!"}}]
[null,null,null,{"$f":"IF($H$2=\"G\",Skillserleuterungen_FTEM!F34,Skillserleuterungen_FTEM!B34)","v":"Selbstcoaching"},null,null,{"$f":"IF($H$2=\"G\",Skillserleuterungen_FTEM!G34,Skillserleuterungen_FTEM!C34)","v":"verfügt über gute Konzentrationsfähigkeit, kann während Spiel/Training ihren ILZ halten, kann mentale Grundtechniken anwenden, widerstandsfähig gegen negative Gedanken und Einflüsse, ist sich ihrer Körpersprache bewusst und kann diese regulieren"},null,null,{"$f":"IF($H$2=\"G\",Skillserleuterungen_FTEM!#REF!,Skillserleuterungen_FTEM!#REF!)","v":{"$error":"#REF!"}}]
[null,null,null,{"$f":"IF($H$2=\"G\",Skillserleuterungen_FTEM!F35,Skillserleuterungen_FTEM!B35)","v":"Energiemanagement"},null,null,{"$f":"IF($H$2=\"G\",Skillserleuterungen_FTEM!G35,Skillserleuterungen_FTEM!C35)","v":"kann eigene Energie regulieren, bereit zur Regeneration, weiss wann sie \"Vollgas\" geben muss und wann abschalten, On/Off-Schalter"},null,null,{"$f":"IF($H$2=\"G\",Skillserleuterungen_FTEM!#REF!,Skillserleuterungen_FTEM!#REF!)","v":{"$error":"#REF!"}}]
[null,null,null,{"$f":"IF($H$2=\"G\",Skillserleuterungen_FTEM!F36,Skillserleuterungen_FTEM!B36)","v":"Emotionskontrolle"},null,null,{"$f":"IF($H$2=\"G\",Skillserleuterungen_FTEM!G36,Skillserleuterungen_FTEM!C36)","v":"kann eigene Emotionen und Impulse regulieren, behält auch unter Druck die Kontrolle, kann auch in emotional anspruchsvollen oder frustrierenden Situationen angemessen agieren"},null,null,{"$f":"IF($H$2=\"G\",Skillserleuterungen_FTEM!#REF!,Skillserleuterungen_FTEM!#REF!)","v":{"$error":"#REF!"}}]
[{"$f":"Skillserleuterungen_FTEM!A37","v":"PHYSE"},null,null,{"$f":"IF($H$2=\"G\",Skillserleuterungen_FTEM!F37,Skillserleuterungen_FTEM!B37)","v":"Leistungserzeugung"},null,null,{"$f":"IF($H$2=\"G\",Skillserleuterungen_FTEM!G37,Skillserleuterungen_FTEM!C37)","v":"verfügt über die nötige Power/Kraft/Schnelligkeit in den Beinen und im Oberkörper (Neuromuskuläre Faktoren)"},null,null,{"$f":"IF($H$2=\"G\",Skillserleuterungen_FTEM!#REF!,Skillserleuterungen_FTEM!#REF!)","v":{"$error":"#REF!"}},null,null,null,{"$f":"IFERROR(AVERAGE(O46:O50),\"-\")","v":"-"},null,{"$f":"IFERROR(AVERAGE(Q46:Q50),\"-\")","v":"-"},null,{"$f":"IFERROR(AVERAGE(S46:S50),\"-\")","v":"-"},null,{"$f":"IFERROR(AVERAGE(U46:U50),\"-\")","v":"-"},null,{"$f":"IFERROR(AVERAGE(W46:W50),\"-\")","v":"-"},null,{"$f":"IFERROR(AVERAGE(Y46:Y50),\"-\")","v":"-"}]
[null,null,null,{"$f":"IF($H$2=\"G\",Skillserleuterungen_FTEM!F38,Skillserleuterungen_FTEM!B38)","v":"sporartspez. Ermüdungsresistenz"},null,null,{"$f":"IF($H$2=\"G\",Skillserleuterungen_FTEM!G38,Skillserleuterungen_FTEM!C38)","v":"Ist fähig  die Power/Kraft/Schnelligkeit innerhalb des Einsatzes lange aufrechtzuerhalten und kann sich zwischen den Einsätzen jeweils vollkommen erholen (Metabolische und kardiovaskuläre Faktoren)"},null,null,{"$f":"IF($H$2=\"G\",Skillserleuterungen_FTEM!#REF!,Skillserleuterungen_FTEM!#REF!)","v":{"$error":"#REF!"}}]
[null,null,null,{"$f":"IF($H$2=\"G\",Skillserleuterungen_FTEM!F39,Skillserleuterungen_FTEM!B39)","v":"Gesundheit / Prävention"},null,null,{"$f":"IF($H$2=\"G\",Skillserleuterungen_FTEM!G39,Skillserleuterungen_FTEM!C39)","v":"verfügt über die nötige Stabilität (z.B. Beinachsenstabilität) und Beweglichkeit in den zentralen Gelenken"},null,null,{"$f":"IF($H$2=\"G\",Skillserleuterungen_FTEM!#REF!,Skillserleuterungen_FTEM!#REF!)","v":{"$error":"#REF!"}}]
[null,null,null,{"$f":"IF($H$2=\"G\",Skillserleuterungen_FTEM!F40,Skillserleuterungen_FTEM!B40)","v":"Bewegungskompetenzen"},null,null,{"$f":"IF($H$2=\"G\",Skillserleuterungen_FTEM!G40,Skillserleuterungen_FTEM!C40)","v":"beherrscht die grundlegenden Bewegungsfertigkeiten, die eine unerlässliche Zubringerfunktion für die sportspezifischen \"Skills\" darstellt sowie zur nötigen Bewegungseffizienz führt"},null,null,{"$f":"IF($H$2=\"G\",Skillserleuterungen_FTEM!#REF!,Skillserleuterungen_FTEM!#REF!)","v":{"$error":"#REF!"}}]
[null,null,null,{"$f":"IF($H$2=\"G\",Skillserleuterungen_FTEM!F41,Skillserleuterungen_FTEM!B41)","v":"Robustheit"},null,null,{"$f":"IF($H$2=\"G\",Skillserleuterungen_FTEM!G41,Skillserleuterungen_FTEM!C41)","v":"verfügt über die nötige Grundkraft (Körperspannung), um sich in Zweikämpfen durchzusetzen und bei Zusammestössen standzuhalten"},null,null,{"$f":"IF($H$2=\"G\",Skillserleuterungen_FTEM!#REF!,Skillserleuterungen_FTEM!#REF!)","v":{"$error":"#REF!"}}]

{"sheet":"7","index":10,"n_rows":50,"n_cols":36,"rows_kept":50,"cut":false,"hidden":false,"merged":[[13,3,13,5],[14,3,14,5],[15,3,15,5],[13,6,13,11],[14,6,14,11],[15,6,15,11],[21,3,21,5],[21,6,21,11],[26,3,26,5],[26,6,26,11],[0,0,0,24],[0,25,0,26],[0,27,0,32],[0,33,0,35],[29,25,33,25],[29,26,33,32],[29,34,33,34],[35,25,39,25],[35,26,39,32],[35,34,39,34],[1,0,1,1],[1,2,1,5],[1,10,1,24],[2,0,2,1],[2,2,2,5],[2,11,2,24],[6,0,6,1],[6,2,6,35],[7,0,7,1],[7,2,7,35],[8,0,8,1],[8,2,8,35],[3,0,3,1],[3,10,3,24],[4,0,4,1],[4,2,4,5],[4,10,4,24],[10,0,10,24],[10,25,10,35],[40,25,44,25],[40,26,44,32],[40,34,44,34],[12,25,16,25],[12,26,16,32],[12,34,16,34],[18,25,22,25],[18,26,22,32],[18,34,22,34],[23,25,28,25],[23,26,28,32],[23,34,28,34],[17,26,17,32],[11,0,11,2],[11,3,11,5],[11,13,11,14],[11,15,11,16],[11,17,11,18],[11,19,11,20],[11,21,11,22],[11,23,11,24],[11,26,11,32],[11,6,11,11],[12,23,16,23],[16,3,16,5],[16,6,16,11],[17,0,17,2],[17,3,17,5],[17,6,17,11],[17,13,17,14],[17,15,17,16],[17,17,17,18],[17,19,17,20],[17,21,17,22],[17,23,17,24],[12,0,16,2],[12,3,12,5],[12,6,12,11],[12,12,16,12],[12,13,16,13],[12,15,16,15],[12,17,16,17],[12,19,16,19],[12,21,16,21],[18,15,22,15],[18,17,22,17],[18,19,22,19],[18,21,22,21],[18,23,22,23],[22,3,22,5],[22,6,22,11],[23,0,28,2],[23,3,23,5],[23,6,23,11],[23,12,28,12],[23,13,28,13],[23,15,28,15],[23,17,28,17],[18,0,22,2],[18,3,18,5],[18,6,18,11],[18,12,22,12],[18,13,22,13],[19,3,19,5],[19,6,19,11],[20,3,20,5],[20,6,20,11],[23,19,28,19],[23,21,28,21],[23,23,28,23],[24,3,24,5],[24,6,24,11],[28,3,28,5],[28,6,28,11],[33,3,33,5],[33,6,33,11],[29,23,33,23],[29,17,33,17],[29,19,33,19],[29,21,33,21],[30,3,30,5],[30,6,30,11],[31,3,31,5],[31,6,31,11],[27,3,27,5],[27,6,27,11],[32,3,32,5],[32,6,32,11],[29,0,33,2],[29,3,29,5],[29,6,29,11],[29,12,33,12],[29,13,33,13],[29,15,33,15],[34,23,34,24],[34,26,34,32],[35,0,39,2],[35,3,35,5],[35,6,35,11],[35,12,39,12],[35,13,39,13],[35,15,39,15],[39,3,39,5],[39,6,39,11],[35,23,39,23],[34,0,34,2],[34,3,34,5],[34,6,34,11],[34,13,34,14],[34,15,34,16],[34,17,34,18],[34,19,34,20],[36,3,36,5],[36,6,36,11],[37,3,37,5],[37,6,37,11],[40,17,44,17],[40,19,44,19],[40,21,44,21],[41,3,41,5],[41,6,41,11],[44,3,44,5],[44,6,44,11],[38,3,38,5],[38,6,38,11],[43,3,43,5],[43,6,43,11],[45,26,49,32],[45,34,49,34],[25,3,25,5],[25,6,25,11],[42,3,42,5],[42,6,42,11],[45,0,49,2],[45,12,49,12],[45,13,49,13],[45,15,49,15],[45,17,49,17],[45,19,49,19],[45,21,49,21],[45,23,49,23],[45,25,49,25],[45,3,45,5],[45,6,45,11],[46,3,46,5],[46,6,46,11],[40,15,44,15],[34,21,34,22],[35,17,39,17],[35,19,39,19],[35,21,39,21],[47,3,47,5],[47,6,47,11],[49,3,49,5],[49,6,49,11],[40,23,44,23],[40,0,44,2],[40,3,40,5],[40,6,40,11],[40,12,44,12],[40,13,44,13],[48,3,48,5],[48,6,48,11]]}
["Personalien",null,null,null,null,null,null,null,null,null,null,null,null,null,null,null,null,null,null,null,null,null,null,null,null,"Vorausetzungen",null,"Evaluationen",null,null,null,null,null,"Rating"]
["VORNAME",null,{"$f":"IF(ISBLANK(VLOOKUP(7,Tabelle3[],3,0)),\"-\",VLOOKUP(7,Tabelle3[],3,0))","v":"-"},null,null,null,"POSITION",null,null,"ADRESSE",{"$f":"IF(ISBLANK(VLOOKUP(7,Tabelle3[],5,0)),\"-\",VLOOKUP(7,Tabelle3[],5,0))","v":"-"},null,null,null,null,null,null,null,null,null,null,null,null,null,null,"\"Alter\" (Biologisch/Relative Age)",null,"Datum 1",null,null,"cm",null,"Kg",null,"AUSGEZEICHNET",5]
["NAME",null,{"$f":"IF(ISBLANK(VLOOKUP(7,Tabelle3[],2,0)),\"-\",VLOOKUP(7,Tabelle3[],2,0))","v":"-"},null,null,null,"STOCK",null,null,"WOHNORT",{"$f":"IF(ISBLANK(VLOOKUP(7,Tabelle3[],7,0)),\"-\",VLOOKUP(7,Tabelle3[],7,0))","v":"-"},{"$f":"IF(ISBLANK(VLOOKUP(7,Tabelle3[],6,0)),\"-\",VLOOKUP(7,Tabelle3[],6,0))","v":"-"},null,null,null,null,null,null,null,null,null,null,null,null,null,"Veranlagung",null,"Datum 2",null,null,"cm",null,"Kg",null,"GUT",4]
["GEB. DATUM",null,{"$f":"IF(ISBLANK(VLOOKUP(7,Tabelle3[],14,0)),\"-\",VLOOKUP(7,Tabelle3[],14,0))","v":"-"},{"$f":"IF(ISBLANK(VLOOKUP(7,Tabelle3[],15,0)),\"-\",VLOOKUP(7,Tabelle3[],15,0))","v":"-"},{"$f":"IF(ISBLANK(VLOOKUP(7,Tabelle3[],16,0)),\"-\",VLOOKUP(7,Tabelle3[],16,0))","v":"-"},null,"GRÖSSE",null,"cm (Final)","CLUB",{"$f":"IF(ISBLANK(VLOOKUP(7,Tabelle3[],8,0)),\"-\",VLOOKUP(7,Tabelle3[],8,0))","v":"-"},null,null,null,null,null,null,null,null,null,null,null,null,null,null,"Umfeld",null,"Datum 3",null,null,"cm",null,"Kg",null,"DURCHSCHNITT",3]
["SEX",null,{"$f":"IF(ISBLANK(VLOOKUP(7,Tabelle3[],13,0)),\"-\",VLOOKUP(7,Tabelle3[],13,0))","v":"-"},null,null,null,"GEWICHT",null,"Kg (Final)","E-Mail",{"$f":"IF(ISBLANK(VLOOKUP(7,Tabelle3[],9,0)),\"-\",VLOOKUP(7,Tabelle3[],9,0))","v":"-"},null,null,null,null,null,null,null,null,null,null,null,null,null,null,null,null,"Datum 4",null,null,"cm",null,"Kg",null,"MANGELHAFT",2]
[null,null,null,null,null,null,null,null,null,null,null,null,null,null,null,null,null,null,null,null,null,null,null,null,null,null,null,"Datum 5",null,null,"cm",null,"Kg",null,"UNGENÜGEND",1]
["Vision",null,"xxx"]
["Ziele",null,"xxx"]
["Stärken",null,"xxx"]
[]
["EVALUATION (COACH / SPIELERIN)",null,null,null,null,null,null,null,null,null,null,null,null,null,null,null,null,null,null,null,null,null,null,null,null,"SMART"]
[{"$f":"Skillserleuterungen_FTEM!A3","v":"TEAM"},null,null,{"$f":"Skillserleuterungen_FTEM!B3","v":"FÄHIGKEIT"},null,null,{"$f":"Skillserleuterungen_FTEM!C3","v":"BEOBACHTUNG"},null,null,null,null,null,"Final","Datum1",null,"Datum2",null,"Datum3",null,"Datum4",null,"Datum5",null,"Player",null,"ZIEL","MASSNAHME:\nSPEZIFISCH,  MESSBAR, REALISITISCH",null,null,null,null,null,null,"TERMIN","ZIEL-KONTROLLE","Datum"]
[{"$f":"Skillserleuterungen_FTEM!A4","v":"TEAM"},null,null,{"$f":"IF($H$2=\"G\",Skillserleuterungen_FTEM!F4,Skillserleuterungen_FTEM!B4)","v":"Kommunikation"},null,null,{"$f":"IF($H$2=\"G\",Skillserleuterungen_FTEM!G4,Skillserleuterungen_FTEM!C4)","v":"pflegt einen offenen, respektvollen Umgang, Vertrauensbasis als Grundlage, trägt Konflikte aus ohne die Stabilität der Gruppe zu gefährden, kommuniziert mit Mitspielerinnen, Trainern und Funktionären gleichermassen wertschätzend"},null,null,{"$f":"IF($H$2=\"G\",Skillserleuterungen_FTEM!#REF!,Skillserleuterungen_FTEM!#REF!)","v":{"$error":"#REF!"}},null,null,null,{"$f":"IFERROR(AVERAGE(O13:O17),\"-\")","v":"-"},null,{"$f":"IFERROR(AVERAGE(Q13:Q17),\"-\")","v":"-"},null,{"$f":"IFERROR(AVERAGE(S13:S17),\"-\")","v":"-"},null,{"$f":"IFERROR(AVERAGE(U13:U17),\"-\")","v":"-"},null,null,null,{"$f":"IFERROR(AVERAGE(Y13:Y17),\"-\")","v":"-"}]
[null,null,null,{"$f":"IF($H$2=\"G\",Skillserleuterungen_FTEM!F5,Skillserleuterungen_FTEM!B5)","v":"Teamfähigkeit"},null,null,{"$f":"IF($H$2=\"G\",Skillserleuterungen_FTEM!G5,Skillserleuterungen_FTEM!C5)","v":"Integration in die Gruppe, gemeinsame Ziele bestimmen und verfolgen können, WIR vor dem ICH, trägt zu einem guten Team-Spirit und Arbeitsklima bei"},null,null,{"$f":"IF($H$2=\"G\",Skillserleuterungen_FTEM!#REF!,Skillserleuterungen_FTEM!#REF!)","v":{"$error":"#REF!"}}]
[null,null,null,{"$f":"IF($H$2=\"G\",Skillserleuterungen_FTEM!F6,Skillserleuterungen_FTEM!B6)","v":"Leadership"},null,null,{"$f":"IF($H$2=\"G\",Skillserleuterungen_FTEM!G6,Skillserleuterungen_FTEM!C6)","v":"übernimmt Verantwortung in der Gruppe, versucht Team und Mitspielerinnen besser zu machen, nimmt positiven Einfluss auf die Gruppendynamik"},null,null,{"$f":"IF($H$2=\"G\",Skillserleuterungen_FTEM!#REF!,Skillserleuterungen_FTEM!#REF!)","v":{"$error":"#REF!"}}]
[null,null,null,{"$f":"IF($H$2=\"G\",Skillserleuterungen_FTEM!F7,Skillserleuterungen_FTEM!B7)","v":"Rollenverteilung"},null,null,{"$f":"IF($H$2=\"G\",Skillserleuterungen_FTEM!G7,Skillserleuterungen_FTEM!C7)","v":"kennt ihre Rolle und füllt diese aus, ist sich ihrer Stellung im Team und im System bewusst, stellt eigene Kompetenzen in den Dienst des Teams"},null,null,{"$f":"IF($H$2=\"G\",Skillserleuterungen_FTEM!#REF!,Skillserleuterungen_FTEM!#REF!)","v":{"$error":"#REF!"}}]
[null,null,null,{"$f":"IF($H$2=\"G\",Skillserleuterungen_FTEM!F8,Skillserleuterungen_FTEM!B8)","v":"Respekt"},null,null,{"$f":"IF($H$2=\"G\",Skillserleuterungen_FTEM!G8,Skillserleuterungen_FTEM!C8)","v":"Respektvoller Umgang mit Mitspielerinnen, Trainern, Gegnern, Schiedsrichter und Staff; achtet die Regeln, Fairplayprinzipien (inkl. Anti-Doping)"},null,null,{"$f":"IF($H$2=\"G\",Skillserleuterungen_FTEM!#REF!,Skillserleuterungen_FTEM!#REF!)","v":{"$error":"#REF!"}}]
[{"$f":"Skillserleuterungen_FTEM!A9","v":"ON ICE"},null,null,{"$f":"Skillserleuterungen_FTEM!B9","v":"FÄHIGKEIT"},null,null,{"$f":"Skillserleuterungen_FTEM!C9","v":"BEOBACHTUNG"},null,null,null,null,null,null,"Datum1",null,"Datum2",null,"Datum3",null,"Datum4",null,"Datum5",null,"Player",null,"ZIEL","MASSNAHME:\nSPEZIFISCH,  MESSBAR, REALISITISCH",null,null,null,null,null,null,"TERMIN","ZIEL-KONTROLLE","Datum"]
[{"$f":"Skillserleuterungen_FTEM!A10","v":"SKATING"},null,null,{"$f":"IF($H$2=\"G\",Skillserleuterungen_FTEM!F10,Skillserleuterungen_FTEM!B10)","v":"Footspeed"},null,null,{"$f":"IF($H$2=\"G\",Skillserleuterungen_FTEM!G10,Skillserleuterungen_FTEM!C10)","v":"Beschleunigung, Antritt, erste 3 Schritte Explosivität, Frequenz"},null,null,{"$f":"IF($H$2=\"G\",Skillserleuterungen_FTEM!#REF!,Skillserleuterungen_FTEM!#REF!)","v":{"$error":"#REF!"}},null,null,null,{"$f":"IFERROR(AVERAGE(O19:O23),\"-\")","v":"-"},null,{"$f":"IFERROR(AVERAGE(Q19:Q23),\"-\")","v":"-"},null,{"$f":"IFERROR(AVERAGE(S19:S23),\"-\")","v":"-"},null,{"$f":"IFERROR(AVERAGE(U19:U23),\"-\")","v":"-"},null,{"$f":"IFERROR(AVERAGE(W19:W23),\"-\")","v":"-"},null,{"$f":"IFERROR(AVERAGE(Y19:Y23),\"-\")","v":"-"}]
[null,null,null,{"$f":"IF($H$2=\"G\",Skillserleuterungen_FTEM!F11,Skillserleuterungen_FTEM!B11)","v":"Topspeed"},null,null,{"$f":"IF($H$2=\"G\",Skillserleuterungen_FTEM!G11,Skillserleuterungen_FTEM!C11)","v":"Schnelligkeit, Gleitfähigkeit, vorwärts und rückwärts, Ökonomie"},null,null,{"$f":"IF($H$2=\"G\",Skillserleuterungen_FTEM!#REF!,Skillserleuterungen_FTEM!#REF!)","v":{"$error":"#REF!"}}]
[null,null,null,{"$f":"IF($H$2=\"G\",Skillserleuterungen_FTEM!F12,Skillserleuterungen_FTEM!B12)","v":"Agilität"},null,null,{"$f":"IF($H$2=\"G\",Skillserleuterungen_FTEM!G12,Skillserleuterungen_FTEM!C12)","v":"Richtungsänderung, Drehung, Stop und Start, \"Nummelin\""},null,null,{"$f":"IF($H$2=\"G\",Skillserleuterungen_FTEM!#REF!,Skillserleuterungen_FTEM!#REF!)","v":{"$error":"#REF!"}},null,null,null,{"$f":"IFERROR(AVERAGE(O21:O23),\"-\")","v":"-"},null,{"$f":"IFERROR(AVERAGE(Q21:Q23),\"-\")","v":"-"},null,{"$f":"IFERROR(AVERAGE(S21:S23),\"-\")","v":"-"},null,{"$f":"IFERROR(AVERAGE(U21:U23),\"-\")","v":"-"},null,{"$f":"IFERROR(AVERAGE(W21:W23),\"-\")","v":"-"},null,{"$f":"IFERROR(AVERAGE(Y21:Y23),\"-\")","v":"-"}]
[null,null,null,{"$f":"IF($H$2=\"G\",Skillserleuterungen_FTEM!F13,Skillserleuterungen_FTEM!B13)","v":"Balance"},null,null,{"$f":"IF($H$2=\"G\",Skillserleuterungen_FTEM!G13,Skillserleuterungen_FTEM!C13)","v":"Gleichgewicht, Standhaftfähigkeit, tiefe Position, ein- und beidbeinig"},null,null,{"$f":"IF($H$2=\"G\",Skillserleuterungen_FTEM!#REF!,Skillserleuterungen_FTEM!#REF!)","v":{"$error":"#REF!"}}]
[null,null,null,{"$f":"IF($H$2=\"G\",Skillserleuterungen_FTEM!F14,Skillserleuterungen_FTEM!B14)","v":"Backwards Skating"},null,null,{"$f":"IF($H$2=\"G\",Skillserleuterungen_FTEM!G14,Skillserleuterungen_FTEM!C14)","v":"Beschleunigung, Geschwindigkeit, Balance"},null,null,{"$f":"IF($H$2=\"G\",Skillserleuterungen_FTEM!#REF!,Skillserleuterungen_FTEM!#REF!)","v":{"$error":"#REF!"}}]
[{"$f":"Skillserleuterungen_FTEM!A15","v":"SKILLS"},null,null,{"$f":"IF($H$2=\"G\",Skillserleuterungen_FTEM!F15,Skillserleuterungen_FTEM!B15)","v":"Schiessen"},null,null,{"$f":"IF($H$2=\"G\",Skillserleuterungen_FTEM!G15,Skillserleuterungen_FTEM!C15)","v":"Effizienz (no space no time), Variantenreichtum, Überraschungsgrad (Quick Release), Präzision, Härte, (taktische Abschlüsse)"},null,null,{"$f":"IF($H$2=\"G\",Skillserleuterungen_FTEM!#REF!,Skillserleuterungen_FTEM!#REF!)","v":{"$error":"#REF!"}},null,null,null,{"$f":"IFERROR(AVERAGE(O24:O29),\"-\")","v":"-"},null,{"$f":"IFERROR(AVERAGE(Q24:Q29),\"-\")","v":"-"},null,{"$f":"IFERROR(AVERAGE(S24:S29),\"-\")","v":"-"},null,{"$f":"IFERROR(AVERAGE(U24:U29),\"-\")","v":"-"},null,{"$f":"IFERROR(AVERAGE(W24:W29),\"-\")","v":"-"},null,{"$f":"IFERROR(AVERAGE(Y24:Y29),\"-\")","v":"-"}]
[null,null,null,{"$f":"IF($H$2=\"G\",Skillserleuterungen_FTEM!F16,Skillserleuterungen_FTEM!B16)","v":"Passen"},null,null,{"$f":"IF($H$2=\"G\",Skillserleuterungen_FTEM!G16,Skillserleuterungen_FTEM!C16)","v":"Passabgabe (Distanz, Flippass Backhand), Passannahme (Präzision, Timing, Vorhand, Rückhand, Schlittschuh), Puckspeed "},null,null,{"$f":"IF($H$2=\"G\",Skillserleuterungen_FTEM!#REF!,Skillserleuterungen_FTEM!#REF!)","v":{"$error":"#REF!"}}]
[null,null,null,{"$f":"IF($H$2=\"G\",Skillserleuterungen_FTEM!F17,Skillserleuterungen_FTEM!B17)","v":"Stockarbeit"},null,null,{"$f":"IF($H$2=\"G\",Skillserleuterungen_FTEM!G17,Skillserleuterungen_FTEM!C17)","v":"Stock zum Puck, Passlinie unterbinden, ablenken, Stockkontrolle Gegenspielerin"},null,null,{"$f":"IF($H$2=\"G\",Skillserleuterungen_FTEM!#REF!,Skillserleuterungen_FTEM!#REF!)","v":{"$error":"#REF!"}}]
[null,null,null,{"$f":"IF($H$2=\"G\",Skillserleuterungen_FTEM!F18,Skillserleuterungen_FTEM!B18)","v":"Puck besitzen "},null,null,{"$f":"IF($H$2=\"G\",Skillserleuterungen_FTEM!G18,Skillserleuterungen_FTEM!C18)","v":"Puckkontrolle, Dribblings, Puck schützen, Finten (Varianten: mit Schlittschuh, mit sowie ohne Bande), Face-Off"},null,null,{"$f":"IF($H$2=\"G\",Skillserleuterungen_FTEM!#REF!,Skillserleuterungen_FTEM!#REF!)","v":{"$error":"#REF!"}}]
[null,null,null,{"$f":"IF($H$2=\"G\",Skillserleuterungen_FTEM!F19,Skillserleuterungen_FTEM!B19)","v":"Körperspiel"},null,null,{"$f":"IF($H$2=\"G\",Skillserleuterungen_FTEM!G19,Skillserleuterungen_FTEM!C19)","v":"Phyisches Durchsetzungsvermögen, Zweikampf (offenes Eis/Bande), Checks nehmen/Head up, Battle Level, Hart aber fair"},null,null,{"$f":"IF($H$2=\"G\",Skillserleuterungen_FTEM!#REF!,Skillserleuterungen_FTEM!#REF!)","v":{"$error":"#REF!"}}]
[null,null,null,{"$f":"IF($H$2=\"G\",Skillserleuterungen_FTEM!F20,Skillserleuterungen_FTEM!B20)","v":"-"},null,null,{"$f":"IF($H$2=\"G\",Skillserleuterungen_FTEM!G20,Skillserleuterungen_FTEM!C20)","v":"-"},null,null,{"$f":"IF($H$2=\"G\",Skillserleuterungen_FTEM!#REF!,Skillserleuterungen_FTEM!#REF!)","v":{"$error":"#REF!"}}]
[{"$f":"Skillserleuterungen_FTEM!A21","v":"HOCKEY SENSE"},null,null,{"$f":"IF($H$2=\"G\",Skillserleuterungen_FTEM!F21,Skillserleuterungen_FTEM!B21)","v":"Spielintelligenz"},null,null,{"$f":"IF($H$2=\"G\",Skillserleuterungen_FTEM!G21,Skillserleuterungen_FTEM!C21)","v":"Freie Räume und Spielerin sehen und Überzahlsituationen kreieren, lösungsorientiert agieren bei allen Bedingungen, Headspeed"},null,null,{"$f":"IF($H$2=\"G\",Skillserleuterungen_FTEM!#REF!,Skillserleuterungen_FTEM!#REF!)","v":{"$error":"#REF!"}},null,null,null,{"$f":"IFERROR(AVERAGE(O30:O34),\"-\")","v":"-"},null,{"$f":"IFERROR(AVERAGE(Q30:Q34),\"-\")","v":"-"},null,{"$f":"IFERROR(AVERAGE(S30:S34),\"-\")","v":"-"},null,{"$f":"IFERROR(AVERAGE(U30:U34),\"-\")","v":"-"},null,{"$f":"IFERROR(AVERAGE(W30:W34),\"-\")","v":"-"},null,{"$f":"IFERROR(AVERAGE(Y30:Y34),\"-\")","v":"-"}]
[null,null,null,{"$f":"IF($H$2=\"G\",Skillserleuterungen_FTEM!F22,Skillserleuterungen_FTEM!B22)","v":"Offensives Bewusstsein"},null,null,{"$f":"IF($H$2=\"G\",Skillserleuterungen_FTEM!G22,Skillserleuterungen_FTEM!C22)","v":"Anspielbar, Antizipation der Spielsituationen, Freiräume für Mitspielerinnen öffnen, Abschlussorientiert sein, Gapspeed, gute Kommunikation"},null,null,{"$f":"IF($H$2=\"G\",Skillserleuterungen_FTEM!#REF!,Skillserleuterungen_FTEM!#REF!)","v":{"$error":"#REF!"}}]
[null,null,null,{"$f":"IF($H$2=\"G\",Skillserleuterungen_FTEM!F23,Skillserleuterungen_FTEM!B23)","v":"Defensiv Bewusstsein"},null,null,{"$f":"IF($H$2=\"G\",Skillserleuterungen_FTEM!G23,Skillserleuterungen_FTEM!C23)","v":"Inside Position halten, Slot beschützen, Mitspieler absichern/Support, Passlinie erkennen, Schüsse blockieren. Gapspeed, gute Komunikation"},null,null,{"$f":"IF($H$2=\"G\",Skillserleuterungen_FTEM!#REF!,Skillserleuterungen_FTEM!#REF!)","v":{"$error":"#REF!"}}]
[null,null,null,{"$f":"IF($H$2=\"G\",Skillserleuterungen_FTEM!F24,Skillserleuterungen_FTEM!B24)","v":"Puckmanagement"},null,null,{"$f":"IF($H$2=\"G\",Skillserleuterungen_FTEM!G24,Skillserleuterungen_FTEM!C24)","v":"Situationsadäquate Entscheidungen treffen, Support, Overload"},null,null,{"$f":"IF($H$2=\"G\",Skillserleuterungen_FTEM!#REF!,Skillserleuterungen_FTEM!#REF!)","v":{"$error":"#REF!"}}]
[null,null,null,{"$f":"IF($H$2=\"G\",Skillserleuterungen_FTEM!F25,Skillserleuterungen_FTEM!B25)","v":"Kreativität"},null,null,{"$f":"IF($H$2=\"G\",Skillserleuterungen_FTEM!G25,Skillserleuterungen_FTEM!C25)","v":"Überraschende Lösungen, Torriecher"},null,null,{"$f":"IF($H$2=\"G\",Skillserleuterungen_FTEM!#REF!,Skillserleuterungen_FTEM!#REF!)","v":{"$error":"#REF!"}}]
[{"$f":"Skillserleuterungen_FTEM!A26","v":"PERSONALITY"},null,null,{"$f":"Skillserleuterungen_FTEM!B26","v":"FÄHIGKEIT"},null,null,{"$f":"Skillserleuterungen_FTEM!C26","v":"BEOBACHTUNG"},null,null,null,null,null,null,"Datum1",null,"Datum2",null,"Datum3",null,"Datum4",null,"Datum5",null,"Player",null,"ZIEL","MASSNAHME:\nSPEZIFISCH,  MESSBAR, REALISITISCH",null,null,null,null,null,null,"TERMIN","ZIEL-KONTROLLE","Datum"]
[{"$f":"Skillserleuterungen_FTEM!A27","v":"PERSÖNLICHKEIT"},null,null,{"$f":"IF($H$2=\"G\",Skillserleuterungen_FTEM!F27,Skillserleuterungen_FTEM!B27)","v":"Selbstbewusstsein"},null,null,{"$f":"IF($H$2=\"G\",Skillserleuterungen_FTEM!G27,Skillserleuterungen_FTEM!C27)","v":"hat das nötige Selbstvertrauen,\"I can do it\"-Haltung, kann eigene Fähigkeiten einschätzen (kennt eigene Stärken/Schwächen), kann ihre Stärken konstant einsetzen, agiert mutig und nimmt kalkulierte Risiken"},null,null,{"$f":"IF($H$2=\"G\",Skillserleuterungen_FTEM!#REF!,Skillserleuterungen_FTEM!#REF!)","v":{"$error":"#REF!"}},null,null,null,{"$f":"IFERROR(AVERAGE(O36:O40),\"-\")","v":"-"},null,{"$f":"IFERROR(AVERAGE(Q36:Q40),\"-\")","v":"-"},null,{"$f":"IFERROR(AVERAGE(S36:S40),\"-\")","v":"-"},null,{"$f":"IFERROR(AVERAGE(U36:U40),\"-\")","v":"-"},null,{"$f":"IFERROR(AVERAGE(W36:W40),\"-\")","v":"-"},null,{"$f":"IFERROR(AVERAGE(Y36:Y40),\"-\")","v":"-"}]
[null,null,null,{"$f":"IF($H$2=\"G\",Skillserleuterungen_FTEM!F28,Skillserleuterungen_FTEM!B28)","v":"Lernfähigkeit"},null,null,{"$f":"IF($H$2=\"G\",Skillserleuterungen_FTEM!G28,Skillserleuterungen_FTEM!C28)","v":"hat eine gute Auffassungsgabe (nimmt auf und kann umsetzen), reflektiert eigenes Handeln, versucht aus Fehlern zu lernen und kann Massnahmen ableiten"},null,null,{"$f":"IF($H$2=\"G\",Skillserleuterungen_FTEM!#REF!,Skillserleuterungen_FTEM!#REF!)","v":{"$error":"#REF!"}}]
[null,null,null,{"$f":"IF($H$2=\"G\",Skillserleuterungen_FTEM!F29,Skillserleuterungen_FTEM!B29)","v":"Eigenverantwortung"},null,null,{"$f":"IF($H$2=\"G\",Skillserleuterungen_FTEM!G29,Skillserleuterungen_FTEM!C29)","v":"übernimmt Verantwortung für eigene Leistungen und Entwicklung, handelt selbständig, achtet auf Details, zeigt grosses Engagement in allen Bereichen"},null,null,{"$f":"IF($H$2=\"G\",Skillserleuterungen_FTEM!#REF!,Skillserleuterungen_FTEM!#REF!)","v":{"$error":"#REF!"}}]
[null,null,null,{"$f":"IF($H$2=\"G\",Skillserleuterungen_FTEM!F30,Skillserleuterungen_FTEM!B30)","v":"Motivation"},null,null,{"$f":"IF($H$2=\"G\",Skillserleuterungen_FTEM!G30,Skillserleuterungen_FTEM!C30)","v":"Intrinsischer Antrieb, will sich ständig weiterentwickeln und lernen, will die Erste sein und Erfolg haben, gibt nie auf und lässt sich auch durch Misserfolge nicht vom Weg abbringen"},null,null,{"$f":"IF($H$2=\"G\",Skillserleuterungen_FTEM!#REF!,Skillserleuterungen_FTEM!#REF!)","v":{"$error":"#REF!"}}]
[null,null,null,{"$f":"IF($H$2=\"G\",Skillserleuterungen_FTEM!F31,Skillserleuterungen_FTEM!B31)","v":"Performance Lifestyle"},null,null,{"$f":"IF($H$2=\"G\",Skillserleuterungen_FTEM!G31,Skillserleuterungen_FTEM!C31)","v":"managt Alltag und Umfeld nach dem Leistungsprinzip, hartnäckig, beharrlich und zielgerichtet, Fokus auf eigene Leistung, zeigt Biss und kann sich auch gegen Widerstände durchsetzen, Herausforderungen spornen sie an"},null,null,{"$f":"IF($H$2=\"G\",Skillserleuterungen_FTEM!#REF!,Skillserleuterungen_FTEM!#REF!)","v":{"$error":"#REF!"}}]
[{"$f":"Skillserleuterungen_FTEM!A32","v":"MENTALE STÄRKE"},null,null,{"$f":"IF($H$2=\"G\",Skillserleuterungen_FTEM!F32,Skillserleuterungen_FTEM!B32)","v":"Einsatzbereitschaft"},null,null,{"$f":"IF($H$2=\"G\",Skillserleuterungen_FTEM!G32,Skillserleuterungen_FTEM!C32)","v":"zeigt im Spiel und im Training hohe Intensität, gibt immer ihr Maximum und will ihre Limiten pushen, zeigt Leidenschaft, ist um hohe Trainingsqualität bemüht"},null,null,{"$f":"IF($H$2=\"G\",Skillserleuterungen_FTEM!#REF!,Skillserleuterungen_FTEM!#REF!)","v":{"$error":"#REF!"}},null,null,null,{"$f":"IFERROR(AVERAGE(O41:O45),\"-\")","v":"-"},null,{"$f":"IFERROR(AVERAGE(Q41:Q45),\"-\")","v":"-"},null,{"$f":"IFERROR(AVERAGE(S41:S45),\"-\")","v":"-"},null,{"$f":"IFERROR(AVERAGE(U41:U45),\"-\")","v":"-"},null,{"$f":"IFERROR(AVERAGE(W41:W45),\"-\")","v":"-"},null,{"$f":"IFERROR(AVERAGE(Y41:Y45),\"-\")","v":"-"}]
[null,null,null,{"$f":"IF($H$2=\"G\",Skillserleuterungen_FTEM!F33,Skillserleuterungen_FTEM!B33)","v":"Vorbereitung"},null,null,{"$f":"IF($H$2=\"G\",Skillserleuterungen_FTEM!G33,Skillserleuterungen_FTEM!C33)","v":"bewusste und gezielte Vorbereitung, mental wie auch physisch, verfügt über einen effizienten Ablauf zur Erreichung des idealen Leistungszustand (ILZ)"},null,null,{"$f":"IF($H$2=\"G\",Skillserleuterungen_FTEM!#REF!,Skillserleuterungen_FTEM!#REF!)","v":{"$error":"#REF!"}}]
[null,null,null,{"$f":"IF($H$2=\"G\",Skillserleuterungen_FTEM!F34,Skillserleuterungen_FTEM!B34)","v":"Selbstcoaching"},null,null,{"$f":"IF($H$2=\"G\",Skillserleuterungen_FTEM!G34,Skillserleuterungen_FTEM!C34)","v":"verfügt über gute Konzentrationsfähigkeit, kann während Spiel/Training ihren ILZ halten, kann mentale Grundtechniken anwenden, widerstandsfähig gegen negative Gedanken und Einflüsse, ist sich ihrer Körpersprache bewusst und kann diese regulieren"},null,null,{"$f":"IF($H$2=\"G\",Skillserleuterungen_FTEM!#REF!,Skillserleuterungen_FTEM!#REF!)","v":{"$error":"#REF!"}}]
[null,null,null,{"$f":"IF($H$2=\"G\",Skillserleuterungen_FTEM!F35,Skillserleuterungen_FTEM!B35)","v":"Energiemanagement"},null,null,{"$f":"IF($H$2=\"G\",Skillserleuterungen_FTEM!G35,Skillserleuterungen_FTEM!C35)","v":"kann eigene Energie regulieren, bereit zur Regeneration, weiss wann sie \"Vollgas\" geben muss und wann abschalten, On/Off-Schalter"},null,null,{"$f":"IF($H$2=\"G\",Skillserleuterungen_FTEM!#REF!,Skillserleuterungen_FTEM!#REF!)","v":{"$error":"#REF!"}}]
[null,null,null,{"$f":"IF($H$2=\"G\",Skillserleuterungen_FTEM!F36,Skillserleuterungen_FTEM!B36)","v":"Emotionskontrolle"},null,null,{"$f":"IF($H$2=\"G\",Skillserleuterungen_FTEM!G36,Skillserleuterungen_FTEM!C36)","v":"kann eigene Emotionen und Impulse regulieren, behält auch unter Druck die Kontrolle, kann auch in emotional anspruchsvollen oder frustrierenden Situationen angemessen agieren"},null,null,{"$f":"IF($H$2=\"G\",Skillserleuterungen_FTEM!#REF!,Skillserleuterungen_FTEM!#REF!)","v":{"$error":"#REF!"}}]
[{"$f":"Skillserleuterungen_FTEM!A37","v":"PHYSE"},null,null,{"$f":"IF($H$2=\"G\",Skillserleuterungen_FTEM!F37,Skillserleuterungen_FTEM!B37)","v":"Leistungserzeugung"},null,null,{"$f":"IF($H$2=\"G\",Skillserleuterungen_FTEM!G37,Skillserleuterungen_FTEM!C37)","v":"verfügt über die nötige Power/Kraft/Schnelligkeit in den Beinen und im Oberkörper (Neuromuskuläre Faktoren)"},null,null,{"$f":"IF($H$2=\"G\",Skillserleuterungen_FTEM!#REF!,Skillserleuterungen_FTEM!#REF!)","v":{"$error":"#REF!"}},null,null,null,{"$f":"IFERROR(AVERAGE(O46:O50),\"-\")","v":"-"},null,{"$f":"IFERROR(AVERAGE(Q46:Q50),\"-\")","v":"-"},null,{"$f":"IFERROR(AVERAGE(S46:S50),\"-\")","v":"-"},null,{"$f":"IFERROR(AVERAGE(U46:U50),\"-\")","v":"-"},null,{"$f":"IFERROR(AVERAGE(W46:W50),\"-\")","v":"-"},null,{"$f":"IFERROR(AVERAGE(Y46:Y50),\"-\")","v":"-"}]
[null,null,null,{"$f":"IF($H$2=\"G\",Skillserleuterungen_FTEM!F38,Skillserleuterungen_FTEM!B38)","v":"sporartspez. Ermüdungsresistenz"},null,null,{"$f":"IF($H$2=\"G\",Skillserleuterungen_FTEM!G38,Skillserleuterungen_FTEM!C38)","v":"Ist fähig  die Power/Kraft/Schnelligkeit innerhalb des Einsatzes lange aufrechtzuerhalten und kann sich zwischen den Einsätzen jeweils vollkommen erholen (Metabolische und kardiovaskuläre Faktoren)"},null,null,{"$f":"IF($H$2=\"G\",Skillserleuterungen_FTEM!#REF!,Skillserleuterungen_FTEM!#REF!)","v":{"$error":"#REF!"}}]
[null,null,null,{"$f":"IF($H$2=\"G\",Skillserleuterungen_FTEM!F39,Skillserleuterungen_FTEM!B39)","v":"Gesundheit / Prävention"},null,null,{"$f":"IF($H$2=\"G\",Skillserleuterungen_FTEM!G39,Skillserleuterungen_FTEM!C39)","v":"verfügt über die nötige Stabilität (z.B. Beinachsenstabilität) und Beweglichkeit in den zentralen Gelenken"},null,null,{"$f":"IF($H$2=\"G\",Skillserleuterungen_FTEM!#REF!,Skillserleuterungen_FTEM!#REF!)","v":{"$error":"#REF!"}}]
[null,null,null,{"$f":"IF($H$2=\"G\",Skillserleuterungen_FTEM!F40,Skillserleuterungen_FTEM!B40)","v":"Bewegungskompetenzen"},null,null,{"$f":"IF($H$2=\"G\",Skillserleuterungen_FTEM!G40,Skillserleuterungen_FTEM!C40)","v":"beherrscht die grundlegenden Bewegungsfertigkeiten, die eine unerlässliche Zubringerfunktion für die sportspezifischen \"Skills\" darstellt sowie zur nötigen Bewegungseffizienz führt"},null,null,{"$f":"IF($H$2=\"G\",Skillserleuterungen_FTEM!#REF!,Skillserleuterungen_FTEM!#REF!)","v":{"$error":"#REF!"}}]
[null,null,null,{"$f":"IF($H$2=\"G\",Skillserleuterungen_FTEM!F41,Skillserleuterungen_FTEM!B41)","v":"Robustheit"},null,null,{"$f":"IF($H$2=\"G\",Skillserleuterungen_FTEM!G41,Skillserleuterungen_FTEM!C41)","v":"verfügt über die nötige Grundkraft (Körperspannung), um sich in Zweikämpfen durchzusetzen und bei Zusammestössen standzuhalten"},null,null,{"$f":"IF($H$2=\"G\",Skillserleuterungen_FTEM!#REF!,Skillserleuterungen_FTEM!#REF!)","v":{"$error":"#REF!"}}]

{"sheet":"8","index":11,"n_rows":50,"n_cols":36,"rows_kept":50,"cut":false,"hidden":false,"merged":[[13,3,13,5],[14,3,14,5],[15,3,15,5],[13,6,13,11],[14,6,14,11],[15,6,15,11],[21,3,21,5],[21,6,21,11],[26,3,26,5],[26,6,26,11],[0,0,0,24],[0,25,0,26],[0,27,0,32],[0,33,0,35],[29,25,33,25],[29,26,33,32],[29,34,33,34],[35,25,39,25],[35,26,39,32],[35,34,39,34],[1,0,1,1],[1,2,1,5],[1,10,1,24],[2,0,2,1],[2,2,2,5],[2,11,2,24],[6,0,6,1],[6,2,6,35],[7,0,7,1],[7,2,7,35],[8,0,8,1],[8,2,8,35],[3,0,3,1],[3,10,3,24],[4,0,4,1],[4,2,4,5],[4,10,4,24],[10,0,10,24],[10,25,10,35],[40,25,44,25],[40,26,44,32],[40,34,44,34],[12,25,16,25],[12,26,16,32],[12,34,16,34],[18,25,22,25],[18,26,22,32],[18,34,22,34],[23,25,28,25],[23,26,28,32],[23,34,28,34],[17,26,17,32],[11,0,11,2],[11,3,11,5],[11,13,11,14],[11,15,11,16],[11,17,11,18],[11,19,11,20],[11,21,11,22],[11,23,11,24],[11,26,11,32],[11,6,11,11],[12,23,16,23],[16,3,16,5],[16,6,16,11],[17,0,17,2],[17,3,17,5],[17,6,17,11],[17,13,17,14],[17,15,17,16],[17,17,17,18],[17,19,17,20],[17,21,17,22],[17,23,17,24],[12,0,16,2],[12,3,12,5],[12,6,12,11],[12,12,16,12],[12,13,16,13],[12,15,16,15],[12,17,16,17],[12,19,16,19],[12,21,16,21],[18,15,22,15],[18,17,22,17],[18,19,22,19],[18,21,22,21],[18,23,22,23],[22,3,22,5],[22,6,22,11],[23,0,28,2],[23,3,23,5],[23,6,23,11],[23,12,28,12],[23,13,28,13],[23,15,28,15],[23,17,28,17],[18,0,22,2],[18,3,18,5],[18,6,18,11],[18,12,22,12],[18,13,22,13],[19,3,19,5],[19,6,19,11],[20,3,20,5],[20,6,20,11],[23,19,28,19],[23,21,28,21],[23,23,28,23],[24,3,24,5],[24,6,24,11],[28,3,28,5],[28,6,28,11],[33,3,33,5],[33,6,33,11],[29,23,33,23],[29,17,33,17],[29,19,33,19],[29,21,33,21],[30,3,30,5],[30,6,30,11],[31,3,31,5],[31,6,31,11],[27,3,27,5],[27,6,27,11],[32,3,32,5],[32,6,32,11],[29,0,33,2],[29,3,29,5],[29,6,29,11],[29,12,33,12],[29,13,33,13],[29,15,33,15],[34,23,34,24],[34,26,34,32],[35,0,39,2],[35,3,35,5],[35,6,35,11],[35,12,39,12],[35,13,39,13],[35,15,39,15],[39,3,39,5],[39,6,39,11],[35,23,39,23],[34,0,34,2],[34,3,34,5],[34,6,34,11],[34,13,34,14],[34,15,34,16],[34,17,34,18],[34,19,34,20],[36,3,36,5],[36,6,36,11],[37,3,37,5],[37,6,37,11],[40,17,44,17],[40,19,44,19],[40,21,44,21],[41,3,41,5],[41,6,41,11],[44,3,44,5],[44,6,44,11],[38,3,38,5],[38,6,38,11],[43,3,43,5],[43,6,43,11],[45,26,49,32],[45,34,49,34],[25,3,25,5],[25,6,25,11],[42,3,42,5],[42,6,42,11],[45,0,49,2],[45,12,49,12],[45,13,49,13],[45,15,49,15],[45,17,49,17],[45,19,49,19],[45,21,49,21],[45,23,49,23],[45,25,49,25],[45,3,45,5],[45,6,45,11],[46,3,46,5],[46,6,46,11],[40,15,44,15],[34,21,34,22],[35,17,39,17],[35,19,39,19],[35,21,39,21],[47,3,47,5],[47,6,47,11],[49,3,49,5],[49,6,49,11],[40,23,44,23],[40,0,44,2],[40,3,40,5],[40,6,40,11],[40,12,44,12],[40,13,44,13],[48,3,48,5],[48,6,48,11]]}
["Personalien",null,null,null,null,null,null,null,null,null,null,null,null,null,null,null,null,null,null,null,null,null,null,null,null,"Vorausetzungen",null,"Evaluationen",null,null,null,null,null,"Rating"]
["VORNAME",null,{"$f":"IF(ISBLANK(VLOOKUP(8,Tabelle3[],3,0)),\"-\",VLOOKUP(8,Tabelle3[],3,0))","v":"-"},null,null,null,"POSITION",null,null,"ADRESSE",{"$f":"IF(ISBLANK(VLOOKUP(8,Tabelle3[],5,0)),\"-\",VLOOKUP(8,Tabelle3[],5,0))","v":"-"},null,null,null,null,null,null,null,null,null,null,null,null,null,null,"\"Alter\" (Biologisch/Relative Age)",null,"Datum 1",null,null,"cm",null,"Kg",null,"AUSGEZEICHNET",5]
["NAME",null,{"$f":"IF(ISBLANK(VLOOKUP(8,Tabelle3[],2,0)),\"-\",VLOOKUP(8,Tabelle3[],2,0))","v":"-"},null,null,null,"STOCK","LINKS",null,"WOHNORT",{"$f":"IF(ISBLANK(VLOOKUP(8,Tabelle3[],7,0)),\"-\",VLOOKUP(8,Tabelle3[],7,0))","v":"-"},{"$f":"IF(ISBLANK(VLOOKUP(8,Tabelle3[],6,0)),\"-\",VLOOKUP(8,Tabelle3[],6,0))","v":"-"},null,null,null,null,null,null,null,null,null,null,null,null,null,"Veranlagung",null,"Datum 2",null,null,"cm",null,"Kg",null,"GUT",4]
["GEB. DATUM",null,{"$f":"IF(ISBLANK(VLOOKUP(8,Tabelle3[],14,0)),\"-\",VLOOKUP(8,Tabelle3[],14,0))","v":"-"},{"$f":"IF(ISBLANK(VLOOKUP(8,Tabelle3[],15,0)),\"-\",VLOOKUP(8,Tabelle3[],15,0))","v":"-"},{"$f":"IF(ISBLANK(VLOOKUP(8,Tabelle3[],16,0)),\"-\",VLOOKUP(8,Tabelle3[],16,0))","v":"-"},null,"GRÖSSE",null,"cm (Final)","CLUB",{"$f":"IF(ISBLANK(VLOOKUP(8,Tabelle3[],8,0)),\"-\",VLOOKUP(8,Tabelle3[],8,0))","v":"-"},null,null,null,null,null,null,null,null,null,null,null,null,null,null,"Umfeld",null,"Datum 3",null,null,"cm",null,"Kg",null,"DURCHSCHNITT",3]
["SEX",null,{"$f":"IF(ISBLANK(VLOOKUP(8,Tabelle3[],13,0)),\"-\",VLOOKUP(8,Tabelle3[],13,0))","v":"-"},null,null,null,"GEWICHT",null,"Kg (Final)","E-Mail",{"$f":"IF(ISBLANK(VLOOKUP(8,Tabelle3[],9,0)),\"-\",VLOOKUP(8,Tabelle3[],9,0))","v":"-"},null,null,null,null,null,null,null,null,null,null,null,null,null,null,null,null,"Datum 4",null,null,"cm",null,"Kg",null,"MANGELHAFT",2]
[null,null,null,null,null,null,null,null,null,null,null,null,null,null,null,null,null,null,null,null,null,null,null,null,null,null,null,"Datum 5",null,null,"cm",null,"Kg",null,"UNGENÜGEND",1]
["Vision",null,"xxx"]
["Ziele",null,"xxx"]
["Stärken",null,"xxx"]
[]
["EVALUATION (COACH / SPIELERIN)",null,null,null,null,null,null,null,null,null,null,null,null,null,null,null,null,null,null,null,null,null,null,null,null,"SMART"]
[{"$f":"Skillserleuterungen_FTEM!A3","v":"TEAM"},null,null,{"$f":"Skillserleuterungen_FTEM!B3","v":"FÄHIGKEIT"},null,null,{"$f":"Skillserleuterungen_FTEM!C3","v":"BEOBACHTUNG"},null,null,null,null,null,"Final","Datum1",null,"Datum2",null,"Datum3",null,"Datum4",null,"Datum5",null,"Player",null,"ZIEL","MASSNAHME:\nSPEZIFISCH,  MESSBAR, REALISITISCH",null,null,null,null,null,null,"TERMIN","ZIEL-KONTROLLE","Datum"]
[{"$f":"Skillserleuterungen_FTEM!A4","v":"TEAM"},null,null,{"$f":"IF($H$2=\"G\",Skillserleuterungen_FTEM!F4,Skillserleuterungen_FTEM!B4)","v":"Kommunikation"},null,null,{"$f":"IF($H$2=\"G\",Skillserleuterungen_FTEM!G4,Skillserleuterungen_FTEM!C4)","v":"pflegt einen offenen, respektvollen Umgang, Vertrauensbasis als Grundlage, trägt Konflikte aus ohne die Stabilität der Gruppe zu gefährden, kommuniziert mit Mitspielerinnen, Trainern und Funktionären gleichermassen wertschätzend"},null,null,{"$f":"IF($H$2=\"G\",Skillserleuterungen_FTEM!#REF!,Skillserleuterungen_FTEM!#REF!)","v":{"$error":"#REF!"}},null,null,null,{"$f":"IFERROR(AVERAGE(O13:O17),\"-\")","v":"-"},null,{"$f":"IFERROR(AVERAGE(Q13:Q17),\"-\")","v":"-"},null,{"$f":"IFERROR(AVERAGE(S13:S17),\"-\")","v":"-"},null,{"$f":"IFERROR(AVERAGE(U13:U17),\"-\")","v":"-"},null,null,null,{"$f":"IFERROR(AVERAGE(Y13:Y17),\"-\")","v":"-"}]
[null,null,null,{"$f":"IF($H$2=\"G\",Skillserleuterungen_FTEM!F5,Skillserleuterungen_FTEM!B5)","v":"Teamfähigkeit"},null,null,{"$f":"IF($H$2=\"G\",Skillserleuterungen_FTEM!G5,Skillserleuterungen_FTEM!C5)","v":"Integration in die Gruppe, gemeinsame Ziele bestimmen und verfolgen können, WIR vor dem ICH, trägt zu einem guten Team-Spirit und Arbeitsklima bei"},null,null,{"$f":"IF($H$2=\"G\",Skillserleuterungen_FTEM!#REF!,Skillserleuterungen_FTEM!#REF!)","v":{"$error":"#REF!"}}]
[null,null,null,{"$f":"IF($H$2=\"G\",Skillserleuterungen_FTEM!F6,Skillserleuterungen_FTEM!B6)","v":"Leadership"},null,null,{"$f":"IF($H$2=\"G\",Skillserleuterungen_FTEM!G6,Skillserleuterungen_FTEM!C6)","v":"übernimmt Verantwortung in der Gruppe, versucht Team und Mitspielerinnen besser zu machen, nimmt positiven Einfluss auf die Gruppendynamik"},null,null,{"$f":"IF($H$2=\"G\",Skillserleuterungen_FTEM!#REF!,Skillserleuterungen_FTEM!#REF!)","v":{"$error":"#REF!"}}]
[null,null,null,{"$f":"IF($H$2=\"G\",Skillserleuterungen_FTEM!F7,Skillserleuterungen_FTEM!B7)","v":"Rollenverteilung"},null,null,{"$f":"IF($H$2=\"G\",Skillserleuterungen_FTEM!G7,Skillserleuterungen_FTEM!C7)","v":"kennt ihre Rolle und füllt diese aus, ist sich ihrer Stellung im Team und im System bewusst, stellt eigene Kompetenzen in den Dienst des Teams"},null,null,{"$f":"IF($H$2=\"G\",Skillserleuterungen_FTEM!#REF!,Skillserleuterungen_FTEM!#REF!)","v":{"$error":"#REF!"}}]
[null,null,null,{"$f":"IF($H$2=\"G\",Skillserleuterungen_FTEM!F8,Skillserleuterungen_FTEM!B8)","v":"Respekt"},null,null,{"$f":"IF($H$2=\"G\",Skillserleuterungen_FTEM!G8,Skillserleuterungen_FTEM!C8)","v":"Respektvoller Umgang mit Mitspielerinnen, Trainern, Gegnern, Schiedsrichter und Staff; achtet die Regeln, Fairplayprinzipien (inkl. Anti-Doping)"},null,null,{"$f":"IF($H$2=\"G\",Skillserleuterungen_FTEM!#REF!,Skillserleuterungen_FTEM!#REF!)","v":{"$error":"#REF!"}}]
[{"$f":"Skillserleuterungen_FTEM!A9","v":"ON ICE"},null,null,{"$f":"Skillserleuterungen_FTEM!B9","v":"FÄHIGKEIT"},null,null,{"$f":"Skillserleuterungen_FTEM!C9","v":"BEOBACHTUNG"},null,null,null,null,null,null,"Datum1",null,"Datum2",null,"Datum3",null,"Datum4",null,"Datum5",null,"Player",null,"ZIEL","MASSNAHME:\nSPEZIFISCH,  MESSBAR, REALISITISCH",null,null,null,null,null,null,"TERMIN","ZIEL-KONTROLLE","Datum"]
[{"$f":"Skillserleuterungen_FTEM!A10","v":"SKATING"},null,null,{"$f":"IF($H$2=\"G\",Skillserleuterungen_FTEM!F10,Skillserleuterungen_FTEM!B10)","v":"Footspeed"},null,null,{"$f":"IF($H$2=\"G\",Skillserleuterungen_FTEM!G10,Skillserleuterungen_FTEM!C10)","v":"Beschleunigung, Antritt, erste 3 Schritte Explosivität, Frequenz"},null,null,{"$f":"IF($H$2=\"G\",Skillserleuterungen_FTEM!#REF!,Skillserleuterungen_FTEM!#REF!)","v":{"$error":"#REF!"}},null,null,null,{"$f":"IFERROR(AVERAGE(O19:O23),\"-\")","v":"-"},null,{"$f":"IFERROR(AVERAGE(Q19:Q23),\"-\")","v":"-"},null,{"$f":"IFERROR(AVERAGE(S19:S23),\"-\")","v":"-"},null,{"$f":"IFERROR(AVERAGE(U19:U23),\"-\")","v":"-"},null,{"$f":"IFERROR(AVERAGE(W19:W23),\"-\")","v":"-"},null,{"$f":"IFERROR(AVERAGE(Y19:Y23),\"-\")","v":"-"}]
[null,null,null,{"$f":"IF($H$2=\"G\",Skillserleuterungen_FTEM!F11,Skillserleuterungen_FTEM!B11)","v":"Topspeed"},null,null,{"$f":"IF($H$2=\"G\",Skillserleuterungen_FTEM!G11,Skillserleuterungen_FTEM!C11)","v":"Schnelligkeit, Gleitfähigkeit, vorwärts und rückwärts, Ökonomie"},null,null,{"$f":"IF($H$2=\"G\",Skillserleuterungen_FTEM!#REF!,Skillserleuterungen_FTEM!#REF!)","v":{"$error":"#REF!"}}]
[null,null,null,{"$f":"IF($H$2=\"G\",Skillserleuterungen_FTEM!F12,Skillserleuterungen_FTEM!B12)","v":"Agilität"},null,null,{"$f":"IF($H$2=\"G\",Skillserleuterungen_FTEM!G12,Skillserleuterungen_FTEM!C12)","v":"Richtungsänderung, Drehung, Stop und Start, \"Nummelin\""},null,null,{"$f":"IF($H$2=\"G\",Skillserleuterungen_FTEM!#REF!,Skillserleuterungen_FTEM!#REF!)","v":{"$error":"#REF!"}},null,null,null,{"$f":"IFERROR(AVERAGE(O21:O23),\"-\")","v":"-"},null,{"$f":"IFERROR(AVERAGE(Q21:Q23),\"-\")","v":"-"},null,{"$f":"IFERROR(AVERAGE(S21:S23),\"-\")","v":"-"},null,{"$f":"IFERROR(AVERAGE(U21:U23),\"-\")","v":"-"},null,{"$f":"IFERROR(AVERAGE(W21:W23),\"-\")","v":"-"},null,{"$f":"IFERROR(AVERAGE(Y21:Y23),\"-\")","v":"-"}]
[null,null,null,{"$f":"IF($H$2=\"G\",Skillserleuterungen_FTEM!F13,Skillserleuterungen_FTEM!B13)","v":"Balance"},null,null,{"$f":"IF($H$2=\"G\",Skillserleuterungen_FTEM!G13,Skillserleuterungen_FTEM!C13)","v":"Gleichgewicht, Standhaftfähigkeit, tiefe Position, ein- und beidbeinig"},null,null,{"$f":"IF($H$2=\"G\",Skillserleuterungen_FTEM!#REF!,Skillserleuterungen_FTEM!#REF!)","v":{"$error":"#REF!"}}]
[null,null,null,{"$f":"IF($H$2=\"G\",Skillserleuterungen_FTEM!F14,Skillserleuterungen_FTEM!B14)","v":"Backwards Skating"},null,null,{"$f":"IF($H$2=\"G\",Skillserleuterungen_FTEM!G14,Skillserleuterungen_FTEM!C14)","v":"Beschleunigung, Geschwindigkeit, Balance"},null,null,{"$f":"IF($H$2=\"G\",Skillserleuterungen_FTEM!#REF!,Skillserleuterungen_FTEM!#REF!)","v":{"$error":"#REF!"}}]
[{"$f":"Skillserleuterungen_FTEM!A15","v":"SKILLS"},null,null,{"$f":"IF($H$2=\"G\",Skillserleuterungen_FTEM!F15,Skillserleuterungen_FTEM!B15)","v":"Schiessen"},null,null,{"$f":"IF($H$2=\"G\",Skillserleuterungen_FTEM!G15,Skillserleuterungen_FTEM!C15)","v":"Effizienz (no space no time), Variantenreichtum, Überraschungsgrad (Quick Release), Präzision, Härte, (taktische Abschlüsse)"},null,null,{"$f":"IF($H$2=\"G\",Skillserleuterungen_FTEM!#REF!,Skillserleuterungen_FTEM!#REF!)","v":{"$error":"#REF!"}},null,null,null,{"$f":"IFERROR(AVERAGE(O24:O29),\"-\")","v":"-"},null,{"$f":"IFERROR(AVERAGE(Q24:Q29),\"-\")","v":"-"},null,{"$f":"IFERROR(AVERAGE(S24:S29),\"-\")","v":"-"},null,{"$f":"IFERROR(AVERAGE(U24:U29),\"-\")","v":"-"},null,{"$f":"IFERROR(AVERAGE(W24:W29),\"-\")","v":"-"},null,{"$f":"IFERROR(AVERAGE(Y24:Y29),\"-\")","v":"-"}]
[null,null,null,{"$f":"IF($H$2=\"G\",Skillserleuterungen_FTEM!F16,Skillserleuterungen_FTEM!B16)","v":"Passen"},null,null,{"$f":"IF($H$2=\"G\",Skillserleuterungen_FTEM!G16,Skillserleuterungen_FTEM!C16)","v":"Passabgabe (Distanz, Flippass Backhand), Passannahme (Präzision, Timing, Vorhand, Rückhand, Schlittschuh), Puckspeed "},null,null,{"$f":"IF($H$2=\"G\",Skillserleuterungen_FTEM!#REF!,Skillserleuterungen_FTEM!#REF!)","v":{"$error":"#REF!"}}]
[null,null,null,{"$f":"IF($H$2=\"G\",Skillserleuterungen_FTEM!F17,Skillserleuterungen_FTEM!B17)","v":"Stockarbeit"},null,null,{"$f":"IF($H$2=\"G\",Skillserleuterungen_FTEM!G17,Skillserleuterungen_FTEM!C17)","v":"Stock zum Puck, Passlinie unterbinden, ablenken, Stockkontrolle Gegenspielerin"},null,null,{"$f":"IF($H$2=\"G\",Skillserleuterungen_FTEM!#REF!,Skillserleuterungen_FTEM!#REF!)","v":{"$error":"#REF!"}}]
[null,null,null,{"$f":"IF($H$2=\"G\",Skillserleuterungen_FTEM!F18,Skillserleuterungen_FTEM!B18)","v":"Puck besitzen "},null,null,{"$f":"IF($H$2=\"G\",Skillserleuterungen_FTEM!G18,Skillserleuterungen_FTEM!C18)","v":"Puckkontrolle, Dribblings, Puck schützen, Finten (Varianten: mit Schlittschuh, mit sowie ohne Bande), Face-Off"},null,null,{"$f":"IF($H$2=\"G\",Skillserleuterungen_FTEM!#REF!,Skillserleuterungen_FTEM!#REF!)","v":{"$error":"#REF!"}}]
[null,null,null,{"$f":"IF($H$2=\"G\",Skillserleuterungen_FTEM!F19,Skillserleuterungen_FTEM!B19)","v":"Körperspiel"},null,null,{"$f":"IF($H$2=\"G\",Skillserleuterungen_FTEM!G19,Skillserleuterungen_FTEM!C19)","v":"Phyisches Durchsetzungsvermögen, Zweikampf (offenes Eis/Bande), Checks nehmen/Head up, Battle Level, Hart aber fair"},null,null,{"$f":"IF($H$2=\"G\",Skillserleuterungen_FTEM!#REF!,Skillserleuterungen_FTEM!#REF!)","v":{"$error":"#REF!"}}]
[null,null,null,{"$f":"IF($H$2=\"G\",Skillserleuterungen_FTEM!F20,Skillserleuterungen_FTEM!B20)","v":"-"},null,null,{"$f":"IF($H$2=\"G\",Skillserleuterungen_FTEM!G20,Skillserleuterungen_FTEM!C20)","v":"-"},null,null,{"$f":"IF($H$2=\"G\",Skillserleuterungen_FTEM!#REF!,Skillserleuterungen_FTEM!#REF!)","v":{"$error":"#REF!"}}]
[{"$f":"Skillserleuterungen_FTEM!A21","v":"HOCKEY SENSE"},null,null,{"$f":"IF($H$2=\"G\",Skillserleuterungen_FTEM!F21,Skillserleuterungen_FTEM!B21)","v":"Spielintelligenz"},null,null,{"$f":"IF($H$2=\"G\",Skillserleuterungen_FTEM!G21,Skillserleuterungen_FTEM!C21)","v":"Freie Räume und Spielerin sehen und Überzahlsituationen kreieren, lösungsorientiert agieren bei allen Bedingungen, Headspeed"},null,null,{"$f":"IF($H$2=\"G\",Skillserleuterungen_FTEM!#REF!,Skillserleuterungen_FTEM!#REF!)","v":{"$error":"#REF!"}},null,null,null,{"$f":"IFERROR(AVERAGE(O30:O34),\"-\")","v":"-"},null,{"$f":"IFERROR(AVERAGE(Q30:Q34),\"-\")","v":"-"},null,{"$f":"IFERROR(AVERAGE(S30:S34),\"-\")","v":"-"},null,{"$f":"IFERROR(AVERAGE(U30:U34),\"-\")","v":"-"},null,{"$f":"IFERROR(AVERAGE(W30:W34),\"-\")","v":"-"},null,{"$f":"IFERROR(AVERAGE(Y30:Y34),\"-\")","v":"-"}]
[null,null,null,{"$f":"IF($H$2=\"G\",Skillserleuterungen_FTEM!F22,Skillserleuterungen_FTEM!B22)","v":"Offensives Bewusstsein"},null,null,{"$f":"IF($H$2=\"G\",Skillserleuterungen_FTEM!G22,Skillserleuterungen_FTEM!C22)","v":"Anspielbar, Antizipation der Spielsituationen, Freiräume für Mitspielerinnen öffnen, Abschlussorientiert sein, Gapspeed, gute Kommunikation"},null,null,{"$f":"IF($H$2=\"G\",Skillserleuterungen_FTEM!#REF!,Skillserleuterungen_FTEM!#REF!)","v":{"$error":"#REF!"}}]
[null,null,null,{"$f":"IF($H$2=\"G\",Skillserleuterungen_FTEM!F23,Skillserleuterungen_FTEM!B23)","v":"Defensiv Bewusstsein"},null,null,{"$f":"IF($H$2=\"G\",Skillserleuterungen_FTEM!G23,Skillserleuterungen_FTEM!C23)","v":"Inside Position halten, Slot beschützen, Mitspieler absichern/Support, Passlinie erkennen, Schüsse blockieren. Gapspeed, gute Komunikation"},null,null,{"$f":"IF($H$2=\"G\",Skillserleuterungen_FTEM!#REF!,Skillserleuterungen_FTEM!#REF!)","v":{"$error":"#REF!"}}]
[null,null,null,{"$f":"IF($H$2=\"G\",Skillserleuterungen_FTEM!F24,Skillserleuterungen_FTEM!B24)","v":"Puckmanagement"},null,null,{"$f":"IF($H$2=\"G\",Skillserleuterungen_FTEM!G24,Skillserleuterungen_FTEM!C24)","v":"Situationsadäquate Entscheidungen treffen, Support, Overload"},null,null,{"$f":"IF($H$2=\"G\",Skillserleuterungen_FTEM!#REF!,Skillserleuterungen_FTEM!#REF!)","v":{"$error":"#REF!"}}]
[null,null,null,{"$f":"IF($H$2=\"G\",Skillserleuterungen_FTEM!F25,Skillserleuterungen_FTEM!B25)","v":"Kreativität"},null,null,{"$f":"IF($H$2=\"G\",Skillserleuterungen_FTEM!G25,Skillserleuterungen_FTEM!C25)","v":"Überraschende Lösungen, Torriecher"},null,null,{"$f":"IF($H$2=\"G\",Skillserleuterungen_FTEM!#REF!,Skillserleuterungen_FTEM!#REF!)","v":{"$error":"#REF!"}}]
[{"$f":"Skillserleuterungen_FTEM!A26","v":"PERSONALITY"},null,null,{"$f":"Skillserleuterungen_FTEM!B26","v":"FÄHIGKEIT"},null,null,{"$f":"Skillserleuterungen_FTEM!C26","v":"BEOBACHTUNG"},null,null,null,null,null,null,"Datum1",null,"Datum2",null,"Datum3",null,"Datum4",null,"Datum5",null,"Player",null,"ZIEL","MASSNAHME:\nSPEZIFISCH,  MESSBAR, REALISITISCH",null,null,null,null,null,null,"TERMIN","ZIEL-KONTROLLE","Datum"]
[{"$f":"Skillserleuterungen_FTEM!A27","v":"PERSÖNLICHKEIT"},null,null,{"$f":"IF($H$2=\"G\",Skillserleuterungen_FTEM!F27,Skillserleuterungen_FTEM!B27)","v":"Selbstbewusstsein"},null,null,{"$f":"IF($H$2=\"G\",Skillserleuterungen_FTEM!G27,Skillserleuterungen_FTEM!C27)","v":"hat das nötige Selbstvertrauen,\"I can do it\"-Haltung, kann eigene Fähigkeiten einschätzen (kennt eigene Stärken/Schwächen), kann ihre Stärken konstant einsetzen, agiert mutig und nimmt kalkulierte Risiken"},null,null,{"$f":"IF($H$2=\"G\",Skillserleuterungen_FTEM!#REF!,Skillserleuterungen_FTEM!#REF!)","v":{"$error":"#REF!"}},null,null,null,{"$f":"IFERROR(AVERAGE(O36:O40),\"-\")","v":"-"},null,{"$f":"IFERROR(AVERAGE(Q36:Q40),\"-\")","v":"-"},null,{"$f":"IFERROR(AVERAGE(S36:S40),\"-\")","v":"-"},null,{"$f":"IFERROR(AVERAGE(U36:U40),\"-\")","v":"-"},null,{"$f":"IFERROR(AVERAGE(W36:W40),\"-\")","v":"-"},null,{"$f":"IFERROR(AVERAGE(Y36:Y40),\"-\")","v":"-"}]
[null,null,null,{"$f":"IF($H$2=\"G\",Skillserleuterungen_FTEM!F28,Skillserleuterungen_FTEM!B28)","v":"Lernfähigkeit"},null,null,{"$f":"IF($H$2=\"G\",Skillserleuterungen_FTEM!G28,Skillserleuterungen_FTEM!C28)","v":"hat eine gute Auffassungsgabe (nimmt auf und kann umsetzen), reflektiert eigenes Handeln, versucht aus Fehlern zu lernen und kann Massnahmen ableiten"},null,null,{"$f":"IF($H$2=\"G\",Skillserleuterungen_FTEM!#REF!,Skillserleuterungen_FTEM!#REF!)","v":{"$error":"#REF!"}}]
[null,null,null,{"$f":"IF($H$2=\"G\",Skillserleuterungen_FTEM!F29,Skillserleuterungen_FTEM!B29)","v":"Eigenverantwortung"},null,null,{"$f":"IF($H$2=\"G\",Skillserleuterungen_FTEM!G29,Skillserleuterungen_FTEM!C29)","v":"übernimmt Verantwortung für eigene Leistungen und Entwicklung, handelt selbständig, achtet auf Details, zeigt grosses Engagement in allen Bereichen"},null,null,{"$f":"IF($H$2=\"G\",Skillserleuterungen_FTEM!#REF!,Skillserleuterungen_FTEM!#REF!)","v":{"$error":"#REF!"}}]
[null,null,null,{"$f":"IF($H$2=\"G\",Skillserleuterungen_FTEM!F30,Skillserleuterungen_FTEM!B30)","v":"Motivation"},null,null,{"$f":"IF($H$2=\"G\",Skillserleuterungen_FTEM!G30,Skillserleuterungen_FTEM!C30)","v":"Intrinsischer Antrieb, will sich ständig weiterentwickeln und lernen, will die Erste sein und Erfolg haben, gibt nie auf und lässt sich auch durch Misserfolge nicht vom Weg abbringen"},null,null,{"$f":"IF($H$2=\"G\",Skillserleuterungen_FTEM!#REF!,Skillserleuterungen_FTEM!#REF!)","v":{"$error":"#REF!"}}]
[null,null,null,{"$f":"IF($H$2=\"G\",Skillserleuterungen_FTEM!F31,Skillserleuterungen_FTEM!B31)","v":"Performance Lifestyle"},null,null,{"$f":"IF($H$2=\"G\",Skillserleuterungen_FTEM!G31,Skillserleuterungen_FTEM!C31)","v":"managt Alltag und Umfeld nach dem Leistungsprinzip, hartnäckig, beharrlich und zielgerichtet, Fokus auf eigene Leistung, zeigt Biss und kann sich auch gegen Widerstände durchsetzen, Herausforderungen spornen sie an"},null,null,{"$f":"IF($H$2=\"G\",Skillserleuterungen_FTEM!#REF!,Skillserleuterungen_FTEM!#REF!)","v":{"$error":"#REF!"}}]
[{"$f":"Skillserleuterungen_FTEM!A32","v":"MENTALE STÄRKE"},null,null,{"$f":"IF($H$2=\"G\",Skillserleuterungen_FTEM!F32,Skillserleuterungen_FTEM!B32)","v":"Einsatzbereitschaft"},null,null,{"$f":"IF($H$2=\"G\",Skillserleuterungen_FTEM!G32,Skillserleuterungen_FTEM!C32)","v":"zeigt im Spiel und im Training hohe Intensität, gibt immer ihr Maximum und will ihre Limiten pushen, zeigt Leidenschaft, ist um hohe Trainingsqualität bemüht"},null,null,{"$f":"IF($H$2=\"G\",Skillserleuterungen_FTEM!#REF!,Skillserleuterungen_FTEM!#REF!)","v":{"$error":"#REF!"}},null,null,null,{"$f":"IFERROR(AVERAGE(O41:O45),\"-\")","v":"-"},null,{"$f":"IFERROR(AVERAGE(Q41:Q45),\"-\")","v":"-"},null,{"$f":"IFERROR(AVERAGE(S41:S45),\"-\")","v":"-"},null,{"$f":"IFERROR(AVERAGE(U41:U45),\"-\")","v":"-"},null,{"$f":"IFERROR(AVERAGE(W41:W45),\"-\")","v":"-"},null,{"$f":"IFERROR(AVERAGE(Y41:Y45),\"-\")","v":"-"}]
[null,null,null,{"$f":"IF($H$2=\"G\",Skillserleuterungen_FTEM!F33,Skillserleuterungen_FTEM!B33)","v":"Vorbereitung"},null,null,{"$f":"IF($H$2=\"G\",Skillserleuterungen_FTEM!G33,Skillserleuterungen_FTEM!C33)","v":"bewusste und gezielte Vorbereitung, mental wie auch physisch, verfügt über einen effizienten Ablauf zur Erreichung des idealen Leistungszustand (ILZ)"},null,null,{"$f":"IF($H$2=\"G\",Skillserleuterungen_FTEM!#REF!,Skillserleuterungen_FTEM!#REF!)","v":{"$error":"#REF!"}}]
[null,null,null,{"$f":"IF($H$2=\"G\",Skillserleuterungen_FTEM!F34,Skillserleuterungen_FTEM!B34)","v":"Selbstcoaching"},null,null,{"$f":"IF($H$2=\"G\",Skillserleuterungen_FTEM!G34,Skillserleuterungen_FTEM!C34)","v":"verfügt über gute Konzentrationsfähigkeit, kann während Spiel/Training ihren ILZ halten, kann mentale Grundtechniken anwenden, widerstandsfähig gegen negative Gedanken und Einflüsse, ist sich ihrer Körpersprache bewusst und kann diese regulieren"},null,null,{"$f":"IF($H$2=\"G\",Skillserleuterungen_FTEM!#REF!,Skillserleuterungen_FTEM!#REF!)","v":{"$error":"#REF!"}}]
[null,null,null,{"$f":"IF($H$2=\"G\",Skillserleuterungen_FTEM!F35,Skillserleuterungen_FTEM!B35)","v":"Energiemanagement"},null,null,{"$f":"IF($H$2=\"G\",Skillserleuterungen_FTEM!G35,Skillserleuterungen_FTEM!C35)","v":"kann eigene Energie regulieren, bereit zur Regeneration, weiss wann sie \"Vollgas\" geben muss und wann abschalten, On/Off-Schalter"},null,null,{"$f":"IF($H$2=\"G\",Skillserleuterungen_FTEM!#REF!,Skillserleuterungen_FTEM!#REF!)","v":{"$error":"#REF!"}}]
[null,null,null,{"$f":"IF($H$2=\"G\",Skillserleuterungen_FTEM!F36,Skillserleuterungen_FTEM!B36)","v":"Emotionskontrolle"},null,null,{"$f":"IF($H$2=\"G\",Skillserleuterungen_FTEM!G36,Skillserleuterungen_FTEM!C36)","v":"kann eigene Emotionen und Impulse regulieren, behält auch unter Druck die Kontrolle, kann auch in emotional anspruchsvollen oder frustrierenden Situationen angemessen agieren"},null,null,{"$f":"IF($H$2=\"G\",Skillserleuterungen_FTEM!#REF!,Skillserleuterungen_FTEM!#REF!)","v":{"$error":"#REF!"}}]
[{"$f":"Skillserleuterungen_FTEM!A37","v":"PHYSE"},null,null,{"$f":"IF($H$2=\"G\",Skillserleuterungen_FTEM!F37,Skillserleuterungen_FTEM!B37)","v":"Leistungserzeugung"},null,null,{"$f":"IF($H$2=\"G\",Skillserleuterungen_FTEM!G37,Skillserleuterungen_FTEM!C37)","v":"verfügt über die nötige Power/Kraft/Schnelligkeit in den Beinen und im Oberkörper (Neuromuskuläre Faktoren)"},null,null,{"$f":"IF($H$2=\"G\",Skillserleuterungen_FTEM!#REF!,Skillserleuterungen_FTEM!#REF!)","v":{"$error":"#REF!"}},null,null,null,{"$f":"IFERROR(AVERAGE(O46:O50),\"-\")","v":"-"},null,{"$f":"IFERROR(AVERAGE(Q46:Q50),\"-\")","v":"-"},null,{"$f":"IFERROR(AVERAGE(S46:S50),\"-\")","v":"-"},null,{"$f":"IFERROR(AVERAGE(U46:U50),\"-\")","v":"-"},null,{"$f":"IFERROR(AVERAGE(W46:W50),\"-\")","v":"-"},null,{"$f":"IFERROR(AVERAGE(Y46:Y50),\"-\")","v":"-"}]
[null,null,null,{"$f":"IF($H$2=\"G\",Skillserleuterungen_FTEM!F38,Skillserleuterungen_FTEM!B38)","v":"sporartspez. Ermüdungsresistenz"},null,null,{"$f":"IF($H$2=\"G\",Skillserleuterungen_FTEM!G38,Skillserleuterungen_FTEM!C38)","v":"Ist fähig  die Power/Kraft/Schnelligkeit innerhalb des Einsatzes lange aufrechtzuerhalten und kann sich zwischen den Einsätzen jeweils vollkommen erholen (Metabolische und kardiovaskuläre Faktoren)"},null,null,{"$f":"IF($H$2=\"G\",Skillserleuterungen_FTEM!#REF!,Skillserleuterungen_FTEM!#REF!)","v":{"$error":"#REF!"}}]
[null,null,null,{"$f":"IF($H$2=\"G\",Skillserleuterungen_FTEM!F39,Skillserleuterungen_FTEM!B39)","v":"Gesundheit / Prävention"},null,null,{"$f":"IF($H$2=\"G\",Skillserleuterungen_FTEM!G39,Skillserleuterungen_FTEM!C39)","v":"verfügt über die nötige Stabilität (z.B. Beinachsenstabilität) und Beweglichkeit in den zentralen Gelenken"},null,null,{"$f":"IF($H$2=\"G\",Skillserleuterungen_FTEM!#REF!,Skillserleuterungen_FTEM!#REF!)","v":{"$error":"#REF!"}}]
[null,null,null,{"$f":"IF($H$2=\"G\",Skillserleuterungen_FTEM!F40,Skillserleuterungen_FTEM!B40)","v":"Bewegungskompetenzen"},null,null,{"$f":"IF($H$2=\"G\",Skillserleuterungen_FTEM!G40,Skillserleuterungen_FTEM!C40)","v":"beherrscht die grundlegenden Bewegungsfertigkeiten, die eine unerlässliche Zubringerfunktion für die sportspezifischen \"Skills\" darstellt sowie zur nötigen Bewegungseffizienz führt"},null,null,{"$f":"IF($H$2=\"G\",Skillserleuterungen_FTEM!#REF!,Skillserleuterungen_FTEM!#REF!)","v":{"$error":"#REF!"}}]
[null,null,null,{"$f":"IF($H$2=\"G\",Skillserleuterungen_FTEM!F41,Skillserleuterungen_FTEM!B41)","v":"Robustheit"},null,null,{"$f":"IF($H$2=\"G\",Skillserleuterungen_FTEM!G41,Skillserleuterungen_FTEM!C41)","v":"verfügt über die nötige Grundkraft (Körperspannung), um sich in Zweikämpfen durchzusetzen und bei Zusammestössen standzuhalten"},null,null,{"$f":"IF($H$2=\"G\",Skillserleuterungen_FTEM!#REF!,Skillserleuterungen_FTEM!#REF!)","v":{"$error":"#REF!"}}]

{"sheet":"9","index":12,"n_rows":50,"n_cols":36,"rows_kept":50,"cut":false,"hidden":false,"merged":[[13,3,13,5],[14,3,14,5],[15,3,15,5],[13,6,13,11],[14,6,14,11],[15,6,15,11],[21,3,21,5],[21,6,21,11],[26,3,26,5],[26,6,26,11],[0,0,0,24],[0,25,0,26],[0,27,0,32],[0,33,0,35],[29,25,33,25],[29,26,33,32],[29,34,33,34],[35,25,39,25],[35,26,39,32],[35,34,39,34],[1,0,1,1],[1,2,1,5],[1,10,1,24],[2,0,2,1],[2,2,2,5],[2,11,2,24],[6,0,6,1],[6,2,6,35],[7,0,7,1],[7,2,7,35],[8,0,8,1],[8,2,8,35],[3,0,3,1],[3,10,3,24],[4,0,4,1],[4,2,4,5],[4,10,4,24],[10,0,10,24],[10,25,10,35],[40,25,44,25],[40,26,44,32],[40,34,44,34],[12,25,16,25],[12,26,16,32],[12,34,16,34],[18,25,22,25],[18,26,22,32],[18,34,22,34],[23,25,28,25],[23,26,28,32],[23,34,28,34],[17,26,17,32],[11,0,11,2],[11,3,11,5],[11,13,11,14],[11,15,11,16],[11,17,11,18],[11,19,11,20],[11,21,11,22],[11,23,11,24],[11,26,11,32],[11,6,11,11],[12,23,16,23],[16,3,16,5],[16,6,16,11],[17,0,17,2],[17,3,17,5],[17,6,17,11],[17,13,17,14],[17,15,17,16],[17,17,17,18],[17,19,17,20],[17,21,17,22],[17,23,17,24],[12,0,16,2],[12,3,12,5],[12,6,12,11],[12,12,16,12],[12,13,16,13],[12,15,16,15],[12,17,16,17],[12,19,16,19],[12,21,16,21],[18,15,22,15],[18,17,22,17],[18,19,22,19],[18,21,22,21],[18,23,22,23],[22,3,22,5],[22,6,22,11],[23,0,28,2],[23,3,23,5],[23,6,23,11],[23,12,28,12],[23,13,28,13],[23,15,28,15],[23,17,28,17],[18,0,22,2],[18,3,18,5],[18,6,18,11],[18,12,22,12],[18,13,22,13],[19,3,19,5],[19,6,19,11],[20,3,20,5],[20,6,20,11],[23,19,28,19],[23,21,28,21],[23,23,28,23],[24,3,24,5],[24,6,24,11],[28,3,28,5],[28,6,28,11],[33,3,33,5],[33,6,33,11],[29,23,33,23],[29,17,33,17],[29,19,33,19],[29,21,33,21],[30,3,30,5],[30,6,30,11],[31,3,31,5],[31,6,31,11],[27,3,27,5],[27,6,27,11],[32,3,32,5],[32,6,32,11],[29,0,33,2],[29,3,29,5],[29,6,29,11],[29,12,33,12],[29,13,33,13],[29,15,33,15],[34,23,34,24],[34,26,34,32],[35,0,39,2],[35,3,35,5],[35,6,35,11],[35,12,39,12],[35,13,39,13],[35,15,39,15],[39,3,39,5],[39,6,39,11],[35,23,39,23],[34,0,34,2],[34,3,34,5],[34,6,34,11],[34,13,34,14],[34,15,34,16],[34,17,34,18],[34,19,34,20],[36,3,36,5],[36,6,36,11],[37,3,37,5],[37,6,37,11],[40,17,44,17],[40,19,44,19],[40,21,44,21],[41,3,41,5],[41,6,41,11],[44,3,44,5],[44,6,44,11],[38,3,38,5],[38,6,38,11],[43,3,43,5],[43,6,43,11],[45,26,49,32],[45,34,49,34],[25,3,25,5],[25,6,25,11],[42,3,42,5],[42,6,42,11],[45,0,49,2],[45,12,49,12],[45,13,49,13],[45,15,49,15],[45,17,49,17],[45,19,49,19],[45,21,49,21],[45,23,49,23],[45,25,49,25],[45,3,45,5],[45,6,45,11],[46,3,46,5],[46,6,46,11],[40,15,44,15],[34,21,34,22],[35,17,39,17],[35,19,39,19],[35,21,39,21],[47,3,47,5],[47,6,47,11],[49,3,49,5],[49,6,49,11],[40,23,44,23],[40,0,44,2],[40,3,40,5],[40,6,40,11],[40,12,44,12],[40,13,44,13],[48,3,48,5],[48,6,48,11]]}
["Personalien",null,null,null,null,null,null,null,null,null,null,null,null,null,null,null,null,null,null,null,null,null,null,null,null,"Vorausetzungen",null,"Evaluationen",null,null,null,null,null,"Rating"]
["VORNAME",null,{"$f":"IF(ISBLANK(VLOOKUP(9,Tabelle3[],3,0)),\"-\",VLOOKUP(9,Tabelle3[],3,0))","v":"-"},null,null,null,"POSITION",null,null,"ADRESSE",{"$f":"IF(ISBLANK(VLOOKUP(9,Tabelle3[],5,0)),\"-\",VLOOKUP(9,Tabelle3[],5,0))","v":"-"},null,null,null,null,null,null,null,null,null,null,null,null,null,null,"\"Alter\" (Biologisch/Relative Age)",null,"Datum 1",null,null,"cm",null,"Kg",null,"AUSGEZEICHNET",5]
["NAME",null,{"$f":"IF(ISBLANK(VLOOKUP(9,Tabelle3[],2,0)),\"-\",VLOOKUP(9,Tabelle3[],2,0))","v":"-"},null,null,null,"STOCK",null,null,"WOHNORT",{"$f":"IF(ISBLANK(VLOOKUP(9,Tabelle3[],7,0)),\"-\",VLOOKUP(9,Tabelle3[],7,0))","v":"-"},{"$f":"IF(ISBLANK(VLOOKUP(9,Tabelle3[],6,0)),\"-\",VLOOKUP(9,Tabelle3[],6,0))","v":"-"},null,null,null,null,null,null,null,null,null,null,null,null,null,"Veranlagung",null,"Datum 2",null,null,"cm",null,"Kg",null,"GUT",4]
["GEB. DATUM",null,{"$f":"IF(ISBLANK(VLOOKUP(9,Tabelle3[],14,0)),\"-\",VLOOKUP(9,Tabelle3[],14,0))","v":"-"},{"$f":"IF(ISBLANK(VLOOKUP(9,Tabelle3[],15,0)),\"-\",VLOOKUP(9,Tabelle3[],15,0))","v":"-"},{"$f":"IF(ISBLANK(VLOOKUP(9,Tabelle3[],16,0)),\"-\",VLOOKUP(9,Tabelle3[],16,0))","v":"-"},null,"GRÖSSE",null,"cm (Final)","CLUB",{"$f":"IF(ISBLANK(VLOOKUP(9,Tabelle3[],8,0)),\"-\",VLOOKUP(9,Tabelle3[],8,0))","v":"-"},null,null,null,null,null,null,null,null,null,null,null,null,null,null,"Umfeld",null,"Datum 3",null,null,"cm",null,"Kg",null,"DURCHSCHNITT",3]
["SEX",null,{"$f":"IF(ISBLANK(VLOOKUP(9,Tabelle3[],13,0)),\"-\",VLOOKUP(9,Tabelle3[],13,0))","v":"-"},null,null,null,"GEWICHT",null,"Kg (Final)","E-Mail",{"$f":"IF(ISBLANK(VLOOKUP(9,Tabelle3[],9,0)),\"-\",VLOOKUP(9,Tabelle3[],9,0))","v":"-"},null,null,null,null,null,null,null,null,null,null,null,null,null,null,null,null,"Datum 4",null,null,"cm",null,"Kg",null,"MANGELHAFT",2]
[null,null,null,null,null,null,null,null,null,null,null,null,null,null,null,null,null,null,null,null,null,null,null,null,null,null,null,"Datum 5",null,null,"cm",null,"Kg",null,"UNGENÜGEND",1]
["Vision",null,"xxx"]
["Ziele",null,"xxx"]
["Stärken",null,"xxx"]
[]
["EVALUATION (COACH / SPIELERIN)",null,null,null,null,null,null,null,null,null,null,null,null,null,null,null,null,null,null,null,null,null,null,null,null,"SMART"]
[{"$f":"Skillserleuterungen_FTEM!A3","v":"TEAM"},null,null,{"$f":"Skillserleuterungen_FTEM!B3","v":"FÄHIGKEIT"},null,null,{"$f":"Skillserleuterungen_FTEM!C3","v":"BEOBACHTUNG"},null,null,null,null,null,"Final","Datum1",null,"Datum2",null,"Datum3",null,"Datum4",null,"Datum5",null,"Player",null,"ZIEL","MASSNAHME:\nSPEZIFISCH,  MESSBAR, REALISITISCH",null,null,null,null,null,null,"TERMIN","ZIEL-KONTROLLE","Datum"]
[{"$f":"Skillserleuterungen_FTEM!A4","v":"TEAM"},null,null,{"$f":"IF($H$2=\"G\",Skillserleuterungen_FTEM!F4,Skillserleuterungen_FTEM!B4)","v":"Kommunikation"},null,null,{"$f":"IF($H$2=\"G\",Skillserleuterungen_FTEM!G4,Skillserleuterungen_FTEM!C4)","v":"pflegt einen offenen, respektvollen Umgang, Vertrauensbasis als Grundlage, trägt Konflikte aus ohne die Stabilität der Gruppe zu gefährden, kommuniziert mit Mitspielerinnen, Trainern und Funktionären gleichermassen wertschätzend"},null,null,{"$f":"IF($H$2=\"G\",Skillserleuterungen_FTEM!#REF!,Skillserleuterungen_FTEM!#REF!)","v":{"$error":"#REF!"}},null,null,null,{"$f":"IFERROR(AVERAGE(O13:O17),\"-\")","v":"-"},null,{"$f":"IFERROR(AVERAGE(Q13:Q17),\"-\")","v":"-"},null,{"$f":"IFERROR(AVERAGE(S13:S17),\"-\")","v":"-"},null,{"$f":"IFERROR(AVERAGE(U13:U17),\"-\")","v":"-"},null,null,null,{"$f":"IFERROR(AVERAGE(Y13:Y17),\"-\")","v":"-"}]
[null,null,null,{"$f":"IF($H$2=\"G\",Skillserleuterungen_FTEM!F5,Skillserleuterungen_FTEM!B5)","v":"Teamfähigkeit"},null,null,{"$f":"IF($H$2=\"G\",Skillserleuterungen_FTEM!G5,Skillserleuterungen_FTEM!C5)","v":"Integration in die Gruppe, gemeinsame Ziele bestimmen und verfolgen können, WIR vor dem ICH, trägt zu einem guten Team-Spirit und Arbeitsklima bei"},null,null,{"$f":"IF($H$2=\"G\",Skillserleuterungen_FTEM!#REF!,Skillserleuterungen_FTEM!#REF!)","v":{"$error":"#REF!"}}]
[null,null,null,{"$f":"IF($H$2=\"G\",Skillserleuterungen_FTEM!F6,Skillserleuterungen_FTEM!B6)","v":"Leadership"},null,null,{"$f":"IF($H$2=\"G\",Skillserleuterungen_FTEM!G6,Skillserleuterungen_FTEM!C6)","v":"übernimmt Verantwortung in der Gruppe, versucht Team und Mitspielerinnen besser zu machen, nimmt positiven Einfluss auf die Gruppendynamik"},null,null,{"$f":"IF($H$2=\"G\",Skillserleuterungen_FTEM!#REF!,Skillserleuterungen_FTEM!#REF!)","v":{"$error":"#REF!"}}]
[null,null,null,{"$f":"IF($H$2=\"G\",Skillserleuterungen_FTEM!F7,Skillserleuterungen_FTEM!B7)","v":"Rollenverteilung"},null,null,{"$f":"IF($H$2=\"G\",Skillserleuterungen_FTEM!G7,Skillserleuterungen_FTEM!C7)","v":"kennt ihre Rolle und füllt diese aus, ist sich ihrer Stellung im Team und im System bewusst, stellt eigene Kompetenzen in den Dienst des Teams"},null,null,{"$f":"IF($H$2=\"G\",Skillserleuterungen_FTEM!#REF!,Skillserleuterungen_FTEM!#REF!)","v":{"$error":"#REF!"}}]
[null,null,null,{"$f":"IF($H$2=\"G\",Skillserleuterungen_FTEM!F8,Skillserleuterungen_FTEM!B8)","v":"Respekt"},null,null,{"$f":"IF($H$2=\"G\",Skillserleuterungen_FTEM!G8,Skillserleuterungen_FTEM!C8)","v":"Respektvoller Umgang mit Mitspielerinnen, Trainern, Gegnern, Schiedsrichter und Staff; achtet die Regeln, Fairplayprinzipien (inkl. Anti-Doping)"},null,null,{"$f":"IF($H$2=\"G\",Skillserleuterungen_FTEM!#REF!,Skillserleuterungen_FTEM!#REF!)","v":{"$error":"#REF!"}}]
[{"$f":"Skillserleuterungen_FTEM!A9","v":"ON ICE"},null,null,{"$f":"Skillserleuterungen_FTEM!B9","v":"FÄHIGKEIT"},null,null,{"$f":"Skillserleuterungen_FTEM!C9","v":"BEOBACHTUNG"},null,null,null,null,null,null,"Datum1",null,"Datum2",null,"Datum3",null,"Datum4",null,"Datum5",null,"Player",null,"ZIEL","MASSNAHME:\nSPEZIFISCH,  MESSBAR, REALISITISCH",null,null,null,null,null,null,"TERMIN","ZIEL-KONTROLLE","Datum"]
[{"$f":"Skillserleuterungen_FTEM!A10","v":"SKATING"},null,null,{"$f":"IF($H$2=\"G\",Skillserleuterungen_FTEM!F10,Skillserleuterungen_FTEM!B10)","v":"Footspeed"},null,null,{"$f":"IF($H$2=\"G\",Skillserleuterungen_FTEM!G10,Skillserleuterungen_FTEM!C10)","v":"Beschleunigung, Antritt, erste 3 Schritte Explosivität, Frequenz"},null,null,{"$f":"IF($H$2=\"G\",Skillserleuterungen_FTEM!#REF!,Skillserleuterungen_FTEM!#REF!)","v":{"$error":"#REF!"}},null,null,null,{"$f":"IFERROR(AVERAGE(O19:O23),\"-\")","v":"-"},null,{"$f":"IFERROR(AVERAGE(Q19:Q23),\"-\")","v":"-"},null,{"$f":"IFERROR(AVERAGE(S19:S23),\"-\")","v":"-"},null,{"$f":"IFERROR(AVERAGE(U19:U23),\"-\")","v":"-"},null,{"$f":"IFERROR(AVERAGE(W19:W23),\"-\")","v":"-"},null,{"$f":"IFERROR(AVERAGE(Y19:Y23),\"-\")","v":"-"}]
[null,null,null,{"$f":"IF($H$2=\"G\",Skillserleuterungen_FTEM!F11,Skillserleuterungen_FTEM!B11)","v":"Topspeed"},null,null,{"$f":"IF($H$2=\"G\",Skillserleuterungen_FTEM!G11,Skillserleuterungen_FTEM!C11)","v":"Schnelligkeit, Gleitfähigkeit, vorwärts und rückwärts, Ökonomie"},null,null,{"$f":"IF($H$2=\"G\",Skillserleuterungen_FTEM!#REF!,Skillserleuterungen_FTEM!#REF!)","v":{"$error":"#REF!"}}]
[null,null,null,{"$f":"IF($H$2=\"G\",Skillserleuterungen_FTEM!F12,Skillserleuterungen_FTEM!B12)","v":"Agilität"},null,null,{"$f":"IF($H$2=\"G\",Skillserleuterungen_FTEM!G12,Skillserleuterungen_FTEM!C12)","v":"Richtungsänderung, Drehung, Stop und Start, \"Nummelin\""},null,null,{"$f":"IF($H$2=\"G\",Skillserleuterungen_FTEM!#REF!,Skillserleuterungen_FTEM!#REF!)","v":{"$error":"#REF!"}},null,null,null,{"$f":"IFERROR(AVERAGE(O21:O23),\"-\")","v":"-"},null,{"$f":"IFERROR(AVERAGE(Q21:Q23),\"-\")","v":"-"},null,{"$f":"IFERROR(AVERAGE(S21:S23),\"-\")","v":"-"},null,{"$f":"IFERROR(AVERAGE(U21:U23),\"-\")","v":"-"},null,{"$f":"IFERROR(AVERAGE(W21:W23),\"-\")","v":"-"},null,{"$f":"IFERROR(AVERAGE(Y21:Y23),\"-\")","v":"-"}]
[null,null,null,{"$f":"IF($H$2=\"G\",Skillserleuterungen_FTEM!F13,Skillserleuterungen_FTEM!B13)","v":"Balance"},null,null,{"$f":"IF($H$2=\"G\",Skillserleuterungen_FTEM!G13,Skillserleuterungen_FTEM!C13)","v":"Gleichgewicht, Standhaftfähigkeit, tiefe Position, ein- und beidbeinig"},null,null,{"$f":"IF($H$2=\"G\",Skillserleuterungen_FTEM!#REF!,Skillserleuterungen_FTEM!#REF!)","v":{"$error":"#REF!"}}]
[null,null,null,{"$f":"IF($H$2=\"G\",Skillserleuterungen_FTEM!F14,Skillserleuterungen_FTEM!B14)","v":"Backwards Skating"},null,null,{"$f":"IF($H$2=\"G\",Skillserleuterungen_FTEM!G14,Skillserleuterungen_FTEM!C14)","v":"Beschleunigung, Geschwindigkeit, Balance"},null,null,{"$f":"IF($H$2=\"G\",Skillserleuterungen_FTEM!#REF!,Skillserleuterungen_FTEM!#REF!)","v":{"$error":"#REF!"}}]
[{"$f":"Skillserleuterungen_FTEM!A15","v":"SKILLS"},null,null,{"$f":"IF($H$2=\"G\",Skillserleuterungen_FTEM!F15,Skillserleuterungen_FTEM!B15)","v":"Schiessen"},null,null,{"$f":"IF($H$2=\"G\",Skillserleuterungen_FTEM!G15,Skillserleuterungen_FTEM!C15)","v":"Effizienz (no space no time), Variantenreichtum, Überraschungsgrad (Quick Release), Präzision, Härte, (taktische Abschlüsse)"},null,null,{"$f":"IF($H$2=\"G\",Skillserleuterungen_FTEM!#REF!,Skillserleuterungen_FTEM!#REF!)","v":{"$error":"#REF!"}},null,null,null,{"$f":"IFERROR(AVERAGE(O24:O29),\"-\")","v":"-"},null,{"$f":"IFERROR(AVERAGE(Q24:Q29),\"-\")","v":"-"},null,{"$f":"IFERROR(AVERAGE(S24:S29),\"-\")","v":"-"},null,{"$f":"IFERROR(AVERAGE(U24:U29),\"-\")","v":"-"},null,{"$f":"IFERROR(AVERAGE(W24:W29),\"-\")","v":"-"},null,{"$f":"IFERROR(AVERAGE(Y24:Y29),\"-\")","v":"-"}]
[null,null,null,{"$f":"IF($H$2=\"G\",Skillserleuterungen_FTEM!F16,Skillserleuterungen_FTEM!B16)","v":"Passen"},null,null,{"$f":"IF($H$2=\"G\",Skillserleuterungen_FTEM!G16,Skillserleuterungen_FTEM!C16)","v":"Passabgabe (Distanz, Flippass Backhand), Passannahme (Präzision, Timing, Vorhand, Rückhand, Schlittschuh), Puckspeed "},null,null,{"$f":"IF($H$2=\"G\",Skillserleuterungen_FTEM!#REF!,Skillserleuterungen_FTEM!#REF!)","v":{"$error":"#REF!"}}]
[null,null,null,{"$f":"IF($H$2=\"G\",Skillserleuterungen_FTEM!F17,Skillserleuterungen_FTEM!B17)","v":"Stockarbeit"},null,null,{"$f":"IF($H$2=\"G\",Skillserleuterungen_FTEM!G17,Skillserleuterungen_FTEM!C17)","v":"Stock zum Puck, Passlinie unterbinden, ablenken, Stockkontrolle Gegenspielerin"},null,null,{"$f":"IF($H$2=\"G\",Skillserleuterungen_FTEM!#REF!,Skillserleuterungen_FTEM!#REF!)","v":{"$error":"#REF!"}}]
[null,null,null,{"$f":"IF($H$2=\"G\",Skillserleuterungen_FTEM!F18,Skillserleuterungen_FTEM!B18)","v":"Puck besitzen "},null,null,{"$f":"IF($H$2=\"G\",Skillserleuterungen_FTEM!G18,Skillserleuterungen_FTEM!C18)","v":"Puckkontrolle, Dribblings, Puck schützen, Finten (Varianten: mit Schlittschuh, mit sowie ohne Bande), Face-Off"},null,null,{"$f":"IF($H$2=\"G\",Skillserleuterungen_FTEM!#REF!,Skillserleuterungen_FTEM!#REF!)","v":{"$error":"#REF!"}}]
[null,null,null,{"$f":"IF($H$2=\"G\",Skillserleuterungen_FTEM!F19,Skillserleuterungen_FTEM!B19)","v":"Körperspiel"},null,null,{"$f":"IF($H$2=\"G\",Skillserleuterungen_FTEM!G19,Skillserleuterungen_FTEM!C19)","v":"Phyisches Durchsetzungsvermögen, Zweikampf (offenes Eis/Bande), Checks nehmen/Head up, Battle Level, Hart aber fair"},null,null,{"$f":"IF($H$2=\"G\",Skillserleuterungen_FTEM!#REF!,Skillserleuterungen_FTEM!#REF!)","v":{"$error":"#REF!"}}]
[null,null,null,{"$f":"IF($H$2=\"G\",Skillserleuterungen_FTEM!F20,Skillserleuterungen_FTEM!B20)","v":"-"},null,null,{"$f":"IF($H$2=\"G\",Skillserleuterungen_FTEM!G20,Skillserleuterungen_FTEM!C20)","v":"-"},null,null,{"$f":"IF($H$2=\"G\",Skillserleuterungen_FTEM!#REF!,Skillserleuterungen_FTEM!#REF!)","v":{"$error":"#REF!"}}]
[{"$f":"Skillserleuterungen_FTEM!A21","v":"HOCKEY SENSE"},null,null,{"$f":"IF($H$2=\"G\",Skillserleuterungen_FTEM!F21,Skillserleuterungen_FTEM!B21)","v":"Spielintelligenz"},null,null,{"$f":"IF($H$2=\"G\",Skillserleuterungen_FTEM!G21,Skillserleuterungen_FTEM!C21)","v":"Freie Räume und Spielerin sehen und Überzahlsituationen kreieren, lösungsorientiert agieren bei allen Bedingungen, Headspeed"},null,null,{"$f":"IF($H$2=\"G\",Skillserleuterungen_FTEM!#REF!,Skillserleuterungen_FTEM!#REF!)","v":{"$error":"#REF!"}},null,null,null,{"$f":"IFERROR(AVERAGE(O30:O34),\"-\")","v":"-"},null,{"$f":"IFERROR(AVERAGE(Q30:Q34),\"-\")","v":"-"},null,{"$f":"IFERROR(AVERAGE(S30:S34),\"-\")","v":"-"},null,{"$f":"IFERROR(AVERAGE(U30:U34),\"-\")","v":"-"},null,{"$f":"IFERROR(AVERAGE(W30:W34),\"-\")","v":"-"},null,{"$f":"IFERROR(AVERAGE(Y30:Y34),\"-\")","v":"-"}]
[null,null,null,{"$f":"IF($H$2=\"G\",Skillserleuterungen_FTEM!F22,Skillserleuterungen_FTEM!B22)","v":"Offensives Bewusstsein"},null,null,{"$f":"IF($H$2=\"G\",Skillserleuterungen_FTEM!G22,Skillserleuterungen_FTEM!C22)","v":"Anspielbar, Antizipation der Spielsituationen, Freiräume für Mitspielerinnen öffnen, Abschlussorientiert sein, Gapspeed, gute Kommunikation"},null,null,{"$f":"IF($H$2=\"G\",Skillserleuterungen_FTEM!#REF!,Skillserleuterungen_FTEM!#REF!)","v":{"$error":"#REF!"}}]
[null,null,null,{"$f":"IF($H$2=\"G\",Skillserleuterungen_FTEM!F23,Skillserleuterungen_FTEM!B23)","v":"Defensiv Bewusstsein"},null,null,{"$f":"IF($H$2=\"G\",Skillserleuterungen_FTEM!G23,Skillserleuterungen_FTEM!C23)","v":"Inside Position halten, Slot beschützen, Mitspieler absichern/Support, Passlinie erkennen, Schüsse blockieren. Gapspeed, gute Komunikation"},null,null,{"$f":"IF($H$2=\"G\",Skillserleuterungen_FTEM!#REF!,Skillserleuterungen_FTEM!#REF!)","v":{"$error":"#REF!"}}]
[null,null,null,{"$f":"IF($H$2=\"G\",Skillserleuterungen_FTEM!F24,Skillserleuterungen_FTEM!B24)","v":"Puckmanagement"},null,null,{"$f":"IF($H$2=\"G\",Skillserleuterungen_FTEM!G24,Skillserleuterungen_FTEM!C24)","v":"Situationsadäquate Entscheidungen treffen, Support, Overload"},null,null,{"$f":"IF($H$2=\"G\",Skillserleuterungen_FTEM!#REF!,Skillserleuterungen_FTEM!#REF!)","v":{"$error":"#REF!"}}]
[null,null,null,{"$f":"IF($H$2=\"G\",Skillserleuterungen_FTEM!F25,Skillserleuterungen_FTEM!B25)","v":"Kreativität"},null,null,{"$f":"IF($H$2=\"G\",Skillserleuterungen_FTEM!G25,Skillserleuterungen_FTEM!C25)","v":"Überraschende Lösungen, Torriecher"},null,null,{"$f":"IF($H$2=\"G\",Skillserleuterungen_FTEM!#REF!,Skillserleuterungen_FTEM!#REF!)","v":{"$error":"#REF!"}}]
[{"$f":"Skillserleuterungen_FTEM!A26","v":"PERSONALITY"},null,null,{"$f":"Skillserleuterungen_FTEM!B26","v":"FÄHIGKEIT"},null,null,{"$f":"Skillserleuterungen_FTEM!C26","v":"BEOBACHTUNG"},null,null,null,null,null,null,"Datum1",null,"Datum2",null,"Datum3",null,"Datum4",null,"Datum5",null,"Player",null,"ZIEL","MASSNAHME:\nSPEZIFISCH,  MESSBAR, REALISITISCH",null,null,null,null,null,null,"TERMIN","ZIEL-KONTROLLE","Datum"]
[{"$f":"Skillserleuterungen_FTEM!A27","v":"PERSÖNLICHKEIT"},null,null,{"$f":"IF($H$2=\"G\",Skillserleuterungen_FTEM!F27,Skillserleuterungen_FTEM!B27)","v":"Selbstbewusstsein"},null,null,{"$f":"IF($H$2=\"G\",Skillserleuterungen_FTEM!G27,Skillserleuterungen_FTEM!C27)","v":"hat das nötige Selbstvertrauen,\"I can do it\"-Haltung, kann eigene Fähigkeiten einschätzen (kennt eigene Stärken/Schwächen), kann ihre Stärken konstant einsetzen, agiert mutig und nimmt kalkulierte Risiken"},null,null,{"$f":"IF($H$2=\"G\",Skillserleuterungen_FTEM!#REF!,Skillserleuterungen_FTEM!#REF!)","v":{"$error":"#REF!"}},null,null,null,{"$f":"IFERROR(AVERAGE(O36:O40),\"-\")","v":"-"},null,{"$f":"IFERROR(AVERAGE(Q36:Q40),\"-\")","v":"-"},null,{"$f":"IFERROR(AVERAGE(S36:S40),\"-\")","v":"-"},null,{"$f":"IFERROR(AVERAGE(U36:U40),\"-\")","v":"-"},null,{"$f":"IFERROR(AVERAGE(W36:W40),\"-\")","v":"-"},null,{"$f":"IFERROR(AVERAGE(Y36:Y40),\"-\")","v":"-"}]
[null,null,null,{"$f":"IF($H$2=\"G\",Skillserleuterungen_FTEM!F28,Skillserleuterungen_FTEM!B28)","v":"Lernfähigkeit"},null,null,{"$f":"IF($H$2=\"G\",Skillserleuterungen_FTEM!G28,Skillserleuterungen_FTEM!C28)","v":"hat eine gute Auffassungsgabe (nimmt auf und kann umsetzen), reflektiert eigenes Handeln, versucht aus Fehlern zu lernen und kann Massnahmen ableiten"},null,null,{"$f":"IF($H$2=\"G\",Skillserleuterungen_FTEM!#REF!,Skillserleuterungen_FTEM!#REF!)","v":{"$error":"#REF!"}}]
[null,null,null,{"$f":"IF($H$2=\"G\",Skillserleuterungen_FTEM!F29,Skillserleuterungen_FTEM!B29)","v":"Eigenverantwortung"},null,null,{"$f":"IF($H$2=\"G\",Skillserleuterungen_FTEM!G29,Skillserleuterungen_FTEM!C29)","v":"übernimmt Verantwortung für eigene Leistungen und Entwicklung, handelt selbständig, achtet auf Details, zeigt grosses Engagement in allen Bereichen"},null,null,{"$f":"IF($H$2=\"G\",Skillserleuterungen_FTEM!#REF!,Skillserleuterungen_FTEM!#REF!)","v":{"$error":"#REF!"}}]
[null,null,null,{"$f":"IF($H$2=\"G\",Skillserleuterungen_FTEM!F30,Skillserleuterungen_FTEM!B30)","v":"Motivation"},null,null,{"$f":"IF($H$2=\"G\",Skillserleuterungen_FTEM!G30,Skillserleuterungen_FTEM!C30)","v":"Intrinsischer Antrieb, will sich ständig weiterentwickeln und lernen, will die Erste sein und Erfolg haben, gibt nie auf und lässt sich auch durch Misserfolge nicht vom Weg abbringen"},null,null,{"$f":"IF($H$2=\"G\",Skillserleuterungen_FTEM!#REF!,Skillserleuterungen_FTEM!#REF!)","v":{"$error":"#REF!"}}]
[null,null,null,{"$f":"IF($H$2=\"G\",Skillserleuterungen_FTEM!F31,Skillserleuterungen_FTEM!B31)","v":"Performance Lifestyle"},null,null,{"$f":"IF($H$2=\"G\",Skillserleuterungen_FTEM!G31,Skillserleuterungen_FTEM!C31)","v":"managt Alltag und Umfeld nach dem Leistungsprinzip, hartnäckig, beharrlich und zielgerichtet, Fokus auf eigene Leistung, zeigt Biss und kann sich auch gegen Widerstände durchsetzen, Herausforderungen spornen sie an"},null,null,{"$f":"IF($H$2=\"G\",Skillserleuterungen_FTEM!#REF!,Skillserleuterungen_FTEM!#REF!)","v":{"$error":"#REF!"}}]
[{"$f":"Skillserleuterungen_FTEM!A32","v":"MENTALE STÄRKE"},null,null,{"$f":"IF($H$2=\"G\",Skillserleuterungen_FTEM!F32,Skillserleuterungen_FTEM!B32)","v":"Einsatzbereitschaft"},null,null,{"$f":"IF($H$2=\"G\",Skillserleuterungen_FTEM!G32,Skillserleuterungen_FTEM!C32)","v":"zeigt im Spiel und im Training hohe Intensität, gibt immer ihr Maximum und will ihre Limiten pushen, zeigt Leidenschaft, ist um hohe Trainingsqualität bemüht"},null,null,{"$f":"IF($H$2=\"G\",Skillserleuterungen_FTEM!#REF!,Skillserleuterungen_FTEM!#REF!)","v":{"$error":"#REF!"}},null,null,null,{"$f":"IFERROR(AVERAGE(O41:O45),\"-\")","v":"-"},null,{"$f":"IFERROR(AVERAGE(Q41:Q45),\"-\")","v":"-"},null,{"$f":"IFERROR(AVERAGE(S41:S45),\"-\")","v":"-"},null,{"$f":"IFERROR(AVERAGE(U41:U45),\"-\")","v":"-"},null,{"$f":"IFERROR(AVERAGE(W41:W45),\"-\")","v":"-"},null,{"$f":"IFERROR(AVERAGE(Y41:Y45),\"-\")","v":"-"}]
[null,null,null,{"$f":"IF($H$2=\"G\",Skillserleuterungen_FTEM!F33,Skillserleuterungen_FTEM!B33)","v":"Vorbereitung"},null,null,{"$f":"IF($H$2=\"G\",Skillserleuterungen_FTEM!G33,Skillserleuterungen_FTEM!C33)","v":"bewusste und gezielte Vorbereitung, mental wie auch physisch, verfügt über einen effizienten Ablauf zur Erreichung des idealen Leistungszustand (ILZ)"},null,null,{"$f":"IF($H$2=\"G\",Skillserleuterungen_FTEM!#REF!,Skillserleuterungen_FTEM!#REF!)","v":{"$error":"#REF!"}}]
[null,null,null,{"$f":"IF($H$2=\"G\",Skillserleuterungen_FTEM!F34,Skillserleuterungen_FTEM!B34)","v":"Selbstcoaching"},null,null,{"$f":"IF($H$2=\"G\",Skillserleuterungen_FTEM!G34,Skillserleuterungen_FTEM!C34)","v":"verfügt über gute Konzentrationsfähigkeit, kann während Spiel/Training ihren ILZ halten, kann mentale Grundtechniken anwenden, widerstandsfähig gegen negative Gedanken und Einflüsse, ist sich ihrer Körpersprache bewusst und kann diese regulieren"},null,null,{"$f":"IF($H$2=\"G\",Skillserleuterungen_FTEM!#REF!,Skillserleuterungen_FTEM!#REF!)","v":{"$error":"#REF!"}}]
[null,null,null,{"$f":"IF($H$2=\"G\",Skillserleuterungen_FTEM!F35,Skillserleuterungen_FTEM!B35)","v":"Energiemanagement"},null,null,{"$f":"IF($H$2=\"G\",Skillserleuterungen_FTEM!G35,Skillserleuterungen_FTEM!C35)","v":"kann eigene Energie regulieren, bereit zur Regeneration, weiss wann sie \"Vollgas\" geben muss und wann abschalten, On/Off-Schalter"},null,null,{"$f":"IF($H$2=\"G\",Skillserleuterungen_FTEM!#REF!,Skillserleuterungen_FTEM!#REF!)","v":{"$error":"#REF!"}}]
[null,null,null,{"$f":"IF($H$2=\"G\",Skillserleuterungen_FTEM!F36,Skillserleuterungen_FTEM!B36)","v":"Emotionskontrolle"},null,null,{"$f":"IF($H$2=\"G\",Skillserleuterungen_FTEM!G36,Skillserleuterungen_FTEM!C36)","v":"kann eigene Emotionen und Impulse regulieren, behält auch unter Druck die Kontrolle, kann auch in emotional anspruchsvollen oder frustrierenden Situationen angemessen agieren"},null,null,{"$f":"IF($H$2=\"G\",Skillserleuterungen_FTEM!#REF!,Skillserleuterungen_FTEM!#REF!)","v":{"$error":"#REF!"}}]
[{"$f":"Skillserleuterungen_FTEM!A37","v":"PHYSE"},null,null,{"$f":"IF($H$2=\"G\",Skillserleuterungen_FTEM!F37,Skillserleuterungen_FTEM!B37)","v":"Leistungserzeugung"},null,null,{"$f":"IF($H$2=\"G\",Skillserleuterungen_FTEM!G37,Skillserleuterungen_FTEM!C37)","v":"verfügt über die nötige Power/Kraft/Schnelligkeit in den Beinen und im Oberkörper (Neuromuskuläre Faktoren)"},null,null,{"$f":"IF($H$2=\"G\",Skillserleuterungen_FTEM!#REF!,Skillserleuterungen_FTEM!#REF!)","v":{"$error":"#REF!"}},null,null,null,{"$f":"IFERROR(AVERAGE(O46:O50),\"-\")","v":"-"},null,{"$f":"IFERROR(AVERAGE(Q46:Q50),\"-\")","v":"-"},null,{"$f":"IFERROR(AVERAGE(S46:S50),\"-\")","v":"-"},null,{"$f":"IFERROR(AVERAGE(U46:U50),\"-\")","v":"-"},null,{"$f":"IFERROR(AVERAGE(W46:W50),\"-\")","v":"-"},null,{"$f":"IFERROR(AVERAGE(Y46:Y50),\"-\")","v":"-"}]
[null,null,null,{"$f":"IF($H$2=\"G\",Skillserleuterungen_FTEM!F38,Skillserleuterungen_FTEM!B38)","v":"sporartspez. Ermüdungsresistenz"},null,null,{"$f":"IF($H$2=\"G\",Skillserleuterungen_FTEM!G38,Skillserleuterungen_FTEM!C38)","v":"Ist fähig  die Power/Kraft/Schnelligkeit innerhalb des Einsatzes lange aufrechtzuerhalten und kann sich zwischen den Einsätzen jeweils vollkommen erholen (Metabolische und kardiovaskuläre Faktoren)"},null,null,{"$f":"IF($H$2=\"G\",Skillserleuterungen_FTEM!#REF!,Skillserleuterungen_FTEM!#REF!)","v":{"$error":"#REF!"}}]
[null,null,null,{"$f":"IF($H$2=\"G\",Skillserleuterungen_FTEM!F39,Skillserleuterungen_FTEM!B39)","v":"Gesundheit / Prävention"},null,null,{"$f":"IF($H$2=\"G\",Skillserleuterungen_FTEM!G39,Skillserleuterungen_FTEM!C39)","v":"verfügt über die nötige Stabilität (z.B. Beinachsenstabilität) und Beweglichkeit in den zentralen Gelenken"},null,null,{"$f":"IF($H$2=\"G\",Skillserleuterungen_FTEM!#REF!,Skillserleuterungen_FTEM!#REF!)","v":{"$error":"#REF!"}}]
[null,null,null,{"$f":"IF($H$2=\"G\",Skillserleuterungen_FTEM!F40,Skillserleuterungen_FTEM!B40)","v":"Bewegungskompetenzen"},null,null,{"$f":"IF($H$2=\"G\",Skillserleuterungen_FTEM!G40,Skillserleuterungen_FTEM!C40)","v":"beherrscht die grundlegenden Bewegungsfertigkeiten, die eine unerlässliche Zubringerfunktion für die sportspezifischen \"Skills\" darstellt sowie zur nötigen Bewegungseffizienz führt"},null,null,{"$f":"IF($H$2=\"G\",Skillserleuterungen_FTEM!#REF!,Skillserleuterungen_FTEM!#REF!)","v":{"$error":"#REF!"}}]
[null,null,null,{"$f":"IF($H$2=\"G\",Skillserleuterungen_FTEM!F41,Skillserleuterungen_FTEM!B41)","v":"Robustheit"},null,null,{"$f":"IF($H$2=\"G\",Skillserleuterungen_FTEM!G41,Skillserleuterungen_FTEM!C41)","v":"verfügt über die nötige Grundkraft (Körperspannung), um sich in Zweikämpfen durchzusetzen und bei Zusammestössen standzuhalten"},null,null,{"$f":"IF($H$2=\"G\",Skillserleuterungen_FTEM!#REF!,Skillserleuterungen_FTEM!#REF!)","v":{"$error":"#REF!"}}]

{"sheet":"10","index":13,"n_rows":50,"n_cols":36,"rows_kept":50,"cut":false,"hidden":false,"merged":[[13,3,13,5],[14,3,14,5],[15,3,15,5],[13,6,13,11],[14,6,14,11],[15,6,15,11],[21,3,21,5],[21,6,21,11],[26,3,26,5],[26,6,26,11],[0,0,0,24],[0,25,0,26],[0,27,0,32],[0,33,0,35],[29,25,33,25],[29,26,33,32],[29,34,33,34],[35,25,39,25],[35,26,39,32],[35,34,39,34],[1,0,1,1],[1,2,1,5],[1,10,1,24],[2,0,2,1],[2,2,2,5],[2,11,2,24],[6,0,6,1],[6,2,6,35],[7,0,7,1],[7,2,7,35],[8,0,8,1],[8,2,8,35],[3,0,3,1],[3,10,3,24],[4,0,4,1],[4,2,4,5],[4,10,4,24],[10,0,10,24],[10,25,10,35],[40,25,44,25],[40,26,44,32],[40,34,44,34],[12,25,16,25],[12,26,16,32],[12,34,16,34],[18,25,22,25],[18,26,22,32],[18,34,22,34],[23,25,28,25],[23,26,28,32],[23,34,28,34],[17,26,17,32],[11,0,11,2],[11,3,11,5],[11,13,11,14],[11,15,11,16],[11,17,11,18],[11,19,11,20],[11,21,11,22],[11,23,11,24],[11,26,11,32],[11,6,11,11],[12,23,16,23],[16,3,16,5],[16,6,16,11],[17,0,17,2],[17,3,17,5],[17,6,17,11],[17,13,17,14],[17,15,17,16],[17,17,17,18],[17,19,17,20],[17,21,17,22],[17,23,17,24],[12,0,16,2],[12,3,12,5],[12,6,12,11],[12,12,16,12],[12,13,16,13],[12,15,16,15],[12,17,16,17],[12,19,16,19],[12,21,16,21],[18,15,22,15],[18,17,22,17],[18,19,22,19],[18,21,22,21],[18,23,22,23],[22,3,22,5],[22,6,22,11],[23,0,28,2],[23,3,23,5],[23,6,23,11],[23,12,28,12],[23,13,28,13],[23,15,28,15],[23,17,28,17],[18,0,22,2],[18,3,18,5],[18,6,18,11],[18,12,22,12],[18,13,22,13],[19,3,19,5],[19,6,19,11],[20,3,20,5],[20,6,20,11],[23,19,28,19],[23,21,28,21],[23,23,28,23],[24,3,24,5],[24,6,24,11],[28,3,28,5],[28,6,28,11],[33,3,33,5],[33,6,33,11],[29,23,33,23],[29,17,33,17],[29,19,33,19],[29,21,33,21],[30,3,30,5],[30,6,30,11],[31,3,31,5],[31,6,31,11],[27,3,27,5],[27,6,27,11],[32,3,32,5],[32,6,32,11],[29,0,33,2],[29,3,29,5],[29,6,29,11],[29,12,33,12],[29,13,33,13],[29,15,33,15],[34,23,34,24],[34,26,34,32],[35,0,39,2],[35,3,35,5],[35,6,35,11],[35,12,39,12],[35,13,39,13],[35,15,39,15],[39,3,39,5],[39,6,39,11],[35,23,39,23],[34,0,34,2],[34,3,34,5],[34,6,34,11],[34,13,34,14],[34,15,34,16],[34,17,34,18],[34,19,34,20],[36,3,36,5],[36,6,36,11],[37,3,37,5],[37,6,37,11],[40,17,44,17],[40,19,44,19],[40,21,44,21],[41,3,41,5],[41,6,41,11],[44,3,44,5],[44,6,44,11],[38,3,38,5],[38,6,38,11],[43,3,43,5],[43,6,43,11],[45,26,49,32],[45,34,49,34],[25,3,25,5],[25,6,25,11],[42,3,42,5],[42,6,42,11],[45,0,49,2],[45,12,49,12],[45,13,49,13],[45,15,49,15],[45,17,49,17],[45,19,49,19],[45,21,49,21],[45,23,49,23],[45,25,49,25],[45,3,45,5],[45,6,45,11],[46,3,46,5],[46,6,46,11],[40,15,44,15],[34,21,34,22],[35,17,39,17],[35,19,39,19],[35,21,39,21],[47,3,47,5],[47,6,47,11],[49,3,49,5],[49,6,49,11],[40,23,44,23],[40,0,44,2],[40,3,40,5],[40,6,40,11],[40,12,44,12],[40,13,44,13],[48,3,48,5],[48,6,48,11]]}
["Personalien",null,null,null,null,null,null,null,null,null,null,null,null,null,null,null,null,null,null,null,null,null,null,null,null,"Vorausetzungen",null,"Evaluationen",null,null,null,null,null,"Rating"]
["VORNAME",null,{"$f":"IF(ISBLANK(VLOOKUP(10,Tabelle3[],3,0)),\"-\",VLOOKUP(10,Tabelle3[],3,0))","v":"-"},null,null,null,"POSITION",null,null,"ADRESSE",{"$f":"IF(ISBLANK(VLOOKUP(10,Tabelle3[],5,0)),\"-\",VLOOKUP(10,Tabelle3[],5,0))","v":"-"},null,null,null,null,null,null,null,null,null,null,null,null,null,null,"\"Alter\" (Biologisch/Relative Age)",null,"Datum 1",null,null,"cm",null,"Kg",null,"AUSGEZEICHNET",5]
["NAME",null,{"$f":"IF(ISBLANK(VLOOKUP(10,Tabelle3[],2,0)),\"-\",VLOOKUP(10,Tabelle3[],2,0))","v":"-"},null,null,null,"STOCK",null,null,"WOHNORT",{"$f":"IF(ISBLANK(VLOOKUP(10,Tabelle3[],7,0)),\"-\",VLOOKUP(10,Tabelle3[],7,0))","v":"-"},{"$f":"IF(ISBLANK(VLOOKUP(10,Tabelle3[],6,0)),\"-\",VLOOKUP(10,Tabelle3[],6,0))","v":"-"},null,null,null,null,null,null,null,null,null,null,null,null,null,"Veranlagung",null,"Datum 2",null,null,"cm",null,"Kg",null,"GUT",4]
["GEB. DATUM",null,{"$f":"IF(ISBLANK(VLOOKUP(10,Tabelle3[],14,0)),\"-\",VLOOKUP(10,Tabelle3[],14,0))","v":"-"},{"$f":"IF(ISBLANK(VLOOKUP(10,Tabelle3[],15,0)),\"-\",VLOOKUP(10,Tabelle3[],15,0))","v":"-"},{"$f":"IF(ISBLANK(VLOOKUP(10,Tabelle3[],16,0)),\"-\",VLOOKUP(10,Tabelle3[],16,0))","v":"-"},null,"GRÖSSE",null,"cm (Final)","CLUB",{"$f":"IF(ISBLANK(VLOOKUP(10,Tabelle3[],8,0)),\"-\",VLOOKUP(10,Tabelle3[],8,0))","v":"-"},null,null,null,null,null,null,null,null,null,null,null,null,null,null,"Umfeld",null,"Datum 3",null,null,"cm",null,"Kg",null,"DURCHSCHNITT",3]
["SEX",null,{"$f":"IF(ISBLANK(VLOOKUP(10,Tabelle3[],13,0)),\"-\",VLOOKUP(10,Tabelle3[],13,0))","v":"-"},null,null,null,"GEWICHT",null,"Kg (Final)","E-Mail",{"$f":"IF(ISBLANK(VLOOKUP(10,Tabelle3[],9,0)),\"-\",VLOOKUP(10,Tabelle3[],9,0))","v":"-"},null,null,null,null,null,null,null,null,null,null,null,null,null,null,null,null,"Datum 4",null,null,"cm",null,"Kg",null,"MANGELHAFT",2]
[null,null,null,null,null,null,null,null,null,null,null,null,null,null,null,null,null,null,null,null,null,null,null,null,null,null,null,"Datum 5",null,null,"cm",null,"Kg",null,"UNGENÜGEND",1]
["Vision",null,"xxx"]
["Ziele",null,"xxx"]
["Stärken",null,"xxx"]
[]
["EVALUATION (COACH / SPIELERIN)",null,null,null,null,null,null,null,null,null,null,null,null,null,null,null,null,null,null,null,null,null,null,null,null,"SMART"]
[{"$f":"Skillserleuterungen_FTEM!A3","v":"TEAM"},null,null,{"$f":"Skillserleuterungen_FTEM!B3","v":"FÄHIGKEIT"},null,null,{"$f":"Skillserleuterungen_FTEM!C3","v":"BEOBACHTUNG"},null,null,null,null,null,"Final","Datum1",null,"Datum2",null,"Datum3",null,"Datum4",null,"Datum5",null,"Player",null,"ZIEL","MASSNAHME:\nSPEZIFISCH,  MESSBAR, REALISITISCH",null,null,null,null,null,null,"TERMIN","ZIEL-KONTROLLE","Datum"]
[{"$f":"Skillserleuterungen_FTEM!A4","v":"TEAM"},null,null,{"$f":"IF($H$2=\"G\",Skillserleuterungen_FTEM!F4,Skillserleuterungen_FTEM!B4)","v":"Kommunikation"},null,null,{"$f":"IF($H$2=\"G\",Skillserleuterungen_FTEM!G4,Skillserleuterungen_FTEM!C4)","v":"pflegt einen offenen, respektvollen Umgang, Vertrauensbasis als Grundlage, trägt Konflikte aus ohne die Stabilität der Gruppe zu gefährden, kommuniziert mit Mitspielerinnen, Trainern und Funktionären gleichermassen wertschätzend"},null,null,{"$f":"IF($H$2=\"G\",Skillserleuterungen_FTEM!#REF!,Skillserleuterungen_FTEM!#REF!)","v":{"$error":"#REF!"}},null,null,null,{"$f":"IFERROR(AVERAGE(O13:O17),\"-\")","v":"-"},null,{"$f":"IFERROR(AVERAGE(Q13:Q17),\"-\")","v":"-"},null,{"$f":"IFERROR(AVERAGE(S13:S17),\"-\")","v":"-"},null,{"$f":"IFERROR(AVERAGE(U13:U17),\"-\")","v":"-"},null,null,null,{"$f":"IFERROR(AVERAGE(Y13:Y17),\"-\")","v":"-"}]
[null,null,null,{"$f":"IF($H$2=\"G\",Skillserleuterungen_FTEM!F5,Skillserleuterungen_FTEM!B5)","v":"Teamfähigkeit"},null,null,{"$f":"IF($H$2=\"G\",Skillserleuterungen_FTEM!G5,Skillserleuterungen_FTEM!C5)","v":"Integration in die Gruppe, gemeinsame Ziele bestimmen und verfolgen können, WIR vor dem ICH, trägt zu einem guten Team-Spirit und Arbeitsklima bei"},null,null,{"$f":"IF($H$2=\"G\",Skillserleuterungen_FTEM!#REF!,Skillserleuterungen_FTEM!#REF!)","v":{"$error":"#REF!"}}]
[null,null,null,{"$f":"IF($H$2=\"G\",Skillserleuterungen_FTEM!F6,Skillserleuterungen_FTEM!B6)","v":"Leadership"},null,null,{"$f":"IF($H$2=\"G\",Skillserleuterungen_FTEM!G6,Skillserleuterungen_FTEM!C6)","v":"übernimmt Verantwortung in der Gruppe, versucht Team und Mitspielerinnen besser zu machen, nimmt positiven Einfluss auf die Gruppendynamik"},null,null,{"$f":"IF($H$2=\"G\",Skillserleuterungen_FTEM!#REF!,Skillserleuterungen_FTEM!#REF!)","v":{"$error":"#REF!"}}]
[null,null,null,{"$f":"IF($H$2=\"G\",Skillserleuterungen_FTEM!F7,Skillserleuterungen_FTEM!B7)","v":"Rollenverteilung"},null,null,{"$f":"IF($H$2=\"G\",Skillserleuterungen_FTEM!G7,Skillserleuterungen_FTEM!C7)","v":"kennt ihre Rolle und füllt diese aus, ist sich ihrer Stellung im Team und im System bewusst, stellt eigene Kompetenzen in den Dienst des Teams"},null,null,{"$f":"IF($H$2=\"G\",Skillserleuterungen_FTEM!#REF!,Skillserleuterungen_FTEM!#REF!)","v":{"$error":"#REF!"}}]
[null,null,null,{"$f":"IF($H$2=\"G\",Skillserleuterungen_FTEM!F8,Skillserleuterungen_FTEM!B8)","v":"Respekt"},null,null,{"$f":"IF($H$2=\"G\",Skillserleuterungen_FTEM!G8,Skillserleuterungen_FTEM!C8)","v":"Respektvoller Umgang mit Mitspielerinnen, Trainern, Gegnern, Schiedsrichter und Staff; achtet die Regeln, Fairplayprinzipien (inkl. Anti-Doping)"},null,null,{"$f":"IF($H$2=\"G\",Skillserleuterungen_FTEM!#REF!,Skillserleuterungen_FTEM!#REF!)","v":{"$error":"#REF!"}}]
[{"$f":"Skillserleuterungen_FTEM!A9","v":"ON ICE"},null,null,{"$f":"Skillserleuterungen_FTEM!B9","v":"FÄHIGKEIT"},null,null,{"$f":"Skillserleuterungen_FTEM!C9","v":"BEOBACHTUNG"},null,null,null,null,null,null,"Datum1",null,"Datum2",null,"Datum3",null,"Datum4",null,"Datum5",null,"Player",null,"ZIEL","MASSNAHME:\nSPEZIFISCH,  MESSBAR, REALISITISCH",null,null,null,null,null,null,"TERMIN","ZIEL-KONTROLLE","Datum"]
[{"$f":"Skillserleuterungen_FTEM!A10","v":"SKATING"},null,null,{"$f":"IF($H$2=\"G\",Skillserleuterungen_FTEM!F10,Skillserleuterungen_FTEM!B10)","v":"Footspeed"},null,null,{"$f":"IF($H$2=\"G\",Skillserleuterungen_FTEM!G10,Skillserleuterungen_FTEM!C10)","v":"Beschleunigung, Antritt, erste 3 Schritte Explosivität, Frequenz"},null,null,{"$f":"IF($H$2=\"G\",Skillserleuterungen_FTEM!#REF!,Skillserleuterungen_FTEM!#REF!)","v":{"$error":"#REF!"}},null,null,null,{"$f":"IFERROR(AVERAGE(O19:O23),\"-\")","v":"-"},null,{"$f":"IFERROR(AVERAGE(Q19:Q23),\"-\")","v":"-"},null,{"$f":"IFERROR(AVERAGE(S19:S23),\"-\")","v":"-"},null,{"$f":"IFERROR(AVERAGE(U19:U23),\"-\")","v":"-"},null,{"$f":"IFERROR(AVERAGE(W19:W23),\"-\")","v":"-"},null,{"$f":"IFERROR(AVERAGE(Y19:Y23),\"-\")","v":"-"}]
[null,null,null,{"$f":"IF($H$2=\"G\",Skillserleuterungen_FTEM!F11,Skillserleuterungen_FTEM!B11)","v":"Topspeed"},null,null,{"$f":"IF($H$2=\"G\",Skillserleuterungen_FTEM!G11,Skillserleuterungen_FTEM!C11)","v":"Schnelligkeit, Gleitfähigkeit, vorwärts und rückwärts, Ökonomie"},null,null,{"$f":"IF($H$2=\"G\",Skillserleuterungen_FTEM!#REF!,Skillserleuterungen_FTEM!#REF!)","v":{"$error":"#REF!"}}]
[null,null,null,{"$f":"IF($H$2=\"G\",Skillserleuterungen_FTEM!F12,Skillserleuterungen_FTEM!B12)","v":"Agilität"},null,null,{"$f":"IF($H$2=\"G\",Skillserleuterungen_FTEM!G12,Skillserleuterungen_FTEM!C12)","v":"Richtungsänderung, Drehung, Stop und Start, \"Nummelin\""},null,null,{"$f":"IF($H$2=\"G\",Skillserleuterungen_FTEM!#REF!,Skillserleuterungen_FTEM!#REF!)","v":{"$error":"#REF!"}},null,null,null,{"$f":"IFERROR(AVERAGE(O21:O23),\"-\")","v":"-"},null,{"$f":"IFERROR(AVERAGE(Q21:Q23),\"-\")","v":"-"},null,{"$f":"IFERROR(AVERAGE(S21:S23),\"-\")","v":"-"},null,{"$f":"IFERROR(AVERAGE(U21:U23),\"-\")","v":"-"},null,{"$f":"IFERROR(AVERAGE(W21:W23),\"-\")","v":"-"},null,{"$f":"IFERROR(AVERAGE(Y21:Y23),\"-\")","v":"-"}]
[null,null,null,{"$f":"IF($H$2=\"G\",Skillserleuterungen_FTEM!F13,Skillserleuterungen_FTEM!B13)","v":"Balance"},null,null,{"$f":"IF($H$2=\"G\",Skillserleuterungen_FTEM!G13,Skillserleuterungen_FTEM!C13)","v":"Gleichgewicht, Standhaftfähigkeit, tiefe Position, ein- und beidbeinig"},null,null,{"$f":"IF($H$2=\"G\",Skillserleuterungen_FTEM!#REF!,Skillserleuterungen_FTEM!#REF!)","v":{"$error":"#REF!"}}]
[null,null,null,{"$f":"IF($H$2=\"G\",Skillserleuterungen_FTEM!F14,Skillserleuterungen_FTEM!B14)","v":"Backwards Skating"},null,null,{"$f":"IF($H$2=\"G\",Skillserleuterungen_FTEM!G14,Skillserleuterungen_FTEM!C14)","v":"Beschleunigung, Geschwindigkeit, Balance"},null,null,{"$f":"IF($H$2=\"G\",Skillserleuterungen_FTEM!#REF!,Skillserleuterungen_FTEM!#REF!)","v":{"$error":"#REF!"}}]
[{"$f":"Skillserleuterungen_FTEM!A15","v":"SKILLS"},null,null,{"$f":"IF($H$2=\"G\",Skillserleuterungen_FTEM!F15,Skillserleuterungen_FTEM!B15)","v":"Schiessen"},null,null,{"$f":"IF($H$2=\"G\",Skillserleuterungen_FTEM!G15,Skillserleuterungen_FTEM!C15)","v":"Effizienz (no space no time), Variantenreichtum, Überraschungsgrad (Quick Release), Präzision, Härte, (taktische Abschlüsse)"},null,null,{"$f":"IF($H$2=\"G\",Skillserleuterungen_FTEM!#REF!,Skillserleuterungen_FTEM!#REF!)","v":{"$error":"#REF!"}},null,null,null,{"$f":"IFERROR(AVERAGE(O24:O29),\"-\")","v":"-"},null,{"$f":"IFERROR(AVERAGE(Q24:Q29),\"-\")","v":"-"},null,{"$f":"IFERROR(AVERAGE(S24:S29),\"-\")","v":"-"},null,{"$f":"IFERROR(AVERAGE(U24:U29),\"-\")","v":"-"},null,{"$f":"IFERROR(AVERAGE(W24:W29),\"-\")","v":"-"},null,{"$f":"IFERROR(AVERAGE(Y24:Y29),\"-\")","v":"-"}]
[null,null,null,{"$f":"IF($H$2=\"G\",Skillserleuterungen_FTEM!F16,Skillserleuterungen_FTEM!B16)","v":"Passen"},null,null,{"$f":"IF($H$2=\"G\",Skillserleuterungen_FTEM!G16,Skillserleuterungen_FTEM!C16)","v":"Passabgabe (Distanz, Flippass Backhand), Passannahme (Präzision, Timing, Vorhand, Rückhand, Schlittschuh), Puckspeed "},null,null,{"$f":"IF($H$2=\"G\",Skillserleuterungen_FTEM!#REF!,Skillserleuterungen_FTEM!#REF!)","v":{"$error":"#REF!"}}]
[null,null,null,{"$f":"IF($H$2=\"G\",Skillserleuterungen_FTEM!F17,Skillserleuterungen_FTEM!B17)","v":"Stockarbeit"},null,null,{"$f":"IF($H$2=\"G\",Skillserleuterungen_FTEM!G17,Skillserleuterungen_FTEM!C17)","v":"Stock zum Puck, Passlinie unterbinden, ablenken, Stockkontrolle Gegenspielerin"},null,null,{"$f":"IF($H$2=\"G\",Skillserleuterungen_FTEM!#REF!,Skillserleuterungen_FTEM!#REF!)","v":{"$error":"#REF!"}}]
[null,null,null,{"$f":"IF($H$2=\"G\",Skillserleuterungen_FTEM!F18,Skillserleuterungen_FTEM!B18)","v":"Puck besitzen "},null,null,{"$f":"IF($H$2=\"G\",Skillserleuterungen_FTEM!G18,Skillserleuterungen_FTEM!C18)","v":"Puckkontrolle, Dribblings, Puck schützen, Finten (Varianten: mit Schlittschuh, mit sowie ohne Bande), Face-Off"},null,null,{"$f":"IF($H$2=\"G\",Skillserleuterungen_FTEM!#REF!,Skillserleuterungen_FTEM!#REF!)","v":{"$error":"#REF!"}}]
[null,null,null,{"$f":"IF($H$2=\"G\",Skillserleuterungen_FTEM!F19,Skillserleuterungen_FTEM!B19)","v":"Körperspiel"},null,null,{"$f":"IF($H$2=\"G\",Skillserleuterungen_FTEM!G19,Skillserleuterungen_FTEM!C19)","v":"Phyisches Durchsetzungsvermögen, Zweikampf (offenes Eis/Bande), Checks nehmen/Head up, Battle Level, Hart aber fair"},null,null,{"$f":"IF($H$2=\"G\",Skillserleuterungen_FTEM!#REF!,Skillserleuterungen_FTEM!#REF!)","v":{"$error":"#REF!"}}]
[null,null,null,{"$f":"IF($H$2=\"G\",Skillserleuterungen_FTEM!F20,Skillserleuterungen_FTEM!B20)","v":"-"},null,null,{"$f":"IF($H$2=\"G\",Skillserleuterungen_FTEM!G20,Skillserleuterungen_FTEM!C20)","v":"-"},null,null,{"$f":"IF($H$2=\"G\",Skillserleuterungen_FTEM!#REF!,Skillserleuterungen_FTEM!#REF!)","v":{"$error":"#REF!"}}]
[{"$f":"Skillserleuterungen_FTEM!A21","v":"HOCKEY SENSE"},null,null,{"$f":"IF($H$2=\"G\",Skillserleuterungen_FTEM!F21,Skillserleuterungen_FTEM!B21)","v":"Spielintelligenz"},null,null,{"$f":"IF($H$2=\"G\",Skillserleuterungen_FTEM!G21,Skillserleuterungen_FTEM!C21)","v":"Freie Räume und Spielerin sehen und Überzahlsituationen kreieren, lösungsorientiert agieren bei allen Bedingungen, Headspeed"},null,null,{"$f":"IF($H$2=\"G\",Skillserleuterungen_FTEM!#REF!,Skillserleuterungen_FTEM!#REF!)","v":{"$error":"#REF!"}},null,null,null,{"$f":"IFERROR(AVERAGE(O30:O34),\"-\")","v":"-"},null,{"$f":"IFERROR(AVERAGE(Q30:Q34),\"-\")","v":"-"},null,{"$f":"IFERROR(AVERAGE(S30:S34),\"-\")","v":"-"},null,{"$f":"IFERROR(AVERAGE(U30:U34),\"-\")","v":"-"},null,{"$f":"IFERROR(AVERAGE(W30:W34),\"-\")","v":"-"},null,{"$f":"IFERROR(AVERAGE(Y30:Y34),\"-\")","v":"-"}]
[null,null,null,{"$f":"IF($H$2=\"G\",Skillserleuterungen_FTEM!F22,Skillserleuterungen_FTEM!B22)","v":"Offensives Bewusstsein"},null,null,{"$f":"IF($H$2=\"G\",Skillserleuterungen_FTEM!G22,Skillserleuterungen_FTEM!C22)","v":"Anspielbar, Antizipation der Spielsituationen, Freiräume für Mitspielerinnen öffnen, Abschlussorientiert sein, Gapspeed, gute Kommunikation"},null,null,{"$f":"IF($H$2=\"G\",Skillserleuterungen_FTEM!#REF!,Skillserleuterungen_FTEM!#REF!)","v":{"$error":"#REF!"}}]
[null,null,null,{"$f":"IF($H$2=\"G\",Skillserleuterungen_FTEM!F23,Skillserleuterungen_FTEM!B23)","v":"Defensiv Bewusstsein"},null,null,{"$f":"IF($H$2=\"G\",Skillserleuterungen_FTEM!G23,Skillserleuterungen_FTEM!C23)","v":"Inside Position halten, Slot beschützen, Mitspieler absichern/Support, Passlinie erkennen, Schüsse blockieren. Gapspeed, gute Komunikation"},null,null,{"$f":"IF($H$2=\"G\",Skillserleuterungen_FTEM!#REF!,Skillserleuterungen_FTEM!#REF!)","v":{"$error":"#REF!"}}]
[null,null,null,{"$f":"IF($H$2=\"G\",Skillserleuterungen_FTEM!F24,Skillserleuterungen_FTEM!B24)","v":"Puckmanagement"},null,null,{"$f":"IF($H$2=\"G\",Skillserleuterungen_FTEM!G24,Skillserleuterungen_FTEM!C24)","v":"Situationsadäquate Entscheidungen treffen, Support, Overload"},null,null,{"$f":"IF($H$2=\"G\",Skillserleuterungen_FTEM!#REF!,Skillserleuterungen_FTEM!#REF!)","v":{"$error":"#REF!"}}]
[null,null,null,{"$f":"IF($H$2=\"G\",Skillserleuterungen_FTEM!F25,Skillserleuterungen_FTEM!B25)","v":"Kreativität"},null,null,{"$f":"IF($H$2=\"G\",Skillserleuterungen_FTEM!G25,Skillserleuterungen_FTEM!C25)","v":"Überraschende Lösungen, Torriecher"},null,null,{"$f":"IF($H$2=\"G\",Skillserleuterungen_FTEM!#REF!,Skillserleuterungen_FTEM!#REF!)","v":{"$error":"#REF!"}}]
[{"$f":"Skillserleuterungen_FTEM!A26","v":"PERSONALITY"},null,null,{"$f":"Skillserleuterungen_FTEM!B26","v":"FÄHIGKEIT"},null,null,{"$f":"Skillserleuterungen_FTEM!C26","v":"BEOBACHTUNG"},null,null,null,null,null,null,"Datum1",null,"Datum2",null,"Datum3",null,"Datum4",null,"Datum5",null,"Player",null,"ZIEL","MASSNAHME:\nSPEZIFISCH,  MESSBAR, REALISITISCH",null,null,null,null,null,null,"TERMIN","ZIEL-KONTROLLE","Datum"]
[{"$f":"Skillserleuterungen_FTEM!A27","v":"PERSÖNLICHKEIT"},null,null,{"$f":"IF($H$2=\"G\",Skillserleuterungen_FTEM!F27,Skillserleuterungen_FTEM!B27)","v":"Selbstbewusstsein"},null,null,{"$f":"IF($H$2=\"G\",Skillserleuterungen_FTEM!G27,Skillserleuterungen_FTEM!C27)","v":"hat das nötige Selbstvertrauen,\"I can do it\"-Haltung, kann eigene Fähigkeiten einschätzen (kennt eigene Stärken/Schwächen), kann ihre Stärken konstant einsetzen, agiert mutig und nimmt kalkulierte Risiken"},null,null,{"$f":"IF($H$2=\"G\",Skillserleuterungen_FTEM!#REF!,Skillserleuterungen_FTEM!#REF!)","v":{"$error":"#REF!"}},null,null,null,{"$f":"IFERROR(AVERAGE(O36:O40),\"-\")","v":"-"},null,{"$f":"IFERROR(AVERAGE(Q36:Q40),\"-\")","v":"-"},null,{"$f":"IFERROR(AVERAGE(S36:S40),\"-\")","v":"-"},null,{"$f":"IFERROR(AVERAGE(U36:U40),\"-\")","v":"-"},null,{"$f":"IFERROR(AVERAGE(W36:W40),\"-\")","v":"-"},null,{"$f":"IFERROR(AVERAGE(Y36:Y40),\"-\")","v":"-"}]
[null,null,null,{"$f":"IF($H$2=\"G\",Skillserleuterungen_FTEM!F28,Skillserleuterungen_FTEM!B28)","v":"Lernfähigkeit"},null,null,{"$f":"IF($H$2=\"G\",Skillserleuterungen_FTEM!G28,Skillserleuterungen_FTEM!C28)","v":"hat eine gute Auffassungsgabe (nimmt auf und kann umsetzen), reflektiert eigenes Handeln, versucht aus Fehlern zu lernen und kann Massnahmen ableiten"},null,null,{"$f":"IF($H$2=\"G\",Skillserleuterungen_FTEM!#REF!,Skillserleuterungen_FTEM!#REF!)","v":{"$error":"#REF!"}}]
[null,null,null,{"$f":"IF($H$2=\"G\",Skillserleuterungen_FTEM!F29,Skillserleuterungen_FTEM!B29)","v":"Eigenverantwortung"},null,null,{"$f":"IF($H$2=\"G\",Skillserleuterungen_FTEM!G29,Skillserleuterungen_FTEM!C29)","v":"übernimmt Verantwortung für eigene Leistungen und Entwicklung, handelt selbständig, achtet auf Details, zeigt grosses Engagement in allen Bereichen"},null,null,{"$f":"IF($H$2=\"G\",Skillserleuterungen_FTEM!#REF!,Skillserleuterungen_FTEM!#REF!)","v":{"$error":"#REF!"}}]
[null,null,null,{"$f":"IF($H$2=\"G\",Skillserleuterungen_FTEM!F30,Skillserleuterungen_FTEM!B30)","v":"Motivation"},null,null,{"$f":"IF($H$2=\"G\",Skillserleuterungen_FTEM!G30,Skillserleuterungen_FTEM!C30)","v":"Intrinsischer Antrieb, will sich ständig weiterentwickeln und lernen, will die Erste sein und Erfolg haben, gibt nie auf und lässt sich auch durch Misserfolge nicht vom Weg abbringen"},null,null,{"$f":"IF($H$2=\"G\",Skillserleuterungen_FTEM!#REF!,Skillserleuterungen_FTEM!#REF!)","v":{"$error":"#REF!"}}]
[null,null,null,{"$f":"IF($H$2=\"G\",Skillserleuterungen_FTEM!F31,Skillserleuterungen_FTEM!B31)","v":"Performance Lifestyle"},null,null,{"$f":"IF($H$2=\"G\",Skillserleuterungen_FTEM!G31,Skillserleuterungen_FTEM!C31)","v":"managt Alltag und Umfeld nach dem Leistungsprinzip, hartnäckig, beharrlich und zielgerichtet, Fokus auf eigene Leistung, zeigt Biss und kann sich auch gegen Widerstände durchsetzen, Herausforderungen spornen sie an"},null,null,{"$f":"IF($H$2=\"G\",Skillserleuterungen_FTEM!#REF!,Skillserleuterungen_FTEM!#REF!)","v":{"$error":"#REF!"}}]
[{"$f":"Skillserleuterungen_FTEM!A32","v":"MENTALE STÄRKE"},null,null,{"$f":"IF($H$2=\"G\",Skillserleuterungen_FTEM!F32,Skillserleuterungen_FTEM!B32)","v":"Einsatzbereitschaft"},null,null,{"$f":"IF($H$2=\"G\",Skillserleuterungen_FTEM!G32,Skillserleuterungen_FTEM!C32)","v":"zeigt im Spiel und im Training hohe Intensität, gibt immer ihr Maximum und will ihre Limiten pushen, zeigt Leidenschaft, ist um hohe Trainingsqualität bemüht"},null,null,{"$f":"IF($H$2=\"G\",Skillserleuterungen_FTEM!#REF!,Skillserleuterungen_FTEM!#REF!)","v":{"$error":"#REF!"}},null,null,null,{"$f":"IFERROR(AVERAGE(O41:O45),\"-\")","v":"-"},null,{"$f":"IFERROR(AVERAGE(Q41:Q45),\"-\")","v":"-"},null,{"$f":"IFERROR(AVERAGE(S41:S45),\"-\")","v":"-"},null,{"$f":"IFERROR(AVERAGE(U41:U45),\"-\")","v":"-"},null,{"$f":"IFERROR(AVERAGE(W41:W45),\"-\")","v":"-"},null,{"$f":"IFERROR(AVERAGE(Y41:Y45),\"-\")","v":"-"}]
[null,null,null,{"$f":"IF($H$2=\"G\",Skillserleuterungen_FTEM!F33,Skillserleuterungen_FTEM!B33)","v":"Vorbereitung"},null,null,{"$f":"IF($H$2=\"G\",Skillserleuterungen_FTEM!G33,Skillserleuterungen_FTEM!C33)","v":"bewusste und gezielte Vorbereitung, mental wie auch physisch, verfügt über einen effizienten Ablauf zur Erreichung des idealen Leistungszustand (ILZ)"},null,null,{"$f":"IF($H$2=\"G\",Skillserleuterungen_FTEM!#REF!,Skillserleuterungen_FTEM!#REF!)","v":{"$error":"#REF!"}}]
[null,null,null,{"$f":"IF($H$2=\"G\",Skillserleuterungen_FTEM!F34,Skillserleuterungen_FTEM!B34)","v":"Selbstcoaching"},null,null,{"$f":"IF($H$2=\"G\",Skillserleuterungen_FTEM!G34,Skillserleuterungen_FTEM!C34)","v":"verfügt über gute Konzentrationsfähigkeit, kann während Spiel/Training ihren ILZ halten, kann mentale Grundtechniken anwenden, widerstandsfähig gegen negative Gedanken und Einflüsse, ist sich ihrer Körpersprache bewusst und kann diese regulieren"},null,null,{"$f":"IF($H$2=\"G\",Skillserleuterungen_FTEM!#REF!,Skillserleuterungen_FTEM!#REF!)","v":{"$error":"#REF!"}}]
[null,null,null,{"$f":"IF($H$2=\"G\",Skillserleuterungen_FTEM!F35,Skillserleuterungen_FTEM!B35)","v":"Energiemanagement"},null,null,{"$f":"IF($H$2=\"G\",Skillserleuterungen_FTEM!G35,Skillserleuterungen_FTEM!C35)","v":"kann eigene Energie regulieren, bereit zur Regeneration, weiss wann sie \"Vollgas\" geben muss und wann abschalten, On/Off-Schalter"},null,null,{"$f":"IF($H$2=\"G\",Skillserleuterungen_FTEM!#REF!,Skillserleuterungen_FTEM!#REF!)","v":{"$error":"#REF!"}}]
[null,null,null,{"$f":"IF($H$2=\"G\",Skillserleuterungen_FTEM!F36,Skillserleuterungen_FTEM!B36)","v":"Emotionskontrolle"},null,null,{"$f":"IF($H$2=\"G\",Skillserleuterungen_FTEM!G36,Skillserleuterungen_FTEM!C36)","v":"kann eigene Emotionen und Impulse regulieren, behält auch unter Druck die Kontrolle, kann auch in emotional anspruchsvollen oder frustrierenden Situationen angemessen agieren"},null,null,{"$f":"IF($H$2=\"G\",Skillserleuterungen_FTEM!#REF!,Skillserleuterungen_FTEM!#REF!)","v":{"$error":"#REF!"}}]
[{"$f":"Skillserleuterungen_FTEM!A37","v":"PHYSE"},null,null,{"$f":"IF($H$2=\"G\",Skillserleuterungen_FTEM!F37,Skillserleuterungen_FTEM!B37)","v":"Leistungserzeugung"},null,null,{"$f":"IF($H$2=\"G\",Skillserleuterungen_FTEM!G37,Skillserleuterungen_FTEM!C37)","v":"verfügt über die nötige Power/Kraft/Schnelligkeit in den Beinen und im Oberkörper (Neuromuskuläre Faktoren)"},null,null,{"$f":"IF($H$2=\"G\",Skillserleuterungen_FTEM!#REF!,Skillserleuterungen_FTEM!#REF!)","v":{"$error":"#REF!"}},null,null,null,{"$f":"IFERROR(AVERAGE(O46:O50),\"-\")","v":"-"},null,{"$f":"IFERROR(AVERAGE(Q46:Q50),\"-\")","v":"-"},null,{"$f":"IFERROR(AVERAGE(S46:S50),\"-\")","v":"-"},null,{"$f":"IFERROR(AVERAGE(U46:U50),\"-\")","v":"-"},null,{"$f":"IFERROR(AVERAGE(W46:W50),\"-\")","v":"-"},null,{"$f":"IFERROR(AVERAGE(Y46:Y50),\"-\")","v":"-"}]
[null,null,null,{"$f":"IF($H$2=\"G\",Skillserleuterungen_FTEM!F38,Skillserleuterungen_FTEM!B38)","v":"sporartspez. Ermüdungsresistenz"},null,null,{"$f":"IF($H$2=\"G\",Skillserleuterungen_FTEM!G38,Skillserleuterungen_FTEM!C38)","v":"Ist fähig  die Power/Kraft/Schnelligkeit innerhalb des Einsatzes lange aufrechtzuerhalten und kann sich zwischen den Einsätzen jeweils vollkommen erholen (Metabolische und kardiovaskuläre Faktoren)"},null,null,{"$f":"IF($H$2=\"G\",Skillserleuterungen_FTEM!#REF!,Skillserleuterungen_FTEM!#REF!)","v":{"$error":"#REF!"}}]
[null,null,null,{"$f":"IF($H$2=\"G\",Skillserleuterungen_FTEM!F39,Skillserleuterungen_FTEM!B39)","v":"Gesundheit / Prävention"},null,null,{"$f":"IF($H$2=\"G\",Skillserleuterungen_FTEM!G39,Skillserleuterungen_FTEM!C39)","v":"verfügt über die nötige Stabilität (z.B. Beinachsenstabilität) und Beweglichkeit in den zentralen Gelenken"},null,null,{"$f":"IF($H$2=\"G\",Skillserleuterungen_FTEM!#REF!,Skillserleuterungen_FTEM!#REF!)","v":{"$error":"#REF!"}}]
[null,null,null,{"$f":"IF($H$2=\"G\",Skillserleuterungen_FTEM!F40,Skillserleuterungen_FTEM!B40)","v":"Bewegungskompetenzen"},null,null,{"$f":"IF($H$2=\"G\",Skillserleuterungen_FTEM!G40,Skillserleuterungen_FTEM!C40)","v":"beherrscht die grundlegenden Bewegungsfertigkeiten, die eine unerlässliche Zubringerfunktion für die sportspezifischen \"Skills\" darstellt sowie zur nötigen Bewegungseffizienz führt"},null,null,{"$f":"IF($H$2=\"G\",Skillserleuterungen_FTEM!#REF!,Skillserleuterungen_FTEM!#REF!)","v":{"$error":"#REF!"}}]
[null,null,null,{"$f":"IF($H$2=\"G\",Skillserleuterungen_FTEM!F41,Skillserleuterungen_FTEM!B41)","v":"Robustheit"},null,null,{"$f":"IF($H$2=\"G\",Skillserleuterungen_FTEM!G41,Skillserleuterungen_FTEM!C41)","v":"verfügt über die nötige Grundkraft (Körperspannung), um sich in Zweikämpfen durchzusetzen und bei Zusammestössen standzuhalten"},null,null,{"$f":"IF($H$2=\"G\",Skillserleuterungen_FTEM!#REF!,Skillserleuterungen_FTEM!#REF!)","v":{"$error":"#REF!"}}]

{"sheet":"11","index":14,"n_rows":50,"n_cols":36,"rows_kept":50,"cut":false,"hidden":false,"merged":[[13,3,13,5],[14,3,14,5],[15,3,15,5],[13,6,13,11],[14,6,14,11],[15,6,15,11],[21,3,21,5],[21,6,21,11],[26,3,26,5],[26,6,26,11],[0,0,0,24],[0,25,0,26],[0,27,0,32],[0,33,0,35],[29,25,33,25],[29,26,33,32],[29,34,33,34],[35,25,39,25],[35,26,39,32],[35,34,39,34],[1,0,1,1],[1,2,1,5],[1,10,1,24],[2,0,2,1],[2,2,2,5],[2,11,2,24],[6,0,6,1],[6,2,6,35],[7,0,7,1],[7,2,7,35],[8,0,8,1],[8,2,8,35],[3,0,3,1],[3,10,3,24],[4,0,4,1],[4,2,4,5],[4,10,4,24],[10,0,10,24],[10,25,10,35],[40,25,44,25],[40,26,44,32],[40,34,44,34],[12,25,16,25],[12,26,16,32],[12,34,16,34],[18,25,22,25],[18,26,22,32],[18,34,22,34],[23,25,28,25],[23,26,28,32],[23,34,28,34],[17,26,17,32],[11,0,11,2],[11,3,11,5],[11,13,11,14],[11,15,11,16],[11,17,11,18],[11,19,11,20],[11,21,11,22],[11,23,11,24],[11,26,11,32],[11,6,11,11],[12,23,16,23],[16,3,16,5],[16,6,16,11],[17,0,17,2],[17,3,17,5],[17,6,17,11],[17,13,17,14],[17,15,17,16],[17,17,17,18],[17,19,17,20],[17,21,17,22],[17,23,17,24],[12,0,16,2],[12,3,12,5],[12,6,12,11],[12,12,16,12],[12,13,16,13],[12,15,16,15],[12,17,16,17],[12,19,16,19],[12,21,16,21],[18,15,22,15],[18,17,22,17],[18,19,22,19],[18,21,22,21],[18,23,22,23],[22,3,22,5],[22,6,22,11],[23,0,28,2],[23,3,23,5],[23,6,23,11],[23,12,28,12],[23,13,28,13],[23,15,28,15],[23,17,28,17],[18,0,22,2],[18,3,18,5],[18,6,18,11],[18,12,22,12],[18,13,22,13],[19,3,19,5],[19,6,19,11],[20,3,20,5],[20,6,20,11],[23,19,28,19],[23,21,28,21],[23,23,28,23],[24,3,24,5],[24,6,24,11],[28,3,28,5],[28,6,28,11],[33,3,33,5],[33,6,33,11],[29,23,33,23],[29,17,33,17],[29,19,33,19],[29,21,33,21],[30,3,30,5],[30,6,30,11],[31,3,31,5],[31,6,31,11],[27,3,27,5],[27,6,27,11],[32,3,32,5],[32,6,32,11],[29,0,33,2],[29,3,29,5],[29,6,29,11],[29,12,33,12],[29,13,33,13],[29,15,33,15],[34,23,34,24],[34,26,34,32],[35,0,39,2],[35,3,35,5],[35,6,35,11],[35,12,39,12],[35,13,39,13],[35,15,39,15],[39,3,39,5],[39,6,39,11],[35,23,39,23],[34,0,34,2],[34,3,34,5],[34,6,34,11],[34,13,34,14],[34,15,34,16],[34,17,34,18],[34,19,34,20],[36,3,36,5],[36,6,36,11],[37,3,37,5],[37,6,37,11],[40,17,44,17],[40,19,44,19],[40,21,44,21],[41,3,41,5],[41,6,41,11],[44,3,44,5],[44,6,44,11],[38,3,38,5],[38,6,38,11],[43,3,43,5],[43,6,43,11],[45,26,49,32],[45,34,49,34],[25,3,25,5],[25,6,25,11],[42,3,42,5],[42,6,42,11],[45,0,49,2],[45,12,49,12],[45,13,49,13],[45,15,49,15],[45,17,49,17],[45,19,49,19],[45,21,49,21],[45,23,49,23],[45,25,49,25],[45,3,45,5],[45,6,45,11],[46,3,46,5],[46,6,46,11],[40,15,44,15],[34,21,34,22],[35,17,39,17],[35,19,39,19],[35,21,39,21],[47,3,47,5],[47,6,47,11],[49,3,49,5],[49,6,49,11],[40,23,44,23],[40,0,44,2],[40,3,40,5],[40,6,40,11],[40,12,44,12],[40,13,44,13],[48,3,48,5],[48,6,48,11]]}
["Personalien",null,null,null,null,null,null,null,null,null,null,null,null,null,null,null,null,null,null,null,null,null,null,null,null,"Vorausetzungen",null,"Evaluationen",null,null,null,null,null,"Rating"]
["VORNAME",null,{"$f":"IF(ISBLANK(VLOOKUP(11,Tabelle3[],3,0)),\"-\",VLOOKUP(11,Tabelle3[],3,0))","v":"-"},null,null,null,"POSITION",null,null,"ADRESSE",{"$f":"IF(ISBLANK(VLOOKUP(11,Tabelle3[],5,0)),\"-\",VLOOKUP(11,Tabelle3[],5,0))","v":"-"},null,null,null,null,null,null,null,null,null,null,null,null,null,null,"\"Alter\" (Biologisch/Relative Age)",null,"Datum 1",null,null,"cm",null,"Kg",null,"AUSGEZEICHNET",5]
["NAME",null,{"$f":"IF(ISBLANK(VLOOKUP(11,Tabelle3[],2,0)),\"-\",VLOOKUP(11,Tabelle3[],2,0))","v":"-"},null,null,null,"STOCK",null,null,"WOHNORT",{"$f":"IF(ISBLANK(VLOOKUP(11,Tabelle3[],7,0)),\"-\",VLOOKUP(11,Tabelle3[],7,0))","v":"-"},{"$f":"IF(ISBLANK(VLOOKUP(11,Tabelle3[],6,0)),\"-\",VLOOKUP(11,Tabelle3[],6,0))","v":"-"},null,null,null,null,null,null,null,null,null,null,null,null,null,"Veranlagung",null,"Datum 2",null,null,"cm",null,"Kg",null,"GUT",4]
["GEB. DATUM",null,{"$f":"IF(ISBLANK(VLOOKUP(11,Tabelle3[],14,0)),\"-\",VLOOKUP(11,Tabelle3[],14,0))","v":"-"},{"$f":"IF(ISBLANK(VLOOKUP(11,Tabelle3[],15,0)),\"-\",VLOOKUP(11,Tabelle3[],15,0))","v":"-"},{"$f":"IF(ISBLANK(VLOOKUP(11,Tabelle3[],16,0)),\"-\",VLOOKUP(11,Tabelle3[],16,0))","v":"-"},null,"GRÖSSE",null,"cm (Final)","CLUB",{"$f":"IF(ISBLANK(VLOOKUP(11,Tabelle3[],8,0)),\"-\",VLOOKUP(11,Tabelle3[],8,0))","v":"-"},null,null,null,null,null,null,null,null,null,null,null,null,null,null,"Umfeld",null,"Datum 3",null,null,"cm",null,"Kg",null,"DURCHSCHNITT",3]
["SEX",null,{"$f":"IF(ISBLANK(VLOOKUP(11,Tabelle3[],13,0)),\"-\",VLOOKUP(11,Tabelle3[],13,0))","v":"-"},null,null,null,"GEWICHT",null,"Kg (Final)","E-Mail",{"$f":"IF(ISBLANK(VLOOKUP(11,Tabelle3[],9,0)),\"-\",VLOOKUP(11,Tabelle3[],9,0))","v":"-"},null,null,null,null,null,null,null,null,null,null,null,null,null,null,null,null,"Datum 4",null,null,"cm",null,"Kg",null,"MANGELHAFT",2]
[null,null,null,null,null,null,null,null,null,null,null,null,null,null,null,null,null,null,null,null,null,null,null,null,null,null,null,"Datum 5",null,null,"cm",null,"Kg",null,"UNGENÜGEND",1]
["Vision",null,"xxx"]
["Ziele",null,"xxx"]
["Stärken",null,"xxx"]
[]
["EVALUATION (COACH / SPIELERIN)",null,null,null,null,null,null,null,null,null,null,null,null,null,null,null,null,null,null,null,null,null,null,null,null,"SMART"]
[{"$f":"Skillserleuterungen_FTEM!A3","v":"TEAM"},null,null,{"$f":"Skillserleuterungen_FTEM!B3","v":"FÄHIGKEIT"},null,null,{"$f":"Skillserleuterungen_FTEM!C3","v":"BEOBACHTUNG"},null,null,null,null,null,"Final","Datum1",null,"Datum2",null,"Datum3",null,"Datum4",null,"Datum5",null,"Player",null,"ZIEL","MASSNAHME:\nSPEZIFISCH,  MESSBAR, REALISITISCH",null,null,null,null,null,null,"TERMIN","ZIEL-KONTROLLE","Datum"]
[{"$f":"Skillserleuterungen_FTEM!A4","v":"TEAM"},null,null,{"$f":"IF($H$2=\"G\",Skillserleuterungen_FTEM!F4,Skillserleuterungen_FTEM!B4)","v":"Kommunikation"},null,null,{"$f":"IF($H$2=\"G\",Skillserleuterungen_FTEM!G4,Skillserleuterungen_FTEM!C4)","v":"pflegt einen offenen, respektvollen Umgang, Vertrauensbasis als Grundlage, trägt Konflikte aus ohne die Stabilität der Gruppe zu gefährden, kommuniziert mit Mitspielerinnen, Trainern und Funktionären gleichermassen wertschätzend"},null,null,{"$f":"IF($H$2=\"G\",Skillserleuterungen_FTEM!#REF!,Skillserleuterungen_FTEM!#REF!)","v":{"$error":"#REF!"}},null,null,null,{"$f":"IFERROR(AVERAGE(O13:O17),\"-\")","v":"-"},null,{"$f":"IFERROR(AVERAGE(Q13:Q17),\"-\")","v":"-"},null,{"$f":"IFERROR(AVERAGE(S13:S17),\"-\")","v":"-"},null,{"$f":"IFERROR(AVERAGE(U13:U17),\"-\")","v":"-"},null,null,null,{"$f":"IFERROR(AVERAGE(Y13:Y17),\"-\")","v":"-"}]
[null,null,null,{"$f":"IF($H$2=\"G\",Skillserleuterungen_FTEM!F5,Skillserleuterungen_FTEM!B5)","v":"Teamfähigkeit"},null,null,{"$f":"IF($H$2=\"G\",Skillserleuterungen_FTEM!G5,Skillserleuterungen_FTEM!C5)","v":"Integration in die Gruppe, gemeinsame Ziele bestimmen und verfolgen können, WIR vor dem ICH, trägt zu einem guten Team-Spirit und Arbeitsklima bei"},null,null,{"$f":"IF($H$2=\"G\",Skillserleuterungen_FTEM!#REF!,Skillserleuterungen_FTEM!#REF!)","v":{"$error":"#REF!"}}]
[null,null,null,{"$f":"IF($H$2=\"G\",Skillserleuterungen_FTEM!F6,Skillserleuterungen_FTEM!B6)","v":"Leadership"},null,null,{"$f":"IF($H$2=\"G\",Skillserleuterungen_FTEM!G6,Skillserleuterungen_FTEM!C6)","v":"übernimmt Verantwortung in der Gruppe, versucht Team und Mitspielerinnen besser zu machen, nimmt positiven Einfluss auf die Gruppendynamik"},null,null,{"$f":"IF($H$2=\"G\",Skillserleuterungen_FTEM!#REF!,Skillserleuterungen_FTEM!#REF!)","v":{"$error":"#REF!"}}]
[null,null,null,{"$f":"IF($H$2=\"G\",Skillserleuterungen_FTEM!F7,Skillserleuterungen_FTEM!B7)","v":"Rollenverteilung"},null,null,{"$f":"IF($H$2=\"G\",Skillserleuterungen_FTEM!G7,Skillserleuterungen_FTEM!C7)","v":"kennt ihre Rolle und füllt diese aus, ist sich ihrer Stellung im Team und im System bewusst, stellt eigene Kompetenzen in den Dienst des Teams"},null,null,{"$f":"IF($H$2=\"G\",Skillserleuterungen_FTEM!#REF!,Skillserleuterungen_FTEM!#REF!)","v":{"$error":"#REF!"}}]
[null,null,null,{"$f":"IF($H$2=\"G\",Skillserleuterungen_FTEM!F8,Skillserleuterungen_FTEM!B8)","v":"Respekt"},null,null,{"$f":"IF($H$2=\"G\",Skillserleuterungen_FTEM!G8,Skillserleuterungen_FTEM!C8)","v":"Respektvoller Umgang mit Mitspielerinnen, Trainern, Gegnern, Schiedsrichter und Staff; achtet die Regeln, Fairplayprinzipien (inkl. Anti-Doping)"},null,null,{"$f":"IF($H$2=\"G\",Skillserleuterungen_FTEM!#REF!,Skillserleuterungen_FTEM!#REF!)","v":{"$error":"#REF!"}}]
[{"$f":"Skillserleuterungen_FTEM!A9","v":"ON ICE"},null,null,{"$f":"Skillserleuterungen_FTEM!B9","v":"FÄHIGKEIT"},null,null,{"$f":"Skillserleuterungen_FTEM!C9","v":"BEOBACHTUNG"},null,null,null,null,null,null,"Datum1",null,"Datum2",null,"Datum3",null,"Datum4",null,"Datum5",null,"Player",null,"ZIEL","MASSNAHME:\nSPEZIFISCH,  MESSBAR, REALISITISCH",null,null,null,null,null,null,"TERMIN","ZIEL-KONTROLLE","Datum"]
[{"$f":"Skillserleuterungen_FTEM!A10","v":"SKATING"},null,null,{"$f":"IF($H$2=\"G\",Skillserleuterungen_FTEM!F10,Skillserleuterungen_FTEM!B10)","v":"Footspeed"},null,null,{"$f":"IF($H$2=\"G\",Skillserleuterungen_FTEM!G10,Skillserleuterungen_FTEM!C10)","v":"Beschleunigung, Antritt, erste 3 Schritte Explosivität, Frequenz"},null,null,{"$f":"IF($H$2=\"G\",Skillserleuterungen_FTEM!#REF!,Skillserleuterungen_FTEM!#REF!)","v":{"$error":"#REF!"}},null,null,null,{"$f":"IFERROR(AVERAGE(O19:O23),\"-\")","v":"-"},null,{"$f":"IFERROR(AVERAGE(Q19:Q23),\"-\")","v":"-"},null,{"$f":"IFERROR(AVERAGE(S19:S23),\"-\")","v":"-"},null,{"$f":"IFERROR(AVERAGE(U19:U23),\"-\")","v":"-"},null,{"$f":"IFERROR(AVERAGE(W19:W23),\"-\")","v":"-"},null,{"$f":"IFERROR(AVERAGE(Y19:Y23),\"-\")","v":"-"}]
[null,null,null,{"$f":"IF($H$2=\"G\",Skillserleuterungen_FTEM!F11,Skillserleuterungen_FTEM!B11)","v":"Topspeed"},null,null,{"$f":"IF($H$2=\"G\",Skillserleuterungen_FTEM!G11,Skillserleuterungen_FTEM!C11)","v":"Schnelligkeit, Gleitfähigkeit, vorwärts und rückwärts, Ökonomie"},null,null,{"$f":"IF($H$2=\"G\",Skillserleuterungen_FTEM!#REF!,Skillserleuterungen_FTEM!#REF!)","v":{"$error":"#REF!"}}]
[null,null,null,{"$f":"IF($H$2=\"G\",Skillserleuterungen_FTEM!F12,Skillserleuterungen_FTEM!B12)","v":"Agilität"},null,null,{"$f":"IF($H$2=\"G\",Skillserleuterungen_FTEM!G12,Skillserleuterungen_FTEM!C12)","v":"Richtungsänderung, Drehung, Stop und Start, \"Nummelin\""},null,null,{"$f":"IF($H$2=\"G\",Skillserleuterungen_FTEM!#REF!,Skillserleuterungen_FTEM!#REF!)","v":{"$error":"#REF!"}},null,null,null,{"$f":"IFERROR(AVERAGE(O21:O23),\"-\")","v":"-"},null,{"$f":"IFERROR(AVERAGE(Q21:Q23),\"-\")","v":"-"},null,{"$f":"IFERROR(AVERAGE(S21:S23),\"-\")","v":"-"},null,{"$f":"IFERROR(AVERAGE(U21:U23),\"-\")","v":"-"},null,{"$f":"IFERROR(AVERAGE(W21:W23),\"-\")","v":"-"},null,{"$f":"IFERROR(AVERAGE(Y21:Y23),\"-\")","v":"-"}]
[null,null,null,{"$f":"IF($H$2=\"G\",Skillserleuterungen_FTEM!F13,Skillserleuterungen_FTEM!B13)","v":"Balance"},null,null,{"$f":"IF($H$2=\"G\",Skillserleuterungen_FTEM!G13,Skillserleuterungen_FTEM!C13)","v":"Gleichgewicht, Standhaftfähigkeit, tiefe Position, ein- und beidbeinig"},null,null,{"$f":"IF($H$2=\"G\",Skillserleuterungen_FTEM!#REF!,Skillserleuterungen_FTEM!#REF!)","v":{"$error":"#REF!"}}]
[null,null,null,{"$f":"IF($H$2=\"G\",Skillserleuterungen_FTEM!F14,Skillserleuterungen_FTEM!B14)","v":"Backwards Skating"},null,null,{"$f":"IF($H$2=\"G\",Skillserleuterungen_FTEM!G14,Skillserleuterungen_FTEM!C14)","v":"Beschleunigung, Geschwindigkeit, Balance"},null,null,{"$f":"IF($H$2=\"G\",Skillserleuterungen_FTEM!#REF!,Skillserleuterungen_FTEM!#REF!)","v":{"$error":"#REF!"}}]
[{"$f":"Skillserleuterungen_FTEM!A15","v":"SKILLS"},null,null,{"$f":"IF($H$2=\"G\",Skillserleuterungen_FTEM!F15,Skillserleuterungen_FTEM!B15)","v":"Schiessen"},null,null,{"$f":"IF($H$2=\"G\",Skillserleuterungen_FTEM!G15,Skillserleuterungen_FTEM!C15)","v":"Effizienz (no space no time), Variantenreichtum, Überraschungsgrad (Quick Release), Präzision, Härte, (taktische Abschlüsse)"},null,null,{"$f":"IF($H$2=\"G\",Skillserleuterungen_FTEM!#REF!,Skillserleuterungen_FTEM!#REF!)","v":{"$error":"#REF!"}},null,null,null,{"$f":"IFERROR(AVERAGE(O24:O29),\"-\")","v":"-"},null,{"$f":"IFERROR(AVERAGE(Q24:Q29),\"-\")","v":"-"},null,{"$f":"IFERROR(AVERAGE(S24:S29),\"-\")","v":"-"},null,{"$f":"IFERROR(AVERAGE(U24:U29),\"-\")","v":"-"},null,{"$f":"IFERROR(AVERAGE(W24:W29),\"-\")","v":"-"},null,{"$f":"IFERROR(AVERAGE(Y24:Y29),\"-\")","v":"-"}]
[null,null,null,{"$f":"IF($H$2=\"G\",Skillserleuterungen_FTEM!F16,Skillserleuterungen_FTEM!B16)","v":"Passen"},null,null,{"$f":"IF($H$2=\"G\",Skillserleuterungen_FTEM!G16,Skillserleuterungen_FTEM!C16)","v":"Passabgabe (Distanz, Flippass Backhand), Passannahme (Präzision, Timing, Vorhand, Rückhand, Schlittschuh), Puckspeed "},null,null,{"$f":"IF($H$2=\"G\",Skillserleuterungen_FTEM!#REF!,Skillserleuterungen_FTEM!#REF!)","v":{"$error":"#REF!"}}]
[null,null,null,{"$f":"IF($H$2=\"G\",Skillserleuterungen_FTEM!F17,Skillserleuterungen_FTEM!B17)","v":"Stockarbeit"},null,null,{"$f":"IF($H$2=\"G\",Skillserleuterungen_FTEM!G17,Skillserleuterungen_FTEM!C17)","v":"Stock zum Puck, Passlinie unterbinden, ablenken, Stockkontrolle Gegenspielerin"},null,null,{"$f":"IF($H$2=\"G\",Skillserleuterungen_FTEM!#REF!,Skillserleuterungen_FTEM!#REF!)","v":{"$error":"#REF!"}}]
[null,null,null,{"$f":"IF($H$2=\"G\",Skillserleuterungen_FTEM!F18,Skillserleuterungen_FTEM!B18)","v":"Puck besitzen "},null,null,{"$f":"IF($H$2=\"G\",Skillserleuterungen_FTEM!G18,Skillserleuterungen_FTEM!C18)","v":"Puckkontrolle, Dribblings, Puck schützen, Finten (Varianten: mit Schlittschuh, mit sowie ohne Bande), Face-Off"},null,null,{"$f":"IF($H$2=\"G\",Skillserleuterungen_FTEM!#REF!,Skillserleuterungen_FTEM!#REF!)","v":{"$error":"#REF!"}}]
[null,null,null,{"$f":"IF($H$2=\"G\",Skillserleuterungen_FTEM!F19,Skillserleuterungen_FTEM!B19)","v":"Körperspiel"},null,null,{"$f":"IF($H$2=\"G\",Skillserleuterungen_FTEM!G19,Skillserleuterungen_FTEM!C19)","v":"Phyisches Durchsetzungsvermögen, Zweikampf (offenes Eis/Bande), Checks nehmen/Head up, Battle Level, Hart aber fair"},null,null,{"$f":"IF($H$2=\"G\",Skillserleuterungen_FTEM!#REF!,Skillserleuterungen_FTEM!#REF!)","v":{"$error":"#REF!"}}]
[null,null,null,{"$f":"IF($H$2=\"G\",Skillserleuterungen_FTEM!F20,Skillserleuterungen_FTEM!B20)","v":"-"},null,null,{"$f":"IF($H$2=\"G\",Skillserleuterungen_FTEM!G20,Skillserleuterungen_FTEM!C20)","v":"-"},null,null,{"$f":"IF($H$2=\"G\",Skillserleuterungen_FTEM!#REF!,Skillserleuterungen_FTEM!#REF!)","v":{"$error":"#REF!"}}]
[{"$f":"Skillserleuterungen_FTEM!A21","v":"HOCKEY SENSE"},null,null,{"$f":"IF($H$2=\"G\",Skillserleuterungen_FTEM!F21,Skillserleuterungen_FTEM!B21)","v":"Spielintelligenz"},null,null,{"$f":"IF($H$2=\"G\",Skillserleuterungen_FTEM!G21,Skillserleuterungen_FTEM!C21)","v":"Freie Räume und Spielerin sehen und Überzahlsituationen kreieren, lösungsorientiert agieren bei allen Bedingungen, Headspeed"},null,null,{"$f":"IF($H$2=\"G\",Skillserleuterungen_FTEM!#REF!,Skillserleuterungen_FTEM!#REF!)","v":{"$error":"#REF!"}},null,null,null,{"$f":"IFERROR(AVERAGE(O30:O34),\"-\")","v":"-"},null,{"$f":"IFERROR(AVERAGE(Q30:Q34),\"-\")","v":"-"},null,{"$f":"IFERROR(AVERAGE(S30:S34),\"-\")","v":"-"},null,{"$f":"IFERROR(AVERAGE(U30:U34),\"-\")","v":"-"},null,{"$f":"IFERROR(AVERAGE(W30:W34),\"-\")","v":"-"},null,{"$f":"IFERROR(AVERAGE(Y30:Y34),\"-\")","v":"-"}]
[null,null,null,{"$f":"IF($H$2=\"G\",Skillserleuterungen_FTEM!F22,Skillserleuterungen_FTEM!B22)","v":"Offensives Bewusstsein"},null,null,{"$f":"IF($H$2=\"G\",Skillserleuterungen_FTEM!G22,Skillserleuterungen_FTEM!C22)","v":"Anspielbar, Antizipation der Spielsituationen, Freiräume für Mitspielerinnen öffnen, Abschlussorientiert sein, Gapspeed, gute Kommunikation"},null,null,{"$f":"IF($H$2=\"G\",Skillserleuterungen_FTEM!#REF!,Skillserleuterungen_FTEM!#REF!)","v":{"$error":"#REF!"}}]
[null,null,null,{"$f":"IF($H$2=\"G\",Skillserleuterungen_FTEM!F23,Skillserleuterungen_FTEM!B23)","v":"Defensiv Bewusstsein"},null,null,{"$f":"IF($H$2=\"G\",Skillserleuterungen_FTEM!G23,Skillserleuterungen_FTEM!C23)","v":"Inside Position halten, Slot beschützen, Mitspieler absichern/Support, Passlinie erkennen, Schüsse blockieren. Gapspeed, gute Komunikation"},null,null,{"$f":"IF($H$2=\"G\",Skillserleuterungen_FTEM!#REF!,Skillserleuterungen_FTEM!#REF!)","v":{"$error":"#REF!"}}]
[null,null,null,{"$f":"IF($H$2=\"G\",Skillserleuterungen_FTEM!F24,Skillserleuterungen_FTEM!B24)","v":"Puckmanagement"},null,null,{"$f":"IF($H$2=\"G\",Skillserleuterungen_FTEM!G24,Skillserleuterungen_FTEM!C24)","v":"Situationsadäquate Entscheidungen treffen, Support, Overload"},null,null,{"$f":"IF($H$2=\"G\",Skillserleuterungen_FTEM!#REF!,Skillserleuterungen_FTEM!#REF!)","v":{"$error":"#REF!"}}]
[null,null,null,{"$f":"IF($H$2=\"G\",Skillserleuterungen_FTEM!F25,Skillserleuterungen_FTEM!B25)","v":"Kreativität"},null,null,{"$f":"IF($H$2=\"G\",Skillserleuterungen_FTEM!G25,Skillserleuterungen_FTEM!C25)","v":"Überraschende Lösungen, Torriecher"},null,null,{"$f":"IF($H$2=\"G\",Skillserleuterungen_FTEM!#REF!,Skillserleuterungen_FTEM!#REF!)","v":{"$error":"#REF!"}}]
[{"$f":"Skillserleuterungen_FTEM!A26","v":"PERSONALITY"},null,null,{"$f":"Skillserleuterungen_FTEM!B26","v":"FÄHIGKEIT"},null,null,{"$f":"Skillserleuterungen_FTEM!C26","v":"BEOBACHTUNG"},null,null,null,null,null,null,"Datum1",null,"Datum2",null,"Datum3",null,"Datum4",null,"Datum5",null,"Player",null,"ZIEL","MASSNAHME:\nSPEZIFISCH,  MESSBAR, REALISITISCH",null,null,null,null,null,null,"TERMIN","ZIEL-KONTROLLE","Datum"]
[{"$f":"Skillserleuterungen_FTEM!A27","v":"PERSÖNLICHKEIT"},null,null,{"$f":"IF($H$2=\"G\",Skillserleuterungen_FTEM!F27,Skillserleuterungen_FTEM!B27)","v":"Selbstbewusstsein"},null,null,{"$f":"IF($H$2=\"G\",Skillserleuterungen_FTEM!G27,Skillserleuterungen_FTEM!C27)","v":"hat das nötige Selbstvertrauen,\"I can do it\"-Haltung, kann eigene Fähigkeiten einschätzen (kennt eigene Stärken/Schwächen), kann ihre Stärken konstant einsetzen, agiert mutig und nimmt kalkulierte Risiken"},null,null,{"$f":"IF($H$2=\"G\",Skillserleuterungen_FTEM!#REF!,Skillserleuterungen_FTEM!#REF!)","v":{"$error":"#REF!"}},null,null,null,{"$f":"IFERROR(AVERAGE(O36:O40),\"-\")","v":"-"},null,{"$f":"IFERROR(AVERAGE(Q36:Q40),\"-\")","v":"-"},null,{"$f":"IFERROR(AVERAGE(S36:S40),\"-\")","v":"-"},null,{"$f":"IFERROR(AVERAGE(U36:U40),\"-\")","v":"-"},null,{"$f":"IFERROR(AVERAGE(W36:W40),\"-\")","v":"-"},null,{"$f":"IFERROR(AVERAGE(Y36:Y40),\"-\")","v":"-"}]
[null,null,null,{"$f":"IF($H$2=\"G\",Skillserleuterungen_FTEM!F28,Skillserleuterungen_FTEM!B28)","v":"Lernfähigkeit"},null,null,{"$f":"IF($H$2=\"G\",Skillserleuterungen_FTEM!G28,Skillserleuterungen_FTEM!C28)","v":"hat eine gute Auffassungsgabe (nimmt auf und kann umsetzen), reflektiert eigenes Handeln, versucht aus Fehlern zu lernen und kann Massnahmen ableiten"},null,null,{"$f":"IF($H$2=\"G\",Skillserleuterungen_FTEM!#REF!,Skillserleuterungen_FTEM!#REF!)","v":{"$error":"#REF!"}}]
[null,null,null,{"$f":"IF($H$2=\"G\",Skillserleuterungen_FTEM!F29,Skillserleuterungen_FTEM!B29)","v":"Eigenverantwortung"},null,null,{"$f":"IF($H$2=\"G\",Skillserleuterungen_FTEM!G29,Skillserleuterungen_FTEM!C29)","v":"übernimmt Verantwortung für eigene Leistungen und Entwicklung, handelt selbständig, achtet auf Details, zeigt grosses Engagement in allen Bereichen"},null,null,{"$f":"IF($H$2=\"G\",Skillserleuterungen_FTEM!#REF!,Skillserleuterungen_FTEM!#REF!)","v":{"$error":"#REF!"}}]
[null,null,null,{"$f":"IF($H$2=\"G\",Skillserleuterungen_FTEM!F30,Skillserleuterungen_FTEM!B30)","v":"Motivation"},null,null,{"$f":"IF($H$2=\"G\",Skillserleuterungen_FTEM!G30,Skillserleuterungen_FTEM!C30)","v":"Intrinsischer Antrieb, will sich ständig weiterentwickeln und lernen, will die Erste sein und Erfolg haben, gibt nie auf und lässt sich auch durch Misserfolge nicht vom Weg abbringen"},null,null,{"$f":"IF($H$2=\"G\",Skillserleuterungen_FTEM!#REF!,Skillserleuterungen_FTEM!#REF!)","v":{"$error":"#REF!"}}]
[null,null,null,{"$f":"IF($H$2=\"G\",Skillserleuterungen_FTEM!F31,Skillserleuterungen_FTEM!B31)","v":"Performance Lifestyle"},null,null,{"$f":"IF($H$2=\"G\",Skillserleuterungen_FTEM!G31,Skillserleuterungen_FTEM!C31)","v":"managt Alltag und Umfeld nach dem Leistungsprinzip, hartnäckig, beharrlich und zielgerichtet, Fokus auf eigene Leistung, zeigt Biss und kann sich auch gegen Widerstände durchsetzen, Herausforderungen spornen sie an"},null,null,{"$f":"IF($H$2=\"G\",Skillserleuterungen_FTEM!#REF!,Skillserleuterungen_FTEM!#REF!)","v":{"$error":"#REF!"}}]
[{"$f":"Skillserleuterungen_FTEM!A32","v":"MENTALE STÄRKE"},null,null,{"$f":"IF($H$2=\"G\",Skillserleuterungen_FTEM!F32,Skillserleuterungen_FTEM!B32)","v":"Einsatzbereitschaft"},null,null,{"$f":"IF($H$2=\"G\",Skillserleuterungen_FTEM!G32,Skillserleuterungen_FTEM!C32)","v":"zeigt im Spiel und im Training hohe Intensität, gibt immer ihr Maximum und will ihre Limiten pushen, zeigt Leidenschaft, ist um hohe Trainingsqualität bemüht"},null,null,{"$f":"IF($H$2=\"G\",Skillserleuterungen_FTEM!#REF!,Skillserleuterungen_FTEM!#REF!)","v":{"$error":"#REF!"}},null,null,null,{"$f":"IFERROR(AVERAGE(O41:O45),\"-\")","v":"-"},null,{"$f":"IFERROR(AVERAGE(Q41:Q45),\"-\")","v":"-"},null,{"$f":"IFERROR(AVERAGE(S41:S45),\"-\")","v":"-"},null,{"$f":"IFERROR(AVERAGE(U41:U45),\"-\")","v":"-"},null,{"$f":"IFERROR(AVERAGE(W41:W45),\"-\")","v":"-"},null,{"$f":"IFERROR(AVERAGE(Y41:Y45),\"-\")","v":"-"}]
[null,null,null,{"$f":"IF($H$2=\"G\",Skillserleuterungen_FTEM!F33,Skillserleuterungen_FTEM!B33)","v":"Vorbereitung"},null,null,{"$f":"IF($H$2=\"G\",Skillserleuterungen_FTEM!G33,Skillserleuterungen_FTEM!C33)","v":"bewusste und gezielte Vorbereitung, mental wie auch physisch, verfügt über einen effizienten Ablauf zur Erreichung des idealen Leistungszustand (ILZ)"},null,null,{"$f":"IF($H$2=\"G\",Skillserleuterungen_FTEM!#REF!,Skillserleuterungen_FTEM!#REF!)","v":{"$error":"#REF!"}}]
[null,null,null,{"$f":"IF($H$2=\"G\",Skillserleuterungen_FTEM!F34,Skillserleuterungen_FTEM!B34)","v":"Selbstcoaching"},null,null,{"$f":"IF($H$2=\"G\",Skillserleuterungen_FTEM!G34,Skillserleuterungen_FTEM!C34)","v":"verfügt über gute Konzentrationsfähigkeit, kann während Spiel/Training ihren ILZ halten, kann mentale Grundtechniken anwenden, widerstandsfähig gegen negative Gedanken und Einflüsse, ist sich ihrer Körpersprache bewusst und kann diese regulieren"},null,null,{"$f":"IF($H$2=\"G\",Skillserleuterungen_FTEM!#REF!,Skillserleuterungen_FTEM!#REF!)","v":{"$error":"#REF!"}}]
[null,null,null,{"$f":"IF($H$2=\"G\",Skillserleuterungen_FTEM!F35,Skillserleuterungen_FTEM!B35)","v":"Energiemanagement"},null,null,{"$f":"IF($H$2=\"G\",Skillserleuterungen_FTEM!G35,Skillserleuterungen_FTEM!C35)","v":"kann eigene Energie regulieren, bereit zur Regeneration, weiss wann sie \"Vollgas\" geben muss und wann abschalten, On/Off-Schalter"},null,null,{"$f":"IF($H$2=\"G\",Skillserleuterungen_FTEM!#REF!,Skillserleuterungen_FTEM!#REF!)","v":{"$error":"#REF!"}}]
[null,null,null,{"$f":"IF($H$2=\"G\",Skillserleuterungen_FTEM!F36,Skillserleuterungen_FTEM!B36)","v":"Emotionskontrolle"},null,null,{"$f":"IF($H$2=\"G\",Skillserleuterungen_FTEM!G36,Skillserleuterungen_FTEM!C36)","v":"kann eigene Emotionen und Impulse regulieren, behält auch unter Druck die Kontrolle, kann auch in emotional anspruchsvollen oder frustrierenden Situationen angemessen agieren"},null,null,{"$f":"IF($H$2=\"G\",Skillserleuterungen_FTEM!#REF!,Skillserleuterungen_FTEM!#REF!)","v":{"$error":"#REF!"}}]
[{"$f":"Skillserleuterungen_FTEM!A37","v":"PHYSE"},null,null,{"$f":"IF($H$2=\"G\",Skillserleuterungen_FTEM!F37,Skillserleuterungen_FTEM!B37)","v":"Leistungserzeugung"},null,null,{"$f":"IF($H$2=\"G\",Skillserleuterungen_FTEM!G37,Skillserleuterungen_FTEM!C37)","v":"verfügt über die nötige Power/Kraft/Schnelligkeit in den Beinen und im Oberkörper (Neuromuskuläre Faktoren)"},null,null,{"$f":"IF($H$2=\"G\",Skillserleuterungen_FTEM!#REF!,Skillserleuterungen_FTEM!#REF!)","v":{"$error":"#REF!"}},null,null,null,{"$f":"IFERROR(AVERAGE(O46:O50),\"-\")","v":"-"},null,{"$f":"IFERROR(AVERAGE(Q46:Q50),\"-\")","v":"-"},null,{"$f":"IFERROR(AVERAGE(S46:S50),\"-\")","v":"-"},null,{"$f":"IFERROR(AVERAGE(U46:U50),\"-\")","v":"-"},null,{"$f":"IFERROR(AVERAGE(W46:W50),\"-\")","v":"-"},null,{"$f":"IFERROR(AVERAGE(Y46:Y50),\"-\")","v":"-"}]
[null,null,null,{"$f":"IF($H$2=\"G\",Skillserleuterungen_FTEM!F38,Skillserleuterungen_FTEM!B38)","v":"sporartspez. Ermüdungsresistenz"},null,null,{"$f":"IF($H$2=\"G\",Skillserleuterungen_FTEM!G38,Skillserleuterungen_FTEM!C38)","v":"Ist fähig  die Power/Kraft/Schnelligkeit innerhalb des Einsatzes lange aufrechtzuerhalten und kann sich zwischen den Einsätzen jeweils vollkommen erholen (Metabolische und kardiovaskuläre Faktoren)"},null,null,{"$f":"IF($H$2=\"G\",Skillserleuterungen_FTEM!#REF!,Skillserleuterungen_FTEM!#REF!)","v":{"$error":"#REF!"}}]
[null,null,null,{"$f":"IF($H$2=\"G\",Skillserleuterungen_FTEM!F39,Skillserleuterungen_FTEM!B39)","v":"Gesundheit / Prävention"},null,null,{"$f":"IF($H$2=\"G\",Skillserleuterungen_FTEM!G39,Skillserleuterungen_FTEM!C39)","v":"verfügt über die nötige Stabilität (z.B. Beinachsenstabilität) und Beweglichkeit in den zentralen Gelenken"},null,null,{"$f":"IF($H$2=\"G\",Skillserleuterungen_FTEM!#REF!,Skillserleuterungen_FTEM!#REF!)","v":{"$error":"#REF!"}}]
[null,null,null,{"$f":"IF($H$2=\"G\",Skillserleuterungen_FTEM!F40,Skillserleuterungen_FTEM!B40)","v":"Bewegungskompetenzen"},null,null,{"$f":"IF($H$2=\"G\",Skillserleuterungen_FTEM!G40,Skillserleuterungen_FTEM!C40)","v":"beherrscht die grundlegenden Bewegungsfertigkeiten, die eine unerlässliche Zubringerfunktion für die sportspezifischen \"Skills\" darstellt sowie zur nötigen Bewegungseffizienz führt"},null,null,{"$f":"IF($H$2=\"G\",Skillserleuterungen_FTEM!#REF!,Skillserleuterungen_FTEM!#REF!)","v":{"$error":"#REF!"}}]
[null,null,null,{"$f":"IF($H$2=\"G\",Skillserleuterungen_FTEM!F41,Skillserleuterungen_FTEM!B41)","v":"Robustheit"},null,null,{"$f":"IF($H$2=\"G\",Skillserleuterungen_FTEM!G41,Skillserleuterungen_FTEM!C41)","v":"verfügt über die nötige Grundkraft (Körperspannung), um sich in Zweikämpfen durchzusetzen und bei Zusammestössen standzuhalten"},null,null,{"$f":"IF($H$2=\"G\",Skillserleuterungen_FTEM!#REF!,Skillserleuterungen_FTEM!#REF!)","v":{"$error":"#REF!"}}]

{"sheet":"12","index":15,"n_rows":50,"n_cols":36,"rows_kept":50,"cut":false,"hidden":false,"merged":[[13,3,13,5],[14,3,14,5],[15,3,15,5],[13,6,13,11],[14,6,14,11],[15,6,15,11],[21,3,21,5],[21,6,21,11],[26,3,26,5],[26,6,26,11],[0,0,0,24],[0,25,0,26],[0,27,0,32],[0,33,0,35],[29,25,33,25],[29,26,33,32],[29,34,33,34],[35,25,39,25],[35,26,39,32],[35,34,39,34],[1,0,1,1],[1,2,1,5],[1,10,1,24],[2,0,2,1],[2,2,2,5],[2,11,2,24],[6,0,6,1],[6,2,6,35],[7,0,7,1],[7,2,7,35],[8,0,8,1],[8,2,8,35],[3,0,3,1],[3,10,3,24],[4,0,4,1],[4,2,4,5],[4,10,4,24],[10,0,10,24],[10,25,10,35],[40,25,44,25],[40,26,44,32],[40,34,44,34],[12,25,16,25],[12,26,16,32],[12,34,16,34],[18,25,22,25],[18,26,22,32],[18,34,22,34],[23,25,28,25],[23,26,28,32],[23,34,28,34],[17,26,17,32],[11,0,11,2],[11,3,11,5],[11,13,11,14],[11,15,11,16],[11,17,11,18],[11,19,11,20],[11,21,11,22],[11,23,11,24],[11,26,11,32],[11,6,11,11],[12,23,16,23],[16,3,16,5],[16,6,16,11],[17,0,17,2],[17,3,17,5],[17,6,17,11],[17,13,17,14],[17,15,17,16],[17,17,17,18],[17,19,17,20],[17,21,17,22],[17,23,17,24],[12,0,16,2],[12,3,12,5],[12,6,12,11],[12,12,16,12],[12,13,16,13],[12,15,16,15],[12,17,16,17],[12,19,16,19],[12,21,16,21],[18,15,22,15],[18,17,22,17],[18,19,22,19],[18,21,22,21],[18,23,22,23],[22,3,22,5],[22,6,22,11],[23,0,28,2],[23,3,23,5],[23,6,23,11],[23,12,28,12],[23,13,28,13],[23,15,28,15],[23,17,28,17],[18,0,22,2],[18,3,18,5],[18,6,18,11],[18,12,22,12],[18,13,22,13],[19,3,19,5],[19,6,19,11],[20,3,20,5],[20,6,20,11],[23,19,28,19],[23,21,28,21],[23,23,28,23],[24,3,24,5],[24,6,24,11],[28,3,28,5],[28,6,28,11],[33,3,33,5],[33,6,33,11],[29,23,33,23],[29,17,33,17],[29,19,33,19],[29,21,33,21],[30,3,30,5],[30,6,30,11],[31,3,31,5],[31,6,31,11],[27,3,27,5],[27,6,27,11],[32,3,32,5],[32,6,32,11],[29,0,33,2],[29,3,29,5],[29,6,29,11],[29,12,33,12],[29,13,33,13],[29,15,33,15],[34,23,34,24],[34,26,34,32],[35,0,39,2],[35,3,35,5],[35,6,35,11],[35,12,39,12],[35,13,39,13],[35,15,39,15],[39,3,39,5],[39,6,39,11],[35,23,39,23],[34,0,34,2],[34,3,34,5],[34,6,34,11],[34,13,34,14],[34,15,34,16],[34,17,34,18],[34,19,34,20],[36,3,36,5],[36,6,36,11],[37,3,37,5],[37,6,37,11],[40,17,44,17],[40,19,44,19],[40,21,44,21],[41,3,41,5],[41,6,41,11],[44,3,44,5],[44,6,44,11],[38,3,38,5],[38,6,38,11],[43,3,43,5],[43,6,43,11],[45,26,49,32],[45,34,49,34],[25,3,25,5],[25,6,25,11],[42,3,42,5],[42,6,42,11],[45,0,49,2],[45,12,49,12],[45,13,49,13],[45,15,49,15],[45,17,49,17],[45,19,49,19],[45,21,49,21],[45,23,49,23],[45,25,49,25],[45,3,45,5],[45,6,45,11],[46,3,46,5],[46,6,46,11],[40,15,44,15],[34,21,34,22],[35,17,39,17],[35,19,39,19],[35,21,39,21],[47,3,47,5],[47,6,47,11],[49,3,49,5],[49,6,49,11],[40,23,44,23],[40,0,44,2],[40,3,40,5],[40,6,40,11],[40,12,44,12],[40,13,44,13],[48,3,48,5],[48,6,48,11]]}
["Personalien",null,null,null,null,null,null,null,null,null,null,null,null,null,null,null,null,null,null,null,null,null,null,null,null,"Vorausetzungen",null,"Evaluationen",null,null,null,null,null,"Rating"]
["VORNAME",null,{"$f":"IF(ISBLANK(VLOOKUP(12,Tabelle3[],3,0)),\"-\",VLOOKUP(12,Tabelle3[],3,0))","v":"-"},null,null,null,"POSITION",null,null,"ADRESSE",{"$f":"IF(ISBLANK(VLOOKUP(12,Tabelle3[],5,0)),\"-\",VLOOKUP(12,Tabelle3[],5,0))","v":"-"},null,null,null,null,null,null,null,null,null,null,null,null,null,null,"\"Alter\" (Biologisch/Relative Age)",null,"Datum 1",null,null,"cm",null,"Kg",null,"AUSGEZEICHNET",5]
["NAME",null,{"$f":"IF(ISBLANK(VLOOKUP(12,Tabelle3[],2,0)),\"-\",VLOOKUP(12,Tabelle3[],2,0))","v":"-"},null,null,null,"STOCK",null,null,"WOHNORT",{"$f":"IF(ISBLANK(VLOOKUP(12,Tabelle3[],7,0)),\"-\",VLOOKUP(12,Tabelle3[],7,0))","v":"-"},{"$f":"IF(ISBLANK(VLOOKUP(12,Tabelle3[],6,0)),\"-\",VLOOKUP(12,Tabelle3[],6,0))","v":"-"},null,null,null,null,null,null,null,null,null,null,null,null,null,"Veranlagung",null,"Datum 2",null,null,"cm",null,"Kg",null,"GUT",4]
["GEB. DATUM",null,{"$f":"IF(ISBLANK(VLOOKUP(12,Tabelle3[],14,0)),\"-\",VLOOKUP(12,Tabelle3[],14,0))","v":"-"},{"$f":"IF(ISBLANK(VLOOKUP(12,Tabelle3[],15,0)),\"-\",VLOOKUP(12,Tabelle3[],15,0))","v":"-"},{"$f":"IF(ISBLANK(VLOOKUP(12,Tabelle3[],16,0)),\"-\",VLOOKUP(12,Tabelle3[],16,0))","v":"-"},null,"GRÖSSE",null,"cm (Final)","CLUB",{"$f":"IF(ISBLANK(VLOOKUP(12,Tabelle3[],8,0)),\"-\",VLOOKUP(12,Tabelle3[],8,0))","v":"-"},null,null,null,null,null,null,null,null,null,null,null,null,null,null,"Umfeld",null,"Datum 3",null,null,"cm",null,"Kg",null,"DURCHSCHNITT",3]
["SEX",null,{"$f":"IF(ISBLANK(VLOOKUP(12,Tabelle3[],13,0)),\"-\",VLOOKUP(12,Tabelle3[],13,0))","v":"-"},null,null,null,"GEWICHT",null,"Kg (Final)","E-Mail",{"$f":"IF(ISBLANK(VLOOKUP(12,Tabelle3[],9,0)),\"-\",VLOOKUP(12,Tabelle3[],9,0))","v":"-"},null,null,null,null,null,null,null,null,null,null,null,null,null,null,null,null,"Datum 4",null,null,"cm",null,"Kg",null,"MANGELHAFT",2]
[null,null,null,null,null,null,null,null,null,null,null,null,null,null,null,null,null,null,null,null,null,null,null,null,null,null,null,"Datum 5",null,null,"cm",null,"Kg",null,"UNGENÜGEND",1]
["Vision",null,"xxx"]
["Ziele",null,"xxx"]
["Stärken",null,"xxx"]
[]
["EVALUATION (COACH / SPIELERIN)",null,null,null,null,null,null,null,null,null,null,null,null,null,null,null,null,null,null,null,null,null,null,null,null,"SMART"]
[{"$f":"Skillserleuterungen_FTEM!A3","v":"TEAM"},null,null,{"$f":"Skillserleuterungen_FTEM!B3","v":"FÄHIGKEIT"},null,null,{"$f":"Skillserleuterungen_FTEM!C3","v":"BEOBACHTUNG"},null,null,null,null,null,"Final","Datum1",null,"Datum2",null,"Datum3",null,"Datum4",null,"Datum5",null,"Player",null,"ZIEL","MASSNAHME:\nSPEZIFISCH,  MESSBAR, REALISITISCH",null,null,null,null,null,null,"TERMIN","ZIEL-KONTROLLE","Datum"]
[{"$f":"Skillserleuterungen_FTEM!A4","v":"TEAM"},null,null,{"$f":"IF($H$2=\"G\",Skillserleuterungen_FTEM!F4,Skillserleuterungen_FTEM!B4)","v":"Kommunikation"},null,null,{"$f":"IF($H$2=\"G\",Skillserleuterungen_FTEM!G4,Skillserleuterungen_FTEM!C4)","v":"pflegt einen offenen, respektvollen Umgang, Vertrauensbasis als Grundlage, trägt Konflikte aus ohne die Stabilität der Gruppe zu gefährden, kommuniziert mit Mitspielerinnen, Trainern und Funktionären gleichermassen wertschätzend"},null,null,{"$f":"IF($H$2=\"G\",Skillserleuterungen_FTEM!#REF!,Skillserleuterungen_FTEM!#REF!)","v":{"$error":"#REF!"}},null,null,null,{"$f":"IFERROR(AVERAGE(O13:O17),\"-\")","v":"-"},null,{"$f":"IFERROR(AVERAGE(Q13:Q17),\"-\")","v":"-"},null,{"$f":"IFERROR(AVERAGE(S13:S17),\"-\")","v":"-"},null,{"$f":"IFERROR(AVERAGE(U13:U17),\"-\")","v":"-"},null,null,null,{"$f":"IFERROR(AVERAGE(Y13:Y17),\"-\")","v":"-"}]
[null,null,null,{"$f":"IF($H$2=\"G\",Skillserleuterungen_FTEM!F5,Skillserleuterungen_FTEM!B5)","v":"Teamfähigkeit"},null,null,{"$f":"IF($H$2=\"G\",Skillserleuterungen_FTEM!G5,Skillserleuterungen_FTEM!C5)","v":"Integration in die Gruppe, gemeinsame Ziele bestimmen und verfolgen können, WIR vor dem ICH, trägt zu einem guten Team-Spirit und Arbeitsklima bei"},null,null,{"$f":"IF($H$2=\"G\",Skillserleuterungen_FTEM!#REF!,Skillserleuterungen_FTEM!#REF!)","v":{"$error":"#REF!"}}]
[null,null,null,{"$f":"IF($H$2=\"G\",Skillserleuterungen_FTEM!F6,Skillserleuterungen_FTEM!B6)","v":"Leadership"},null,null,{"$f":"IF($H$2=\"G\",Skillserleuterungen_FTEM!G6,Skillserleuterungen_FTEM!C6)","v":"übernimmt Verantwortung in der Gruppe, versucht Team und Mitspielerinnen besser zu machen, nimmt positiven Einfluss auf die Gruppendynamik"},null,null,{"$f":"IF($H$2=\"G\",Skillserleuterungen_FTEM!#REF!,Skillserleuterungen_FTEM!#REF!)","v":{"$error":"#REF!"}}]
[null,null,null,{"$f":"IF($H$2=\"G\",Skillserleuterungen_FTEM!F7,Skillserleuterungen_FTEM!B7)","v":"Rollenverteilung"},null,null,{"$f":"IF($H$2=\"G\",Skillserleuterungen_FTEM!G7,Skillserleuterungen_FTEM!C7)","v":"kennt ihre Rolle und füllt diese aus, ist sich ihrer Stellung im Team und im System bewusst, stellt eigene Kompetenzen in den Dienst des Teams"},null,null,{"$f":"IF($H$2=\"G\",Skillserleuterungen_FTEM!#REF!,Skillserleuterungen_FTEM!#REF!)","v":{"$error":"#REF!"}}]
[null,null,null,{"$f":"IF($H$2=\"G\",Skillserleuterungen_FTEM!F8,Skillserleuterungen_FTEM!B8)","v":"Respekt"},null,null,{"$f":"IF($H$2=\"G\",Skillserleuterungen_FTEM!G8,Skillserleuterungen_FTEM!C8)","v":"Respektvoller Umgang mit Mitspielerinnen, Trainern, Gegnern, Schiedsrichter und Staff; achtet die Regeln, Fairplayprinzipien (inkl. Anti-Doping)"},null,null,{"$f":"IF($H$2=\"G\",Skillserleuterungen_FTEM!#REF!,Skillserleuterungen_FTEM!#REF!)","v":{"$error":"#REF!"}}]
[{"$f":"Skillserleuterungen_FTEM!A9","v":"ON ICE"},null,null,{"$f":"Skillserleuterungen_FTEM!B9","v":"FÄHIGKEIT"},null,null,{"$f":"Skillserleuterungen_FTEM!C9","v":"BEOBACHTUNG"},null,null,null,null,null,null,"Datum1",null,"Datum2",null,"Datum3",null,"Datum4",null,"Datum5",null,"Player",null,"ZIEL","MASSNAHME:\nSPEZIFISCH,  MESSBAR, REALISITISCH",null,null,null,null,null,null,"TERMIN","ZIEL-KONTROLLE","Datum"]
[{"$f":"Skillserleuterungen_FTEM!A10","v":"SKATING"},null,null,{"$f":"IF($H$2=\"G\",Skillserleuterungen_FTEM!F10,Skillserleuterungen_FTEM!B10)","v":"Footspeed"},null,null,{"$f":"IF($H$2=\"G\",Skillserleuterungen_FTEM!G10,Skillserleuterungen_FTEM!C10)","v":"Beschleunigung, Antritt, erste 3 Schritte Explosivität, Frequenz"},null,null,{"$f":"IF($H$2=\"G\",Skillserleuterungen_FTEM!#REF!,Skillserleuterungen_FTEM!#REF!)","v":{"$error":"#REF!"}},null,null,null,{"$f":"IFERROR(AVERAGE(O19:O23),\"-\")","v":"-"},null,{"$f":"IFERROR(AVERAGE(Q19:Q23),\"-\")","v":"-"},null,{"$f":"IFERROR(AVERAGE(S19:S23),\"-\")","v":"-"},null,{"$f":"IFERROR(AVERAGE(U19:U23),\"-\")","v":"-"},null,{"$f":"IFERROR(AVERAGE(W19:W23),\"-\")","v":"-"},null,{"$f":"IFERROR(AVERAGE(Y19:Y23),\"-\")","v":"-"}]
[null,null,null,{"$f":"IF($H$2=\"G\",Skillserleuterungen_FTEM!F11,Skillserleuterungen_FTEM!B11)","v":"Topspeed"},null,null,{"$f":"IF($H$2=\"G\",Skillserleuterungen_FTEM!G11,Skillserleuterungen_FTEM!C11)","v":"Schnelligkeit, Gleitfähigkeit, vorwärts und rückwärts, Ökonomie"},null,null,{"$f":"IF($H$2=\"G\",Skillserleuterungen_FTEM!#REF!,Skillserleuterungen_FTEM!#REF!)","v":{"$error":"#REF!"}}]
[null,null,null,{"$f":"IF($H$2=\"G\",Skillserleuterungen_FTEM!F12,Skillserleuterungen_FTEM!B12)","v":"Agilität"},null,null,{"$f":"IF($H$2=\"G\",Skillserleuterungen_FTEM!G12,Skillserleuterungen_FTEM!C12)","v":"Richtungsänderung, Drehung, Stop und Start, \"Nummelin\""},null,null,{"$f":"IF($H$2=\"G\",Skillserleuterungen_FTEM!#REF!,Skillserleuterungen_FTEM!#REF!)","v":{"$error":"#REF!"}},null,null,null,{"$f":"IFERROR(AVERAGE(O21:O23),\"-\")","v":"-"},null,{"$f":"IFERROR(AVERAGE(Q21:Q23),\"-\")","v":"-"},null,{"$f":"IFERROR(AVERAGE(S21:S23),\"-\")","v":"-"},null,{"$f":"IFERROR(AVERAGE(U21:U23),\"-\")","v":"-"},null,{"$f":"IFERROR(AVERAGE(W21:W23),\"-\")","v":"-"},null,{"$f":"IFERROR(AVERAGE(Y21:Y23),\"-\")","v":"-"}]
[null,null,null,{"$f":"IF($H$2=\"G\",Skillserleuterungen_FTEM!F13,Skillserleuterungen_FTEM!B13)","v":"Balance"},null,null,{"$f":"IF($H$2=\"G\",Skillserleuterungen_FTEM!G13,Skillserleuterungen_FTEM!C13)","v":"Gleichgewicht, Standhaftfähigkeit, tiefe Position, ein- und beidbeinig"},null,null,{"$f":"IF($H$2=\"G\",Skillserleuterungen_FTEM!#REF!,Skillserleuterungen_FTEM!#REF!)","v":{"$error":"#REF!"}}]
[null,null,null,{"$f":"IF($H$2=\"G\",Skillserleuterungen_FTEM!F14,Skillserleuterungen_FTEM!B14)","v":"Backwards Skating"},null,null,{"$f":"IF($H$2=\"G\",Skillserleuterungen_FTEM!G14,Skillserleuterungen_FTEM!C14)","v":"Beschleunigung, Geschwindigkeit, Balance"},null,null,{"$f":"IF($H$2=\"G\",Skillserleuterungen_FTEM!#REF!,Skillserleuterungen_FTEM!#REF!)","v":{"$error":"#REF!"}}]
[{"$f":"Skillserleuterungen_FTEM!A15","v":"SKILLS"},null,null,{"$f":"IF($H$2=\"G\",Skillserleuterungen_FTEM!F15,Skillserleuterungen_FTEM!B15)","v":"Schiessen"},null,null,{"$f":"IF($H$2=\"G\",Skillserleuterungen_FTEM!G15,Skillserleuterungen_FTEM!C15)","v":"Effizienz (no space no time), Variantenreichtum, Überraschungsgrad (Quick Release), Präzision, Härte, (taktische Abschlüsse)"},null,null,{"$f":"IF($H$2=\"G\",Skillserleuterungen_FTEM!#REF!,Skillserleuterungen_FTEM!#REF!)","v":{"$error":"#REF!"}},null,null,null,{"$f":"IFERROR(AVERAGE(O24:O29),\"-\")","v":"-"},null,{"$f":"IFERROR(AVERAGE(Q24:Q29),\"-\")","v":"-"},null,{"$f":"IFERROR(AVERAGE(S24:S29),\"-\")","v":"-"},null,{"$f":"IFERROR(AVERAGE(U24:U29),\"-\")","v":"-"},null,{"$f":"IFERROR(AVERAGE(W24:W29),\"-\")","v":"-"},null,{"$f":"IFERROR(AVERAGE(Y24:Y29),\"-\")","v":"-"}]
[null,null,null,{"$f":"IF($H$2=\"G\",Skillserleuterungen_FTEM!F16,Skillserleuterungen_FTEM!B16)","v":"Passen"},null,null,{"$f":"IF($H$2=\"G\",Skillserleuterungen_FTEM!G16,Skillserleuterungen_FTEM!C16)","v":"Passabgabe (Distanz, Flippass Backhand), Passannahme (Präzision, Timing, Vorhand, Rückhand, Schlittschuh), Puckspeed "},null,null,{"$f":"IF($H$2=\"G\",Skillserleuterungen_FTEM!#REF!,Skillserleuterungen_FTEM!#REF!)","v":{"$error":"#REF!"}}]
[null,null,null,{"$f":"IF($H$2=\"G\",Skillserleuterungen_FTEM!F17,Skillserleuterungen_FTEM!B17)","v":"Stockarbeit"},null,null,{"$f":"IF($H$2=\"G\",Skillserleuterungen_FTEM!G17,Skillserleuterungen_FTEM!C17)","v":"Stock zum Puck, Passlinie unterbinden, ablenken, Stockkontrolle Gegenspielerin"},null,null,{"$f":"IF($H$2=\"G\",Skillserleuterungen_FTEM!#REF!,Skillserleuterungen_FTEM!#REF!)","v":{"$error":"#REF!"}}]
[null,null,null,{"$f":"IF($H$2=\"G\",Skillserleuterungen_FTEM!F18,Skillserleuterungen_FTEM!B18)","v":"Puck besitzen "},null,null,{"$f":"IF($H$2=\"G\",Skillserleuterungen_FTEM!G18,Skillserleuterungen_FTEM!C18)","v":"Puckkontrolle, Dribblings, Puck schützen, Finten (Varianten: mit Schlittschuh, mit sowie ohne Bande), Face-Off"},null,null,{"$f":"IF($H$2=\"G\",Skillserleuterungen_FTEM!#REF!,Skillserleuterungen_FTEM!#REF!)","v":{"$error":"#REF!"}}]
[null,null,null,{"$f":"IF($H$2=\"G\",Skillserleuterungen_FTEM!F19,Skillserleuterungen_FTEM!B19)","v":"Körperspiel"},null,null,{"$f":"IF($H$2=\"G\",Skillserleuterungen_FTEM!G19,Skillserleuterungen_FTEM!C19)","v":"Phyisches Durchsetzungsvermögen, Zweikampf (offenes Eis/Bande), Checks nehmen/Head up, Battle Level, Hart aber fair"},null,null,{"$f":"IF($H$2=\"G\",Skillserleuterungen_FTEM!#REF!,Skillserleuterungen_FTEM!#REF!)","v":{"$error":"#REF!"}}]
[null,null,null,{"$f":"IF($H$2=\"G\",Skillserleuterungen_FTEM!F20,Skillserleuterungen_FTEM!B20)","v":"-"},null,null,{"$f":"IF($H$2=\"G\",Skillserleuterungen_FTEM!G20,Skillserleuterungen_FTEM!C20)","v":"-"},null,null,{"$f":"IF($H$2=\"G\",Skillserleuterungen_FTEM!#REF!,Skillserleuterungen_FTEM!#REF!)","v":{"$error":"#REF!"}}]
[{"$f":"Skillserleuterungen_FTEM!A21","v":"HOCKEY SENSE"},null,null,{"$f":"IF($H$2=\"G\",Skillserleuterungen_FTEM!F21,Skillserleuterungen_FTEM!B21)","v":"Spielintelligenz"},null,null,{"$f":"IF($H$2=\"G\",Skillserleuterungen_FTEM!G21,Skillserleuterungen_FTEM!C21)","v":"Freie Räume und Spielerin sehen und Überzahlsituationen kreieren, lösungsorientiert agieren bei allen Bedingungen, Headspeed"},null,null,{"$f":"IF($H$2=\"G\",Skillserleuterungen_FTEM!#REF!,Skillserleuterungen_FTEM!#REF!)","v":{"$error":"#REF!"}},null,null,null,{"$f":"IFERROR(AVERAGE(O30:O34),\"-\")","v":"-"},null,{"$f":"IFERROR(AVERAGE(Q30:Q34),\"-\")","v":"-"},null,{"$f":"IFERROR(AVERAGE(S30:S34),\"-\")","v":"-"},null,{"$f":"IFERROR(AVERAGE(U30:U34),\"-\")","v":"-"},null,{"$f":"IFERROR(AVERAGE(W30:W34),\"-\")","v":"-"},null,{"$f":"IFERROR(AVERAGE(Y30:Y34),\"-\")","v":"-"}]
[null,null,null,{"$f":"IF($H$2=\"G\",Skillserleuterungen_FTEM!F22,Skillserleuterungen_FTEM!B22)","v":"Offensives Bewusstsein"},null,null,{"$f":"IF($H$2=\"G\",Skillserleuterungen_FTEM!G22,Skillserleuterungen_FTEM!C22)","v":"Anspielbar, Antizipation der Spielsituationen, Freiräume für Mitspielerinnen öffnen, Abschlussorientiert sein, Gapspeed, gute Kommunikation"},null,null,{"$f":"IF($H$2=\"G\",Skillserleuterungen_FTEM!#REF!,Skillserleuterungen_FTEM!#REF!)","v":{"$error":"#REF!"}}]
[null,null,null,{"$f":"IF($H$2=\"G\",Skillserleuterungen_FTEM!F23,Skillserleuterungen_FTEM!B23)","v":"Defensiv Bewusstsein"},null,null,{"$f":"IF($H$2=\"G\",Skillserleuterungen_FTEM!G23,Skillserleuterungen_FTEM!C23)","v":"Inside Position halten, Slot beschützen, Mitspieler absichern/Support, Passlinie erkennen, Schüsse blockieren. Gapspeed, gute Komunikation"},null,null,{"$f":"IF($H$2=\"G\",Skillserleuterungen_FTEM!#REF!,Skillserleuterungen_FTEM!#REF!)","v":{"$error":"#REF!"}}]
[null,null,null,{"$f":"IF($H$2=\"G\",Skillserleuterungen_FTEM!F24,Skillserleuterungen_FTEM!B24)","v":"Puckmanagement"},null,null,{"$f":"IF($H$2=\"G\",Skillserleuterungen_FTEM!G24,Skillserleuterungen_FTEM!C24)","v":"Situationsadäquate Entscheidungen treffen, Support, Overload"},null,null,{"$f":"IF($H$2=\"G\",Skillserleuterungen_FTEM!#REF!,Skillserleuterungen_FTEM!#REF!)","v":{"$error":"#REF!"}}]
[null,null,null,{"$f":"IF($H$2=\"G\",Skillserleuterungen_FTEM!F25,Skillserleuterungen_FTEM!B25)","v":"Kreativität"},null,null,{"$f":"IF($H$2=\"G\",Skillserleuterungen_FTEM!G25,Skillserleuterungen_FTEM!C25)","v":"Überraschende Lösungen, Torriecher"},null,null,{"$f":"IF($H$2=\"G\",Skillserleuterungen_FTEM!#REF!,Skillserleuterungen_FTEM!#REF!)","v":{"$error":"#REF!"}}]
[{"$f":"Skillserleuterungen_FTEM!A26","v":"PERSONALITY"},null,null,{"$f":"Skillserleuterungen_FTEM!B26","v":"FÄHIGKEIT"},null,null,{"$f":"Skillserleuterungen_FTEM!C26","v":"BEOBACHTUNG"},null,null,null,null,null,null,"Datum1",null,"Datum2",null,"Datum3",null,"Datum4",null,"Datum5",null,"Player",null,"ZIEL","MASSNAHME:\nSPEZIFISCH,  MESSBAR, REALISITISCH",null,null,null,null,null,null,"TERMIN","ZIEL-KONTROLLE","Datum"]
[{"$f":"Skillserleuterungen_FTEM!A27","v":"PERSÖNLICHKEIT"},null,null,{"$f":"IF($H$2=\"G\",Skillserleuterungen_FTEM!F27,Skillserleuterungen_FTEM!B27)","v":"Selbstbewusstsein"},null,null,{"$f":"IF($H$2=\"G\",Skillserleuterungen_FTEM!G27,Skillserleuterungen_FTEM!C27)","v":"hat das nötige Selbstvertrauen,\"I can do it\"-Haltung, kann eigene Fähigkeiten einschätzen (kennt eigene Stärken/Schwächen), kann ihre Stärken konstant einsetzen, agiert mutig und nimmt kalkulierte Risiken"},null,null,{"$f":"IF($H$2=\"G\",Skillserleuterungen_FTEM!#REF!,Skillserleuterungen_FTEM!#REF!)","v":{"$error":"#REF!"}},null,null,null,{"$f":"IFERROR(AVERAGE(O36:O40),\"-\")","v":"-"},null,{"$f":"IFERROR(AVERAGE(Q36:Q40),\"-\")","v":"-"},null,{"$f":"IFERROR(AVERAGE(S36:S40),\"-\")","v":"-"},null,{"$f":"IFERROR(AVERAGE(U36:U40),\"-\")","v":"-"},null,{"$f":"IFERROR(AVERAGE(W36:W40),\"-\")","v":"-"},null,{"$f":"IFERROR(AVERAGE(Y36:Y40),\"-\")","v":"-"}]
[null,null,null,{"$f":"IF($H$2=\"G\",Skillserleuterungen_FTEM!F28,Skillserleuterungen_FTEM!B28)","v":"Lernfähigkeit"},null,null,{"$f":"IF($H$2=\"G\",Skillserleuterungen_FTEM!G28,Skillserleuterungen_FTEM!C28)","v":"hat eine gute Auffassungsgabe (nimmt auf und kann umsetzen), reflektiert eigenes Handeln, versucht aus Fehlern zu lernen und kann Massnahmen ableiten"},null,null,{"$f":"IF($H$2=\"G\",Skillserleuterungen_FTEM!#REF!,Skillserleuterungen_FTEM!#REF!)","v":{"$error":"#REF!"}}]
[null,null,null,{"$f":"IF($H$2=\"G\",Skillserleuterungen_FTEM!F29,Skillserleuterungen_FTEM!B29)","v":"Eigenverantwortung"},null,null,{"$f":"IF($H$2=\"G\",Skillserleuterungen_FTEM!G29,Skillserleuterungen_FTEM!C29)","v":"übernimmt Verantwortung für eigene Leistungen und Entwicklung, handelt selbständig, achtet auf Details, zeigt grosses Engagement in allen Bereichen"},null,null,{"$f":"IF($H$2=\"G\",Skillserleuterungen_FTEM!#REF!,Skillserleuterungen_FTEM!#REF!)","v":{"$error":"#REF!"}}]
[null,null,null,{"$f":"IF($H$2=\"G\",Skillserleuterungen_FTEM!F30,Skillserleuterungen_FTEM!B30)","v":"Motivation"},null,null,{"$f":"IF($H$2=\"G\",Skillserleuterungen_FTEM!G30,Skillserleuterungen_FTEM!C30)","v":"Intrinsischer Antrieb, will sich ständig weiterentwickeln und lernen, will die Erste sein und Erfolg haben, gibt nie auf und lässt sich auch durch Misserfolge nicht vom Weg abbringen"},null,null,{"$f":"IF($H$2=\"G\",Skillserleuterungen_FTEM!#REF!,Skillserleuterungen_FTEM!#REF!)","v":{"$error":"#REF!"}}]
[null,null,null,{"$f":"IF($H$2=\"G\",Skillserleuterungen_FTEM!F31,Skillserleuterungen_FTEM!B31)","v":"Performance Lifestyle"},null,null,{"$f":"IF($H$2=\"G\",Skillserleuterungen_FTEM!G31,Skillserleuterungen_FTEM!C31)","v":"managt Alltag und Umfeld nach dem Leistungsprinzip, hartnäckig, beharrlich und zielgerichtet, Fokus auf eigene Leistung, zeigt Biss und kann sich auch gegen Widerstände durchsetzen, Herausforderungen spornen sie an"},null,null,{"$f":"IF($H$2=\"G\",Skillserleuterungen_FTEM!#REF!,Skillserleuterungen_FTEM!#REF!)","v":{"$error":"#REF!"}}]
[{"$f":"Skillserleuterungen_FTEM!A32","v":"MENTALE STÄRKE"},null,null,{"$f":"IF($H$2=\"G\",Skillserleuterungen_FTEM!F32,Skillserleuterungen_FTEM!B32)","v":"Einsatzbereitschaft"},null,null,{"$f":"IF($H$2=\"G\",Skillserleuterungen_FTEM!G32,Skillserleuterungen_FTEM!C32)","v":"zeigt im Spiel und im Training hohe Intensität, gibt immer ihr Maximum und will ihre Limiten pushen, zeigt Leidenschaft, ist um hohe Trainingsqualität bemüht"},null,null,{"$f":"IF($H$2=\"G\",Skillserleuterungen_FTEM!#REF!,Skillserleuterungen_FTEM!#REF!)","v":{"$error":"#REF!"}},null,null,null,{"$f":"IFERROR(AVERAGE(O41:O45),\"-\")","v":"-"},null,{"$f":"IFERROR(AVERAGE(Q41:Q45),\"-\")","v":"-"},null,{"$f":"IFERROR(AVERAGE(S41:S45),\"-\")","v":"-"},null,{"$f":"IFERROR(AVERAGE(U41:U45),\"-\")","v":"-"},null,{"$f":"IFERROR(AVERAGE(W41:W45),\"-\")","v":"-"},null,{"$f":"IFERROR(AVERAGE(Y41:Y45),\"-\")","v":"-"}]
[null,null,null,{"$f":"IF($H$2=\"G\",Skillserleuterungen_FTEM!F33,Skillserleuterungen_FTEM!B33)","v":"Vorbereitung"},null,null,{"$f":"IF($H$2=\"G\",Skillserleuterungen_FTEM!G33,Skillserleuterungen_FTEM!C33)","v":"bewusste und gezielte Vorbereitung, mental wie auch physisch, verfügt über einen effizienten Ablauf zur Erreichung des idealen Leistungszustand (ILZ)"},null,null,{"$f":"IF($H$2=\"G\",Skillserleuterungen_FTEM!#REF!,Skillserleuterungen_FTEM!#REF!)","v":{"$error":"#REF!"}}]
[null,null,null,{"$f":"IF($H$2=\"G\",Skillserleuterungen_FTEM!F34,Skillserleuterungen_FTEM!B34)","v":"Selbstcoaching"},null,null,{"$f":"IF($H$2=\"G\",Skillserleuterungen_FTEM!G34,Skillserleuterungen_FTEM!C34)","v":"verfügt über gute Konzentrationsfähigkeit, kann während Spiel/Training ihren ILZ halten, kann mentale Grundtechniken anwenden, widerstandsfähig gegen negative Gedanken und Einflüsse, ist sich ihrer Körpersprache bewusst und kann diese regulieren"},null,null,{"$f":"IF($H$2=\"G\",Skillserleuterungen_FTEM!#REF!,Skillserleuterungen_FTEM!#REF!)","v":{"$error":"#REF!"}}]
[null,null,null,{"$f":"IF($H$2=\"G\",Skillserleuterungen_FTEM!F35,Skillserleuterungen_FTEM!B35)","v":"Energiemanagement"},null,null,{"$f":"IF($H$2=\"G\",Skillserleuterungen_FTEM!G35,Skillserleuterungen_FTEM!C35)","v":"kann eigene Energie regulieren, bereit zur Regeneration, weiss wann sie \"Vollgas\" geben muss und wann abschalten, On/Off-Schalter"},null,null,{"$f":"IF($H$2=\"G\",Skillserleuterungen_FTEM!#REF!,Skillserleuterungen_FTEM!#REF!)","v":{"$error":"#REF!"}}]
[null,null,null,{"$f":"IF($H$2=\"G\",Skillserleuterungen_FTEM!F36,Skillserleuterungen_FTEM!B36)","v":"Emotionskontrolle"},null,null,{"$f":"IF($H$2=\"G\",Skillserleuterungen_FTEM!G36,Skillserleuterungen_FTEM!C36)","v":"kann eigene Emotionen und Impulse regulieren, behält auch unter Druck die Kontrolle, kann auch in emotional anspruchsvollen oder frustrierenden Situationen angemessen agieren"},null,null,{"$f":"IF($H$2=\"G\",Skillserleuterungen_FTEM!#REF!,Skillserleuterungen_FTEM!#REF!)","v":{"$error":"#REF!"}}]
[{"$f":"Skillserleuterungen_FTEM!A37","v":"PHYSE"},null,null,{"$f":"IF($H$2=\"G\",Skillserleuterungen_FTEM!F37,Skillserleuterungen_FTEM!B37)","v":"Leistungserzeugung"},null,null,{"$f":"IF($H$2=\"G\",Skillserleuterungen_FTEM!G37,Skillserleuterungen_FTEM!C37)","v":"verfügt über die nötige Power/Kraft/Schnelligkeit in den Beinen und im Oberkörper (Neuromuskuläre Faktoren)"},null,null,{"$f":"IF($H$2=\"G\",Skillserleuterungen_FTEM!#REF!,Skillserleuterungen_FTEM!#REF!)","v":{"$error":"#REF!"}},null,null,null,{"$f":"IFERROR(AVERAGE(O46:O50),\"-\")","v":"-"},null,{"$f":"IFERROR(AVERAGE(Q46:Q50),\"-\")","v":"-"},null,{"$f":"IFERROR(AVERAGE(S46:S50),\"-\")","v":"-"},null,{"$f":"IFERROR(AVERAGE(U46:U50),\"-\")","v":"-"},null,{"$f":"IFERROR(AVERAGE(W46:W50),\"-\")","v":"-"},null,{"$f":"IFERROR(AVERAGE(Y46:Y50),\"-\")","v":"-"}]
[null,null,null,{"$f":"IF($H$2=\"G\",Skillserleuterungen_FTEM!F38,Skillserleuterungen_FTEM!B38)","v":"sporartspez. Ermüdungsresistenz"},null,null,{"$f":"IF($H$2=\"G\",Skillserleuterungen_FTEM!G38,Skillserleuterungen_FTEM!C38)","v":"Ist fähig  die Power/Kraft/Schnelligkeit innerhalb des Einsatzes lange aufrechtzuerhalten und kann sich zwischen den Einsätzen jeweils vollkommen erholen (Metabolische und kardiovaskuläre Faktoren)"},null,null,{"$f":"IF($H$2=\"G\",Skillserleuterungen_FTEM!#REF!,Skillserleuterungen_FTEM!#REF!)","v":{"$error":"#REF!"}}]
[null,null,null,{"$f":"IF($H$2=\"G\",Skillserleuterungen_FTEM!F39,Skillserleuterungen_FTEM!B39)","v":"Gesundheit / Prävention"},null,null,{"$f":"IF($H$2=\"G\",Skillserleuterungen_FTEM!G39,Skillserleuterungen_FTEM!C39)","v":"verfügt über die nötige Stabilität (z.B. Beinachsenstabilität) und Beweglichkeit in den zentralen Gelenken"},null,null,{"$f":"IF($H$2=\"G\",Skillserleuterungen_FTEM!#REF!,Skillserleuterungen_FTEM!#REF!)","v":{"$error":"#REF!"}}]
[null,null,null,{"$f":"IF($H$2=\"G\",Skillserleuterungen_FTEM!F40,Skillserleuterungen_FTEM!B40)","v":"Bewegungskompetenzen"},null,null,{"$f":"IF($H$2=\"G\",Skillserleuterungen_FTEM!G40,Skillserleuterungen_FTEM!C40)","v":"beherrscht die grundlegenden Bewegungsfertigkeiten, die eine unerlässliche Zubringerfunktion für die sportspezifischen \"Skills\" darstellt sowie zur nötigen Bewegungseffizienz führt"},null,null,{"$f":"IF($H$2=\"G\",Skillserleuterungen_FTEM!#REF!,Skillserleuterungen_FTEM!#REF!)","v":{"$error":"#REF!"}}]
[null,null,null,{"$f":"IF($H$2=\"G\",Skillserleuterungen_FTEM!F41,Skillserleuterungen_FTEM!B41)","v":"Robustheit"},null,null,{"$f":"IF($H$2=\"G\",Skillserleuterungen_FTEM!G41,Skillserleuterungen_FTEM!C41)","v":"verfügt über die nötige Grundkraft (Körperspannung), um sich in Zweikämpfen durchzusetzen und bei Zusammestössen standzuhalten"},null,null,{"$f":"IF($H$2=\"G\",Skillserleuterungen_FTEM!#REF!,Skillserleuterungen_FTEM!#REF!)","v":{"$error":"#REF!"}}]

{"sheet":"13","index":16,"n_rows":50,"n_cols":36,"rows_kept":50,"cut":false,"hidden":false,"merged":[[13,3,13,5],[14,3,14,5],[15,3,15,5],[13,6,13,11],[14,6,14,11],[15,6,15,11],[21,3,21,5],[21,6,21,11],[26,3,26,5],[26,6,26,11],[0,0,0,24],[0,25,0,26],[0,27,0,32],[0,33,0,35],[29,25,33,25],[29,26,33,32],[29,34,33,34],[35,25,39,25],[35,26,39,32],[35,34,39,34],[1,0,1,1],[1,2,1,5],[1,10,1,24],[2,0,2,1],[2,2,2,5],[2,11,2,24],[6,0,6,1],[6,2,6,35],[7,0,7,1],[7,2,7,35],[8,0,8,1],[8,2,8,35],[3,0,3,1],[3,10,3,24],[4,0,4,1],[4,2,4,5],[4,10,4,24],[10,0,10,24],[10,25,10,35],[40,25,44,25],[40,26,44,32],[40,34,44,34],[12,25,16,25],[12,26,16,32],[12,34,16,34],[18,25,22,25],[18,26,22,32],[18,34,22,34],[23,25,28,25],[23,26,28,32],[23,34,28,34],[17,26,17,32],[11,0,11,2],[11,3,11,5],[11,13,11,14],[11,15,11,16],[11,17,11,18],[11,19,11,20],[11,21,11,22],[11,23,11,24],[11,26,11,32],[11,6,11,11],[12,23,16,23],[16,3,16,5],[16,6,16,11],[17,0,17,2],[17,3,17,5],[17,6,17,11],[17,13,17,14],[17,15,17,16],[17,17,17,18],[17,19,17,20],[17,21,17,22],[17,23,17,24],[12,0,16,2],[12,3,12,5],[12,6,12,11],[12,12,16,12],[12,13,16,13],[12,15,16,15],[12,17,16,17],[12,19,16,19],[12,21,16,21],[18,15,22,15],[18,17,22,17],[18,19,22,19],[18,21,22,21],[18,23,22,23],[22,3,22,5],[22,6,22,11],[23,0,28,2],[23,3,23,5],[23,6,23,11],[23,12,28,12],[23,13,28,13],[23,15,28,15],[23,17,28,17],[18,0,22,2],[18,3,18,5],[18,6,18,11],[18,12,22,12],[18,13,22,13],[19,3,19,5],[19,6,19,11],[20,3,20,5],[20,6,20,11],[23,19,28,19],[23,21,28,21],[23,23,28,23],[24,3,24,5],[24,6,24,11],[28,3,28,5],[28,6,28,11],[33,3,33,5],[33,6,33,11],[29,23,33,23],[29,17,33,17],[29,19,33,19],[29,21,33,21],[30,3,30,5],[30,6,30,11],[31,3,31,5],[31,6,31,11],[27,3,27,5],[27,6,27,11],[32,3,32,5],[32,6,32,11],[29,0,33,2],[29,3,29,5],[29,6,29,11],[29,12,33,12],[29,13,33,13],[29,15,33,15],[34,23,34,24],[34,26,34,32],[35,0,39,2],[35,3,35,5],[35,6,35,11],[35,12,39,12],[35,13,39,13],[35,15,39,15],[39,3,39,5],[39,6,39,11],[35,23,39,23],[34,0,34,2],[34,3,34,5],[34,6,34,11],[34,13,34,14],[34,15,34,16],[34,17,34,18],[34,19,34,20],[36,3,36,5],[36,6,36,11],[37,3,37,5],[37,6,37,11],[40,17,44,17],[40,19,44,19],[40,21,44,21],[41,3,41,5],[41,6,41,11],[44,3,44,5],[44,6,44,11],[38,3,38,5],[38,6,38,11],[43,3,43,5],[43,6,43,11],[45,26,49,32],[45,34,49,34],[25,3,25,5],[25,6,25,11],[42,3,42,5],[42,6,42,11],[45,0,49,2],[45,12,49,12],[45,13,49,13],[45,15,49,15],[45,17,49,17],[45,19,49,19],[45,21,49,21],[45,23,49,23],[45,25,49,25],[45,3,45,5],[45,6,45,11],[46,3,46,5],[46,6,46,11],[40,15,44,15],[34,21,34,22],[35,17,39,17],[35,19,39,19],[35,21,39,21],[47,3,47,5],[47,6,47,11],[49,3,49,5],[49,6,49,11],[40,23,44,23],[40,0,44,2],[40,3,40,5],[40,6,40,11],[40,12,44,12],[40,13,44,13],[48,3,48,5],[48,6,48,11]]}
["Personalien",null,null,null,null,null,null,null,null,null,null,null,null,null,null,null,null,null,null,null,null,null,null,null,null,"Vorausetzungen",null,"Evaluationen",null,null,null,null,null,"Rating"]
["VORNAME",null,{"$f":"IF(ISBLANK(VLOOKUP(13,Tabelle3[],3,0)),\"-\",VLOOKUP(13,Tabelle3[],3,0))","v":"-"},null,null,null,"POSITION",null,null,"ADRESSE",{"$f":"IF(ISBLANK(VLOOKUP(13,Tabelle3[],5,0)),\"-\",VLOOKUP(13,Tabelle3[],5,0))","v":"-"},null,null,null,null,null,null,null,null,null,null,null,null,null,null,"\"Alter\" (Biologisch/Relative Age)",null,"Datum 1",null,null,"cm",null,"Kg",null,"AUSGEZEICHNET",5]
["NAME",null,{"$f":"IF(ISBLANK(VLOOKUP(13,Tabelle3[],2,0)),\"-\",VLOOKUP(13,Tabelle3[],2,0))","v":"-"},null,null,null,"STOCK",null,null,"WOHNORT",{"$f":"IF(ISBLANK(VLOOKUP(13,Tabelle3[],7,0)),\"-\",VLOOKUP(13,Tabelle3[],7,0))","v":"-"},{"$f":"IF(ISBLANK(VLOOKUP(13,Tabelle3[],6,0)),\"-\",VLOOKUP(13,Tabelle3[],6,0))","v":"-"},null,null,null,null,null,null,null,null,null,null,null,null,null,"Veranlagung",null,"Datum 2",null,null,"cm",null,"Kg",null,"GUT",4]
["GEB. DATUM",null,{"$f":"IF(ISBLANK(VLOOKUP(13,Tabelle3[],14,0)),\"-\",VLOOKUP(13,Tabelle3[],14,0))","v":"-"},{"$f":"IF(ISBLANK(VLOOKUP(13,Tabelle3[],15,0)),\"-\",VLOOKUP(13,Tabelle3[],15,0))","v":"-"},{"$f":"IF(ISBLANK(VLOOKUP(13,Tabelle3[],16,0)),\"-\",VLOOKUP(13,Tabelle3[],16,0))","v":"-"},null,"GRÖSSE",null,"cm (Final)","CLUB",{"$f":"IF(ISBLANK(VLOOKUP(13,Tabelle3[],8,0)),\"-\",VLOOKUP(13,Tabelle3[],8,0))","v":"-"},null,null,null,null,null,null,null,null,null,null,null,null,null,null,"Umfeld",null,"Datum 3",null,null,"cm",null,"Kg",null,"DURCHSCHNITT",3]
["SEX",null,{"$f":"IF(ISBLANK(VLOOKUP(13,Tabelle3[],13,0)),\"-\",VLOOKUP(13,Tabelle3[],13,0))","v":"-"},null,null,null,"GEWICHT",null,"Kg (Final)","E-Mail",{"$f":"IF(ISBLANK(VLOOKUP(13,Tabelle3[],9,0)),\"-\",VLOOKUP(13,Tabelle3[],9,0))","v":"-"},null,null,null,null,null,null,null,null,null,null,null,null,null,null,null,null,"Datum 4",null,null,"cm",null,"Kg",null,"MANGELHAFT",2]
[null,null,null,null,null,null,null,null,null,null,null,null,null,null,null,null,null,null,null,null,null,null,null,null,null,null,null,"Datum 5",null,null,"cm",null,"Kg",null,"UNGENÜGEND",1]
["Vision",null,"xxx"]
["Ziele",null,"xxx"]
["Stärken",null,"xxx"]
[]
["EVALUATION (COACH / SPIELERIN)",null,null,null,null,null,null,null,null,null,null,null,null,null,null,null,null,null,null,null,null,null,null,null,null,"SMART"]
[{"$f":"Skillserleuterungen_FTEM!A3","v":"TEAM"},null,null,{"$f":"Skillserleuterungen_FTEM!B3","v":"FÄHIGKEIT"},null,null,{"$f":"Skillserleuterungen_FTEM!C3","v":"BEOBACHTUNG"},null,null,null,null,null,"Final","Datum1",null,"Datum2",null,"Datum3",null,"Datum4",null,"Datum5",null,"Player",null,"ZIEL","MASSNAHME:\nSPEZIFISCH,  MESSBAR, REALISITISCH",null,null,null,null,null,null,"TERMIN","ZIEL-KONTROLLE","Datum"]
[{"$f":"Skillserleuterungen_FTEM!A4","v":"TEAM"},null,null,{"$f":"IF($H$2=\"G\",Skillserleuterungen_FTEM!F4,Skillserleuterungen_FTEM!B4)","v":"Kommunikation"},null,null,{"$f":"IF($H$2=\"G\",Skillserleuterungen_FTEM!G4,Skillserleuterungen_FTEM!C4)","v":"pflegt einen offenen, respektvollen Umgang, Vertrauensbasis als Grundlage, trägt Konflikte aus ohne die Stabilität der Gruppe zu gefährden, kommuniziert mit Mitspielerinnen, Trainern und Funktionären gleichermassen wertschätzend"},null,null,{"$f":"IF($H$2=\"G\",Skillserleuterungen_FTEM!#REF!,Skillserleuterungen_FTEM!#REF!)","v":{"$error":"#REF!"}},null,null,null,{"$f":"IFERROR(AVERAGE(O13:O17),\"-\")","v":"-"},null,{"$f":"IFERROR(AVERAGE(Q13:Q17),\"-\")","v":"-"},null,{"$f":"IFERROR(AVERAGE(S13:S17),\"-\")","v":"-"},null,{"$f":"IFERROR(AVERAGE(U13:U17),\"-\")","v":"-"},null,null,null,{"$f":"IFERROR(AVERAGE(Y13:Y17),\"-\")","v":"-"}]
[null,null,null,{"$f":"IF($H$2=\"G\",Skillserleuterungen_FTEM!F5,Skillserleuterungen_FTEM!B5)","v":"Teamfähigkeit"},null,null,{"$f":"IF($H$2=\"G\",Skillserleuterungen_FTEM!G5,Skillserleuterungen_FTEM!C5)","v":"Integration in die Gruppe, gemeinsame Ziele bestimmen und verfolgen können, WIR vor dem ICH, trägt zu einem guten Team-Spirit und Arbeitsklima bei"},null,null,{"$f":"IF($H$2=\"G\",Skillserleuterungen_FTEM!#REF!,Skillserleuterungen_FTEM!#REF!)","v":{"$error":"#REF!"}}]
[null,null,null,{"$f":"IF($H$2=\"G\",Skillserleuterungen_FTEM!F6,Skillserleuterungen_FTEM!B6)","v":"Leadership"},null,null,{"$f":"IF($H$2=\"G\",Skillserleuterungen_FTEM!G6,Skillserleuterungen_FTEM!C6)","v":"übernimmt Verantwortung in der Gruppe, versucht Team und Mitspielerinnen besser zu machen, nimmt positiven Einfluss auf die Gruppendynamik"},null,null,{"$f":"IF($H$2=\"G\",Skillserleuterungen_FTEM!#REF!,Skillserleuterungen_FTEM!#REF!)","v":{"$error":"#REF!"}}]
[null,null,null,{"$f":"IF($H$2=\"G\",Skillserleuterungen_FTEM!F7,Skillserleuterungen_FTEM!B7)","v":"Rollenverteilung"},null,null,{"$f":"IF($H$2=\"G\",Skillserleuterungen_FTEM!G7,Skillserleuterungen_FTEM!C7)","v":"kennt ihre Rolle und füllt diese aus, ist sich ihrer Stellung im Team und im System bewusst, stellt eigene Kompetenzen in den Dienst des Teams"},null,null,{"$f":"IF($H$2=\"G\",Skillserleuterungen_FTEM!#REF!,Skillserleuterungen_FTEM!#REF!)","v":{"$error":"#REF!"}}]
[null,null,null,{"$f":"IF($H$2=\"G\",Skillserleuterungen_FTEM!F8,Skillserleuterungen_FTEM!B8)","v":"Respekt"},null,null,{"$f":"IF($H$2=\"G\",Skillserleuterungen_FTEM!G8,Skillserleuterungen_FTEM!C8)","v":"Respektvoller Umgang mit Mitspielerinnen, Trainern, Gegnern, Schiedsrichter und Staff; achtet die Regeln, Fairplayprinzipien (inkl. Anti-Doping)"},null,null,{"$f":"IF($H$2=\"G\",Skillserleuterungen_FTEM!#REF!,Skillserleuterungen_FTEM!#REF!)","v":{"$error":"#REF!"}}]
[{"$f":"Skillserleuterungen_FTEM!A9","v":"ON ICE"},null,null,{"$f":"Skillserleuterungen_FTEM!B9","v":"FÄHIGKEIT"},null,null,{"$f":"Skillserleuterungen_FTEM!C9","v":"BEOBACHTUNG"},null,null,null,null,null,null,"Datum1",null,"Datum2",null,"Datum3",null,"Datum4",null,"Datum5",null,"Player",null,"ZIEL","MASSNAHME:\nSPEZIFISCH,  MESSBAR, REALISITISCH",null,null,null,null,null,null,"TERMIN","ZIEL-KONTROLLE","Datum"]
[{"$f":"Skillserleuterungen_FTEM!A10","v":"SKATING"},null,null,{"$f":"IF($H$2=\"G\",Skillserleuterungen_FTEM!F10,Skillserleuterungen_FTEM!B10)","v":"Footspeed"},null,null,{"$f":"IF($H$2=\"G\",Skillserleuterungen_FTEM!G10,Skillserleuterungen_FTEM!C10)","v":"Beschleunigung, Antritt, erste 3 Schritte Explosivität, Frequenz"},null,null,{"$f":"IF($H$2=\"G\",Skillserleuterungen_FTEM!#REF!,Skillserleuterungen_FTEM!#REF!)","v":{"$error":"#REF!"}},null,null,null,{"$f":"IFERROR(AVERAGE(O19:O23),\"-\")","v":"-"},null,{"$f":"IFERROR(AVERAGE(Q19:Q23),\"-\")","v":"-"},null,{"$f":"IFERROR(AVERAGE(S19:S23),\"-\")","v":"-"},null,{"$f":"IFERROR(AVERAGE(U19:U23),\"-\")","v":"-"},null,{"$f":"IFERROR(AVERAGE(W19:W23),\"-\")","v":"-"},null,{"$f":"IFERROR(AVERAGE(Y19:Y23),\"-\")","v":"-"}]
[null,null,null,{"$f":"IF($H$2=\"G\",Skillserleuterungen_FTEM!F11,Skillserleuterungen_FTEM!B11)","v":"Topspeed"},null,null,{"$f":"IF($H$2=\"G\",Skillserleuterungen_FTEM!G11,Skillserleuterungen_FTEM!C11)","v":"Schnelligkeit, Gleitfähigkeit, vorwärts und rückwärts, Ökonomie"},null,null,{"$f":"IF($H$2=\"G\",Skillserleuterungen_FTEM!#REF!,Skillserleuterungen_FTEM!#REF!)","v":{"$error":"#REF!"}}]
[null,null,null,{"$f":"IF($H$2=\"G\",Skillserleuterungen_FTEM!F12,Skillserleuterungen_FTEM!B12)","v":"Agilität"},null,null,{"$f":"IF($H$2=\"G\",Skillserleuterungen_FTEM!G12,Skillserleuterungen_FTEM!C12)","v":"Richtungsänderung, Drehung, Stop und Start, \"Nummelin\""},null,null,{"$f":"IF($H$2=\"G\",Skillserleuterungen_FTEM!#REF!,Skillserleuterungen_FTEM!#REF!)","v":{"$error":"#REF!"}},null,null,null,{"$f":"IFERROR(AVERAGE(O21:O23),\"-\")","v":"-"},null,{"$f":"IFERROR(AVERAGE(Q21:Q23),\"-\")","v":"-"},null,{"$f":"IFERROR(AVERAGE(S21:S23),\"-\")","v":"-"},null,{"$f":"IFERROR(AVERAGE(U21:U23),\"-\")","v":"-"},null,{"$f":"IFERROR(AVERAGE(W21:W23),\"-\")","v":"-"},null,{"$f":"IFERROR(AVERAGE(Y21:Y23),\"-\")","v":"-"}]
[null,null,null,{"$f":"IF($H$2=\"G\",Skillserleuterungen_FTEM!F13,Skillserleuterungen_FTEM!B13)","v":"Balance"},null,null,{"$f":"IF($H$2=\"G\",Skillserleuterungen_FTEM!G13,Skillserleuterungen_FTEM!C13)","v":"Gleichgewicht, Standhaftfähigkeit, tiefe Position, ein- und beidbeinig"},null,null,{"$f":"IF($H$2=\"G\",Skillserleuterungen_FTEM!#REF!,Skillserleuterungen_FTEM!#REF!)","v":{"$error":"#REF!"}}]
[null,null,null,{"$f":"IF($H$2=\"G\",Skillserleuterungen_FTEM!F14,Skillserleuterungen_FTEM!B14)","v":"Backwards Skating"},null,null,{"$f":"IF($H$2=\"G\",Skillserleuterungen_FTEM!G14,Skillserleuterungen_FTEM!C14)","v":"Beschleunigung, Geschwindigkeit, Balance"},null,null,{"$f":"IF($H$2=\"G\",Skillserleuterungen_FTEM!#REF!,Skillserleuterungen_FTEM!#REF!)","v":{"$error":"#REF!"}}]
[{"$f":"Skillserleuterungen_FTEM!A15","v":"SKILLS"},null,null,{"$f":"IF($H$2=\"G\",Skillserleuterungen_FTEM!F15,Skillserleuterungen_FTEM!B15)","v":"Schiessen"},null,null,{"$f":"IF($H$2=\"G\",Skillserleuterungen_FTEM!G15,Skillserleuterungen_FTEM!C15)","v":"Effizienz (no space no time), Variantenreichtum, Überraschungsgrad (Quick Release), Präzision, Härte, (taktische Abschlüsse)"},null,null,{"$f":"IF($H$2=\"G\",Skillserleuterungen_FTEM!#REF!,Skillserleuterungen_FTEM!#REF!)","v":{"$error":"#REF!"}},null,null,null,{"$f":"IFERROR(AVERAGE(O24:O29),\"-\")","v":"-"},null,{"$f":"IFERROR(AVERAGE(Q24:Q29),\"-\")","v":"-"},null,{"$f":"IFERROR(AVERAGE(S24:S29),\"-\")","v":"-"},null,{"$f":"IFERROR(AVERAGE(U24:U29),\"-\")","v":"-"},null,{"$f":"IFERROR(AVERAGE(W24:W29),\"-\")","v":"-"},null,{"$f":"IFERROR(AVERAGE(Y24:Y29),\"-\")","v":"-"}]
[null,null,null,{"$f":"IF($H$2=\"G\",Skillserleuterungen_FTEM!F16,Skillserleuterungen_FTEM!B16)","v":"Passen"},null,null,{"$f":"IF($H$2=\"G\",Skillserleuterungen_FTEM!G16,Skillserleuterungen_FTEM!C16)","v":"Passabgabe (Distanz, Flippass Backhand), Passannahme (Präzision, Timing, Vorhand, Rückhand, Schlittschuh), Puckspeed "},null,null,{"$f":"IF($H$2=\"G\",Skillserleuterungen_FTEM!#REF!,Skillserleuterungen_FTEM!#REF!)","v":{"$error":"#REF!"}}]
[null,null,null,{"$f":"IF($H$2=\"G\",Skillserleuterungen_FTEM!F17,Skillserleuterungen_FTEM!B17)","v":"Stockarbeit"},null,null,{"$f":"IF($H$2=\"G\",Skillserleuterungen_FTEM!G17,Skillserleuterungen_FTEM!C17)","v":"Stock zum Puck, Passlinie unterbinden, ablenken, Stockkontrolle Gegenspielerin"},null,null,{"$f":"IF($H$2=\"G\",Skillserleuterungen_FTEM!#REF!,Skillserleuterungen_FTEM!#REF!)","v":{"$error":"#REF!"}}]
[null,null,null,{"$f":"IF($H$2=\"G\",Skillserleuterungen_FTEM!F18,Skillserleuterungen_FTEM!B18)","v":"Puck besitzen "},null,null,{"$f":"IF($H$2=\"G\",Skillserleuterungen_FTEM!G18,Skillserleuterungen_FTEM!C18)","v":"Puckkontrolle, Dribblings, Puck schützen, Finten (Varianten: mit Schlittschuh, mit sowie ohne Bande), Face-Off"},null,null,{"$f":"IF($H$2=\"G\",Skillserleuterungen_FTEM!#REF!,Skillserleuterungen_FTEM!#REF!)","v":{"$error":"#REF!"}}]
[null,null,null,{"$f":"IF($H$2=\"G\",Skillserleuterungen_FTEM!F19,Skillserleuterungen_FTEM!B19)","v":"Körperspiel"},null,null,{"$f":"IF($H$2=\"G\",Skillserleuterungen_FTEM!G19,Skillserleuterungen_FTEM!C19)","v":"Phyisches Durchsetzungsvermögen, Zweikampf (offenes Eis/Bande), Checks nehmen/Head up, Battle Level, Hart aber fair"},null,null,{"$f":"IF($H$2=\"G\",Skillserleuterungen_FTEM!#REF!,Skillserleuterungen_FTEM!#REF!)","v":{"$error":"#REF!"}}]
[null,null,null,{"$f":"IF($H$2=\"G\",Skillserleuterungen_FTEM!F20,Skillserleuterungen_FTEM!B20)","v":"-"},null,null,{"$f":"IF($H$2=\"G\",Skillserleuterungen_FTEM!G20,Skillserleuterungen_FTEM!C20)","v":"-"},null,null,{"$f":"IF($H$2=\"G\",Skillserleuterungen_FTEM!#REF!,Skillserleuterungen_FTEM!#REF!)","v":{"$error":"#REF!"}}]
[{"$f":"Skillserleuterungen_FTEM!A21","v":"HOCKEY SENSE"},null,null,{"$f":"IF($H$2=\"G\",Skillserleuterungen_FTEM!F21,Skillserleuterungen_FTEM!B21)","v":"Spielintelligenz"},null,null,{"$f":"IF($H$2=\"G\",Skillserleuterungen_FTEM!G21,Skillserleuterungen_FTEM!C21)","v":"Freie Räume und Spielerin sehen und Überzahlsituationen kreieren, lösungsorientiert agieren bei allen Bedingungen, Headspeed"},null,null,{"$f":"IF($H$2=\"G\",Skillserleuterungen_FTEM!#REF!,Skillserleuterungen_FTEM!#REF!)","v":{"$error":"#REF!"}},null,null,null,{"$f":"IFERROR(AVERAGE(O30:O34),\"-\")","v":"-"},null,{"$f":"IFERROR(AVERAGE(Q30:Q34),\"-\")","v":"-"},null,{"$f":"IFERROR(AVERAGE(S30:S34),\"-\")","v":"-"},null,{"$f":"IFERROR(AVERAGE(U30:U34),\"-\")","v":"-"},null,{"$f":"IFERROR(AVERAGE(W30:W34),\"-\")","v":"-"},null,{"$f":"IFERROR(AVERAGE(Y30:Y34),\"-\")","v":"-"}]
[null,null,null,{"$f":"IF($H$2=\"G\",Skillserleuterungen_FTEM!F22,Skillserleuterungen_FTEM!B22)","v":"Offensives Bewusstsein"},null,null,{"$f":"IF($H$2=\"G\",Skillserleuterungen_FTEM!G22,Skillserleuterungen_FTEM!C22)","v":"Anspielbar, Antizipation der Spielsituationen, Freiräume für Mitspielerinnen öffnen, Abschlussorientiert sein, Gapspeed, gute Kommunikation"},null,null,{"$f":"IF($H$2=\"G\",Skillserleuterungen_FTEM!#REF!,Skillserleuterungen_FTEM!#REF!)","v":{"$error":"#REF!"}}]
[null,null,null,{"$f":"IF($H$2=\"G\",Skillserleuterungen_FTEM!F23,Skillserleuterungen_FTEM!B23)","v":"Defensiv Bewusstsein"},null,null,{"$f":"IF($H$2=\"G\",Skillserleuterungen_FTEM!G23,Skillserleuterungen_FTEM!C23)","v":"Inside Position halten, Slot beschützen, Mitspieler absichern/Support, Passlinie erkennen, Schüsse blockieren. Gapspeed, gute Komunikation"},null,null,{"$f":"IF($H$2=\"G\",Skillserleuterungen_FTEM!#REF!,Skillserleuterungen_FTEM!#REF!)","v":{"$error":"#REF!"}}]
[null,null,null,{"$f":"IF($H$2=\"G\",Skillserleuterungen_FTEM!F24,Skillserleuterungen_FTEM!B24)","v":"Puckmanagement"},null,null,{"$f":"IF($H$2=\"G\",Skillserleuterungen_FTEM!G24,Skillserleuterungen_FTEM!C24)","v":"Situationsadäquate Entscheidungen treffen, Support, Overload"},null,null,{"$f":"IF($H$2=\"G\",Skillserleuterungen_FTEM!#REF!,Skillserleuterungen_FTEM!#REF!)","v":{"$error":"#REF!"}}]
[null,null,null,{"$f":"IF($H$2=\"G\",Skillserleuterungen_FTEM!F25,Skillserleuterungen_FTEM!B25)","v":"Kreativität"},null,null,{"$f":"IF($H$2=\"G\",Skillserleuterungen_FTEM!G25,Skillserleuterungen_FTEM!C25)","v":"Überraschende Lösungen, Torriecher"},null,null,{"$f":"IF($H$2=\"G\",Skillserleuterungen_FTEM!#REF!,Skillserleuterungen_FTEM!#REF!)","v":{"$error":"#REF!"}}]
[{"$f":"Skillserleuterungen_FTEM!A26","v":"PERSONALITY"},null,null,{"$f":"Skillserleuterungen_FTEM!B26","v":"FÄHIGKEIT"},null,null,{"$f":"Skillserleuterungen_FTEM!C26","v":"BEOBACHTUNG"},null,null,null,null,null,null,"Datum1",null,"Datum2",null,"Datum3",null,"Datum4",null,"Datum5",null,"Player",null,"ZIEL","MASSNAHME:\nSPEZIFISCH,  MESSBAR, REALISITISCH",null,null,null,null,null,null,"TERMIN","ZIEL-KONTROLLE","Datum"]
[{"$f":"Skillserleuterungen_FTEM!A27","v":"PERSÖNLICHKEIT"},null,null,{"$f":"IF($H$2=\"G\",Skillserleuterungen_FTEM!F27,Skillserleuterungen_FTEM!B27)","v":"Selbstbewusstsein"},null,null,{"$f":"IF($H$2=\"G\",Skillserleuterungen_FTEM!G27,Skillserleuterungen_FTEM!C27)","v":"hat das nötige Selbstvertrauen,\"I can do it\"-Haltung, kann eigene Fähigkeiten einschätzen (kennt eigene Stärken/Schwächen), kann ihre Stärken konstant einsetzen, agiert mutig und nimmt kalkulierte Risiken"},null,null,{"$f":"IF($H$2=\"G\",Skillserleuterungen_FTEM!#REF!,Skillserleuterungen_FTEM!#REF!)","v":{"$error":"#REF!"}},null,null,null,{"$f":"IFERROR(AVERAGE(O36:O40),\"-\")","v":"-"},null,{"$f":"IFERROR(AVERAGE(Q36:Q40),\"-\")","v":"-"},null,{"$f":"IFERROR(AVERAGE(S36:S40),\"-\")","v":"-"},null,{"$f":"IFERROR(AVERAGE(U36:U40),\"-\")","v":"-"},null,{"$f":"IFERROR(AVERAGE(W36:W40),\"-\")","v":"-"},null,{"$f":"IFERROR(AVERAGE(Y36:Y40),\"-\")","v":"-"}]
[null,null,null,{"$f":"IF($H$2=\"G\",Skillserleuterungen_FTEM!F28,Skillserleuterungen_FTEM!B28)","v":"Lernfähigkeit"},null,null,{"$f":"IF($H$2=\"G\",Skillserleuterungen_FTEM!G28,Skillserleuterungen_FTEM!C28)","v":"hat eine gute Auffassungsgabe (nimmt auf und kann umsetzen), reflektiert eigenes Handeln, versucht aus Fehlern zu lernen und kann Massnahmen ableiten"},null,null,{"$f":"IF($H$2=\"G\",Skillserleuterungen_FTEM!#REF!,Skillserleuterungen_FTEM!#REF!)","v":{"$error":"#REF!"}}]
[null,null,null,{"$f":"IF($H$2=\"G\",Skillserleuterungen_FTEM!F29,Skillserleuterungen_FTEM!B29)","v":"Eigenverantwortung"},null,null,{"$f":"IF($H$2=\"G\",Skillserleuterungen_FTEM!G29,Skillserleuterungen_FTEM!C29)","v":"übernimmt Verantwortung für eigene Leistungen und Entwicklung, handelt selbständig, achtet auf Details, zeigt grosses Engagement in allen Bereichen"},null,null,{"$f":"IF($H$2=\"G\",Skillserleuterungen_FTEM!#REF!,Skillserleuterungen_FTEM!#REF!)","v":{"$error":"#REF!"}}]
[null,null,null,{"$f":"IF($H$2=\"G\",Skillserleuterungen_FTEM!F30,Skillserleuterungen_FTEM!B30)","v":"Motivation"},null,null,{"$f":"IF($H$2=\"G\",Skillserleuterungen_FTEM!G30,Skillserleuterungen_FTEM!C30)","v":"Intrinsischer Antrieb, will sich ständig weiterentwickeln und lernen, will die Erste sein und Erfolg haben, gibt nie auf und lässt sich auch durch Misserfolge nicht vom Weg abbringen"},null,null,{"$f":"IF($H$2=\"G\",Skillserleuterungen_FTEM!#REF!,Skillserleuterungen_FTEM!#REF!)","v":{"$error":"#REF!"}}]
[null,null,null,{"$f":"IF($H$2=\"G\",Skillserleuterungen_FTEM!F31,Skillserleuterungen_FTEM!B31)","v":"Performance Lifestyle"},null,null,{"$f":"IF($H$2=\"G\",Skillserleuterungen_FTEM!G31,Skillserleuterungen_FTEM!C31)","v":"managt Alltag und Umfeld nach dem Leistungsprinzip, hartnäckig, beharrlich und zielgerichtet, Fokus auf eigene Leistung, zeigt Biss und kann sich auch gegen Widerstände durchsetzen, Herausforderungen spornen sie an"},null,null,{"$f":"IF($H$2=\"G\",Skillserleuterungen_FTEM!#REF!,Skillserleuterungen_FTEM!#REF!)","v":{"$error":"#REF!"}}]
[{"$f":"Skillserleuterungen_FTEM!A32","v":"MENTALE STÄRKE"},null,null,{"$f":"IF($H$2=\"G\",Skillserleuterungen_FTEM!F32,Skillserleuterungen_FTEM!B32)","v":"Einsatzbereitschaft"},null,null,{"$f":"IF($H$2=\"G\",Skillserleuterungen_FTEM!G32,Skillserleuterungen_FTEM!C32)","v":"zeigt im Spiel und im Training hohe Intensität, gibt immer ihr Maximum und will ihre Limiten pushen, zeigt Leidenschaft, ist um hohe Trainingsqualität bemüht"},null,null,{"$f":"IF($H$2=\"G\",Skillserleuterungen_FTEM!#REF!,Skillserleuterungen_FTEM!#REF!)","v":{"$error":"#REF!"}},null,null,null,{"$f":"IFERROR(AVERAGE(O41:O45),\"-\")","v":"-"},null,{"$f":"IFERROR(AVERAGE(Q41:Q45),\"-\")","v":"-"},null,{"$f":"IFERROR(AVERAGE(S41:S45),\"-\")","v":"-"},null,{"$f":"IFERROR(AVERAGE(U41:U45),\"-\")","v":"-"},null,{"$f":"IFERROR(AVERAGE(W41:W45),\"-\")","v":"-"},null,{"$f":"IFERROR(AVERAGE(Y41:Y45),\"-\")","v":"-"}]
[null,null,null,{"$f":"IF($H$2=\"G\",Skillserleuterungen_FTEM!F33,Skillserleuterungen_FTEM!B33)","v":"Vorbereitung"},null,null,{"$f":"IF($H$2=\"G\",Skillserleuterungen_FTEM!G33,Skillserleuterungen_FTEM!C33)","v":"bewusste und gezielte Vorbereitung, mental wie auch physisch, verfügt über einen effizienten Ablauf zur Erreichung des idealen Leistungszustand (ILZ)"},null,null,{"$f":"IF($H$2=\"G\",Skillserleuterungen_FTEM!#REF!,Skillserleuterungen_FTEM!#REF!)","v":{"$error":"#REF!"}}]
[null,null,null,{"$f":"IF($H$2=\"G\",Skillserleuterungen_FTEM!F34,Skillserleuterungen_FTEM!B34)","v":"Selbstcoaching"},null,null,{"$f":"IF($H$2=\"G\",Skillserleuterungen_FTEM!G34,Skillserleuterungen_FTEM!C34)","v":"verfügt über gute Konzentrationsfähigkeit, kann während Spiel/Training ihren ILZ halten, kann mentale Grundtechniken anwenden, widerstandsfähig gegen negative Gedanken und Einflüsse, ist sich ihrer Körpersprache bewusst und kann diese regulieren"},null,null,{"$f":"IF($H$2=\"G\",Skillserleuterungen_FTEM!#REF!,Skillserleuterungen_FTEM!#REF!)","v":{"$error":"#REF!"}}]
[null,null,null,{"$f":"IF($H$2=\"G\",Skillserleuterungen_FTEM!F35,Skillserleuterungen_FTEM!B35)","v":"Energiemanagement"},null,null,{"$f":"IF($H$2=\"G\",Skillserleuterungen_FTEM!G35,Skillserleuterungen_FTEM!C35)","v":"kann eigene Energie regulieren, bereit zur Regeneration, weiss wann sie \"Vollgas\" geben muss und wann abschalten, On/Off-Schalter"},null,null,{"$f":"IF($H$2=\"G\",Skillserleuterungen_FTEM!#REF!,Skillserleuterungen_FTEM!#REF!)","v":{"$error":"#REF!"}}]
[null,null,null,{"$f":"IF($H$2=\"G\",Skillserleuterungen_FTEM!F36,Skillserleuterungen_FTEM!B36)","v":"Emotionskontrolle"},null,null,{"$f":"IF($H$2=\"G\",Skillserleuterungen_FTEM!G36,Skillserleuterungen_FTEM!C36)","v":"kann eigene Emotionen und Impulse regulieren, behält auch unter Druck die Kontrolle, kann auch in emotional anspruchsvollen oder frustrierenden Situationen angemessen agieren"},null,null,{"$f":"IF($H$2=\"G\",Skillserleuterungen_FTEM!#REF!,Skillserleuterungen_FTEM!#REF!)","v":{"$error":"#REF!"}}]
[{"$f":"Skillserleuterungen_FTEM!A37","v":"PHYSE"},null,null,{"$f":"IF($H$2=\"G\",Skillserleuterungen_FTEM!F37,Skillserleuterungen_FTEM!B37)","v":"Leistungserzeugung"},null,null,{"$f":"IF($H$2=\"G\",Skillserleuterungen_FTEM!G37,Skillserleuterungen_FTEM!C37)","v":"verfügt über die nötige Power/Kraft/Schnelligkeit in den Beinen und im Oberkörper (Neuromuskuläre Faktoren)"},null,null,{"$f":"IF($H$2=\"G\",Skillserleuterungen_FTEM!#REF!,Skillserleuterungen_FTEM!#REF!)","v":{"$error":"#REF!"}},null,null,null,{"$f":"IFERROR(AVERAGE(O46:O50),\"-\")","v":"-"},null,{"$f":"IFERROR(AVERAGE(Q46:Q50),\"-\")","v":"-"},null,{"$f":"IFERROR(AVERAGE(S46:S50),\"-\")","v":"-"},null,{"$f":"IFERROR(AVERAGE(U46:U50),\"-\")","v":"-"},null,{"$f":"IFERROR(AVERAGE(W46:W50),\"-\")","v":"-"},null,{"$f":"IFERROR(AVERAGE(Y46:Y50),\"-\")","v":"-"}]
[null,null,null,{"$f":"IF($H$2=\"G\",Skillserleuterungen_FTEM!F38,Skillserleuterungen_FTEM!B38)","v":"sporartspez. Ermüdungsresistenz"},null,null,{"$f":"IF($H$2=\"G\",Skillserleuterungen_FTEM!G38,Skillserleuterungen_FTEM!C38)","v":"Ist fähig  die Power/Kraft/Schnelligkeit innerhalb des Einsatzes lange aufrechtzuerhalten und kann sich zwischen den Einsätzen jeweils vollkommen erholen (Metabolische und kardiovaskuläre Faktoren)"},null,null,{"$f":"IF($H$2=\"G\",Skillserleuterungen_FTEM!#REF!,Skillserleuterungen_FTEM!#REF!)","v":{"$error":"#REF!"}}]
[null,null,null,{"$f":"IF($H$2=\"G\",Skillserleuterungen_FTEM!F39,Skillserleuterungen_FTEM!B39)","v":"Gesundheit / Prävention"},null,null,{"$f":"IF($H$2=\"G\",Skillserleuterungen_FTEM!G39,Skillserleuterungen_FTEM!C39)","v":"verfügt über die nötige Stabilität (z.B. Beinachsenstabilität) und Beweglichkeit in den zentralen Gelenken"},null,null,{"$f":"IF($H$2=\"G\",Skillserleuterungen_FTEM!#REF!,Skillserleuterungen_FTEM!#REF!)","v":{"$error":"#REF!"}}]
[null,null,null,{"$f":"IF($H$2=\"G\",Skillserleuterungen_FTEM!F40,Skillserleuterungen_FTEM!B40)","v":"Bewegungskompetenzen"},null,null,{"$f":"IF($H$2=\"G\",Skillserleuterungen_FTEM!G40,Skillserleuterungen_FTEM!C40)","v":"beherrscht die grundlegenden Bewegungsfertigkeiten, die eine unerlässliche Zubringerfunktion für die sportspezifischen \"Skills\" darstellt sowie zur nötigen Bewegungseffizienz führt"},null,null,{"$f":"IF($H$2=\"G\",Skillserleuterungen_FTEM!#REF!,Skillserleuterungen_FTEM!#REF!)","v":{"$error":"#REF!"}}]
[null,null,null,{"$f":"IF($H$2=\"G\",Skillserleuterungen_FTEM!F41,Skillserleuterungen_FTEM!B41)","v":"Robustheit"},null,null,{"$f":"IF($H$2=\"G\",Skillserleuterungen_FTEM!G41,Skillserleuterungen_FTEM!C41)","v":"verfügt über die nötige Grundkraft (Körperspannung), um sich in Zweikämpfen durchzusetzen und bei Zusammestössen standzuhalten"},null,null,{"$f":"IF($H$2=\"G\",Skillserleuterungen_FTEM!#REF!,Skillserleuterungen_FTEM!#REF!)","v":{"$error":"#REF!"}}]

{"sheet":"14","index":17,"n_rows":50,"n_cols":36,"rows_kept":50,"cut":false,"hidden":false,"merged":[[13,3,13,5],[14,3,14,5],[15,3,15,5],[13,6,13,11],[14,6,14,11],[15,6,15,11],[21,3,21,5],[21,6,21,11],[26,3,26,5],[26,6,26,11],[0,0,0,24],[0,25,0,26],[0,27,0,32],[0,33,0,35],[29,25,33,25],[29,26,33,32],[29,34,33,34],[35,25,39,25],[35,26,39,32],[35,34,39,34],[1,0,1,1],[1,2,1,5],[1,10,1,24],[2,0,2,1],[2,2,2,5],[2,11,2,24],[6,0,6,1],[6,2,6,35],[7,0,7,1],[7,2,7,35],[8,0,8,1],[8,2,8,35],[3,0,3,1],[3,10,3,24],[4,0,4,1],[4,2,4,5],[4,10,4,24],[10,0,10,24],[10,25,10,35],[40,25,44,25],[40,26,44,32],[40,34,44,34],[12,25,16,25],[12,26,16,32],[12,34,16,34],[18,25,22,25],[18,26,22,32],[18,34,22,34],[23,25,28,25],[23,26,28,32],[23,34,28,34],[17,26,17,32],[11,0,11,2],[11,3,11,5],[11,13,11,14],[11,15,11,16],[11,17,11,18],[11,19,11,20],[11,21,11,22],[11,23,11,24],[11,26,11,32],[11,6,11,11],[12,23,16,23],[16,3,16,5],[16,6,16,11],[17,0,17,2],[17,3,17,5],[17,6,17,11],[17,13,17,14],[17,15,17,16],[17,17,17,18],[17,19,17,20],[17,21,17,22],[17,23,17,24],[12,0,16,2],[12,3,12,5],[12,6,12,11],[12,12,16,12],[12,13,16,13],[12,15,16,15],[12,17,16,17],[12,19,16,19],[12,21,16,21],[18,15,22,15],[18,17,22,17],[18,19,22,19],[18,21,22,21],[18,23,22,23],[22,3,22,5],[22,6,22,11],[23,0,28,2],[23,3,23,5],[23,6,23,11],[23,12,28,12],[23,13,28,13],[23,15,28,15],[23,17,28,17],[18,0,22,2],[18,3,18,5],[18,6,18,11],[18,12,22,12],[18,13,22,13],[19,3,19,5],[19,6,19,11],[20,3,20,5],[20,6,20,11],[23,19,28,19],[23,21,28,21],[23,23,28,23],[24,3,24,5],[24,6,24,11],[28,3,28,5],[28,6,28,11],[33,3,33,5],[33,6,33,11],[29,23,33,23],[29,17,33,17],[29,19,33,19],[29,21,33,21],[30,3,30,5],[30,6,30,11],[31,3,31,5],[31,6,31,11],[27,3,27,5],[27,6,27,11],[32,3,32,5],[32,6,32,11],[29,0,33,2],[29,3,29,5],[29,6,29,11],[29,12,33,12],[29,13,33,13],[29,15,33,15],[34,23,34,24],[34,26,34,32],[35,0,39,2],[35,3,35,5],[35,6,35,11],[35,12,39,12],[35,13,39,13],[35,15,39,15],[39,3,39,5],[39,6,39,11],[35,23,39,23],[34,0,34,2],[34,3,34,5],[34,6,34,11],[34,13,34,14],[34,15,34,16],[34,17,34,18],[34,19,34,20],[36,3,36,5],[36,6,36,11],[37,3,37,5],[37,6,37,11],[40,17,44,17],[40,19,44,19],[40,21,44,21],[41,3,41,5],[41,6,41,11],[44,3,44,5],[44,6,44,11],[38,3,38,5],[38,6,38,11],[43,3,43,5],[43,6,43,11],[45,26,49,32],[45,34,49,34],[25,3,25,5],[25,6,25,11],[42,3,42,5],[42,6,42,11],[45,0,49,2],[45,12,49,12],[45,13,49,13],[45,15,49,15],[45,17,49,17],[45,19,49,19],[45,21,49,21],[45,23,49,23],[45,25,49,25],[45,3,45,5],[45,6,45,11],[46,3,46,5],[46,6,46,11],[40,15,44,15],[34,21,34,22],[35,17,39,17],[35,19,39,19],[35,21,39,21],[47,3,47,5],[47,6,47,11],[49,3,49,5],[49,6,49,11],[40,23,44,23],[40,0,44,2],[40,3,40,5],[40,6,40,11],[40,12,44,12],[40,13,44,13],[48,3,48,5],[48,6,48,11]]}
["Personalien",null,null,null,null,null,null,null,null,null,null,null,null,null,null,null,null,null,null,null,null,null,null,null,null,"Vorausetzungen",null,"Evaluationen",null,null,null,null,null,"Rating"]
["VORNAME",null,{"$f":"IF(ISBLANK(VLOOKUP(14,Tabelle3[],3,0)),\"-\",VLOOKUP(14,Tabelle3[],3,0))","v":"-"},null,null,null,"POSITION",null,null,"ADRESSE",{"$f":"IF(ISBLANK(VLOOKUP(14,Tabelle3[],5,0)),\"-\",VLOOKUP(14,Tabelle3[],5,0))","v":"-"},null,null,null,null,null,null,null,null,null,null,null,null,null,null,"\"Alter\" (Biologisch/Relative Age)",null,"Datum 1",null,null,"cm",null,"Kg",null,"AUSGEZEICHNET",5]
["NAME",null,{"$f":"IF(ISBLANK(VLOOKUP(14,Tabelle3[],2,0)),\"-\",VLOOKUP(14,Tabelle3[],2,0))","v":"-"},null,null,null,"STOCK",null,null,"WOHNORT",{"$f":"IF(ISBLANK(VLOOKUP(14,Tabelle3[],7,0)),\"-\",VLOOKUP(14,Tabelle3[],7,0))","v":"-"},{"$f":"IF(ISBLANK(VLOOKUP(14,Tabelle3[],6,0)),\"-\",VLOOKUP(14,Tabelle3[],6,0))","v":"-"},null,null,null,null,null,null,null,null,null,null,null,null,null,"Veranlagung",null,"Datum 2",null,null,"cm",null,"Kg",null,"GUT",4]
["GEB. DATUM",null,{"$f":"IF(ISBLANK(VLOOKUP(14,Tabelle3[],14,0)),\"-\",VLOOKUP(14,Tabelle3[],14,0))","v":"-"},{"$f":"IF(ISBLANK(VLOOKUP(14,Tabelle3[],15,0)),\"-\",VLOOKUP(14,Tabelle3[],15,0))","v":"-"},{"$f":"IF(ISBLANK(VLOOKUP(14,Tabelle3[],16,0)),\"-\",VLOOKUP(14,Tabelle3[],16,0))","v":"-"},null,"GRÖSSE",null,"cm (Final)","CLUB",{"$f":"IF(ISBLANK(VLOOKUP(14,Tabelle3[],8,0)),\"-\",VLOOKUP(14,Tabelle3[],8,0))","v":"-"},null,null,null,null,null,null,null,null,null,null,null,null,null,null,"Umfeld",null,"Datum 3",null,null,"cm",null,"Kg",null,"DURCHSCHNITT",3]
["SEX",null,{"$f":"IF(ISBLANK(VLOOKUP(14,Tabelle3[],13,0)),\"-\",VLOOKUP(14,Tabelle3[],13,0))","v":"-"},null,null,null,"GEWICHT",null,"Kg (Final)","E-Mail",{"$f":"IF(ISBLANK(VLOOKUP(14,Tabelle3[],9,0)),\"-\",VLOOKUP(14,Tabelle3[],9,0))","v":"-"},null,null,null,null,null,null,null,null,null,null,null,null,null,null,null,null,"Datum 4",null,null,"cm",null,"Kg",null,"MANGELHAFT",2]
[null,null,null,null,null,null,null,null,null,null,null,null,null,null,null,null,null,null,null,null,null,null,null,null,null,null,null,"Datum 5",null,null,"cm",null,"Kg",null,"UNGENÜGEND",1]
["Vision",null,"xxx"]
["Ziele",null,"xxx"]
["Stärken",null,"xxx"]
[]
["EVALUATION (COACH / SPIELERIN)",null,null,null,null,null,null,null,null,null,null,null,null,null,null,null,null,null,null,null,null,null,null,null,null,"SMART"]
[{"$f":"Skillserleuterungen_FTEM!A3","v":"TEAM"},null,null,{"$f":"Skillserleuterungen_FTEM!B3","v":"FÄHIGKEIT"},null,null,{"$f":"Skillserleuterungen_FTEM!C3","v":"BEOBACHTUNG"},null,null,null,null,null,"Final","Datum1",null,"Datum2",null,"Datum3",null,"Datum4",null,"Datum5",null,"Player",null,"ZIEL","MASSNAHME:\nSPEZIFISCH,  MESSBAR, REALISITISCH",null,null,null,null,null,null,"TERMIN","ZIEL-KONTROLLE","Datum"]
[{"$f":"Skillserleuterungen_FTEM!A4","v":"TEAM"},null,null,{"$f":"IF($H$2=\"G\",Skillserleuterungen_FTEM!F4,Skillserleuterungen_FTEM!B4)","v":"Kommunikation"},null,null,{"$f":"IF($H$2=\"G\",Skillserleuterungen_FTEM!G4,Skillserleuterungen_FTEM!C4)","v":"pflegt einen offenen, respektvollen Umgang, Vertrauensbasis als Grundlage, trägt Konflikte aus ohne die Stabilität der Gruppe zu gefährden, kommuniziert mit Mitspielerinnen, Trainern und Funktionären gleichermassen wertschätzend"},null,null,{"$f":"IF($H$2=\"G\",Skillserleuterungen_FTEM!#REF!,Skillserleuterungen_FTEM!#REF!)","v":{"$error":"#REF!"}},null,null,null,{"$f":"IFERROR(AVERAGE(O13:O17),\"-\")","v":"-"},null,{"$f":"IFERROR(AVERAGE(Q13:Q17),\"-\")","v":"-"},null,{"$f":"IFERROR(AVERAGE(S13:S17),\"-\")","v":"-"},null,{"$f":"IFERROR(AVERAGE(U13:U17),\"-\")","v":"-"},null,null,null,{"$f":"IFERROR(AVERAGE(Y13:Y17),\"-\")","v":"-"}]
[null,null,null,{"$f":"IF($H$2=\"G\",Skillserleuterungen_FTEM!F5,Skillserleuterungen_FTEM!B5)","v":"Teamfähigkeit"},null,null,{"$f":"IF($H$2=\"G\",Skillserleuterungen_FTEM!G5,Skillserleuterungen_FTEM!C5)","v":"Integration in die Gruppe, gemeinsame Ziele bestimmen und verfolgen können, WIR vor dem ICH, trägt zu einem guten Team-Spirit und Arbeitsklima bei"},null,null,{"$f":"IF($H$2=\"G\",Skillserleuterungen_FTEM!#REF!,Skillserleuterungen_FTEM!#REF!)","v":{"$error":"#REF!"}}]
[null,null,null,{"$f":"IF($H$2=\"G\",Skillserleuterungen_FTEM!F6,Skillserleuterungen_FTEM!B6)","v":"Leadership"},null,null,{"$f":"IF($H$2=\"G\",Skillserleuterungen_FTEM!G6,Skillserleuterungen_FTEM!C6)","v":"übernimmt Verantwortung in der Gruppe, versucht Team und Mitspielerinnen besser zu machen, nimmt positiven Einfluss auf die Gruppendynamik"},null,null,{"$f":"IF($H$2=\"G\",Skillserleuterungen_FTEM!#REF!,Skillserleuterungen_FTEM!#REF!)","v":{"$error":"#REF!"}}]
[null,null,null,{"$f":"IF($H$2=\"G\",Skillserleuterungen_FTEM!F7,Skillserleuterungen_FTEM!B7)","v":"Rollenverteilung"},null,null,{"$f":"IF($H$2=\"G\",Skillserleuterungen_FTEM!G7,Skillserleuterungen_FTEM!C7)","v":"kennt ihre Rolle und füllt diese aus, ist sich ihrer Stellung im Team und im System bewusst, stellt eigene Kompetenzen in den Dienst des Teams"},null,null,{"$f":"IF($H$2=\"G\",Skillserleuterungen_FTEM!#REF!,Skillserleuterungen_FTEM!#REF!)","v":{"$error":"#REF!"}}]
[null,null,null,{"$f":"IF($H$2=\"G\",Skillserleuterungen_FTEM!F8,Skillserleuterungen_FTEM!B8)","v":"Respekt"},null,null,{"$f":"IF($H$2=\"G\",Skillserleuterungen_FTEM!G8,Skillserleuterungen_FTEM!C8)","v":"Respektvoller Umgang mit Mitspielerinnen, Trainern, Gegnern, Schiedsrichter und Staff; achtet die Regeln, Fairplayprinzipien (inkl. Anti-Doping)"},null,null,{"$f":"IF($H$2=\"G\",Skillserleuterungen_FTEM!#REF!,Skillserleuterungen_FTEM!#REF!)","v":{"$error":"#REF!"}}]
[{"$f":"Skillserleuterungen_FTEM!A9","v":"ON ICE"},null,null,{"$f":"Skillserleuterungen_FTEM!B9","v":"FÄHIGKEIT"},null,null,{"$f":"Skillserleuterungen_FTEM!C9","v":"BEOBACHTUNG"},null,null,null,null,null,null,"Datum1",null,"Datum2",null,"Datum3",null,"Datum4",null,"Datum5",null,"Player",null,"ZIEL","MASSNAHME:\nSPEZIFISCH,  MESSBAR, REALISITISCH",null,null,null,null,null,null,"TERMIN","ZIEL-KONTROLLE","Datum"]
[{"$f":"Skillserleuterungen_FTEM!A10","v":"SKATING"},null,null,{"$f":"IF($H$2=\"G\",Skillserleuterungen_FTEM!F10,Skillserleuterungen_FTEM!B10)","v":"Footspeed"},null,null,{"$f":"IF($H$2=\"G\",Skillserleuterungen_FTEM!G10,Skillserleuterungen_FTEM!C10)","v":"Beschleunigung, Antritt, erste 3 Schritte Explosivität, Frequenz"},null,null,{"$f":"IF($H$2=\"G\",Skillserleuterungen_FTEM!#REF!,Skillserleuterungen_FTEM!#REF!)","v":{"$error":"#REF!"}},null,null,null,{"$f":"IFERROR(AVERAGE(O19:O23),\"-\")","v":"-"},null,{"$f":"IFERROR(AVERAGE(Q19:Q23),\"-\")","v":"-"},null,{"$f":"IFERROR(AVERAGE(S19:S23),\"-\")","v":"-"},null,{"$f":"IFERROR(AVERAGE(U19:U23),\"-\")","v":"-"},null,{"$f":"IFERROR(AVERAGE(W19:W23),\"-\")","v":"-"},null,{"$f":"IFERROR(AVERAGE(Y19:Y23),\"-\")","v":"-"}]
[null,null,null,{"$f":"IF($H$2=\"G\",Skillserleuterungen_FTEM!F11,Skillserleuterungen_FTEM!B11)","v":"Topspeed"},null,null,{"$f":"IF($H$2=\"G\",Skillserleuterungen_FTEM!G11,Skillserleuterungen_FTEM!C11)","v":"Schnelligkeit, Gleitfähigkeit, vorwärts und rückwärts, Ökonomie"},null,null,{"$f":"IF($H$2=\"G\",Skillserleuterungen_FTEM!#REF!,Skillserleuterungen_FTEM!#REF!)","v":{"$error":"#REF!"}}]
[null,null,null,{"$f":"IF($H$2=\"G\",Skillserleuterungen_FTEM!F12,Skillserleuterungen_FTEM!B12)","v":"Agilität"},null,null,{"$f":"IF($H$2=\"G\",Skillserleuterungen_FTEM!G12,Skillserleuterungen_FTEM!C12)","v":"Richtungsänderung, Drehung, Stop und Start, \"Nummelin\""},null,null,{"$f":"IF($H$2=\"G\",Skillserleuterungen_FTEM!#REF!,Skillserleuterungen_FTEM!#REF!)","v":{"$error":"#REF!"}},null,null,null,{"$f":"IFERROR(AVERAGE(O21:O23),\"-\")","v":"-"},null,{"$f":"IFERROR(AVERAGE(Q21:Q23),\"-\")","v":"-"},null,{"$f":"IFERROR(AVERAGE(S21:S23),\"-\")","v":"-"},null,{"$f":"IFERROR(AVERAGE(U21:U23),\"-\")","v":"-"},null,{"$f":"IFERROR(AVERAGE(W21:W23),\"-\")","v":"-"},null,{"$f":"IFERROR(AVERAGE(Y21:Y23),\"-\")","v":"-"}]
[null,null,null,{"$f":"IF($H$2=\"G\",Skillserleuterungen_FTEM!F13,Skillserleuterungen_FTEM!B13)","v":"Balance"},null,null,{"$f":"IF($H$2=\"G\",Skillserleuterungen_FTEM!G13,Skillserleuterungen_FTEM!C13)","v":"Gleichgewicht, Standhaftfähigkeit, tiefe Position, ein- und beidbeinig"},null,null,{"$f":"IF($H$2=\"G\",Skillserleuterungen_FTEM!#REF!,Skillserleuterungen_FTEM!#REF!)","v":{"$error":"#REF!"}}]
[null,null,null,{"$f":"IF($H$2=\"G\",Skillserleuterungen_FTEM!F14,Skillserleuterungen_FTEM!B14)","v":"Backwards Skating"},null,null,{"$f":"IF($H$2=\"G\",Skillserleuterungen_FTEM!G14,Skillserleuterungen_FTEM!C14)","v":"Beschleunigung, Geschwindigkeit, Balance"},null,null,{"$f":"IF($H$2=\"G\",Skillserleuterungen_FTEM!#REF!,Skillserleuterungen_FTEM!#REF!)","v":{"$error":"#REF!"}}]
[{"$f":"Skillserleuterungen_FTEM!A15","v":"SKILLS"},null,null,{"$f":"IF($H$2=\"G\",Skillserleuterungen_FTEM!F15,Skillserleuterungen_FTEM!B15)","v":"Schiessen"},null,null,{"$f":"IF($H$2=\"G\",Skillserleuterungen_FTEM!G15,Skillserleuterungen_FTEM!C15)","v":"Effizienz (no space no time), Variantenreichtum, Überraschungsgrad (Quick Release), Präzision, Härte, (taktische Abschlüsse)"},null,null,{"$f":"IF($H$2=\"G\",Skillserleuterungen_FTEM!#REF!,Skillserleuterungen_FTEM!#REF!)","v":{"$error":"#REF!"}},null,null,null,{"$f":"IFERROR(AVERAGE(O24:O29),\"-\")","v":"-"},null,{"$f":"IFERROR(AVERAGE(Q24:Q29),\"-\")","v":"-"},null,{"$f":"IFERROR(AVERAGE(S24:S29),\"-\")","v":"-"},null,{"$f":"IFERROR(AVERAGE(U24:U29),\"-\")","v":"-"},null,{"$f":"IFERROR(AVERAGE(W24:W29),\"-\")","v":"-"},null,{"$f":"IFERROR(AVERAGE(Y24:Y29),\"-\")","v":"-"}]
[null,null,null,{"$f":"IF($H$2=\"G\",Skillserleuterungen_FTEM!F16,Skillserleuterungen_FTEM!B16)","v":"Passen"},null,null,{"$f":"IF($H$2=\"G\",Skillserleuterungen_FTEM!G16,Skillserleuterungen_FTEM!C16)","v":"Passabgabe (Distanz, Flippass Backhand), Passannahme (Präzision, Timing, Vorhand, Rückhand, Schlittschuh), Puckspeed "},null,null,{"$f":"IF($H$2=\"G\",Skillserleuterungen_FTEM!#REF!,Skillserleuterungen_FTEM!#REF!)","v":{"$error":"#REF!"}}]
[null,null,null,{"$f":"IF($H$2=\"G\",Skillserleuterungen_FTEM!F17,Skillserleuterungen_FTEM!B17)","v":"Stockarbeit"},null,null,{"$f":"IF($H$2=\"G\",Skillserleuterungen_FTEM!G17,Skillserleuterungen_FTEM!C17)","v":"Stock zum Puck, Passlinie unterbinden, ablenken, Stockkontrolle Gegenspielerin"},null,null,{"$f":"IF($H$2=\"G\",Skillserleuterungen_FTEM!#REF!,Skillserleuterungen_FTEM!#REF!)","v":{"$error":"#REF!"}}]
[null,null,null,{"$f":"IF($H$2=\"G\",Skillserleuterungen_FTEM!F18,Skillserleuterungen_FTEM!B18)","v":"Puck besitzen "},null,null,{"$f":"IF($H$2=\"G\",Skillserleuterungen_FTEM!G18,Skillserleuterungen_FTEM!C18)","v":"Puckkontrolle, Dribblings, Puck schützen, Finten (Varianten: mit Schlittschuh, mit sowie ohne Bande), Face-Off"},null,null,{"$f":"IF($H$2=\"G\",Skillserleuterungen_FTEM!#REF!,Skillserleuterungen_FTEM!#REF!)","v":{"$error":"#REF!"}}]
[null,null,null,{"$f":"IF($H$2=\"G\",Skillserleuterungen_FTEM!F19,Skillserleuterungen_FTEM!B19)","v":"Körperspiel"},null,null,{"$f":"IF($H$2=\"G\",Skillserleuterungen_FTEM!G19,Skillserleuterungen_FTEM!C19)","v":"Phyisches Durchsetzungsvermögen, Zweikampf (offenes Eis/Bande), Checks nehmen/Head up, Battle Level, Hart aber fair"},null,null,{"$f":"IF($H$2=\"G\",Skillserleuterungen_FTEM!#REF!,Skillserleuterungen_FTEM!#REF!)","v":{"$error":"#REF!"}}]
[null,null,null,{"$f":"IF($H$2=\"G\",Skillserleuterungen_FTEM!F20,Skillserleuterungen_FTEM!B20)","v":"-"},null,null,{"$f":"IF($H$2=\"G\",Skillserleuterungen_FTEM!G20,Skillserleuterungen_FTEM!C20)","v":"-"},null,null,{"$f":"IF($H$2=\"G\",Skillserleuterungen_FTEM!#REF!,Skillserleuterungen_FTEM!#REF!)","v":{"$error":"#REF!"}}]
[{"$f":"Skillserleuterungen_FTEM!A21","v":"HOCKEY SENSE"},null,null,{"$f":"IF($H$2=\"G\",Skillserleuterungen_FTEM!F21,Skillserleuterungen_FTEM!B21)","v":"Spielintelligenz"},null,null,{"$f":"IF($H$2=\"G\",Skillserleuterungen_FTEM!G21,Skillserleuterungen_FTEM!C21)","v":"Freie Räume und Spielerin sehen und Überzahlsituationen kreieren, lösungsorientiert agieren bei allen Bedingungen, Headspeed"},null,null,{"$f":"IF($H$2=\"G\",Skillserleuterungen_FTEM!#REF!,Skillserleuterungen_FTEM!#REF!)","v":{"$error":"#REF!"}},null,null,null,{"$f":"IFERROR(AVERAGE(O30:O34),\"-\")","v":"-"},null,{"$f":"IFERROR(AVERAGE(Q30:Q34),\"-\")","v":"-"},null,{"$f":"IFERROR(AVERAGE(S30:S34),\"-\")","v":"-"},null,{"$f":"IFERROR(AVERAGE(U30:U34),\"-\")","v":"-"},null,{"$f":"IFERROR(AVERAGE(W30:W34),\"-\")","v":"-"},null,{"$f":"IFERROR(AVERAGE(Y30:Y34),\"-\")","v":"-"}]
[null,null,null,{"$f":"IF($H$2=\"G\",Skillserleuterungen_FTEM!F22,Skillserleuterungen_FTEM!B22)","v":"Offensives Bewusstsein"},null,null,{"$f":"IF($H$2=\"G\",Skillserleuterungen_FTEM!G22,Skillserleuterungen_FTEM!C22)","v":"Anspielbar, Antizipation der Spielsituationen, Freiräume für Mitspielerinnen öffnen, Abschlussorientiert sein, Gapspeed, gute Kommunikation"},null,null,{"$f":"IF($H$2=\"G\",Skillserleuterungen_FTEM!#REF!,Skillserleuterungen_FTEM!#REF!)","v":{"$error":"#REF!"}}]
[null,null,null,{"$f":"IF($H$2=\"G\",Skillserleuterungen_FTEM!F23,Skillserleuterungen_FTEM!B23)","v":"Defensiv Bewusstsein"},null,null,{"$f":"IF($H$2=\"G\",Skillserleuterungen_FTEM!G23,Skillserleuterungen_FTEM!C23)","v":"Inside Position halten, Slot beschützen, Mitspieler absichern/Support, Passlinie erkennen, Schüsse blockieren. Gapspeed, gute Komunikation"},null,null,{"$f":"IF($H$2=\"G\",Skillserleuterungen_FTEM!#REF!,Skillserleuterungen_FTEM!#REF!)","v":{"$error":"#REF!"}}]
[null,null,null,{"$f":"IF($H$2=\"G\",Skillserleuterungen_FTEM!F24,Skillserleuterungen_FTEM!B24)","v":"Puckmanagement"},null,null,{"$f":"IF($H$2=\"G\",Skillserleuterungen_FTEM!G24,Skillserleuterungen_FTEM!C24)","v":"Situationsadäquate Entscheidungen treffen, Support, Overload"},null,null,{"$f":"IF($H$2=\"G\",Skillserleuterungen_FTEM!#REF!,Skillserleuterungen_FTEM!#REF!)","v":{"$error":"#REF!"}}]
[null,null,null,{"$f":"IF($H$2=\"G\",Skillserleuterungen_FTEM!F25,Skillserleuterungen_FTEM!B25)","v":"Kreativität"},null,null,{"$f":"IF($H$2=\"G\",Skillserleuterungen_FTEM!G25,Skillserleuterungen_FTEM!C25)","v":"Überraschende Lösungen, Torriecher"},null,null,{"$f":"IF($H$2=\"G\",Skillserleuterungen_FTEM!#REF!,Skillserleuterungen_FTEM!#REF!)","v":{"$error":"#REF!"}}]
[{"$f":"Skillserleuterungen_FTEM!A26","v":"PERSONALITY"},null,null,{"$f":"Skillserleuterungen_FTEM!B26","v":"FÄHIGKEIT"},null,null,{"$f":"Skillserleuterungen_FTEM!C26","v":"BEOBACHTUNG"},null,null,null,null,null,null,"Datum1",null,"Datum2",null,"Datum3",null,"Datum4",null,"Datum5",null,"Player",null,"ZIEL","MASSNAHME:\nSPEZIFISCH,  MESSBAR, REALISITISCH",null,null,null,null,null,null,"TERMIN","ZIEL-KONTROLLE","Datum"]
[{"$f":"Skillserleuterungen_FTEM!A27","v":"PERSÖNLICHKEIT"},null,null,{"$f":"IF($H$2=\"G\",Skillserleuterungen_FTEM!F27,Skillserleuterungen_FTEM!B27)","v":"Selbstbewusstsein"},null,null,{"$f":"IF($H$2=\"G\",Skillserleuterungen_FTEM!G27,Skillserleuterungen_FTEM!C27)","v":"hat das nötige Selbstvertrauen,\"I can do it\"-Haltung, kann eigene Fähigkeiten einschätzen (kennt eigene Stärken/Schwächen), kann ihre Stärken konstant einsetzen, agiert mutig und nimmt kalkulierte Risiken"},null,null,{"$f":"IF($H$2=\"G\",Skillserleuterungen_FTEM!#REF!,Skillserleuterungen_FTEM!#REF!)","v":{"$error":"#REF!"}},null,null,null,{"$f":"IFERROR(AVERAGE(O36:O40),\"-\")","v":"-"},null,{"$f":"IFERROR(AVERAGE(Q36:Q40),\"-\")","v":"-"},null,{"$f":"IFERROR(AVERAGE(S36:S40),\"-\")","v":"-"},null,{"$f":"IFERROR(AVERAGE(U36:U40),\"-\")","v":"-"},null,{"$f":"IFERROR(AVERAGE(W36:W40),\"-\")","v":"-"},null,{"$f":"IFERROR(AVERAGE(Y36:Y40),\"-\")","v":"-"}]
[null,null,null,{"$f":"IF($H$2=\"G\",Skillserleuterungen_FTEM!F28,Skillserleuterungen_FTEM!B28)","v":"Lernfähigkeit"},null,null,{"$f":"IF($H$2=\"G\",Skillserleuterungen_FTEM!G28,Skillserleuterungen_FTEM!C28)","v":"hat eine gute Auffassungsgabe (nimmt auf und kann umsetzen), reflektiert eigenes Handeln, versucht aus Fehlern zu lernen und kann Massnahmen ableiten"},null,null,{"$f":"IF($H$2=\"G\",Skillserleuterungen_FTEM!#REF!,Skillserleuterungen_FTEM!#REF!)","v":{"$error":"#REF!"}}]
[null,null,null,{"$f":"IF($H$2=\"G\",Skillserleuterungen_FTEM!F29,Skillserleuterungen_FTEM!B29)","v":"Eigenverantwortung"},null,null,{"$f":"IF($H$2=\"G\",Skillserleuterungen_FTEM!G29,Skillserleuterungen_FTEM!C29)","v":"übernimmt Verantwortung für eigene Leistungen und Entwicklung, handelt selbständig, achtet auf Details, zeigt grosses Engagement in allen Bereichen"},null,null,{"$f":"IF($H$2=\"G\",Skillserleuterungen_FTEM!#REF!,Skillserleuterungen_FTEM!#REF!)","v":{"$error":"#REF!"}}]
[null,null,null,{"$f":"IF($H$2=\"G\",Skillserleuterungen_FTEM!F30,Skillserleuterungen_FTEM!B30)","v":"Motivation"},null,null,{"$f":"IF($H$2=\"G\",Skillserleuterungen_FTEM!G30,Skillserleuterungen_FTEM!C30)","v":"Intrinsischer Antrieb, will sich ständig weiterentwickeln und lernen, will die Erste sein und Erfolg haben, gibt nie auf und lässt sich auch durch Misserfolge nicht vom Weg abbringen"},null,null,{"$f":"IF($H$2=\"G\",Skillserleuterungen_FTEM!#REF!,Skillserleuterungen_FTEM!#REF!)","v":{"$error":"#REF!"}}]
[null,null,null,{"$f":"IF($H$2=\"G\",Skillserleuterungen_FTEM!F31,Skillserleuterungen_FTEM!B31)","v":"Performance Lifestyle"},null,null,{"$f":"IF($H$2=\"G\",Skillserleuterungen_FTEM!G31,Skillserleuterungen_FTEM!C31)","v":"managt Alltag und Umfeld nach dem Leistungsprinzip, hartnäckig, beharrlich und zielgerichtet, Fokus auf eigene Leistung, zeigt Biss und kann sich auch gegen Widerstände durchsetzen, Herausforderungen spornen sie an"},null,null,{"$f":"IF($H$2=\"G\",Skillserleuterungen_FTEM!#REF!,Skillserleuterungen_FTEM!#REF!)","v":{"$error":"#REF!"}}]
[{"$f":"Skillserleuterungen_FTEM!A32","v":"MENTALE STÄRKE"},null,null,{"$f":"IF($H$2=\"G\",Skillserleuterungen_FTEM!F32,Skillserleuterungen_FTEM!B32)","v":"Einsatzbereitschaft"},null,null,{"$f":"IF($H$2=\"G\",Skillserleuterungen_FTEM!G32,Skillserleuterungen_FTEM!C32)","v":"zeigt im Spiel und im Training hohe Intensität, gibt immer ihr Maximum und will ihre Limiten pushen, zeigt Leidenschaft, ist um hohe Trainingsqualität bemüht"},null,null,{"$f":"IF($H$2=\"G\",Skillserleuterungen_FTEM!#REF!,Skillserleuterungen_FTEM!#REF!)","v":{"$error":"#REF!"}},null,null,null,{"$f":"IFERROR(AVERAGE(O41:O45),\"-\")","v":"-"},null,{"$f":"IFERROR(AVERAGE(Q41:Q45),\"-\")","v":"-"},null,{"$f":"IFERROR(AVERAGE(S41:S45),\"-\")","v":"-"},null,{"$f":"IFERROR(AVERAGE(U41:U45),\"-\")","v":"-"},null,{"$f":"IFERROR(AVERAGE(W41:W45),\"-\")","v":"-"},null,{"$f":"IFERROR(AVERAGE(Y41:Y45),\"-\")","v":"-"}]
[null,null,null,{"$f":"IF($H$2=\"G\",Skillserleuterungen_FTEM!F33,Skillserleuterungen_FTEM!B33)","v":"Vorbereitung"},null,null,{"$f":"IF($H$2=\"G\",Skillserleuterungen_FTEM!G33,Skillserleuterungen_FTEM!C33)","v":"bewusste und gezielte Vorbereitung, mental wie auch physisch, verfügt über einen effizienten Ablauf zur Erreichung des idealen Leistungszustand (ILZ)"},null,null,{"$f":"IF($H$2=\"G\",Skillserleuterungen_FTEM!#REF!,Skillserleuterungen_FTEM!#REF!)","v":{"$error":"#REF!"}}]
[null,null,null,{"$f":"IF($H$2=\"G\",Skillserleuterungen_FTEM!F34,Skillserleuterungen_FTEM!B34)","v":"Selbstcoaching"},null,null,{"$f":"IF($H$2=\"G\",Skillserleuterungen_FTEM!G34,Skillserleuterungen_FTEM!C34)","v":"verfügt über gute Konzentrationsfähigkeit, kann während Spiel/Training ihren ILZ halten, kann mentale Grundtechniken anwenden, widerstandsfähig gegen negative Gedanken und Einflüsse, ist sich ihrer Körpersprache bewusst und kann diese regulieren"},null,null,{"$f":"IF($H$2=\"G\",Skillserleuterungen_FTEM!#REF!,Skillserleuterungen_FTEM!#REF!)","v":{"$error":"#REF!"}}]
[null,null,null,{"$f":"IF($H$2=\"G\",Skillserleuterungen_FTEM!F35,Skillserleuterungen_FTEM!B35)","v":"Energiemanagement"},null,null,{"$f":"IF($H$2=\"G\",Skillserleuterungen_FTEM!G35,Skillserleuterungen_FTEM!C35)","v":"kann eigene Energie regulieren, bereit zur Regeneration, weiss wann sie \"Vollgas\" geben muss und wann abschalten, On/Off-Schalter"},null,null,{"$f":"IF($H$2=\"G\",Skillserleuterungen_FTEM!#REF!,Skillserleuterungen_FTEM!#REF!)","v":{"$error":"#REF!"}}]
[null,null,null,{"$f":"IF($H$2=\"G\",Skillserleuterungen_FTEM!F36,Skillserleuterungen_FTEM!B36)","v":"Emotionskontrolle"},null,null,{"$f":"IF($H$2=\"G\",Skillserleuterungen_FTEM!G36,Skillserleuterungen_FTEM!C36)","v":"kann eigene Emotionen und Impulse regulieren, behält auch unter Druck die Kontrolle, kann auch in emotional anspruchsvollen oder frustrierenden Situationen angemessen agieren"},null,null,{"$f":"IF($H$2=\"G\",Skillserleuterungen_FTEM!#REF!,Skillserleuterungen_FTEM!#REF!)","v":{"$error":"#REF!"}}]
[{"$f":"Skillserleuterungen_FTEM!A37","v":"PHYSE"},null,null,{"$f":"IF($H$2=\"G\",Skillserleuterungen_FTEM!F37,Skillserleuterungen_FTEM!B37)","v":"Leistungserzeugung"},null,null,{"$f":"IF($H$2=\"G\",Skillserleuterungen_FTEM!G37,Skillserleuterungen_FTEM!C37)","v":"verfügt über die nötige Power/Kraft/Schnelligkeit in den Beinen und im Oberkörper (Neuromuskuläre Faktoren)"},null,null,{"$f":"IF($H$2=\"G\",Skillserleuterungen_FTEM!#REF!,Skillserleuterungen_FTEM!#REF!)","v":{"$error":"#REF!"}},null,null,null,{"$f":"IFERROR(AVERAGE(O46:O50),\"-\")","v":"-"},null,{"$f":"IFERROR(AVERAGE(Q46:Q50),\"-\")","v":"-"},null,{"$f":"IFERROR(AVERAGE(S46:S50),\"-\")","v":"-"},null,{"$f":"IFERROR(AVERAGE(U46:U50),\"-\")","v":"-"},null,{"$f":"IFERROR(AVERAGE(W46:W50),\"-\")","v":"-"},null,{"$f":"IFERROR(AVERAGE(Y46:Y50),\"-\")","v":"-"}]
[null,null,null,{"$f":"IF($H$2=\"G\",Skillserleuterungen_FTEM!F38,Skillserleuterungen_FTEM!B38)","v":"sporartspez. Ermüdungsresistenz"},null,null,{"$f":"IF($H$2=\"G\",Skillserleuterungen_FTEM!G38,Skillserleuterungen_FTEM!C38)","v":"Ist fähig  die Power/Kraft/Schnelligkeit innerhalb des Einsatzes lange aufrechtzuerhalten und kann sich zwischen den Einsätzen jeweils vollkommen erholen (Metabolische und kardiovaskuläre Faktoren)"},null,null,{"$f":"IF($H$2=\"G\",Skillserleuterungen_FTEM!#REF!,Skillserleuterungen_FTEM!#REF!)","v":{"$error":"#REF!"}}]
[null,null,null,{"$f":"IF($H$2=\"G\",Skillserleuterungen_FTEM!F39,Skillserleuterungen_FTEM!B39)","v":"Gesundheit / Prävention"},null,null,{"$f":"IF($H$2=\"G\",Skillserleuterungen_FTEM!G39,Skillserleuterungen_FTEM!C39)","v":"verfügt über die nötige Stabilität (z.B. Beinachsenstabilität) und Beweglichkeit in den zentralen Gelenken"},null,null,{"$f":"IF($H$2=\"G\",Skillserleuterungen_FTEM!#REF!,Skillserleuterungen_FTEM!#REF!)","v":{"$error":"#REF!"}}]
[null,null,null,{"$f":"IF($H$2=\"G\",Skillserleuterungen_FTEM!F40,Skillserleuterungen_FTEM!B40)","v":"Bewegungskompetenzen"},null,null,{"$f":"IF($H$2=\"G\",Skillserleuterungen_FTEM!G40,Skillserleuterungen_FTEM!C40)","v":"beherrscht die grundlegenden Bewegungsfertigkeiten, die eine unerlässliche Zubringerfunktion für die sportspezifischen \"Skills\" darstellt sowie zur nötigen Bewegungseffizienz führt"},null,null,{"$f":"IF($H$2=\"G\",Skillserleuterungen_FTEM!#REF!,Skillserleuterungen_FTEM!#REF!)","v":{"$error":"#REF!"}}]
[null,null,null,{"$f":"IF($H$2=\"G\",Skillserleuterungen_FTEM!F41,Skillserleuterungen_FTEM!B41)","v":"Robustheit"},null,null,{"$f":"IF($H$2=\"G\",Skillserleuterungen_FTEM!G41,Skillserleuterungen_FTEM!C41)","v":"verfügt über die nötige Grundkraft (Körperspannung), um sich in Zweikämpfen durchzusetzen und bei Zusammestössen standzuhalten"},null,null,{"$f":"IF($H$2=\"G\",Skillserleuterungen_FTEM!#REF!,Skillserleuterungen_FTEM!#REF!)","v":{"$error":"#REF!"}}]

{"sheet":"15","index":18,"n_rows":50,"n_cols":36,"rows_kept":50,"cut":false,"hidden":false,"merged":[[13,3,13,5],[14,3,14,5],[15,3,15,5],[13,6,13,11],[14,6,14,11],[15,6,15,11],[21,3,21,5],[21,6,21,11],[26,3,26,5],[26,6,26,11],[0,0,0,24],[0,25,0,26],[0,27,0,32],[0,33,0,35],[29,25,33,25],[29,26,33,32],[29,34,33,34],[35,25,39,25],[35,26,39,32],[35,34,39,34],[1,0,1,1],[1,2,1,5],[1,10,1,24],[2,0,2,1],[2,2,2,5],[2,11,2,24],[6,0,6,1],[6,2,6,35],[7,0,7,1],[7,2,7,35],[8,0,8,1],[8,2,8,35],[3,0,3,1],[3,10,3,24],[4,0,4,1],[4,2,4,5],[4,10,4,24],[10,0,10,24],[10,25,10,35],[40,25,44,25],[40,26,44,32],[40,34,44,34],[12,25,16,25],[12,26,16,32],[12,34,16,34],[18,25,22,25],[18,26,22,32],[18,34,22,34],[23,25,28,25],[23,26,28,32],[23,34,28,34],[17,26,17,32],[11,0,11,2],[11,3,11,5],[11,13,11,14],[11,15,11,16],[11,17,11,18],[11,19,11,20],[11,21,11,22],[11,23,11,24],[11,26,11,32],[11,6,11,11],[12,23,16,23],[16,3,16,5],[16,6,16,11],[17,0,17,2],[17,3,17,5],[17,6,17,11],[17,13,17,14],[17,15,17,16],[17,17,17,18],[17,19,17,20],[17,21,17,22],[17,23,17,24],[12,0,16,2],[12,3,12,5],[12,6,12,11],[12,12,16,12],[12,13,16,13],[12,15,16,15],[12,17,16,17],[12,19,16,19],[12,21,16,21],[18,15,22,15],[18,17,22,17],[18,19,22,19],[18,21,22,21],[18,23,22,23],[22,3,22,5],[22,6,22,11],[23,0,28,2],[23,3,23,5],[23,6,23,11],[23,12,28,12],[23,13,28,13],[23,15,28,15],[23,17,28,17],[18,0,22,2],[18,3,18,5],[18,6,18,11],[18,12,22,12],[18,13,22,13],[19,3,19,5],[19,6,19,11],[20,3,20,5],[20,6,20,11],[23,19,28,19],[23,21,28,21],[23,23,28,23],[24,3,24,5],[24,6,24,11],[28,3,28,5],[28,6,28,11],[33,3,33,5],[33,6,33,11],[29,23,33,23],[29,17,33,17],[29,19,33,19],[29,21,33,21],[30,3,30,5],[30,6,30,11],[31,3,31,5],[31,6,31,11],[27,3,27,5],[27,6,27,11],[32,3,32,5],[32,6,32,11],[29,0,33,2],[29,3,29,5],[29,6,29,11],[29,12,33,12],[29,13,33,13],[29,15,33,15],[34,23,34,24],[34,26,34,32],[35,0,39,2],[35,3,35,5],[35,6,35,11],[35,12,39,12],[35,13,39,13],[35,15,39,15],[39,3,39,5],[39,6,39,11],[35,23,39,23],[34,0,34,2],[34,3,34,5],[34,6,34,11],[34,13,34,14],[34,15,34,16],[34,17,34,18],[34,19,34,20],[36,3,36,5],[36,6,36,11],[37,3,37,5],[37,6,37,11],[40,17,44,17],[40,19,44,19],[40,21,44,21],[41,3,41,5],[41,6,41,11],[44,3,44,5],[44,6,44,11],[38,3,38,5],[38,6,38,11],[43,3,43,5],[43,6,43,11],[45,26,49,32],[45,34,49,34],[25,3,25,5],[25,6,25,11],[42,3,42,5],[42,6,42,11],[45,0,49,2],[45,12,49,12],[45,13,49,13],[45,15,49,15],[45,17,49,17],[45,19,49,19],[45,21,49,21],[45,23,49,23],[45,25,49,25],[45,3,45,5],[45,6,45,11],[46,3,46,5],[46,6,46,11],[40,15,44,15],[34,21,34,22],[35,17,39,17],[35,19,39,19],[35,21,39,21],[47,3,47,5],[47,6,47,11],[49,3,49,5],[49,6,49,11],[40,23,44,23],[40,0,44,2],[40,3,40,5],[40,6,40,11],[40,12,44,12],[40,13,44,13],[48,3,48,5],[48,6,48,11]]}
["Personalien",null,null,null,null,null,null,null,null,null,null,null,null,null,null,null,null,null,null,null,null,null,null,null,null,"Vorausetzungen",null,"Evaluationen",null,null,null,null,null,"Rating"]
["VORNAME",null,{"$f":"IF(ISBLANK(VLOOKUP(15,Tabelle3[],3,0)),\"-\",VLOOKUP(15,Tabelle3[],3,0))","v":"-"},null,null,null,"POSITION",null,null,"ADRESSE",{"$f":"IF(ISBLANK(VLOOKUP(15,Tabelle3[],5,0)),\"-\",VLOOKUP(15,Tabelle3[],5,0))","v":"-"},null,null,null,null,null,null,null,null,null,null,null,null,null,null,"\"Alter\" (Biologisch/Relative Age)",null,"Datum 1",null,null,"cm",null,"Kg",null,"AUSGEZEICHNET",5]
["NAME",null,{"$f":"IF(ISBLANK(VLOOKUP(15,Tabelle3[],2,0)),\"-\",VLOOKUP(15,Tabelle3[],2,0))","v":"-"},null,null,null,"STOCK",null,null,"WOHNORT",{"$f":"IF(ISBLANK(VLOOKUP(15,Tabelle3[],7,0)),\"-\",VLOOKUP(15,Tabelle3[],7,0))","v":"-"},{"$f":"IF(ISBLANK(VLOOKUP(15,Tabelle3[],6,0)),\"-\",VLOOKUP(15,Tabelle3[],6,0))","v":"-"},null,null,null,null,null,null,null,null,null,null,null,null,null,"Veranlagung",null,"Datum 2",null,null,"cm",null,"Kg",null,"GUT",4]
["GEB. DATUM",null,{"$f":"IF(ISBLANK(VLOOKUP(15,Tabelle3[],14,0)),\"-\",VLOOKUP(15,Tabelle3[],14,0))","v":"-"},{"$f":"IF(ISBLANK(VLOOKUP(15,Tabelle3[],15,0)),\"-\",VLOOKUP(15,Tabelle3[],15,0))","v":"-"},{"$f":"IF(ISBLANK(VLOOKUP(15,Tabelle3[],16,0)),\"-\",VLOOKUP(15,Tabelle3[],16,0))","v":"-"},null,"GRÖSSE",null,"cm (Final)","CLUB",{"$f":"IF(ISBLANK(VLOOKUP(15,Tabelle3[],8,0)),\"-\",VLOOKUP(15,Tabelle3[],8,0))","v":"-"},null,null,null,null,null,null,null,null,null,null,null,null,null,null,"Umfeld",null,"Datum 3",null,null,"cm",null,"Kg",null,"DURCHSCHNITT",3]
["SEX",null,{"$f":"IF(ISBLANK(VLOOKUP(15,Tabelle3[],13,0)),\"-\",VLOOKUP(15,Tabelle3[],13,0))","v":"-"},null,null,null,"GEWICHT",null,"Kg (Final)","E-Mail",{"$f":"IF(ISBLANK(VLOOKUP(15,Tabelle3[],9,0)),\"-\",VLOOKUP(15,Tabelle3[],9,0))","v":"-"},null,null,null,null,null,null,null,null,null,null,null,null,null,null,null,null,"Datum 4",null,null,"cm",null,"Kg",null,"MANGELHAFT",2]
[null,null,null,null,null,null,null,null,null,null,null,null,null,null,null,null,null,null,null,null,null,null,null,null,null,null,null,"Datum 5",null,null,"cm",null,"Kg",null,"UNGENÜGEND",1]
["Vision",null,"xxx"]
["Ziele",null,"xxx"]
["Stärken",null,"xxx"]
[]
["EVALUATION (COACH / SPIELERIN)",null,null,null,null,null,null,null,null,null,null,null,null,null,null,null,null,null,null,null,null,null,null,null,null,"SMART"]
[{"$f":"Skillserleuterungen_FTEM!A3","v":"TEAM"},null,null,{"$f":"Skillserleuterungen_FTEM!B3","v":"FÄHIGKEIT"},null,null,{"$f":"Skillserleuterungen_FTEM!C3","v":"BEOBACHTUNG"},null,null,null,null,null,"Final","Datum1",null,"Datum2",null,"Datum3",null,"Datum4",null,"Datum5",null,"Player",null,"ZIEL","MASSNAHME:\nSPEZIFISCH,  MESSBAR, REALISITISCH",null,null,null,null,null,null,"TERMIN","ZIEL-KONTROLLE","Datum"]
[{"$f":"Skillserleuterungen_FTEM!A4","v":"TEAM"},null,null,{"$f":"IF($H$2=\"G\",Skillserleuterungen_FTEM!F4,Skillserleuterungen_FTEM!B4)","v":"Kommunikation"},null,null,{"$f":"IF($H$2=\"G\",Skillserleuterungen_FTEM!G4,Skillserleuterungen_FTEM!C4)","v":"pflegt einen offenen, respektvollen Umgang, Vertrauensbasis als Grundlage, trägt Konflikte aus ohne die Stabilität der Gruppe zu gefährden, kommuniziert mit Mitspielerinnen, Trainern und Funktionären gleichermassen wertschätzend"},null,null,{"$f":"IF($H$2=\"G\",Skillserleuterungen_FTEM!#REF!,Skillserleuterungen_FTEM!#REF!)","v":{"$error":"#REF!"}},null,null,null,{"$f":"IFERROR(AVERAGE(O13:O17),\"-\")","v":"-"},null,{"$f":"IFERROR(AVERAGE(Q13:Q17),\"-\")","v":"-"},null,{"$f":"IFERROR(AVERAGE(S13:S17),\"-\")","v":"-"},null,{"$f":"IFERROR(AVERAGE(U13:U17),\"-\")","v":"-"},null,null,null,{"$f":"IFERROR(AVERAGE(Y13:Y17),\"-\")","v":"-"}]
[null,null,null,{"$f":"IF($H$2=\"G\",Skillserleuterungen_FTEM!F5,Skillserleuterungen_FTEM!B5)","v":"Teamfähigkeit"},null,null,{"$f":"IF($H$2=\"G\",Skillserleuterungen_FTEM!G5,Skillserleuterungen_FTEM!C5)","v":"Integration in die Gruppe, gemeinsame Ziele bestimmen und verfolgen können, WIR vor dem ICH, trägt zu einem guten Team-Spirit und Arbeitsklima bei"},null,null,{"$f":"IF($H$2=\"G\",Skillserleuterungen_FTEM!#REF!,Skillserleuterungen_FTEM!#REF!)","v":{"$error":"#REF!"}}]
[null,null,null,{"$f":"IF($H$2=\"G\",Skillserleuterungen_FTEM!F6,Skillserleuterungen_FTEM!B6)","v":"Leadership"},null,null,{"$f":"IF($H$2=\"G\",Skillserleuterungen_FTEM!G6,Skillserleuterungen_FTEM!C6)","v":"übernimmt Verantwortung in der Gruppe, versucht Team und Mitspielerinnen besser zu machen, nimmt positiven Einfluss auf die Gruppendynamik"},null,null,{"$f":"IF($H$2=\"G\",Skillserleuterungen_FTEM!#REF!,Skillserleuterungen_FTEM!#REF!)","v":{"$error":"#REF!"}}]
[null,null,null,{"$f":"IF($H$2=\"G\",Skillserleuterungen_FTEM!F7,Skillserleuterungen_FTEM!B7)","v":"Rollenverteilung"},null,null,{"$f":"IF($H$2=\"G\",Skillserleuterungen_FTEM!G7,Skillserleuterungen_FTEM!C7)","v":"kennt ihre Rolle und füllt diese aus, ist sich ihrer Stellung im Team und im System bewusst, stellt eigene Kompetenzen in den Dienst des Teams"},null,null,{"$f":"IF($H$2=\"G\",Skillserleuterungen_FTEM!#REF!,Skillserleuterungen_FTEM!#REF!)","v":{"$error":"#REF!"}}]
[null,null,null,{"$f":"IF($H$2=\"G\",Skillserleuterungen_FTEM!F8,Skillserleuterungen_FTEM!B8)","v":"Respekt"},null,null,{"$f":"IF($H$2=\"G\",Skillserleuterungen_FTEM!G8,Skillserleuterungen_FTEM!C8)","v":"Respektvoller Umgang mit Mitspielerinnen, Trainern, Gegnern, Schiedsrichter und Staff; achtet die Regeln, Fairplayprinzipien (inkl. Anti-Doping)"},null,null,{"$f":"IF($H$2=\"G\",Skillserleuterungen_FTEM!#REF!,Skillserleuterungen_FTEM!#REF!)","v":{"$error":"#REF!"}}]
[{"$f":"Skillserleuterungen_FTEM!A9","v":"ON ICE"},null,null,{"$f":"Skillserleuterungen_FTEM!B9","v":"FÄHIGKEIT"},null,null,{"$f":"Skillserleuterungen_FTEM!C9","v":"BEOBACHTUNG"},null,null,null,null,null,null,"Datum1",null,"Datum2",null,"Datum3",null,"Datum4",null,"Datum5",null,"Player",null,"ZIEL","MASSNAHME:\nSPEZIFISCH,  MESSBAR, REALISITISCH",null,null,null,null,null,null,"TERMIN","ZIEL-KONTROLLE","Datum"]
[{"$f":"Skillserleuterungen_FTEM!A10","v":"SKATING"},null,null,{"$f":"IF($H$2=\"G\",Skillserleuterungen_FTEM!F10,Skillserleuterungen_FTEM!B10)","v":"Footspeed"},null,null,{"$f":"IF($H$2=\"G\",Skillserleuterungen_FTEM!G10,Skillserleuterungen_FTEM!C10)","v":"Beschleunigung, Antritt, erste 3 Schritte Explosivität, Frequenz"},null,null,{"$f":"IF($H$2=\"G\",Skillserleuterungen_FTEM!#REF!,Skillserleuterungen_FTEM!#REF!)","v":{"$error":"#REF!"}},null,null,null,{"$f":"IFERROR(AVERAGE(O19:O23),\"-\")","v":"-"},null,{"$f":"IFERROR(AVERAGE(Q19:Q23),\"-\")","v":"-"},null,{"$f":"IFERROR(AVERAGE(S19:S23),\"-\")","v":"-"},null,{"$f":"IFERROR(AVERAGE(U19:U23),\"-\")","v":"-"},null,{"$f":"IFERROR(AVERAGE(W19:W23),\"-\")","v":"-"},null,{"$f":"IFERROR(AVERAGE(Y19:Y23),\"-\")","v":"-"}]
[null,null,null,{"$f":"IF($H$2=\"G\",Skillserleuterungen_FTEM!F11,Skillserleuterungen_FTEM!B11)","v":"Topspeed"},null,null,{"$f":"IF($H$2=\"G\",Skillserleuterungen_FTEM!G11,Skillserleuterungen_FTEM!C11)","v":"Schnelligkeit, Gleitfähigkeit, vorwärts und rückwärts, Ökonomie"},null,null,{"$f":"IF($H$2=\"G\",Skillserleuterungen_FTEM!#REF!,Skillserleuterungen_FTEM!#REF!)","v":{"$error":"#REF!"}}]
[null,null,null,{"$f":"IF($H$2=\"G\",Skillserleuterungen_FTEM!F12,Skillserleuterungen_FTEM!B12)","v":"Agilität"},null,null,{"$f":"IF($H$2=\"G\",Skillserleuterungen_FTEM!G12,Skillserleuterungen_FTEM!C12)","v":"Richtungsänderung, Drehung, Stop und Start, \"Nummelin\""},null,null,{"$f":"IF($H$2=\"G\",Skillserleuterungen_FTEM!#REF!,Skillserleuterungen_FTEM!#REF!)","v":{"$error":"#REF!"}},null,null,null,{"$f":"IFERROR(AVERAGE(O21:O23),\"-\")","v":"-"},null,{"$f":"IFERROR(AVERAGE(Q21:Q23),\"-\")","v":"-"},null,{"$f":"IFERROR(AVERAGE(S21:S23),\"-\")","v":"-"},null,{"$f":"IFERROR(AVERAGE(U21:U23),\"-\")","v":"-"},null,{"$f":"IFERROR(AVERAGE(W21:W23),\"-\")","v":"-"},null,{"$f":"IFERROR(AVERAGE(Y21:Y23),\"-\")","v":"-"}]
[null,null,null,{"$f":"IF($H$2=\"G\",Skillserleuterungen_FTEM!F13,Skillserleuterungen_FTEM!B13)","v":"Balance"},null,null,{"$f":"IF($H$2=\"G\",Skillserleuterungen_FTEM!G13,Skillserleuterungen_FTEM!C13)","v":"Gleichgewicht, Standhaftfähigkeit, tiefe Position, ein- und beidbeinig"},null,null,{"$f":"IF($H$2=\"G\",Skillserleuterungen_FTEM!#REF!,Skillserleuterungen_FTEM!#REF!)","v":{"$error":"#REF!"}}]
[null,null,null,{"$f":"IF($H$2=\"G\",Skillserleuterungen_FTEM!F14,Skillserleuterungen_FTEM!B14)","v":"Backwards Skating"},null,null,{"$f":"IF($H$2=\"G\",Skillserleuterungen_FTEM!G14,Skillserleuterungen_FTEM!C14)","v":"Beschleunigung, Geschwindigkeit, Balance"},null,null,{"$f":"IF($H$2=\"G\",Skillserleuterungen_FTEM!#REF!,Skillserleuterungen_FTEM!#REF!)","v":{"$error":"#REF!"}}]
[{"$f":"Skillserleuterungen_FTEM!A15","v":"SKILLS"},null,null,{"$f":"IF($H$2=\"G\",Skillserleuterungen_FTEM!F15,Skillserleuterungen_FTEM!B15)","v":"Schiessen"},null,null,{"$f":"IF($H$2=\"G\",Skillserleuterungen_FTEM!G15,Skillserleuterungen_FTEM!C15)","v":"Effizienz (no space no time), Variantenreichtum, Überraschungsgrad (Quick Release), Präzision, Härte, (taktische Abschlüsse)"},null,null,{"$f":"IF($H$2=\"G\",Skillserleuterungen_FTEM!#REF!,Skillserleuterungen_FTEM!#REF!)","v":{"$error":"#REF!"}},null,null,null,{"$f":"IFERROR(AVERAGE(O24:O29),\"-\")","v":"-"},null,{"$f":"IFERROR(AVERAGE(Q24:Q29),\"-\")","v":"-"},null,{"$f":"IFERROR(AVERAGE(S24:S29),\"-\")","v":"-"},null,{"$f":"IFERROR(AVERAGE(U24:U29),\"-\")","v":"-"},null,{"$f":"IFERROR(AVERAGE(W24:W29),\"-\")","v":"-"},null,{"$f":"IFERROR(AVERAGE(Y24:Y29),\"-\")","v":"-"}]
[null,null,null,{"$f":"IF($H$2=\"G\",Skillserleuterungen_FTEM!F16,Skillserleuterungen_FTEM!B16)","v":"Passen"},null,null,{"$f":"IF($H$2=\"G\",Skillserleuterungen_FTEM!G16,Skillserleuterungen_FTEM!C16)","v":"Passabgabe (Distanz, Flippass Backhand), Passannahme (Präzision, Timing, Vorhand, Rückhand, Schlittschuh), Puckspeed "},null,null,{"$f":"IF($H$2=\"G\",Skillserleuterungen_FTEM!#REF!,Skillserleuterungen_FTEM!#REF!)","v":{"$error":"#REF!"}}]
[null,null,null,{"$f":"IF($H$2=\"G\",Skillserleuterungen_FTEM!F17,Skillserleuterungen_FTEM!B17)","v":"Stockarbeit"},null,null,{"$f":"IF($H$2=\"G\",Skillserleuterungen_FTEM!G17,Skillserleuterungen_FTEM!C17)","v":"Stock zum Puck, Passlinie unterbinden, ablenken, Stockkontrolle Gegenspielerin"},null,null,{"$f":"IF($H$2=\"G\",Skillserleuterungen_FTEM!#REF!,Skillserleuterungen_FTEM!#REF!)","v":{"$error":"#REF!"}}]
[null,null,null,{"$f":"IF($H$2=\"G\",Skillserleuterungen_FTEM!F18,Skillserleuterungen_FTEM!B18)","v":"Puck besitzen "},null,null,{"$f":"IF($H$2=\"G\",Skillserleuterungen_FTEM!G18,Skillserleuterungen_FTEM!C18)","v":"Puckkontrolle, Dribblings, Puck schützen, Finten (Varianten: mit Schlittschuh, mit sowie ohne Bande), Face-Off"},null,null,{"$f":"IF($H$2=\"G\",Skillserleuterungen_FTEM!#REF!,Skillserleuterungen_FTEM!#REF!)","v":{"$error":"#REF!"}}]
[null,null,null,{"$f":"IF($H$2=\"G\",Skillserleuterungen_FTEM!F19,Skillserleuterungen_FTEM!B19)","v":"Körperspiel"},null,null,{"$f":"IF($H$2=\"G\",Skillserleuterungen_FTEM!G19,Skillserleuterungen_FTEM!C19)","v":"Phyisches Durchsetzungsvermögen, Zweikampf (offenes Eis/Bande), Checks nehmen/Head up, Battle Level, Hart aber fair"},null,null,{"$f":"IF($H$2=\"G\",Skillserleuterungen_FTEM!#REF!,Skillserleuterungen_FTEM!#REF!)","v":{"$error":"#REF!"}}]
[null,null,null,{"$f":"IF($H$2=\"G\",Skillserleuterungen_FTEM!F20,Skillserleuterungen_FTEM!B20)","v":"-"},null,null,{"$f":"IF($H$2=\"G\",Skillserleuterungen_FTEM!G20,Skillserleuterungen_FTEM!C20)","v":"-"},null,null,{"$f":"IF($H$2=\"G\",Skillserleuterungen_FTEM!#REF!,Skillserleuterungen_FTEM!#REF!)","v":{"$error":"#REF!"}}]
[{"$f":"Skillserleuterungen_FTEM!A21","v":"HOCKEY SENSE"},null,null,{"$f":"IF($H$2=\"G\",Skillserleuterungen_FTEM!F21,Skillserleuterungen_FTEM!B21)","v":"Spielintelligenz"},null,null,{"$f":"IF($H$2=\"G\",Skillserleuterungen_FTEM!G21,Skillserleuterungen_FTEM!C21)","v":"Freie Räume und Spielerin sehen und Überzahlsituationen kreieren, lösungsorientiert agieren bei allen Bedingungen, Headspeed"},null,null,{"$f":"IF($H$2=\"G\",Skillserleuterungen_FTEM!#REF!,Skillserleuterungen_FTEM!#REF!)","v":{"$error":"#REF!"}},null,null,null,{"$f":"IFERROR(AVERAGE(O30:O34),\"-\")","v":"-"},null,{"$f":"IFERROR(AVERAGE(Q30:Q34),\"-\")","v":"-"},null,{"$f":"IFERROR(AVERAGE(S30:S34),\"-\")","v":"-"},null,{"$f":"IFERROR(AVERAGE(U30:U34),\"-\")","v":"-"},null,{"$f":"IFERROR(AVERAGE(W30:W34),\"-\")","v":"-"},null,{"$f":"IFERROR(AVERAGE(Y30:Y34),\"-\")","v":"-"}]
[null,null,null,{"$f":"IF($H$2=\"G\",Skillserleuterungen_FTEM!F22,Skillserleuterungen_FTEM!B22)","v":"Offensives Bewusstsein"},null,null,{"$f":"IF($H$2=\"G\",Skillserleuterungen_FTEM!G22,Skillserleuterungen_FTEM!C22)","v":"Anspielbar, Antizipation der Spielsituationen, Freiräume für Mitspielerinnen öffnen, Abschlussorientiert sein, Gapspeed, gute Kommunikation"},null,null,{"$f":"IF($H$2=\"G\",Skillserleuterungen_FTEM!#REF!,Skillserleuterungen_FTEM!#REF!)","v":{"$error":"#REF!"}}]
[null,null,null,{"$f":"IF($H$2=\"G\",Skillserleuterungen_FTEM!F23,Skillserleuterungen_FTEM!B23)","v":"Defensiv Bewusstsein"},null,null,{"$f":"IF($H$2=\"G\",Skillserleuterungen_FTEM!G23,Skillserleuterungen_FTEM!C23)","v":"Inside Position halten, Slot beschützen, Mitspieler absichern/Support, Passlinie erkennen, Schüsse blockieren. Gapspeed, gute Komunikation"},null,null,{"$f":"IF($H$2=\"G\",Skillserleuterungen_FTEM!#REF!,Skillserleuterungen_FTEM!#REF!)","v":{"$error":"#REF!"}}]
[null,null,null,{"$f":"IF($H$2=\"G\",Skillserleuterungen_FTEM!F24,Skillserleuterungen_FTEM!B24)","v":"Puckmanagement"},null,null,{"$f":"IF($H$2=\"G\",Skillserleuterungen_FTEM!G24,Skillserleuterungen_FTEM!C24)","v":"Situationsadäquate Entscheidungen treffen, Support, Overload"},null,null,{"$f":"IF($H$2=\"G\",Skillserleuterungen_FTEM!#REF!,Skillserleuterungen_FTEM!#REF!)","v":{"$error":"#REF!"}}]
[null,null,null,{"$f":"IF($H$2=\"G\",Skillserleuterungen_FTEM!F25,Skillserleuterungen_FTEM!B25)","v":"Kreativität"},null,null,{"$f":"IF($H$2=\"G\",Skillserleuterungen_FTEM!G25,Skillserleuterungen_FTEM!C25)","v":"Überraschende Lösungen, Torriecher"},null,null,{"$f":"IF($H$2=\"G\",Skillserleuterungen_FTEM!#REF!,Skillserleuterungen_FTEM!#REF!)","v":{"$error":"#REF!"}}]
[{"$f":"Skillserleuterungen_FTEM!A26","v":"PERSONALITY"},null,null,{"$f":"Skillserleuterungen_FTEM!B26","v":"FÄHIGKEIT"},null,null,{"$f":"Skillserleuterungen_FTEM!C26","v":"BEOBACHTUNG"},null,null,null,null,null,null,"Datum1",null,"Datum2",null,"Datum3",null,"Datum4",null,"Datum5",null,"Player",null,"ZIEL","MASSNAHME:\nSPEZIFISCH,  MESSBAR, REALISITISCH",null,null,null,null,null,null,"TERMIN","ZIEL-KONTROLLE","Datum"]
[{"$f":"Skillserleuterungen_FTEM!A27","v":"PERSÖNLICHKEIT"},null,null,{"$f":"IF($H$2=\"G\",Skillserleuterungen_FTEM!F27,Skillserleuterungen_FTEM!B27)","v":"Selbstbewusstsein"},null,null,{"$f":"IF($H$2=\"G\",Skillserleuterungen_FTEM!G27,Skillserleuterungen_FTEM!C27)","v":"hat das nötige Selbstvertrauen,\"I can do it\"-Haltung, kann eigene Fähigkeiten einschätzen (kennt eigene Stärken/Schwächen), kann ihre Stärken konstant einsetzen, agiert mutig und nimmt kalkulierte Risiken"},null,null,{"$f":"IF($H$2=\"G\",Skillserleuterungen_FTEM!#REF!,Skillserleuterungen_FTEM!#REF!)","v":{"$error":"#REF!"}},null,null,null,{"$f":"IFERROR(AVERAGE(O36:O40),\"-\")","v":"-"},null,{"$f":"IFERROR(AVERAGE(Q36:Q40),\"-\")","v":"-"},null,{"$f":"IFERROR(AVERAGE(S36:S40),\"-\")","v":"-"},null,{"$f":"IFERROR(AVERAGE(U36:U40),\"-\")","v":"-"},null,{"$f":"IFERROR(AVERAGE(W36:W40),\"-\")","v":"-"},null,{"$f":"IFERROR(AVERAGE(Y36:Y40),\"-\")","v":"-"}]
[null,null,null,{"$f":"IF($H$2=\"G\",Skillserleuterungen_FTEM!F28,Skillserleuterungen_FTEM!B28)","v":"Lernfähigkeit"},null,null,{"$f":"IF($H$2=\"G\",Skillserleuterungen_FTEM!G28,Skillserleuterungen_FTEM!C28)","v":"hat eine gute Auffassungsgabe (nimmt auf und kann umsetzen), reflektiert eigenes Handeln, versucht aus Fehlern zu lernen und kann Massnahmen ableiten"},null,null,{"$f":"IF($H$2=\"G\",Skillserleuterungen_FTEM!#REF!,Skillserleuterungen_FTEM!#REF!)","v":{"$error":"#REF!"}}]
[null,null,null,{"$f":"IF($H$2=\"G\",Skillserleuterungen_FTEM!F29,Skillserleuterungen_FTEM!B29)","v":"Eigenverantwortung"},null,null,{"$f":"IF($H$2=\"G\",Skillserleuterungen_FTEM!G29,Skillserleuterungen_FTEM!C29)","v":"übernimmt Verantwortung für eigene Leistungen und Entwicklung, handelt selbständig, achtet auf Details, zeigt grosses Engagement in allen Bereichen"},null,null,{"$f":"IF($H$2=\"G\",Skillserleuterungen_FTEM!#REF!,Skillserleuterungen_FTEM!#REF!)","v":{"$error":"#REF!"}}]
[null,null,null,{"$f":"IF($H$2=\"G\",Skillserleuterungen_FTEM!F30,Skillserleuterungen_FTEM!B30)","v":"Motivation"},null,null,{"$f":"IF($H$2=\"G\",Skillserleuterungen_FTEM!G30,Skillserleuterungen_FTEM!C30)","v":"Intrinsischer Antrieb, will sich ständig weiterentwickeln und lernen, will die Erste sein und Erfolg haben, gibt nie auf und lässt sich auch durch Misserfolge nicht vom Weg abbringen"},null,null,{"$f":"IF($H$2=\"G\",Skillserleuterungen_FTEM!#REF!,Skillserleuterungen_FTEM!#REF!)","v":{"$error":"#REF!"}}]
[null,null,null,{"$f":"IF($H$2=\"G\",Skillserleuterungen_FTEM!F31,Skillserleuterungen_FTEM!B31)","v":"Performance Lifestyle"},null,null,{"$f":"IF($H$2=\"G\",Skillserleuterungen_FTEM!G31,Skillserleuterungen_FTEM!C31)","v":"managt Alltag und Umfeld nach dem Leistungsprinzip, hartnäckig, beharrlich und zielgerichtet, Fokus auf eigene Leistung, zeigt Biss und kann sich auch gegen Widerstände durchsetzen, Herausforderungen spornen sie an"},null,null,{"$f":"IF($H$2=\"G\",Skillserleuterungen_FTEM!#REF!,Skillserleuterungen_FTEM!#REF!)","v":{"$error":"#REF!"}}]
[{"$f":"Skillserleuterungen_FTEM!A32","v":"MENTALE STÄRKE"},null,null,{"$f":"IF($H$2=\"G\",Skillserleuterungen_FTEM!F32,Skillserleuterungen_FTEM!B32)","v":"Einsatzbereitschaft"},null,null,{"$f":"IF($H$2=\"G\",Skillserleuterungen_FTEM!G32,Skillserleuterungen_FTEM!C32)","v":"zeigt im Spiel und im Training hohe Intensität, gibt immer ihr Maximum und will ihre Limiten pushen, zeigt Leidenschaft, ist um hohe Trainingsqualität bemüht"},null,null,{"$f":"IF($H$2=\"G\",Skillserleuterungen_FTEM!#REF!,Skillserleuterungen_FTEM!#REF!)","v":{"$error":"#REF!"}},null,null,null,{"$f":"IFERROR(AVERAGE(O41:O45),\"-\")","v":"-"},null,{"$f":"IFERROR(AVERAGE(Q41:Q45),\"-\")","v":"-"},null,{"$f":"IFERROR(AVERAGE(S41:S45),\"-\")","v":"-"},null,{"$f":"IFERROR(AVERAGE(U41:U45),\"-\")","v":"-"},null,{"$f":"IFERROR(AVERAGE(W41:W45),\"-\")","v":"-"},null,{"$f":"IFERROR(AVERAGE(Y41:Y45),\"-\")","v":"-"}]
[null,null,null,{"$f":"IF($H$2=\"G\",Skillserleuterungen_FTEM!F33,Skillserleuterungen_FTEM!B33)","v":"Vorbereitung"},null,null,{"$f":"IF($H$2=\"G\",Skillserleuterungen_FTEM!G33,Skillserleuterungen_FTEM!C33)","v":"bewusste und gezielte Vorbereitung, mental wie auch physisch, verfügt über einen effizienten Ablauf zur Erreichung des idealen Leistungszustand (ILZ)"},null,null,{"$f":"IF($H$2=\"G\",Skillserleuterungen_FTEM!#REF!,Skillserleuterungen_FTEM!#REF!)","v":{"$error":"#REF!"}}]
[null,null,null,{"$f":"IF($H$2=\"G\",Skillserleuterungen_FTEM!F34,Skillserleuterungen_FTEM!B34)","v":"Selbstcoaching"},null,null,{"$f":"IF($H$2=\"G\",Skillserleuterungen_FTEM!G34,Skillserleuterungen_FTEM!C34)","v":"verfügt über gute Konzentrationsfähigkeit, kann während Spiel/Training ihren ILZ halten, kann mentale Grundtechniken anwenden, widerstandsfähig gegen negative Gedanken und Einflüsse, ist sich ihrer Körpersprache bewusst und kann diese regulieren"},null,null,{"$f":"IF($H$2=\"G\",Skillserleuterungen_FTEM!#REF!,Skillserleuterungen_FTEM!#REF!)","v":{"$error":"#REF!"}}]
[null,null,null,{"$f":"IF($H$2=\"G\",Skillserleuterungen_FTEM!F35,Skillserleuterungen_FTEM!B35)","v":"Energiemanagement"},null,null,{"$f":"IF($H$2=\"G\",Skillserleuterungen_FTEM!G35,Skillserleuterungen_FTEM!C35)","v":"kann eigene Energie regulieren, bereit zur Regeneration, weiss wann sie \"Vollgas\" geben muss und wann abschalten, On/Off-Schalter"},null,null,{"$f":"IF($H$2=\"G\",Skillserleuterungen_FTEM!#REF!,Skillserleuterungen_FTEM!#REF!)","v":{"$error":"#REF!"}}]
[null,null,null,{"$f":"IF($H$2=\"G\",Skillserleuterungen_FTEM!F36,Skillserleuterungen_FTEM!B36)","v":"Emotionskontrolle"},null,null,{"$f":"IF($H$2=\"G\",Skillserleuterungen_FTEM!G36,Skillserleuterungen_FTEM!C36)","v":"kann eigene Emotionen und Impulse regulieren, behält auch unter Druck die Kontrolle, kann auch in emotional anspruchsvollen oder frustrierenden Situationen angemessen agieren"},null,null,{"$f":"IF($H$2=\"G\",Skillserleuterungen_FTEM!#REF!,Skillserleuterungen_FTEM!#REF!)","v":{"$error":"#REF!"}}]
[{"$f":"Skillserleuterungen_FTEM!A37","v":"PHYSE"},null,null,{"$f":"IF($H$2=\"G\",Skillserleuterungen_FTEM!F37,Skillserleuterungen_FTEM!B37)","v":"Leistungserzeugung"},null,null,{"$f":"IF($H$2=\"G\",Skillserleuterungen_FTEM!G37,Skillserleuterungen_FTEM!C37)","v":"verfügt über die nötige Power/Kraft/Schnelligkeit in den Beinen und im Oberkörper (Neuromuskuläre Faktoren)"},null,null,{"$f":"IF($H$2=\"G\",Skillserleuterungen_FTEM!#REF!,Skillserleuterungen_FTEM!#REF!)","v":{"$error":"#REF!"}},null,null,null,{"$f":"IFERROR(AVERAGE(O46:O50),\"-\")","v":"-"},null,{"$f":"IFERROR(AVERAGE(Q46:Q50),\"-\")","v":"-"},null,{"$f":"IFERROR(AVERAGE(S46:S50),\"-\")","v":"-"},null,{"$f":"IFERROR(AVERAGE(U46:U50),\"-\")","v":"-"},null,{"$f":"IFERROR(AVERAGE(W46:W50),\"-\")","v":"-"},null,{"$f":"IFERROR(AVERAGE(Y46:Y50),\"-\")","v":"-"}]
[null,null,null,{"$f":"IF($H$2=\"G\",Skillserleuterungen_FTEM!F38,Skillserleuterungen_FTEM!B38)","v":"sporartspez. Ermüdungsresistenz"},null,null,{"$f":"IF($H$2=\"G\",Skillserleuterungen_FTEM!G38,Skillserleuterungen_FTEM!C38)","v":"Ist fähig  die Power/Kraft/Schnelligkeit innerhalb des Einsatzes lange aufrechtzuerhalten und kann sich zwischen den Einsätzen jeweils vollkommen erholen (Metabolische und kardiovaskuläre Faktoren)"},null,null,{"$f":"IF($H$2=\"G\",Skillserleuterungen_FTEM!#REF!,Skillserleuterungen_FTEM!#REF!)","v":{"$error":"#REF!"}}]
[null,null,null,{"$f":"IF($H$2=\"G\",Skillserleuterungen_FTEM!F39,Skillserleuterungen_FTEM!B39)","v":"Gesundheit / Prävention"},null,null,{"$f":"IF($H$2=\"G\",Skillserleuterungen_FTEM!G39,Skillserleuterungen_FTEM!C39)","v":"verfügt über die nötige Stabilität (z.B. Beinachsenstabilität) und Beweglichkeit in den zentralen Gelenken"},null,null,{"$f":"IF($H$2=\"G\",Skillserleuterungen_FTEM!#REF!,Skillserleuterungen_FTEM!#REF!)","v":{"$error":"#REF!"}}]
[null,null,null,{"$f":"IF($H$2=\"G\",Skillserleuterungen_FTEM!F40,Skillserleuterungen_FTEM!B40)","v":"Bewegungskompetenzen"},null,null,{"$f":"IF($H$2=\"G\",Skillserleuterungen_FTEM!G40,Skillserleuterungen_FTEM!C40)","v":"beherrscht die grundlegenden Bewegungsfertigkeiten, die eine unerlässliche Zubringerfunktion für die sportspezifischen \"Skills\" darstellt sowie zur nötigen Bewegungseffizienz führt"},null,null,{"$f":"IF($H$2=\"G\",Skillserleuterungen_FTEM!#REF!,Skillserleuterungen_FTEM!#REF!)","v":{"$error":"#REF!"}}]
[null,null,null,{"$f":"IF($H$2=\"G\",Skillserleuterungen_FTEM!F41,Skillserleuterungen_FTEM!B41)","v":"Robustheit"},null,null,{"$f":"IF($H$2=\"G\",Skillserleuterungen_FTEM!G41,Skillserleuterungen_FTEM!C41)","v":"verfügt über die nötige Grundkraft (Körperspannung), um sich in Zweikämpfen durchzusetzen und bei Zusammestössen standzuhalten"},null,null,{"$f":"IF($H$2=\"G\",Skillserleuterungen_FTEM!#REF!,Skillserleuterungen_FTEM!#REF!)","v":{"$error":"#REF!"}}]

{"sheet":"16","index":19,"n_rows":50,"n_cols":36,"rows_kept":50,"cut":false,"hidden":false,"merged":[[13,3,13,5],[14,3,14,5],[15,3,15,5],[13,6,13,11],[14,6,14,11],[15,6,15,11],[21,3,21,5],[21,6,21,11],[26,3,26,5],[26,6,26,11],[0,0,0,24],[0,25,0,26],[0,27,0,32],[0,33,0,35],[29,25,33,25],[29,26,33,32],[29,34,33,34],[35,25,39,25],[35,26,39,32],[35,34,39,34],[1,0,1,1],[1,2,1,5],[1,10,1,24],[2,0,2,1],[2,2,2,5],[2,11,2,24],[6,0,6,1],[6,2,6,35],[7,0,7,1],[7,2,7,35],[8,0,8,1],[8,2,8,35],[3,0,3,1],[3,10,3,24],[4,0,4,1],[4,2,4,5],[4,10,4,24],[10,0,10,24],[10,25,10,35],[40,25,44,25],[40,26,44,32],[40,34,44,34],[12,25,16,25],[12,26,16,32],[12,34,16,34],[18,25,22,25],[18,26,22,32],[18,34,22,34],[23,25,28,25],[23,26,28,32],[23,34,28,34],[17,26,17,32],[11,0,11,2],[11,3,11,5],[11,13,11,14],[11,15,11,16],[11,17,11,18],[11,19,11,20],[11,21,11,22],[11,23,11,24],[11,26,11,32],[11,6,11,11],[12,23,16,23],[16,3,16,5],[16,6,16,11],[17,0,17,2],[17,3,17,5],[17,6,17,11],[17,13,17,14],[17,15,17,16],[17,17,17,18],[17,19,17,20],[17,21,17,22],[17,23,17,24],[12,0,16,2],[12,3,12,5],[12,6,12,11],[12,12,16,12],[12,13,16,13],[12,15,16,15],[12,17,16,17],[12,19,16,19],[12,21,16,21],[18,15,22,15],[18,17,22,17],[18,19,22,19],[18,21,22,21],[18,23,22,23],[22,3,22,5],[22,6,22,11],[23,0,28,2],[23,3,23,5],[23,6,23,11],[23,12,28,12],[23,13,28,13],[23,15,28,15],[23,17,28,17],[18,0,22,2],[18,3,18,5],[18,6,18,11],[18,12,22,12],[18,13,22,13],[19,3,19,5],[19,6,19,11],[20,3,20,5],[20,6,20,11],[23,19,28,19],[23,21,28,21],[23,23,28,23],[24,3,24,5],[24,6,24,11],[28,3,28,5],[28,6,28,11],[33,3,33,5],[33,6,33,11],[29,23,33,23],[29,17,33,17],[29,19,33,19],[29,21,33,21],[30,3,30,5],[30,6,30,11],[31,3,31,5],[31,6,31,11],[27,3,27,5],[27,6,27,11],[32,3,32,5],[32,6,32,11],[29,0,33,2],[29,3,29,5],[29,6,29,11],[29,12,33,12],[29,13,33,13],[29,15,33,15],[34,23,34,24],[34,26,34,32],[35,0,39,2],[35,3,35,5],[35,6,35,11],[35,12,39,12],[35,13,39,13],[35,15,39,15],[39,3,39,5],[39,6,39,11],[35,23,39,23],[34,0,34,2],[34,3,34,5],[34,6,34,11],[34,13,34,14],[34,15,34,16],[34,17,34,18],[34,19,34,20],[36,3,36,5],[36,6,36,11],[37,3,37,5],[37,6,37,11],[40,17,44,17],[40,19,44,19],[40,21,44,21],[41,3,41,5],[41,6,41,11],[44,3,44,5],[44,6,44,11],[38,3,38,5],[38,6,38,11],[43,3,43,5],[43,6,43,11],[45,26,49,32],[45,34,49,34],[25,3,25,5],[25,6,25,11],[42,3,42,5],[42,6,42,11],[45,0,49,2],[45,12,49,12],[45,13,49,13],[45,15,49,15],[45,17,49,17],[45,19,49,19],[45,21,49,21],[45,23,49,23],[45,25,49,25],[45,3,45,5],[45,6,45,11],[46,3,46,5],[46,6,46,11],[40,15,44,15],[34,21,34,22],[35,17,39,17],[35,19,39,19],[35,21,39,21],[47,3,47,5],[47,6,47,11],[49,3,49,5],[49,6,49,11],[40,23,44,23],[40,0,44,2],[40,3,40,5],[40,6,40,11],[40,12,44,12],[40,13,44,13],[48,3,48,5],[48,6,48,11]]}
["Personalien",null,null,null,null,null,null,null,null,null,null,null,null,null,null,null,null,null,null,null,null,null,null,null,null,"Vorausetzungen",null,"Evaluationen",null,null,null,null,null,"Rating"]
["VORNAME",null,{"$f":"IF(ISBLANK(VLOOKUP(16,Tabelle3[],3,0)),\"-\",VLOOKUP(16,Tabelle3[],3,0))","v":"-"},null,null,null,"POSITION",null,null,"ADRESSE",{"$f":"IF(ISBLANK(VLOOKUP(16,Tabelle3[],5,0)),\"-\",VLOOKUP(16,Tabelle3[],5,0))","v":"-"},null,null,null,null,null,null,null,null,null,null,null,null,null,null,"\"Alter\" (Biologisch/Relative Age)",null,"Datum 1",null,null,"cm",null,"Kg",null,"AUSGEZEICHNET",5]
["NAME",null,{"$f":"IF(ISBLANK(VLOOKUP(16,Tabelle3[],2,0)),\"-\",VLOOKUP(16,Tabelle3[],2,0))","v":"-"},null,null,null,"STOCK",null,null,"WOHNORT",{"$f":"IF(ISBLANK(VLOOKUP(16,Tabelle3[],7,0)),\"-\",VLOOKUP(16,Tabelle3[],7,0))","v":"-"},{"$f":"IF(ISBLANK(VLOOKUP(16,Tabelle3[],6,0)),\"-\",VLOOKUP(16,Tabelle3[],6,0))","v":"-"},null,null,null,null,null,null,null,null,null,null,null,null,null,"Veranlagung",null,"Datum 2",null,null,"cm",null,"Kg",null,"GUT",4]
["GEB. DATUM",null,{"$f":"IF(ISBLANK(VLOOKUP(16,Tabelle3[],14,0)),\"-\",VLOOKUP(16,Tabelle3[],14,0))","v":"-"},{"$f":"IF(ISBLANK(VLOOKUP(16,Tabelle3[],15,0)),\"-\",VLOOKUP(16,Tabelle3[],15,0))","v":"-"},{"$f":"IF(ISBLANK(VLOOKUP(16,Tabelle3[],16,0)),\"-\",VLOOKUP(16,Tabelle3[],16,0))","v":"-"},null,"GRÖSSE",null,"cm (Final)","CLUB",{"$f":"IF(ISBLANK(VLOOKUP(16,Tabelle3[],8,0)),\"-\",VLOOKUP(16,Tabelle3[],8,0))","v":"-"},null,null,null,null,null,null,null,null,null,null,null,null,null,null,"Umfeld",null,"Datum 3",null,null,"cm",null,"Kg",null,"DURCHSCHNITT",3]
["SEX",null,{"$f":"IF(ISBLANK(VLOOKUP(16,Tabelle3[],13,0)),\"-\",VLOOKUP(16,Tabelle3[],13,0))","v":"-"},null,null,null,"GEWICHT",null,"Kg (Final)","E-Mail",{"$f":"IF(ISBLANK(VLOOKUP(16,Tabelle3[],9,0)),\"-\",VLOOKUP(16,Tabelle3[],9,0))","v":"-"},null,null,null,null,null,null,null,null,null,null,null,null,null,null,null,null,"Datum 4",null,null,"cm",null,"Kg",null,"MANGELHAFT",2]
[null,null,null,null,null,null,null,null,null,null,null,null,null,null,null,null,null,null,null,null,null,null,null,null,null,null,null,"Datum 5",null,null,"cm",null,"Kg",null,"UNGENÜGEND",1]
["Vision",null,"xxx"]
["Ziele",null,"xxx"]
["Stärken",null,"xxx"]
[]
["EVALUATION (COACH / SPIELERIN)",null,null,null,null,null,null,null,null,null,null,null,null,null,null,null,null,null,null,null,null,null,null,null,null,"SMART"]
[{"$f":"Skillserleuterungen_FTEM!A3","v":"TEAM"},null,null,{"$f":"Skillserleuterungen_FTEM!B3","v":"FÄHIGKEIT"},null,null,{"$f":"Skillserleuterungen_FTEM!C3","v":"BEOBACHTUNG"},null,null,null,null,null,"Final","Datum1",null,"Datum2",null,"Datum3",null,"Datum4",null,"Datum5",null,"Player",null,"ZIEL","MASSNAHME:\nSPEZIFISCH,  MESSBAR, REALISITISCH",null,null,null,null,null,null,"TERMIN","ZIEL-KONTROLLE","Datum"]
[{"$f":"Skillserleuterungen_FTEM!A4","v":"TEAM"},null,null,{"$f":"IF($H$2=\"G\",Skillserleuterungen_FTEM!F4,Skillserleuterungen_FTEM!B4)","v":"Kommunikation"},null,null,{"$f":"IF($H$2=\"G\",Skillserleuterungen_FTEM!G4,Skillserleuterungen_FTEM!C4)","v":"pflegt einen offenen, respektvollen Umgang, Vertrauensbasis als Grundlage, trägt Konflikte aus ohne die Stabilität der Gruppe zu gefährden, kommuniziert mit Mitspielerinnen, Trainern und Funktionären gleichermassen wertschätzend"},null,null,{"$f":"IF($H$2=\"G\",Skillserleuterungen_FTEM!#REF!,Skillserleuterungen_FTEM!#REF!)","v":{"$error":"#REF!"}},null,null,null,{"$f":"IFERROR(AVERAGE(O13:O17),\"-\")","v":"-"},null,{"$f":"IFERROR(AVERAGE(Q13:Q17),\"-\")","v":"-"},null,{"$f":"IFERROR(AVERAGE(S13:S17),\"-\")","v":"-"},null,{"$f":"IFERROR(AVERAGE(U13:U17),\"-\")","v":"-"},null,null,null,{"$f":"IFERROR(AVERAGE(Y13:Y17),\"-\")","v":"-"}]
[null,null,null,{"$f":"IF($H$2=\"G\",Skillserleuterungen_FTEM!F5,Skillserleuterungen_FTEM!B5)","v":"Teamfähigkeit"},null,null,{"$f":"IF($H$2=\"G\",Skillserleuterungen_FTEM!G5,Skillserleuterungen_FTEM!C5)","v":"Integration in die Gruppe, gemeinsame Ziele bestimmen und verfolgen können, WIR vor dem ICH, trägt zu einem guten Team-Spirit und Arbeitsklima bei"},null,null,{"$f":"IF($H$2=\"G\",Skillserleuterungen_FTEM!#REF!,Skillserleuterungen_FTEM!#REF!)","v":{"$error":"#REF!"}}]
[null,null,null,{"$f":"IF($H$2=\"G\",Skillserleuterungen_FTEM!F6,Skillserleuterungen_FTEM!B6)","v":"Leadership"},null,null,{"$f":"IF($H$2=\"G\",Skillserleuterungen_FTEM!G6,Skillserleuterungen_FTEM!C6)","v":"übernimmt Verantwortung in der Gruppe, versucht Team und Mitspielerinnen besser zu machen, nimmt positiven Einfluss auf die Gruppendynamik"},null,null,{"$f":"IF($H$2=\"G\",Skillserleuterungen_FTEM!#REF!,Skillserleuterungen_FTEM!#REF!)","v":{"$error":"#REF!"}}]
[null,null,null,{"$f":"IF($H$2=\"G\",Skillserleuterungen_FTEM!F7,Skillserleuterungen_FTEM!B7)","v":"Rollenverteilung"},null,null,{"$f":"IF($H$2=\"G\",Skillserleuterungen_FTEM!G7,Skillserleuterungen_FTEM!C7)","v":"kennt ihre Rolle und füllt diese aus, ist sich ihrer Stellung im Team und im System bewusst, stellt eigene Kompetenzen in den Dienst des Teams"},null,null,{"$f":"IF($H$2=\"G\",Skillserleuterungen_FTEM!#REF!,Skillserleuterungen_FTEM!#REF!)","v":{"$error":"#REF!"}}]
[null,null,null,{"$f":"IF($H$2=\"G\",Skillserleuterungen_FTEM!F8,Skillserleuterungen_FTEM!B8)","v":"Respekt"},null,null,{"$f":"IF($H$2=\"G\",Skillserleuterungen_FTEM!G8,Skillserleuterungen_FTEM!C8)","v":"Respektvoller Umgang mit Mitspielerinnen, Trainern, Gegnern, Schiedsrichter und Staff; achtet die Regeln, Fairplayprinzipien (inkl. Anti-Doping)"},null,null,{"$f":"IF($H$2=\"G\",Skillserleuterungen_FTEM!#REF!,Skillserleuterungen_FTEM!#REF!)","v":{"$error":"#REF!"}}]
[{"$f":"Skillserleuterungen_FTEM!A9","v":"ON ICE"},null,null,{"$f":"Skillserleuterungen_FTEM!B9","v":"FÄHIGKEIT"},null,null,{"$f":"Skillserleuterungen_FTEM!C9","v":"BEOBACHTUNG"},null,null,null,null,null,null,"Datum1",null,"Datum2",null,"Datum3",null,"Datum4",null,"Datum5",null,"Player",null,"ZIEL","MASSNAHME:\nSPEZIFISCH,  MESSBAR, REALISITISCH",null,null,null,null,null,null,"TERMIN","ZIEL-KONTROLLE","Datum"]
[{"$f":"Skillserleuterungen_FTEM!A10","v":"SKATING"},null,null,{"$f":"IF($H$2=\"G\",Skillserleuterungen_FTEM!F10,Skillserleuterungen_FTEM!B10)","v":"Footspeed"},null,null,{"$f":"IF($H$2=\"G\",Skillserleuterungen_FTEM!G10,Skillserleuterungen_FTEM!C10)","v":"Beschleunigung, Antritt, erste 3 Schritte Explosivität, Frequenz"},null,null,{"$f":"IF($H$2=\"G\",Skillserleuterungen_FTEM!#REF!,Skillserleuterungen_FTEM!#REF!)","v":{"$error":"#REF!"}},null,null,null,{"$f":"IFERROR(AVERAGE(O19:O23),\"-\")","v":"-"},null,{"$f":"IFERROR(AVERAGE(Q19:Q23),\"-\")","v":"-"},null,{"$f":"IFERROR(AVERAGE(S19:S23),\"-\")","v":"-"},null,{"$f":"IFERROR(AVERAGE(U19:U23),\"-\")","v":"-"},null,{"$f":"IFERROR(AVERAGE(W19:W23),\"-\")","v":"-"},null,{"$f":"IFERROR(AVERAGE(Y19:Y23),\"-\")","v":"-"}]
[null,null,null,{"$f":"IF($H$2=\"G\",Skillserleuterungen_FTEM!F11,Skillserleuterungen_FTEM!B11)","v":"Topspeed"},null,null,{"$f":"IF($H$2=\"G\",Skillserleuterungen_FTEM!G11,Skillserleuterungen_FTEM!C11)","v":"Schnelligkeit, Gleitfähigkeit, vorwärts und rückwärts, Ökonomie"},null,null,{"$f":"IF($H$2=\"G\",Skillserleuterungen_FTEM!#REF!,Skillserleuterungen_FTEM!#REF!)","v":{"$error":"#REF!"}}]
[null,null,null,{"$f":"IF($H$2=\"G\",Skillserleuterungen_FTEM!F12,Skillserleuterungen_FTEM!B12)","v":"Agilität"},null,null,{"$f":"IF($H$2=\"G\",Skillserleuterungen_FTEM!G12,Skillserleuterungen_FTEM!C12)","v":"Richtungsänderung, Drehung, Stop und Start, \"Nummelin\""},null,null,{"$f":"IF($H$2=\"G\",Skillserleuterungen_FTEM!#REF!,Skillserleuterungen_FTEM!#REF!)","v":{"$error":"#REF!"}},null,null,null,{"$f":"IFERROR(AVERAGE(O21:O23),\"-\")","v":"-"},null,{"$f":"IFERROR(AVERAGE(Q21:Q23),\"-\")","v":"-"},null,{"$f":"IFERROR(AVERAGE(S21:S23),\"-\")","v":"-"},null,{"$f":"IFERROR(AVERAGE(U21:U23),\"-\")","v":"-"},null,{"$f":"IFERROR(AVERAGE(W21:W23),\"-\")","v":"-"},null,{"$f":"IFERROR(AVERAGE(Y21:Y23),\"-\")","v":"-"}]
[null,null,null,{"$f":"IF($H$2=\"G\",Skillserleuterungen_FTEM!F13,Skillserleuterungen_FTEM!B13)","v":"Balance"},null,null,{"$f":"IF($H$2=\"G\",Skillserleuterungen_FTEM!G13,Skillserleuterungen_FTEM!C13)","v":"Gleichgewicht, Standhaftfähigkeit, tiefe Position, ein- und beidbeinig"},null,null,{"$f":"IF($H$2=\"G\",Skillserleuterungen_FTEM!#REF!,Skillserleuterungen_FTEM!#REF!)","v":{"$error":"#REF!"}}]
[null,null,null,{"$f":"IF($H$2=\"G\",Skillserleuterungen_FTEM!F14,Skillserleuterungen_FTEM!B14)","v":"Backwards Skating"},null,null,{"$f":"IF($H$2=\"G\",Skillserleuterungen_FTEM!G14,Skillserleuterungen_FTEM!C14)","v":"Beschleunigung, Geschwindigkeit, Balance"},null,null,{"$f":"IF($H$2=\"G\",Skillserleuterungen_FTEM!#REF!,Skillserleuterungen_FTEM!#REF!)","v":{"$error":"#REF!"}}]
[{"$f":"Skillserleuterungen_FTEM!A15","v":"SKILLS"},null,null,{"$f":"IF($H$2=\"G\",Skillserleuterungen_FTEM!F15,Skillserleuterungen_FTEM!B15)","v":"Schiessen"},null,null,{"$f":"IF($H$2=\"G\",Skillserleuterungen_FTEM!G15,Skillserleuterungen_FTEM!C15)","v":"Effizienz (no space no time), Variantenreichtum, Überraschungsgrad (Quick Release), Präzision, Härte, (taktische Abschlüsse)"},null,null,{"$f":"IF($H$2=\"G\",Skillserleuterungen_FTEM!#REF!,Skillserleuterungen_FTEM!#REF!)","v":{"$error":"#REF!"}},null,null,null,{"$f":"IFERROR(AVERAGE(O24:O29),\"-\")","v":"-"},null,{"$f":"IFERROR(AVERAGE(Q24:Q29),\"-\")","v":"-"},null,{"$f":"IFERROR(AVERAGE(S24:S29),\"-\")","v":"-"},null,{"$f":"IFERROR(AVERAGE(U24:U29),\"-\")","v":"-"},null,{"$f":"IFERROR(AVERAGE(W24:W29),\"-\")","v":"-"},null,{"$f":"IFERROR(AVERAGE(Y24:Y29),\"-\")","v":"-"}]
[null,null,null,{"$f":"IF($H$2=\"G\",Skillserleuterungen_FTEM!F16,Skillserleuterungen_FTEM!B16)","v":"Passen"},null,null,{"$f":"IF($H$2=\"G\",Skillserleuterungen_FTEM!G16,Skillserleuterungen_FTEM!C16)","v":"Passabgabe (Distanz, Flippass Backhand), Passannahme (Präzision, Timing, Vorhand, Rückhand, Schlittschuh), Puckspeed "},null,null,{"$f":"IF($H$2=\"G\",Skillserleuterungen_FTEM!#REF!,Skillserleuterungen_FTEM!#REF!)","v":{"$error":"#REF!"}}]
[null,null,null,{"$f":"IF($H$2=\"G\",Skillserleuterungen_FTEM!F17,Skillserleuterungen_FTEM!B17)","v":"Stockarbeit"},null,null,{"$f":"IF($H$2=\"G\",Skillserleuterungen_FTEM!G17,Skillserleuterungen_FTEM!C17)","v":"Stock zum Puck, Passlinie unterbinden, ablenken, Stockkontrolle Gegenspielerin"},null,null,{"$f":"IF($H$2=\"G\",Skillserleuterungen_FTEM!#REF!,Skillserleuterungen_FTEM!#REF!)","v":{"$error":"#REF!"}}]
[null,null,null,{"$f":"IF($H$2=\"G\",Skillserleuterungen_FTEM!F18,Skillserleuterungen_FTEM!B18)","v":"Puck besitzen "},null,null,{"$f":"IF($H$2=\"G\",Skillserleuterungen_FTEM!G18,Skillserleuterungen_FTEM!C18)","v":"Puckkontrolle, Dribblings, Puck schützen, Finten (Varianten: mit Schlittschuh, mit sowie ohne Bande), Face-Off"},null,null,{"$f":"IF($H$2=\"G\",Skillserleuterungen_FTEM!#REF!,Skillserleuterungen_FTEM!#REF!)","v":{"$error":"#REF!"}}]
[null,null,null,{"$f":"IF($H$2=\"G\",Skillserleuterungen_FTEM!F19,Skillserleuterungen_FTEM!B19)","v":"Körperspiel"},null,null,{"$f":"IF($H$2=\"G\",Skillserleuterungen_FTEM!G19,Skillserleuterungen_FTEM!C19)","v":"Phyisches Durchsetzungsvermögen, Zweikampf (offenes Eis/Bande), Checks nehmen/Head up, Battle Level, Hart aber fair"},null,null,{"$f":"IF($H$2=\"G\",Skillserleuterungen_FTEM!#REF!,Skillserleuterungen_FTEM!#REF!)","v":{"$error":"#REF!"}}]
[null,null,null,{"$f":"IF($H$2=\"G\",Skillserleuterungen_FTEM!F20,Skillserleuterungen_FTEM!B20)","v":"-"},null,null,{"$f":"IF($H$2=\"G\",Skillserleuterungen_FTEM!G20,Skillserleuterungen_FTEM!C20)","v":"-"},null,null,{"$f":"IF($H$2=\"G\",Skillserleuterungen_FTEM!#REF!,Skillserleuterungen_FTEM!#REF!)","v":{"$error":"#REF!"}}]
[{"$f":"Skillserleuterungen_FTEM!A21","v":"HOCKEY SENSE"},null,null,{"$f":"IF($H$2=\"G\",Skillserleuterungen_FTEM!F21,Skillserleuterungen_FTEM!B21)","v":"Spielintelligenz"},null,null,{"$f":"IF($H$2=\"G\",Skillserleuterungen_FTEM!G21,Skillserleuterungen_FTEM!C21)","v":"Freie Räume und Spielerin sehen und Überzahlsituationen kreieren, lösungsorientiert agieren bei allen Bedingungen, Headspeed"},null,null,{"$f":"IF($H$2=\"G\",Skillserleuterungen_FTEM!#REF!,Skillserleuterungen_FTEM!#REF!)","v":{"$error":"#REF!"}},null,null,null,{"$f":"IFERROR(AVERAGE(O30:O34),\"-\")","v":"-"},null,{"$f":"IFERROR(AVERAGE(Q30:Q34),\"-\")","v":"-"},null,{"$f":"IFERROR(AVERAGE(S30:S34),\"-\")","v":"-"},null,{"$f":"IFERROR(AVERAGE(U30:U34),\"-\")","v":"-"},null,{"$f":"IFERROR(AVERAGE(W30:W34),\"-\")","v":"-"},null,{"$f":"IFERROR(AVERAGE(Y30:Y34),\"-\")","v":"-"}]
[null,null,null,{"$f":"IF($H$2=\"G\",Skillserleuterungen_FTEM!F22,Skillserleuterungen_FTEM!B22)","v":"Offensives Bewusstsein"},null,null,{"$f":"IF($H$2=\"G\",Skillserleuterungen_FTEM!G22,Skillserleuterungen_FTEM!C22)","v":"Anspielbar, Antizipation der Spielsituationen, Freiräume für Mitspielerinnen öffnen, Abschlussorientiert sein, Gapspeed, gute Kommunikation"},null,null,{"$f":"IF($H$2=\"G\",Skillserleuterungen_FTEM!#REF!,Skillserleuterungen_FTEM!#REF!)","v":{"$error":"#REF!"}}]
[null,null,null,{"$f":"IF($H$2=\"G\",Skillserleuterungen_FTEM!F23,Skillserleuterungen_FTEM!B23)","v":"Defensiv Bewusstsein"},null,null,{"$f":"IF($H$2=\"G\",Skillserleuterungen_FTEM!G23,Skillserleuterungen_FTEM!C23)","v":"Inside Position halten, Slot beschützen, Mitspieler absichern/Support, Passlinie erkennen, Schüsse blockieren. Gapspeed, gute Komunikation"},null,null,{"$f":"IF($H$2=\"G\",Skillserleuterungen_FTEM!#REF!,Skillserleuterungen_FTEM!#REF!)","v":{"$error":"#REF!"}}]
[null,null,null,{"$f":"IF($H$2=\"G\",Skillserleuterungen_FTEM!F24,Skillserleuterungen_FTEM!B24)","v":"Puckmanagement"},null,null,{"$f":"IF($H$2=\"G\",Skillserleuterungen_FTEM!G24,Skillserleuterungen_FTEM!C24)","v":"Situationsadäquate Entscheidungen treffen, Support, Overload"},null,null,{"$f":"IF($H$2=\"G\",Skillserleuterungen_FTEM!#REF!,Skillserleuterungen_FTEM!#REF!)","v":{"$error":"#REF!"}}]
[null,null,null,{"$f":"IF($H$2=\"G\",Skillserleuterungen_FTEM!F25,Skillserleuterungen_FTEM!B25)","v":"Kreativität"},null,null,{"$f":"IF($H$2=\"G\",Skillserleuterungen_FTEM!G25,Skillserleuterungen_FTEM!C25)","v":"Überraschende Lösungen, Torriecher"},null,null,{"$f":"IF($H$2=\"G\",Skillserleuterungen_FTEM!#REF!,Skillserleuterungen_FTEM!#REF!)","v":{"$error":"#REF!"}}]
[{"$f":"Skillserleuterungen_FTEM!A26","v":"PERSONALITY"},null,null,{"$f":"Skillserleuterungen_FTEM!B26","v":"FÄHIGKEIT"},null,null,{"$f":"Skillserleuterungen_FTEM!C26","v":"BEOBACHTUNG"},null,null,null,null,null,null,"Datum1",null,"Datum2",null,"Datum3",null,"Datum4",null,"Datum5",null,"Player",null,"ZIEL","MASSNAHME:\nSPEZIFISCH,  MESSBAR, REALISITISCH",null,null,null,null,null,null,"TERMIN","ZIEL-KONTROLLE","Datum"]
[{"$f":"Skillserleuterungen_FTEM!A27","v":"PERSÖNLICHKEIT"},null,null,{"$f":"IF($H$2=\"G\",Skillserleuterungen_FTEM!F27,Skillserleuterungen_FTEM!B27)","v":"Selbstbewusstsein"},null,null,{"$f":"IF($H$2=\"G\",Skillserleuterungen_FTEM!G27,Skillserleuterungen_FTEM!C27)","v":"hat das nötige Selbstvertrauen,\"I can do it\"-Haltung, kann eigene Fähigkeiten einschätzen (kennt eigene Stärken/Schwächen), kann ihre Stärken konstant einsetzen, agiert mutig und nimmt kalkulierte Risiken"},null,null,{"$f":"IF($H$2=\"G\",Skillserleuterungen_FTEM!#REF!,Skillserleuterungen_FTEM!#REF!)","v":{"$error":"#REF!"}},null,null,null,{"$f":"IFERROR(AVERAGE(O36:O40),\"-\")","v":"-"},null,{"$f":"IFERROR(AVERAGE(Q36:Q40),\"-\")","v":"-"},null,{"$f":"IFERROR(AVERAGE(S36:S40),\"-\")","v":"-"},null,{"$f":"IFERROR(AVERAGE(U36:U40),\"-\")","v":"-"},null,{"$f":"IFERROR(AVERAGE(W36:W40),\"-\")","v":"-"},null,{"$f":"IFERROR(AVERAGE(Y36:Y40),\"-\")","v":"-"}]
[null,null,null,{"$f":"IF($H$2=\"G\",Skillserleuterungen_FTEM!F28,Skillserleuterungen_FTEM!B28)","v":"Lernfähigkeit"},null,null,{"$f":"IF($H$2=\"G\",Skillserleuterungen_FTEM!G28,Skillserleuterungen_FTEM!C28)","v":"hat eine gute Auffassungsgabe (nimmt auf und kann umsetzen), reflektiert eigenes Handeln, versucht aus Fehlern zu lernen und kann Massnahmen ableiten"},null,null,{"$f":"IF($H$2=\"G\",Skillserleuterungen_FTEM!#REF!,Skillserleuterungen_FTEM!#REF!)","v":{"$error":"#REF!"}}]
[null,null,null,{"$f":"IF($H$2=\"G\",Skillserleuterungen_FTEM!F29,Skillserleuterungen_FTEM!B29)","v":"Eigenverantwortung"},null,null,{"$f":"IF($H$2=\"G\",Skillserleuterungen_FTEM!G29,Skillserleuterungen_FTEM!C29)","v":"übernimmt Verantwortung für eigene Leistungen und Entwicklung, handelt selbständig, achtet auf Details, zeigt grosses Engagement in allen Bereichen"},null,null,{"$f":"IF($H$2=\"G\",Skillserleuterungen_FTEM!#REF!,Skillserleuterungen_FTEM!#REF!)","v":{"$error":"#REF!"}}]
[null,null,null,{"$f":"IF($H$2=\"G\",Skillserleuterungen_FTEM!F30,Skillserleuterungen_FTEM!B30)","v":"Motivation"},null,null,{"$f":"IF($H$2=\"G\",Skillserleuterungen_FTEM!G30,Skillserleuterungen_FTEM!C30)","v":"Intrinsischer Antrieb, will sich ständig weiterentwickeln und lernen, will die Erste sein und Erfolg haben, gibt nie auf und lässt sich auch durch Misserfolge nicht vom Weg abbringen"},null,null,{"$f":"IF($H$2=\"G\",Skillserleuterungen_FTEM!#REF!,Skillserleuterungen_FTEM!#REF!)","v":{"$error":"#REF!"}}]
[null,null,null,{"$f":"IF($H$2=\"G\",Skillserleuterungen_FTEM!F31,Skillserleuterungen_FTEM!B31)","v":"Performance Lifestyle"},null,null,{"$f":"IF($H$2=\"G\",Skillserleuterungen_FTEM!G31,Skillserleuterungen_FTEM!C31)","v":"managt Alltag und Umfeld nach dem Leistungsprinzip, hartnäckig, beharrlich und zielgerichtet, Fokus auf eigene Leistung, zeigt Biss und kann sich auch gegen Widerstände durchsetzen, Herausforderungen spornen sie an"},null,null,{"$f":"IF($H$2=\"G\",Skillserleuterungen_FTEM!#REF!,Skillserleuterungen_FTEM!#REF!)","v":{"$error":"#REF!"}}]
[{"$f":"Skillserleuterungen_FTEM!A32","v":"MENTALE STÄRKE"},null,null,{"$f":"IF($H$2=\"G\",Skillserleuterungen_FTEM!F32,Skillserleuterungen_FTEM!B32)","v":"Einsatzbereitschaft"},null,null,{"$f":"IF($H$2=\"G\",Skillserleuterungen_FTEM!G32,Skillserleuterungen_FTEM!C32)","v":"zeigt im Spiel und im Training hohe Intensität, gibt immer ihr Maximum und will ihre Limiten pushen, zeigt Leidenschaft, ist um hohe Trainingsqualität bemüht"},null,null,{"$f":"IF($H$2=\"G\",Skillserleuterungen_FTEM!#REF!,Skillserleuterungen_FTEM!#REF!)","v":{"$error":"#REF!"}},null,null,null,{"$f":"IFERROR(AVERAGE(O41:O45),\"-\")","v":"-"},null,{"$f":"IFERROR(AVERAGE(Q41:Q45),\"-\")","v":"-"},null,{"$f":"IFERROR(AVERAGE(S41:S45),\"-\")","v":"-"},null,{"$f":"IFERROR(AVERAGE(U41:U45),\"-\")","v":"-"},null,{"$f":"IFERROR(AVERAGE(W41:W45),\"-\")","v":"-"},null,{"$f":"IFERROR(AVERAGE(Y41:Y45),\"-\")","v":"-"}]
[null,null,null,{"$f":"IF($H$2=\"G\",Skillserleuterungen_FTEM!F33,Skillserleuterungen_FTEM!B33)","v":"Vorbereitung"},null,null,{"$f":"IF($H$2=\"G\",Skillserleuterungen_FTEM!G33,Skillserleuterungen_FTEM!C33)","v":"bewusste und gezielte Vorbereitung, mental wie auch physisch, verfügt über einen effizienten Ablauf zur Erreichung des idealen Leistungszustand (ILZ)"},null,null,{"$f":"IF($H$2=\"G\",Skillserleuterungen_FTEM!#REF!,Skillserleuterungen_FTEM!#REF!)","v":{"$error":"#REF!"}}]
[null,null,null,{"$f":"IF($H$2=\"G\",Skillserleuterungen_FTEM!F34,Skillserleuterungen_FTEM!B34)","v":"Selbstcoaching"},null,null,{"$f":"IF($H$2=\"G\",Skillserleuterungen_FTEM!G34,Skillserleuterungen_FTEM!C34)","v":"verfügt über gute Konzentrationsfähigkeit, kann während Spiel/Training ihren ILZ halten, kann mentale Grundtechniken anwenden, widerstandsfähig gegen negative Gedanken und Einflüsse, ist sich ihrer Körpersprache bewusst und kann diese regulieren"},null,null,{"$f":"IF($H$2=\"G\",Skillserleuterungen_FTEM!#REF!,Skillserleuterungen_FTEM!#REF!)","v":{"$error":"#REF!"}}]
[null,null,null,{"$f":"IF($H$2=\"G\",Skillserleuterungen_FTEM!F35,Skillserleuterungen_FTEM!B35)","v":"Energiemanagement"},null,null,{"$f":"IF($H$2=\"G\",Skillserleuterungen_FTEM!G35,Skillserleuterungen_FTEM!C35)","v":"kann eigene Energie regulieren, bereit zur Regeneration, weiss wann sie \"Vollgas\" geben muss und wann abschalten, On/Off-Schalter"},null,null,{"$f":"IF($H$2=\"G\",Skillserleuterungen_FTEM!#REF!,Skillserleuterungen_FTEM!#REF!)","v":{"$error":"#REF!"}}]
[null,null,null,{"$f":"IF($H$2=\"G\",Skillserleuterungen_FTEM!F36,Skillserleuterungen_FTEM!B36)","v":"Emotionskontrolle"},null,null,{"$f":"IF($H$2=\"G\",Skillserleuterungen_FTEM!G36,Skillserleuterungen_FTEM!C36)","v":"kann eigene Emotionen und Impulse regulieren, behält auch unter Druck die Kontrolle, kann auch in emotional anspruchsvollen oder frustrierenden Situationen angemessen agieren"},null,null,{"$f":"IF($H$2=\"G\",Skillserleuterungen_FTEM!#REF!,Skillserleuterungen_FTEM!#REF!)","v":{"$error":"#REF!"}}]
[{"$f":"Skillserleuterungen_FTEM!A37","v":"PHYSE"},null,null,{"$f":"IF($H$2=\"G\",Skillserleuterungen_FTEM!F37,Skillserleuterungen_FTEM!B37)","v":"Leistungserzeugung"},null,null,{"$f":"IF($H$2=\"G\",Skillserleuterungen_FTEM!G37,Skillserleuterungen_FTEM!C37)","v":"verfügt über die nötige Power/Kraft/Schnelligkeit in den Beinen und im Oberkörper (Neuromuskuläre Faktoren)"},null,null,{"$f":"IF($H$2=\"G\",Skillserleuterungen_FTEM!#REF!,Skillserleuterungen_FTEM!#REF!)","v":{"$error":"#REF!"}},null,null,null,{"$f":"IFERROR(AVERAGE(O46:O50),\"-\")","v":"-"},null,{"$f":"IFERROR(AVERAGE(Q46:Q50),\"-\")","v":"-"},null,{"$f":"IFERROR(AVERAGE(S46:S50),\"-\")","v":"-"},null,{"$f":"IFERROR(AVERAGE(U46:U50),\"-\")","v":"-"},null,{"$f":"IFERROR(AVERAGE(W46:W50),\"-\")","v":"-"},null,{"$f":"IFERROR(AVERAGE(Y46:Y50),\"-\")","v":"-"}]
[null,null,null,{"$f":"IF($H$2=\"G\",Skillserleuterungen_FTEM!F38,Skillserleuterungen_FTEM!B38)","v":"sporartspez. Ermüdungsresistenz"},null,null,{"$f":"IF($H$2=\"G\",Skillserleuterungen_FTEM!G38,Skillserleuterungen_FTEM!C38)","v":"Ist fähig  die Power/Kraft/Schnelligkeit innerhalb des Einsatzes lange aufrechtzuerhalten und kann sich zwischen den Einsätzen jeweils vollkommen erholen (Metabolische und kardiovaskuläre Faktoren)"},null,null,{"$f":"IF($H$2=\"G\",Skillserleuterungen_FTEM!#REF!,Skillserleuterungen_FTEM!#REF!)","v":{"$error":"#REF!"}}]
[null,null,null,{"$f":"IF($H$2=\"G\",Skillserleuterungen_FTEM!F39,Skillserleuterungen_FTEM!B39)","v":"Gesundheit / Prävention"},null,null,{"$f":"IF($H$2=\"G\",Skillserleuterungen_FTEM!G39,Skillserleuterungen_FTEM!C39)","v":"verfügt über die nötige Stabilität (z.B. Beinachsenstabilität) und Beweglichkeit in den zentralen Gelenken"},null,null,{"$f":"IF($H$2=\"G\",Skillserleuterungen_FTEM!#REF!,Skillserleuterungen_FTEM!#REF!)","v":{"$error":"#REF!"}}]
[null,null,null,{"$f":"IF($H$2=\"G\",Skillserleuterungen_FTEM!F40,Skillserleuterungen_FTEM!B40)","v":"Bewegungskompetenzen"},null,null,{"$f":"IF($H$2=\"G\",Skillserleuterungen_FTEM!G40,Skillserleuterungen_FTEM!C40)","v":"beherrscht die grundlegenden Bewegungsfertigkeiten, die eine unerlässliche Zubringerfunktion für die sportspezifischen \"Skills\" darstellt sowie zur nötigen Bewegungseffizienz führt"},null,null,{"$f":"IF($H$2=\"G\",Skillserleuterungen_FTEM!#REF!,Skillserleuterungen_FTEM!#REF!)","v":{"$error":"#REF!"}}]
[null,null,null,{"$f":"IF($H$2=\"G\",Skillserleuterungen_FTEM!F41,Skillserleuterungen_FTEM!B41)","v":"Robustheit"},null,null,{"$f":"IF($H$2=\"G\",Skillserleuterungen_FTEM!G41,Skillserleuterungen_FTEM!C41)","v":"verfügt über die nötige Grundkraft (Körperspannung), um sich in Zweikämpfen durchzusetzen und bei Zusammestössen standzuhalten"},null,null,{"$f":"IF($H$2=\"G\",Skillserleuterungen_FTEM!#REF!,Skillserleuterungen_FTEM!#REF!)","v":{"$error":"#REF!"}}]

{"sheet":"17","index":20,"n_rows":50,"n_cols":36,"rows_kept":50,"cut":false,"hidden":false,"merged":[[13,3,13,5],[14,3,14,5],[15,3,15,5],[13,6,13,11],[14,6,14,11],[15,6,15,11],[21,3,21,5],[21,6,21,11],[26,3,26,5],[26,6,26,11],[0,0,0,24],[0,25,0,26],[0,27,0,32],[0,33,0,35],[29,25,33,25],[29,26,33,32],[29,34,33,34],[35,25,39,25],[35,26,39,32],[35,34,39,34],[1,0,1,1],[1,2,1,5],[1,10,1,24],[2,0,2,1],[2,2,2,5],[2,11,2,24],[6,0,6,1],[6,2,6,35],[7,0,7,1],[7,2,7,35],[8,0,8,1],[8,2,8,35],[3,0,3,1],[3,10,3,24],[4,0,4,1],[4,2,4,5],[4,10,4,24],[10,0,10,24],[10,25,10,35],[40,25,44,25],[40,26,44,32],[40,34,44,34],[12,25,16,25],[12,26,16,32],[12,34,16,34],[18,25,22,25],[18,26,22,32],[18,34,22,34],[23,25,28,25],[23,26,28,32],[23,34,28,34],[17,26,17,32],[11,0,11,2],[11,3,11,5],[11,13,11,14],[11,15,11,16],[11,17,11,18],[11,19,11,20],[11,21,11,22],[11,23,11,24],[11,26,11,32],[11,6,11,11],[12,23,16,23],[16,3,16,5],[16,6,16,11],[17,0,17,2],[17,3,17,5],[17,6,17,11],[17,13,17,14],[17,15,17,16],[17,17,17,18],[17,19,17,20],[17,21,17,22],[17,23,17,24],[12,0,16,2],[12,3,12,5],[12,6,12,11],[12,12,16,12],[12,13,16,13],[12,15,16,15],[12,17,16,17],[12,19,16,19],[12,21,16,21],[18,15,22,15],[18,17,22,17],[18,19,22,19],[18,21,22,21],[18,23,22,23],[22,3,22,5],[22,6,22,11],[23,0,28,2],[23,3,23,5],[23,6,23,11],[23,12,28,12],[23,13,28,13],[23,15,28,15],[23,17,28,17],[18,0,22,2],[18,3,18,5],[18,6,18,11],[18,12,22,12],[18,13,22,13],[19,3,19,5],[19,6,19,11],[20,3,20,5],[20,6,20,11],[23,19,28,19],[23,21,28,21],[23,23,28,23],[24,3,24,5],[24,6,24,11],[28,3,28,5],[28,6,28,11],[33,3,33,5],[33,6,33,11],[29,23,33,23],[29,17,33,17],[29,19,33,19],[29,21,33,21],[30,3,30,5],[30,6,30,11],[31,3,31,5],[31,6,31,11],[27,3,27,5],[27,6,27,11],[32,3,32,5],[32,6,32,11],[29,0,33,2],[29,3,29,5],[29,6,29,11],[29,12,33,12],[29,13,33,13],[29,15,33,15],[34,23,34,24],[34,26,34,32],[35,0,39,2],[35,3,35,5],[35,6,35,11],[35,12,39,12],[35,13,39,13],[35,15,39,15],[39,3,39,5],[39,6,39,11],[35,23,39,23],[34,0,34,2],[34,3,34,5],[34,6,34,11],[34,13,34,14],[34,15,34,16],[34,17,34,18],[34,19,34,20],[36,3,36,5],[36,6,36,11],[37,3,37,5],[37,6,37,11],[40,17,44,17],[40,19,44,19],[40,21,44,21],[41,3,41,5],[41,6,41,11],[44,3,44,5],[44,6,44,11],[38,3,38,5],[38,6,38,11],[43,3,43,5],[43,6,43,11],[45,26,49,32],[45,34,49,34],[25,3,25,5],[25,6,25,11],[42,3,42,5],[42,6,42,11],[45,0,49,2],[45,12,49,12],[45,13,49,13],[45,15,49,15],[45,17,49,17],[45,19,49,19],[45,21,49,21],[45,23,49,23],[45,25,49,25],[45,3,45,5],[45,6,45,11],[46,3,46,5],[46,6,46,11],[40,15,44,15],[34,21,34,22],[35,17,39,17],[35,19,39,19],[35,21,39,21],[47,3,47,5],[47,6,47,11],[49,3,49,5],[49,6,49,11],[40,23,44,23],[40,0,44,2],[40,3,40,5],[40,6,40,11],[40,12,44,12],[40,13,44,13],[48,3,48,5],[48,6,48,11]]}
["Personalien",null,null,null,null,null,null,null,null,null,null,null,null,null,null,null,null,null,null,null,null,null,null,null,null,"Vorausetzungen",null,"Evaluationen",null,null,null,null,null,"Rating"]
["VORNAME",null,{"$f":"IF(ISBLANK(VLOOKUP(17,Tabelle3[],3,0)),\"-\",VLOOKUP(17,Tabelle3[],3,0))","v":"-"},null,null,null,"POSITION",null,null,"ADRESSE",{"$f":"IF(ISBLANK(VLOOKUP(17,Tabelle3[],5,0)),\"-\",VLOOKUP(17,Tabelle3[],5,0))","v":"-"},null,null,null,null,null,null,null,null,null,null,null,null,null,null,"\"Alter\" (Biologisch/Relative Age)",null,"Datum 1",null,null,"cm",null,"Kg",null,"AUSGEZEICHNET",5]
["NAME",null,{"$f":"IF(ISBLANK(VLOOKUP(17,Tabelle3[],2,0)),\"-\",VLOOKUP(17,Tabelle3[],2,0))","v":"-"},null,null,null,"STOCK",null,null,"WOHNORT",{"$f":"IF(ISBLANK(VLOOKUP(17,Tabelle3[],7,0)),\"-\",VLOOKUP(17,Tabelle3[],7,0))","v":"-"},{"$f":"IF(ISBLANK(VLOOKUP(17,Tabelle3[],6,0)),\"-\",VLOOKUP(17,Tabelle3[],6,0))","v":"-"},null,null,null,null,null,null,null,null,null,null,null,null,null,"Veranlagung",null,"Datum 2",null,null,"cm",null,"Kg",null,"GUT",4]
["GEB. DATUM",null,{"$f":"IF(ISBLANK(VLOOKUP(17,Tabelle3[],14,0)),\"-\",VLOOKUP(17,Tabelle3[],14,0))","v":"-"},{"$f":"IF(ISBLANK(VLOOKUP(17,Tabelle3[],15,0)),\"-\",VLOOKUP(17,Tabelle3[],15,0))","v":"-"},{"$f":"IF(ISBLANK(VLOOKUP(17,Tabelle3[],16,0)),\"-\",VLOOKUP(17,Tabelle3[],16,0))","v":"-"},null,"GRÖSSE",null,"cm (Final)","CLUB",{"$f":"IF(ISBLANK(VLOOKUP(17,Tabelle3[],8,0)),\"-\",VLOOKUP(17,Tabelle3[],8,0))","v":"-"},null,null,null,null,null,null,null,null,null,null,null,null,null,null,"Umfeld",null,"Datum 3",null,null,"cm",null,"Kg",null,"DURCHSCHNITT",3]
["SEX",null,{"$f":"IF(ISBLANK(VLOOKUP(17,Tabelle3[],13,0)),\"-\",VLOOKUP(17,Tabelle3[],13,0))","v":"-"},null,null,null,"GEWICHT",null,"Kg (Final)","E-Mail",{"$f":"IF(ISBLANK(VLOOKUP(17,Tabelle3[],9,0)),\"-\",VLOOKUP(17,Tabelle3[],9,0))","v":"-"},null,null,null,null,null,null,null,null,null,null,null,null,null,null,null,null,"Datum 4",null,null,"cm",null,"Kg",null,"MANGELHAFT",2]
[null,null,null,null,null,null,null,null,null,null,null,null,null,null,null,null,null,null,null,null,null,null,null,null,null,null,null,"Datum 5",null,null,"cm",null,"Kg",null,"UNGENÜGEND",1]
["Vision",null,"xxx"]
["Ziele",null,"xxx"]
["Stärken",null,"xxx"]
[]
["EVALUATION (COACH / SPIELERIN)",null,null,null,null,null,null,null,null,null,null,null,null,null,null,null,null,null,null,null,null,null,null,null,null,"SMART"]
[{"$f":"Skillserleuterungen_FTEM!A3","v":"TEAM"},null,null,{"$f":"Skillserleuterungen_FTEM!B3","v":"FÄHIGKEIT"},null,null,{"$f":"Skillserleuterungen_FTEM!C3","v":"BEOBACHTUNG"},null,null,null,null,null,"Final","Datum1",null,"Datum2",null,"Datum3",null,"Datum4",null,"Datum5",null,"Player",null,"ZIEL","MASSNAHME:\nSPEZIFISCH,  MESSBAR, REALISITISCH",null,null,null,null,null,null,"TERMIN","ZIEL-KONTROLLE","Datum"]
[{"$f":"Skillserleuterungen_FTEM!A4","v":"TEAM"},null,null,{"$f":"IF($H$2=\"G\",Skillserleuterungen_FTEM!F4,Skillserleuterungen_FTEM!B4)","v":"Kommunikation"},null,null,{"$f":"IF($H$2=\"G\",Skillserleuterungen_FTEM!G4,Skillserleuterungen_FTEM!C4)","v":"pflegt einen offenen, respektvollen Umgang, Vertrauensbasis als Grundlage, trägt Konflikte aus ohne die Stabilität der Gruppe zu gefährden, kommuniziert mit Mitspielerinnen, Trainern und Funktionären gleichermassen wertschätzend"},null,null,{"$f":"IF($H$2=\"G\",Skillserleuterungen_FTEM!#REF!,Skillserleuterungen_FTEM!#REF!)","v":{"$error":"#REF!"}},null,null,null,{"$f":"IFERROR(AVERAGE(O13:O17),\"-\")","v":"-"},null,{"$f":"IFERROR(AVERAGE(Q13:Q17),\"-\")","v":"-"},null,{"$f":"IFERROR(AVERAGE(S13:S17),\"-\")","v":"-"},null,{"$f":"IFERROR(AVERAGE(U13:U17),\"-\")","v":"-"},null,null,null,{"$f":"IFERROR(AVERAGE(Y13:Y17),\"-\")","v":"-"}]
[null,null,null,{"$f":"IF($H$2=\"G\",Skillserleuterungen_FTEM!F5,Skillserleuterungen_FTEM!B5)","v":"Teamfähigkeit"},null,null,{"$f":"IF($H$2=\"G\",Skillserleuterungen_FTEM!G5,Skillserleuterungen_FTEM!C5)","v":"Integration in die Gruppe, gemeinsame Ziele bestimmen und verfolgen können, WIR vor dem ICH, trägt zu einem guten Team-Spirit und Arbeitsklima bei"},null,null,{"$f":"IF($H$2=\"G\",Skillserleuterungen_FTEM!#REF!,Skillserleuterungen_FTEM!#REF!)","v":{"$error":"#REF!"}}]
[null,null,null,{"$f":"IF($H$2=\"G\",Skillserleuterungen_FTEM!F6,Skillserleuterungen_FTEM!B6)","v":"Leadership"},null,null,{"$f":"IF($H$2=\"G\",Skillserleuterungen_FTEM!G6,Skillserleuterungen_FTEM!C6)","v":"übernimmt Verantwortung in der Gruppe, versucht Team und Mitspielerinnen besser zu machen, nimmt positiven Einfluss auf die Gruppendynamik"},null,null,{"$f":"IF($H$2=\"G\",Skillserleuterungen_FTEM!#REF!,Skillserleuterungen_FTEM!#REF!)","v":{"$error":"#REF!"}}]
[null,null,null,{"$f":"IF($H$2=\"G\",Skillserleuterungen_FTEM!F7,Skillserleuterungen_FTEM!B7)","v":"Rollenverteilung"},null,null,{"$f":"IF($H$2=\"G\",Skillserleuterungen_FTEM!G7,Skillserleuterungen_FTEM!C7)","v":"kennt ihre Rolle und füllt diese aus, ist sich ihrer Stellung im Team und im System bewusst, stellt eigene Kompetenzen in den Dienst des Teams"},null,null,{"$f":"IF($H$2=\"G\",Skillserleuterungen_FTEM!#REF!,Skillserleuterungen_FTEM!#REF!)","v":{"$error":"#REF!"}}]
[null,null,null,{"$f":"IF($H$2=\"G\",Skillserleuterungen_FTEM!F8,Skillserleuterungen_FTEM!B8)","v":"Respekt"},null,null,{"$f":"IF($H$2=\"G\",Skillserleuterungen_FTEM!G8,Skillserleuterungen_FTEM!C8)","v":"Respektvoller Umgang mit Mitspielerinnen, Trainern, Gegnern, Schiedsrichter und Staff; achtet die Regeln, Fairplayprinzipien (inkl. Anti-Doping)"},null,null,{"$f":"IF($H$2=\"G\",Skillserleuterungen_FTEM!#REF!,Skillserleuterungen_FTEM!#REF!)","v":{"$error":"#REF!"}}]
[{"$f":"Skillserleuterungen_FTEM!A9","v":"ON ICE"},null,null,{"$f":"Skillserleuterungen_FTEM!B9","v":"FÄHIGKEIT"},null,null,{"$f":"Skillserleuterungen_FTEM!C9","v":"BEOBACHTUNG"},null,null,null,null,null,null,"Datum1",null,"Datum2",null,"Datum3",null,"Datum4",null,"Datum5",null,"Player",null,"ZIEL","MASSNAHME:\nSPEZIFISCH,  MESSBAR, REALISITISCH",null,null,null,null,null,null,"TERMIN","ZIEL-KONTROLLE","Datum"]
[{"$f":"Skillserleuterungen_FTEM!A10","v":"SKATING"},null,null,{"$f":"IF($H$2=\"G\",Skillserleuterungen_FTEM!F10,Skillserleuterungen_FTEM!B10)","v":"Footspeed"},null,null,{"$f":"IF($H$2=\"G\",Skillserleuterungen_FTEM!G10,Skillserleuterungen_FTEM!C10)","v":"Beschleunigung, Antritt, erste 3 Schritte Explosivität, Frequenz"},null,null,{"$f":"IF($H$2=\"G\",Skillserleuterungen_FTEM!#REF!,Skillserleuterungen_FTEM!#REF!)","v":{"$error":"#REF!"}},null,null,null,{"$f":"IFERROR(AVERAGE(O19:O23),\"-\")","v":"-"},null,{"$f":"IFERROR(AVERAGE(Q19:Q23),\"-\")","v":"-"},null,{"$f":"IFERROR(AVERAGE(S19:S23),\"-\")","v":"-"},null,{"$f":"IFERROR(AVERAGE(U19:U23),\"-\")","v":"-"},null,{"$f":"IFERROR(AVERAGE(W19:W23),\"-\")","v":"-"},null,{"$f":"IFERROR(AVERAGE(Y19:Y23),\"-\")","v":"-"}]
[null,null,null,{"$f":"IF($H$2=\"G\",Skillserleuterungen_FTEM!F11,Skillserleuterungen_FTEM!B11)","v":"Topspeed"},null,null,{"$f":"IF($H$2=\"G\",Skillserleuterungen_FTEM!G11,Skillserleuterungen_FTEM!C11)","v":"Schnelligkeit, Gleitfähigkeit, vorwärts und rückwärts, Ökonomie"},null,null,{"$f":"IF($H$2=\"G\",Skillserleuterungen_FTEM!#REF!,Skillserleuterungen_FTEM!#REF!)","v":{"$error":"#REF!"}}]
[null,null,null,{"$f":"IF($H$2=\"G\",Skillserleuterungen_FTEM!F12,Skillserleuterungen_FTEM!B12)","v":"Agilität"},null,null,{"$f":"IF($H$2=\"G\",Skillserleuterungen_FTEM!G12,Skillserleuterungen_FTEM!C12)","v":"Richtungsänderung, Drehung, Stop und Start, \"Nummelin\""},null,null,{"$f":"IF($H$2=\"G\",Skillserleuterungen_FTEM!#REF!,Skillserleuterungen_FTEM!#REF!)","v":{"$error":"#REF!"}},null,null,null,{"$f":"IFERROR(AVERAGE(O21:O23),\"-\")","v":"-"},null,{"$f":"IFERROR(AVERAGE(Q21:Q23),\"-\")","v":"-"},null,{"$f":"IFERROR(AVERAGE(S21:S23),\"-\")","v":"-"},null,{"$f":"IFERROR(AVERAGE(U21:U23),\"-\")","v":"-"},null,{"$f":"IFERROR(AVERAGE(W21:W23),\"-\")","v":"-"},null,{"$f":"IFERROR(AVERAGE(Y21:Y23),\"-\")","v":"-"}]
[null,null,null,{"$f":"IF($H$2=\"G\",Skillserleuterungen_FTEM!F13,Skillserleuterungen_FTEM!B13)","v":"Balance"},null,null,{"$f":"IF($H$2=\"G\",Skillserleuterungen_FTEM!G13,Skillserleuterungen_FTEM!C13)","v":"Gleichgewicht, Standhaftfähigkeit, tiefe Position, ein- und beidbeinig"},null,null,{"$f":"IF($H$2=\"G\",Skillserleuterungen_FTEM!#REF!,Skillserleuterungen_FTEM!#REF!)","v":{"$error":"#REF!"}}]
[null,null,null,{"$f":"IF($H$2=\"G\",Skillserleuterungen_FTEM!F14,Skillserleuterungen_FTEM!B14)","v":"Backwards Skating"},null,null,{"$f":"IF($H$2=\"G\",Skillserleuterungen_FTEM!G14,Skillserleuterungen_FTEM!C14)","v":"Beschleunigung, Geschwindigkeit, Balance"},null,null,{"$f":"IF($H$2=\"G\",Skillserleuterungen_FTEM!#REF!,Skillserleuterungen_FTEM!#REF!)","v":{"$error":"#REF!"}}]
[{"$f":"Skillserleuterungen_FTEM!A15","v":"SKILLS"},null,null,{"$f":"IF($H$2=\"G\",Skillserleuterungen_FTEM!F15,Skillserleuterungen_FTEM!B15)","v":"Schiessen"},null,null,{"$f":"IF($H$2=\"G\",Skillserleuterungen_FTEM!G15,Skillserleuterungen_FTEM!C15)","v":"Effizienz (no space no time), Variantenreichtum, Überraschungsgrad (Quick Release), Präzision, Härte, (taktische Abschlüsse)"},null,null,{"$f":"IF($H$2=\"G\",Skillserleuterungen_FTEM!#REF!,Skillserleuterungen_FTEM!#REF!)","v":{"$error":"#REF!"}},null,null,null,{"$f":"IFERROR(AVERAGE(O24:O29),\"-\")","v":"-"},null,{"$f":"IFERROR(AVERAGE(Q24:Q29),\"-\")","v":"-"},null,{"$f":"IFERROR(AVERAGE(S24:S29),\"-\")","v":"-"},null,{"$f":"IFERROR(AVERAGE(U24:U29),\"-\")","v":"-"},null,{"$f":"IFERROR(AVERAGE(W24:W29),\"-\")","v":"-"},null,{"$f":"IFERROR(AVERAGE(Y24:Y29),\"-\")","v":"-"}]
[null,null,null,{"$f":"IF($H$2=\"G\",Skillserleuterungen_FTEM!F16,Skillserleuterungen_FTEM!B16)","v":"Passen"},null,null,{"$f":"IF($H$2=\"G\",Skillserleuterungen_FTEM!G16,Skillserleuterungen_FTEM!C16)","v":"Passabgabe (Distanz, Flippass Backhand), Passannahme (Präzision, Timing, Vorhand, Rückhand, Schlittschuh), Puckspeed "},null,null,{"$f":"IF($H$2=\"G\",Skillserleuterungen_FTEM!#REF!,Skillserleuterungen_FTEM!#REF!)","v":{"$error":"#REF!"}}]
[null,null,null,{"$f":"IF($H$2=\"G\",Skillserleuterungen_FTEM!F17,Skillserleuterungen_FTEM!B17)","v":"Stockarbeit"},null,null,{"$f":"IF($H$2=\"G\",Skillserleuterungen_FTEM!G17,Skillserleuterungen_FTEM!C17)","v":"Stock zum Puck, Passlinie unterbinden, ablenken, Stockkontrolle Gegenspielerin"},null,null,{"$f":"IF($H$2=\"G\",Skillserleuterungen_FTEM!#REF!,Skillserleuterungen_FTEM!#REF!)","v":{"$error":"#REF!"}}]
[null,null,null,{"$f":"IF($H$2=\"G\",Skillserleuterungen_FTEM!F18,Skillserleuterungen_FTEM!B18)","v":"Puck besitzen "},null,null,{"$f":"IF($H$2=\"G\",Skillserleuterungen_FTEM!G18,Skillserleuterungen_FTEM!C18)","v":"Puckkontrolle, Dribblings, Puck schützen, Finten (Varianten: mit Schlittschuh, mit sowie ohne Bande), Face-Off"},null,null,{"$f":"IF($H$2=\"G\",Skillserleuterungen_FTEM!#REF!,Skillserleuterungen_FTEM!#REF!)","v":{"$error":"#REF!"}}]
[null,null,null,{"$f":"IF($H$2=\"G\",Skillserleuterungen_FTEM!F19,Skillserleuterungen_FTEM!B19)","v":"Körperspiel"},null,null,{"$f":"IF($H$2=\"G\",Skillserleuterungen_FTEM!G19,Skillserleuterungen_FTEM!C19)","v":"Phyisches Durchsetzungsvermögen, Zweikampf (offenes Eis/Bande), Checks nehmen/Head up, Battle Level, Hart aber fair"},null,null,{"$f":"IF($H$2=\"G\",Skillserleuterungen_FTEM!#REF!,Skillserleuterungen_FTEM!#REF!)","v":{"$error":"#REF!"}}]
[null,null,null,{"$f":"IF($H$2=\"G\",Skillserleuterungen_FTEM!F20,Skillserleuterungen_FTEM!B20)","v":"-"},null,null,{"$f":"IF($H$2=\"G\",Skillserleuterungen_FTEM!G20,Skillserleuterungen_FTEM!C20)","v":"-"},null,null,{"$f":"IF($H$2=\"G\",Skillserleuterungen_FTEM!#REF!,Skillserleuterungen_FTEM!#REF!)","v":{"$error":"#REF!"}}]
[{"$f":"Skillserleuterungen_FTEM!A21","v":"HOCKEY SENSE"},null,null,{"$f":"IF($H$2=\"G\",Skillserleuterungen_FTEM!F21,Skillserleuterungen_FTEM!B21)","v":"Spielintelligenz"},null,null,{"$f":"IF($H$2=\"G\",Skillserleuterungen_FTEM!G21,Skillserleuterungen_FTEM!C21)","v":"Freie Räume und Spielerin sehen und Überzahlsituationen kreieren, lösungsorientiert agieren bei allen Bedingungen, Headspeed"},null,null,{"$f":"IF($H$2=\"G\",Skillserleuterungen_FTEM!#REF!,Skillserleuterungen_FTEM!#REF!)","v":{"$error":"#REF!"}},null,null,null,{"$f":"IFERROR(AVERAGE(O30:O34),\"-\")","v":"-"},null,{"$f":"IFERROR(AVERAGE(Q30:Q34),\"-\")","v":"-"},null,{"$f":"IFERROR(AVERAGE(S30:S34),\"-\")","v":"-"},null,{"$f":"IFERROR(AVERAGE(U30:U34),\"-\")","v":"-"},null,{"$f":"IFERROR(AVERAGE(W30:W34),\"-\")","v":"-"},null,{"$f":"IFERROR(AVERAGE(Y30:Y34),\"-\")","v":"-"}]
[null,null,null,{"$f":"IF($H$2=\"G\",Skillserleuterungen_FTEM!F22,Skillserleuterungen_FTEM!B22)","v":"Offensives Bewusstsein"},null,null,{"$f":"IF($H$2=\"G\",Skillserleuterungen_FTEM!G22,Skillserleuterungen_FTEM!C22)","v":"Anspielbar, Antizipation der Spielsituationen, Freiräume für Mitspielerinnen öffnen, Abschlussorientiert sein, Gapspeed, gute Kommunikation"},null,null,{"$f":"IF($H$2=\"G\",Skillserleuterungen_FTEM!#REF!,Skillserleuterungen_FTEM!#REF!)","v":{"$error":"#REF!"}}]
[null,null,null,{"$f":"IF($H$2=\"G\",Skillserleuterungen_FTEM!F23,Skillserleuterungen_FTEM!B23)","v":"Defensiv Bewusstsein"},null,null,{"$f":"IF($H$2=\"G\",Skillserleuterungen_FTEM!G23,Skillserleuterungen_FTEM!C23)","v":"Inside Position halten, Slot beschützen, Mitspieler absichern/Support, Passlinie erkennen, Schüsse blockieren. Gapspeed, gute Komunikation"},null,null,{"$f":"IF($H$2=\"G\",Skillserleuterungen_FTEM!#REF!,Skillserleuterungen_FTEM!#REF!)","v":{"$error":"#REF!"}}]
[null,null,null,{"$f":"IF($H$2=\"G\",Skillserleuterungen_FTEM!F24,Skillserleuterungen_FTEM!B24)","v":"Puckmanagement"},null,null,{"$f":"IF($H$2=\"G\",Skillserleuterungen_FTEM!G24,Skillserleuterungen_FTEM!C24)","v":"Situationsadäquate Entscheidungen treffen, Support, Overload"},null,null,{"$f":"IF($H$2=\"G\",Skillserleuterungen_FTEM!#REF!,Skillserleuterungen_FTEM!#REF!)","v":{"$error":"#REF!"}}]
[null,null,null,{"$f":"IF($H$2=\"G\",Skillserleuterungen_FTEM!F25,Skillserleuterungen_FTEM!B25)","v":"Kreativität"},null,null,{"$f":"IF($H$2=\"G\",Skillserleuterungen_FTEM!G25,Skillserleuterungen_FTEM!C25)","v":"Überraschende Lösungen, Torriecher"},null,null,{"$f":"IF($H$2=\"G\",Skillserleuterungen_FTEM!#REF!,Skillserleuterungen_FTEM!#REF!)","v":{"$error":"#REF!"}}]
[{"$f":"Skillserleuterungen_FTEM!A26","v":"PERSONALITY"},null,null,{"$f":"Skillserleuterungen_FTEM!B26","v":"FÄHIGKEIT"},null,null,{"$f":"Skillserleuterungen_FTEM!C26","v":"BEOBACHTUNG"},null,null,null,null,null,null,"Datum1",null,"Datum2",null,"Datum3",null,"Datum4",null,"Datum5",null,"Player",null,"ZIEL","MASSNAHME:\nSPEZIFISCH,  MESSBAR, REALISITISCH",null,null,null,null,null,null,"TERMIN","ZIEL-KONTROLLE","Datum"]
[{"$f":"Skillserleuterungen_FTEM!A27","v":"PERSÖNLICHKEIT"},null,null,{"$f":"IF($H$2=\"G\",Skillserleuterungen_FTEM!F27,Skillserleuterungen_FTEM!B27)","v":"Selbstbewusstsein"},null,null,{"$f":"IF($H$2=\"G\",Skillserleuterungen_FTEM!G27,Skillserleuterungen_FTEM!C27)","v":"hat das nötige Selbstvertrauen,\"I can do it\"-Haltung, kann eigene Fähigkeiten einschätzen (kennt eigene Stärken/Schwächen), kann ihre Stärken konstant einsetzen, agiert mutig und nimmt kalkulierte Risiken"},null,null,{"$f":"IF($H$2=\"G\",Skillserleuterungen_FTEM!#REF!,Skillserleuterungen_FTEM!#REF!)","v":{"$error":"#REF!"}},null,null,null,{"$f":"IFERROR(AVERAGE(O36:O40),\"-\")","v":"-"},null,{"$f":"IFERROR(AVERAGE(Q36:Q40),\"-\")","v":"-"},null,{"$f":"IFERROR(AVERAGE(S36:S40),\"-\")","v":"-"},null,{"$f":"IFERROR(AVERAGE(U36:U40),\"-\")","v":"-"},null,{"$f":"IFERROR(AVERAGE(W36:W40),\"-\")","v":"-"},null,{"$f":"IFERROR(AVERAGE(Y36:Y40),\"-\")","v":"-"}]
[null,null,null,{"$f":"IF($H$2=\"G\",Skillserleuterungen_FTEM!F28,Skillserleuterungen_FTEM!B28)","v":"Lernfähigkeit"},null,null,{"$f":"IF($H$2=\"G\",Skillserleuterungen_FTEM!G28,Skillserleuterungen_FTEM!C28)","v":"hat eine gute Auffassungsgabe (nimmt auf und kann umsetzen), reflektiert eigenes Handeln, versucht aus Fehlern zu lernen und kann Massnahmen ableiten"},null,null,{"$f":"IF($H$2=\"G\",Skillserleuterungen_FTEM!#REF!,Skillserleuterungen_FTEM!#REF!)","v":{"$error":"#REF!"}}]
[null,null,null,{"$f":"IF($H$2=\"G\",Skillserleuterungen_FTEM!F29,Skillserleuterungen_FTEM!B29)","v":"Eigenverantwortung"},null,null,{"$f":"IF($H$2=\"G\",Skillserleuterungen_FTEM!G29,Skillserleuterungen_FTEM!C29)","v":"übernimmt Verantwortung für eigene Leistungen und Entwicklung, handelt selbständig, achtet auf Details, zeigt grosses Engagement in allen Bereichen"},null,null,{"$f":"IF($H$2=\"G\",Skillserleuterungen_FTEM!#REF!,Skillserleuterungen_FTEM!#REF!)","v":{"$error":"#REF!"}}]
[null,null,null,{"$f":"IF($H$2=\"G\",Skillserleuterungen_FTEM!F30,Skillserleuterungen_FTEM!B30)","v":"Motivation"},null,null,{"$f":"IF($H$2=\"G\",Skillserleuterungen_FTEM!G30,Skillserleuterungen_FTEM!C30)","v":"Intrinsischer Antrieb, will sich ständig weiterentwickeln und lernen, will die Erste sein und Erfolg haben, gibt nie auf und lässt sich auch durch Misserfolge nicht vom Weg abbringen"},null,null,{"$f":"IF($H$2=\"G\",Skillserleuterungen_FTEM!#REF!,Skillserleuterungen_FTEM!#REF!)","v":{"$error":"#REF!"}}]
[null,null,null,{"$f":"IF($H$2=\"G\",Skillserleuterungen_FTEM!F31,Skillserleuterungen_FTEM!B31)","v":"Performance Lifestyle"},null,null,{"$f":"IF($H$2=\"G\",Skillserleuterungen_FTEM!G31,Skillserleuterungen_FTEM!C31)","v":"managt Alltag und Umfeld nach dem Leistungsprinzip, hartnäckig, beharrlich und zielgerichtet, Fokus auf eigene Leistung, zeigt Biss und kann sich auch gegen Widerstände durchsetzen, Herausforderungen spornen sie an"},null,null,{"$f":"IF($H$2=\"G\",Skillserleuterungen_FTEM!#REF!,Skillserleuterungen_FTEM!#REF!)","v":{"$error":"#REF!"}}]
[{"$f":"Skillserleuterungen_FTEM!A32","v":"MENTALE STÄRKE"},null,null,{"$f":"IF($H$2=\"G\",Skillserleuterungen_FTEM!F32,Skillserleuterungen_FTEM!B32)","v":"Einsatzbereitschaft"},null,null,{"$f":"IF($H$2=\"G\",Skillserleuterungen_FTEM!G32,Skillserleuterungen_FTEM!C32)","v":"zeigt im Spiel und im Training hohe Intensität, gibt immer ihr Maximum und will ihre Limiten pushen, zeigt Leidenschaft, ist um hohe Trainingsqualität bemüht"},null,null,{"$f":"IF($H$2=\"G\",Skillserleuterungen_FTEM!#REF!,Skillserleuterungen_FTEM!#REF!)","v":{"$error":"#REF!"}},null,null,null,{"$f":"IFERROR(AVERAGE(O41:O45),\"-\")","v":"-"},null,{"$f":"IFERROR(AVERAGE(Q41:Q45),\"-\")","v":"-"},null,{"$f":"IFERROR(AVERAGE(S41:S45),\"-\")","v":"-"},null,{"$f":"IFERROR(AVERAGE(U41:U45),\"-\")","v":"-"},null,{"$f":"IFERROR(AVERAGE(W41:W45),\"-\")","v":"-"},null,{"$f":"IFERROR(AVERAGE(Y41:Y45),\"-\")","v":"-"}]
[null,null,null,{"$f":"IF($H$2=\"G\",Skillserleuterungen_FTEM!F33,Skillserleuterungen_FTEM!B33)","v":"Vorbereitung"},null,null,{"$f":"IF($H$2=\"G\",Skillserleuterungen_FTEM!G33,Skillserleuterungen_FTEM!C33)","v":"bewusste und gezielte Vorbereitung, mental wie auch physisch, verfügt über einen effizienten Ablauf zur Erreichung des idealen Leistungszustand (ILZ)"},null,null,{"$f":"IF($H$2=\"G\",Skillserleuterungen_FTEM!#REF!,Skillserleuterungen_FTEM!#REF!)","v":{"$error":"#REF!"}}]
[null,null,null,{"$f":"IF($H$2=\"G\",Skillserleuterungen_FTEM!F34,Skillserleuterungen_FTEM!B34)","v":"Selbstcoaching"},null,null,{"$f":"IF($H$2=\"G\",Skillserleuterungen_FTEM!G34,Skillserleuterungen_FTEM!C34)","v":"verfügt über gute Konzentrationsfähigkeit, kann während Spiel/Training ihren ILZ halten, kann mentale Grundtechniken anwenden, widerstandsfähig gegen negative Gedanken und Einflüsse, ist sich ihrer Körpersprache bewusst und kann diese regulieren"},null,null,{"$f":"IF($H$2=\"G\",Skillserleuterungen_FTEM!#REF!,Skillserleuterungen_FTEM!#REF!)","v":{"$error":"#REF!"}}]
[null,null,null,{"$f":"IF($H$2=\"G\",Skillserleuterungen_FTEM!F35,Skillserleuterungen_FTEM!B35)","v":"Energiemanagement"},null,null,{"$f":"IF($H$2=\"G\",Skillserleuterungen_FTEM!G35,Skillserleuterungen_FTEM!C35)","v":"kann eigene Energie regulieren, bereit zur Regeneration, weiss wann sie \"Vollgas\" geben muss und wann abschalten, On/Off-Schalter"},null,null,{"$f":"IF($H$2=\"G\",Skillserleuterungen_FTEM!#REF!,Skillserleuterungen_FTEM!#REF!)","v":{"$error":"#REF!"}}]
[null,null,null,{"$f":"IF($H$2=\"G\",Skillserleuterungen_FTEM!F36,Skillserleuterungen_FTEM!B36)","v":"Emotionskontrolle"},null,null,{"$f":"IF($H$2=\"G\",Skillserleuterungen_FTEM!G36,Skillserleuterungen_FTEM!C36)","v":"kann eigene Emotionen und Impulse regulieren, behält auch unter Druck die Kontrolle, kann auch in emotional anspruchsvollen oder frustrierenden Situationen angemessen agieren"},null,null,{"$f":"IF($H$2=\"G\",Skillserleuterungen_FTEM!#REF!,Skillserleuterungen_FTEM!#REF!)","v":{"$error":"#REF!"}}]
[{"$f":"Skillserleuterungen_FTEM!A37","v":"PHYSE"},null,null,{"$f":"IF($H$2=\"G\",Skillserleuterungen_FTEM!F37,Skillserleuterungen_FTEM!B37)","v":"Leistungserzeugung"},null,null,{"$f":"IF($H$2=\"G\",Skillserleuterungen_FTEM!G37,Skillserleuterungen_FTEM!C37)","v":"verfügt über die nötige Power/Kraft/Schnelligkeit in den Beinen und im Oberkörper (Neuromuskuläre Faktoren)"},null,null,{"$f":"IF($H$2=\"G\",Skillserleuterungen_FTEM!#REF!,Skillserleuterungen_FTEM!#REF!)","v":{"$error":"#REF!"}},null,null,null,{"$f":"IFERROR(AVERAGE(O46:O50),\"-\")","v":"-"},null,{"$f":"IFERROR(AVERAGE(Q46:Q50),\"-\")","v":"-"},null,{"$f":"IFERROR(AVERAGE(S46:S50),\"-\")","v":"-"},null,{"$f":"IFERROR(AVERAGE(U46:U50),\"-\")","v":"-"},null,{"$f":"IFERROR(AVERAGE(W46:W50),\"-\")","v":"-"},null,{"$f":"IFERROR(AVERAGE(Y46:Y50),\"-\")","v":"-"}]
[null,null,null,{"$f":"IF($H$2=\"G\",Skillserleuterungen_FTEM!F38,Skillserleuterungen_FTEM!B38)","v":"sporartspez. Ermüdungsresistenz"},null,null,{"$f":"IF($H$2=\"G\",Skillserleuterungen_FTEM!G38,Skillserleuterungen_FTEM!C38)","v":"Ist fähig  die Power/Kraft/Schnelligkeit innerhalb des Einsatzes lange aufrechtzuerhalten und kann sich zwischen den Einsätzen jeweils vollkommen erholen (Metabolische und kardiovaskuläre Faktoren)"},null,null,{"$f":"IF($H$2=\"G\",Skillserleuterungen_FTEM!#REF!,Skillserleuterungen_FTEM!#REF!)","v":{"$error":"#REF!"}}]
[null,null,null,{"$f":"IF($H$2=\"G\",Skillserleuterungen_FTEM!F39,Skillserleuterungen_FTEM!B39)","v":"Gesundheit / Prävention"},null,null,{"$f":"IF($H$2=\"G\",Skillserleuterungen_FTEM!G39,Skillserleuterungen_FTEM!C39)","v":"verfügt über die nötige Stabilität (z.B. Beinachsenstabilität) und Beweglichkeit in den zentralen Gelenken"},null,null,{"$f":"IF($H$2=\"G\",Skillserleuterungen_FTEM!#REF!,Skillserleuterungen_FTEM!#REF!)","v":{"$error":"#REF!"}}]
[null,null,null,{"$f":"IF($H$2=\"G\",Skillserleuterungen_FTEM!F40,Skillserleuterungen_FTEM!B40)","v":"Bewegungskompetenzen"},null,null,{"$f":"IF($H$2=\"G\",Skillserleuterungen_FTEM!G40,Skillserleuterungen_FTEM!C40)","v":"beherrscht die grundlegenden Bewegungsfertigkeiten, die eine unerlässliche Zubringerfunktion für die sportspezifischen \"Skills\" darstellt sowie zur nötigen Bewegungseffizienz führt"},null,null,{"$f":"IF($H$2=\"G\",Skillserleuterungen_FTEM!#REF!,Skillserleuterungen_FTEM!#REF!)","v":{"$error":"#REF!"}}]
[null,null,null,{"$f":"IF($H$2=\"G\",Skillserleuterungen_FTEM!F41,Skillserleuterungen_FTEM!B41)","v":"Robustheit"},null,null,{"$f":"IF($H$2=\"G\",Skillserleuterungen_FTEM!G41,Skillserleuterungen_FTEM!C41)","v":"verfügt über die nötige Grundkraft (Körperspannung), um sich in Zweikämpfen durchzusetzen und bei Zusammestössen standzuhalten"},null,null,{"$f":"IF($H$2=\"G\",Skillserleuterungen_FTEM!#REF!,Skillserleuterungen_FTEM!#REF!)","v":{"$error":"#REF!"}}]

{"sheet":"18","index":21,"n_rows":50,"n_cols":36,"rows_kept":50,"cut":false,"hidden":false,"merged":[[13,3,13,5],[14,3,14,5],[15,3,15,5],[13,6,13,11],[14,6,14,11],[15,6,15,11],[21,3,21,5],[21,6,21,11],[26,3,26,5],[26,6,26,11],[0,0,0,24],[0,25,0,26],[0,27,0,32],[0,33,0,35],[29,25,33,25],[29,26,33,32],[29,34,33,34],[35,25,39,25],[35,26,39,32],[35,34,39,34],[1,0,1,1],[1,2,1,5],[1,10,1,24],[2,0,2,1],[2,2,2,5],[2,11,2,24],[6,0,6,1],[6,2,6,35],[7,0,7,1],[7,2,7,35],[8,0,8,1],[8,2,8,35],[3,0,3,1],[3,10,3,24],[4,0,4,1],[4,2,4,5],[4,10,4,24],[10,0,10,24],[10,25,10,35],[40,25,44,25],[40,26,44,32],[40,34,44,34],[12,25,16,25],[12,26,16,32],[12,34,16,34],[18,25,22,25],[18,26,22,32],[18,34,22,34],[23,25,28,25],[23,26,28,32],[23,34,28,34],[17,26,17,32],[11,0,11,2],[11,3,11,5],[11,13,11,14],[11,15,11,16],[11,17,11,18],[11,19,11,20],[11,21,11,22],[11,23,11,24],[11,26,11,32],[11,6,11,11],[12,23,16,23],[16,3,16,5],[16,6,16,11],[17,0,17,2],[17,3,17,5],[17,6,17,11],[17,13,17,14],[17,15,17,16],[17,17,17,18],[17,19,17,20],[17,21,17,22],[17,23,17,24],[12,0,16,2],[12,3,12,5],[12,6,12,11],[12,12,16,12],[12,13,16,13],[12,15,16,15],[12,17,16,17],[12,19,16,19],[12,21,16,21],[18,15,22,15],[18,17,22,17],[18,19,22,19],[18,21,22,21],[18,23,22,23],[22,3,22,5],[22,6,22,11],[23,0,28,2],[23,3,23,5],[23,6,23,11],[23,12,28,12],[23,13,28,13],[23,15,28,15],[23,17,28,17],[18,0,22,2],[18,3,18,5],[18,6,18,11],[18,12,22,12],[18,13,22,13],[19,3,19,5],[19,6,19,11],[20,3,20,5],[20,6,20,11],[23,19,28,19],[23,21,28,21],[23,23,28,23],[24,3,24,5],[24,6,24,11],[28,3,28,5],[28,6,28,11],[33,3,33,5],[33,6,33,11],[29,23,33,23],[29,17,33,17],[29,19,33,19],[29,21,33,21],[30,3,30,5],[30,6,30,11],[31,3,31,5],[31,6,31,11],[27,3,27,5],[27,6,27,11],[32,3,32,5],[32,6,32,11],[29,0,33,2],[29,3,29,5],[29,6,29,11],[29,12,33,12],[29,13,33,13],[29,15,33,15],[34,23,34,24],[34,26,34,32],[35,0,39,2],[35,3,35,5],[35,6,35,11],[35,12,39,12],[35,13,39,13],[35,15,39,15],[39,3,39,5],[39,6,39,11],[35,23,39,23],[34,0,34,2],[34,3,34,5],[34,6,34,11],[34,13,34,14],[34,15,34,16],[34,17,34,18],[34,19,34,20],[36,3,36,5],[36,6,36,11],[37,3,37,5],[37,6,37,11],[40,17,44,17],[40,19,44,19],[40,21,44,21],[41,3,41,5],[41,6,41,11],[44,3,44,5],[44,6,44,11],[38,3,38,5],[38,6,38,11],[43,3,43,5],[43,6,43,11],[45,26,49,32],[45,34,49,34],[25,3,25,5],[25,6,25,11],[42,3,42,5],[42,6,42,11],[45,0,49,2],[45,12,49,12],[45,13,49,13],[45,15,49,15],[45,17,49,17],[45,19,49,19],[45,21,49,21],[45,23,49,23],[45,25,49,25],[45,3,45,5],[45,6,45,11],[46,3,46,5],[46,6,46,11],[40,15,44,15],[34,21,34,22],[35,17,39,17],[35,19,39,19],[35,21,39,21],[47,3,47,5],[47,6,47,11],[49,3,49,5],[49,6,49,11],[40,23,44,23],[40,0,44,2],[40,3,40,5],[40,6,40,11],[40,12,44,12],[40,13,44,13],[48,3,48,5],[48,6,48,11]]}
["Personalien",null,null,null,null,null,null,null,null,null,null,null,null,null,null,null,null,null,null,null,null,null,null,null,null,"Vorausetzungen",null,"Evaluationen",null,null,null,null,null,"Rating"]
["VORNAME",null,{"$f":"IF(ISBLANK(VLOOKUP(18,Tabelle3[],3,0)),\"-\",VLOOKUP(18,Tabelle3[],3,0))","v":"-"},null,null,null,"POSITION",null,null,"ADRESSE",{"$f":"IF(ISBLANK(VLOOKUP(18,Tabelle3[],5,0)),\"-\",VLOOKUP(18,Tabelle3[],5,0))","v":"-"},null,null,null,null,null,null,null,null,null,null,null,null,null,null,"\"Alter\" (Biologisch/Relative Age)",null,"Datum 1",null,null,"cm",null,"Kg",null,"AUSGEZEICHNET",5]
["NAME",null,{"$f":"IF(ISBLANK(VLOOKUP(18,Tabelle3[],2,0)),\"-\",VLOOKUP(18,Tabelle3[],2,0))","v":"-"},null,null,null,"STOCK",null,null,"WOHNORT",{"$f":"IF(ISBLANK(VLOOKUP(18,Tabelle3[],7,0)),\"-\",VLOOKUP(18,Tabelle3[],7,0))","v":"-"},{"$f":"IF(ISBLANK(VLOOKUP(18,Tabelle3[],6,0)),\"-\",VLOOKUP(18,Tabelle3[],6,0))","v":"-"},null,null,null,null,null,null,null,null,null,null,null,null,null,"Veranlagung",null,"Datum 2",null,null,"cm",null,"Kg",null,"GUT",4]
["GEB. DATUM",null,{"$f":"IF(ISBLANK(VLOOKUP(18,Tabelle3[],14,0)),\"-\",VLOOKUP(18,Tabelle3[],14,0))","v":"-"},{"$f":"IF(ISBLANK(VLOOKUP(18,Tabelle3[],15,0)),\"-\",VLOOKUP(18,Tabelle3[],15,0))","v":"-"},{"$f":"IF(ISBLANK(VLOOKUP(18,Tabelle3[],16,0)),\"-\",VLOOKUP(18,Tabelle3[],16,0))","v":"-"},null,"GRÖSSE",null,"cm (Final)","CLUB",{"$f":"IF(ISBLANK(VLOOKUP(18,Tabelle3[],8,0)),\"-\",VLOOKUP(18,Tabelle3[],8,0))","v":"-"},null,null,null,null,null,null,null,null,null,null,null,null,null,null,"Umfeld",null,"Datum 3",null,null,"cm",null,"Kg",null,"DURCHSCHNITT",3]
["SEX",null,{"$f":"IF(ISBLANK(VLOOKUP(18,Tabelle3[],13,0)),\"-\",VLOOKUP(18,Tabelle3[],13,0))","v":"-"},null,null,null,"GEWICHT",null,"Kg (Final)","E-Mail",{"$f":"IF(ISBLANK(VLOOKUP(18,Tabelle3[],9,0)),\"-\",VLOOKUP(18,Tabelle3[],9,0))","v":"-"},null,null,null,null,null,null,null,null,null,null,null,null,null,null,null,null,"Datum 4",null,null,"cm",null,"Kg",null,"MANGELHAFT",2]
[null,null,null,null,null,null,null,null,null,null,null,null,null,null,null,null,null,null,null,null,null,null,null,null,null,null,null,"Datum 5",null,null,"cm",null,"Kg",null,"UNGENÜGEND",1]
["Vision",null,"xxx"]
["Ziele",null,"xxx"]
["Stärken",null,"xxx"]
[]
["EVALUATION (COACH / SPIELERIN)",null,null,null,null,null,null,null,null,null,null,null,null,null,null,null,null,null,null,null,null,null,null,null,null,"SMART"]
[{"$f":"Skillserleuterungen_FTEM!A3","v":"TEAM"},null,null,{"$f":"Skillserleuterungen_FTEM!B3","v":"FÄHIGKEIT"},null,null,{"$f":"Skillserleuterungen_FTEM!C3","v":"BEOBACHTUNG"},null,null,null,null,null,"Final","Datum1",null,"Datum2",null,"Datum3",null,"Datum4",null,"Datum5",null,"Player",null,"ZIEL","MASSNAHME:\nSPEZIFISCH,  MESSBAR, REALISITISCH",null,null,null,null,null,null,"TERMIN","ZIEL-KONTROLLE","Datum"]
[{"$f":"Skillserleuterungen_FTEM!A4","v":"TEAM"},null,null,{"$f":"IF($H$2=\"G\",Skillserleuterungen_FTEM!F4,Skillserleuterungen_FTEM!B4)","v":"Kommunikation"},null,null,{"$f":"IF($H$2=\"G\",Skillserleuterungen_FTEM!G4,Skillserleuterungen_FTEM!C4)","v":"pflegt einen offenen, respektvollen Umgang, Vertrauensbasis als Grundlage, trägt Konflikte aus ohne die Stabilität der Gruppe zu gefährden, kommuniziert mit Mitspielerinnen, Trainern und Funktionären gleichermassen wertschätzend"},null,null,{"$f":"IF($H$2=\"G\",Skillserleuterungen_FTEM!#REF!,Skillserleuterungen_FTEM!#REF!)","v":{"$error":"#REF!"}},null,null,null,{"$f":"IFERROR(AVERAGE(O13:O17),\"-\")","v":"-"},null,{"$f":"IFERROR(AVERAGE(Q13:Q17),\"-\")","v":"-"},null,{"$f":"IFERROR(AVERAGE(S13:S17),\"-\")","v":"-"},null,{"$f":"IFERROR(AVERAGE(U13:U17),\"-\")","v":"-"},null,null,null,{"$f":"IFERROR(AVERAGE(Y13:Y17),\"-\")","v":"-"}]
[null,null,null,{"$f":"IF($H$2=\"G\",Skillserleuterungen_FTEM!F5,Skillserleuterungen_FTEM!B5)","v":"Teamfähigkeit"},null,null,{"$f":"IF($H$2=\"G\",Skillserleuterungen_FTEM!G5,Skillserleuterungen_FTEM!C5)","v":"Integration in die Gruppe, gemeinsame Ziele bestimmen und verfolgen können, WIR vor dem ICH, trägt zu einem guten Team-Spirit und Arbeitsklima bei"},null,null,{"$f":"IF($H$2=\"G\",Skillserleuterungen_FTEM!#REF!,Skillserleuterungen_FTEM!#REF!)","v":{"$error":"#REF!"}}]
[null,null,null,{"$f":"IF($H$2=\"G\",Skillserleuterungen_FTEM!F6,Skillserleuterungen_FTEM!B6)","v":"Leadership"},null,null,{"$f":"IF($H$2=\"G\",Skillserleuterungen_FTEM!G6,Skillserleuterungen_FTEM!C6)","v":"übernimmt Verantwortung in der Gruppe, versucht Team und Mitspielerinnen besser zu machen, nimmt positiven Einfluss auf die Gruppendynamik"},null,null,{"$f":"IF($H$2=\"G\",Skillserleuterungen_FTEM!#REF!,Skillserleuterungen_FTEM!#REF!)","v":{"$error":"#REF!"}}]
[null,null,null,{"$f":"IF($H$2=\"G\",Skillserleuterungen_FTEM!F7,Skillserleuterungen_FTEM!B7)","v":"Rollenverteilung"},null,null,{"$f":"IF($H$2=\"G\",Skillserleuterungen_FTEM!G7,Skillserleuterungen_FTEM!C7)","v":"kennt ihre Rolle und füllt diese aus, ist sich ihrer Stellung im Team und im System bewusst, stellt eigene Kompetenzen in den Dienst des Teams"},null,null,{"$f":"IF($H$2=\"G\",Skillserleuterungen_FTEM!#REF!,Skillserleuterungen_FTEM!#REF!)","v":{"$error":"#REF!"}}]
[null,null,null,{"$f":"IF($H$2=\"G\",Skillserleuterungen_FTEM!F8,Skillserleuterungen_FTEM!B8)","v":"Respekt"},null,null,{"$f":"IF($H$2=\"G\",Skillserleuterungen_FTEM!G8,Skillserleuterungen_FTEM!C8)","v":"Respektvoller Umgang mit Mitspielerinnen, Trainern, Gegnern, Schiedsrichter und Staff; achtet die Regeln, Fairplayprinzipien (inkl. Anti-Doping)"},null,null,{"$f":"IF($H$2=\"G\",Skillserleuterungen_FTEM!#REF!,Skillserleuterungen_FTEM!#REF!)","v":{"$error":"#REF!"}}]
[{"$f":"Skillserleuterungen_FTEM!A9","v":"ON ICE"},null,null,{"$f":"Skillserleuterungen_FTEM!B9","v":"FÄHIGKEIT"},null,null,{"$f":"Skillserleuterungen_FTEM!C9","v":"BEOBACHTUNG"},null,null,null,null,null,null,"Datum1",null,"Datum2",null,"Datum3",null,"Datum4",null,"Datum5",null,"Player",null,"ZIEL","MASSNAHME:\nSPEZIFISCH,  MESSBAR, REALISITISCH",null,null,null,null,null,null,"TERMIN","ZIEL-KONTROLLE","Datum"]
[{"$f":"Skillserleuterungen_FTEM!A10","v":"SKATING"},null,null,{"$f":"IF($H$2=\"G\",Skillserleuterungen_FTEM!F10,Skillserleuterungen_FTEM!B10)","v":"Footspeed"},null,null,{"$f":"IF($H$2=\"G\",Skillserleuterungen_FTEM!G10,Skillserleuterungen_FTEM!C10)","v":"Beschleunigung, Antritt, erste 3 Schritte Explosivität, Frequenz"},null,null,{"$f":"IF($H$2=\"G\",Skillserleuterungen_FTEM!#REF!,Skillserleuterungen_FTEM!#REF!)","v":{"$error":"#REF!"}},null,null,null,{"$f":"IFERROR(AVERAGE(O19:O23),\"-\")","v":"-"},null,{"$f":"IFERROR(AVERAGE(Q19:Q23),\"-\")","v":"-"},null,{"$f":"IFERROR(AVERAGE(S19:S23),\"-\")","v":"-"},null,{"$f":"IFERROR(AVERAGE(U19:U23),\"-\")","v":"-"},null,{"$f":"IFERROR(AVERAGE(W19:W23),\"-\")","v":"-"},null,{"$f":"IFERROR(AVERAGE(Y19:Y23),\"-\")","v":"-"}]
[null,null,null,{"$f":"IF($H$2=\"G\",Skillserleuterungen_FTEM!F11,Skillserleuterungen_FTEM!B11)","v":"Topspeed"},null,null,{"$f":"IF($H$2=\"G\",Skillserleuterungen_FTEM!G11,Skillserleuterungen_FTEM!C11)","v":"Schnelligkeit, Gleitfähigkeit, vorwärts und rückwärts, Ökonomie"},null,null,{"$f":"IF($H$2=\"G\",Skillserleuterungen_FTEM!#REF!,Skillserleuterungen_FTEM!#REF!)","v":{"$error":"#REF!"}}]
[null,null,null,{"$f":"IF($H$2=\"G\",Skillserleuterungen_FTEM!F12,Skillserleuterungen_FTEM!B12)","v":"Agilität"},null,null,{"$f":"IF($H$2=\"G\",Skillserleuterungen_FTEM!G12,Skillserleuterungen_FTEM!C12)","v":"Richtungsänderung, Drehung, Stop und Start, \"Nummelin\""},null,null,{"$f":"IF($H$2=\"G\",Skillserleuterungen_FTEM!#REF!,Skillserleuterungen_FTEM!#REF!)","v":{"$error":"#REF!"}},null,null,null,{"$f":"IFERROR(AVERAGE(O21:O23),\"-\")","v":"-"},null,{"$f":"IFERROR(AVERAGE(Q21:Q23),\"-\")","v":"-"},null,{"$f":"IFERROR(AVERAGE(S21:S23),\"-\")","v":"-"},null,{"$f":"IFERROR(AVERAGE(U21:U23),\"-\")","v":"-"},null,{"$f":"IFERROR(AVERAGE(W21:W23),\"-\")","v":"-"},null,{"$f":"IFERROR(AVERAGE(Y21:Y23),\"-\")","v":"-"}]
[null,null,null,{"$f":"IF($H$2=\"G\",Skillserleuterungen_FTEM!F13,Skillserleuterungen_FTEM!B13)","v":"Balance"},null,null,{"$f":"IF($H$2=\"G\",Skillserleuterungen_FTEM!G13,Skillserleuterungen_FTEM!C13)","v":"Gleichgewicht, Standhaftfähigkeit, tiefe Position, ein- und beidbeinig"},null,null,{"$f":"IF($H$2=\"G\",Skillserleuterungen_FTEM!#REF!,Skillserleuterungen_FTEM!#REF!)","v":{"$error":"#REF!"}}]
[null,null,null,{"$f":"IF($H$2=\"G\",Skillserleuterungen_FTEM!F14,Skillserleuterungen_FTEM!B14)","v":"Backwards Skating"},null,null,{"$f":"IF($H$2=\"G\",Skillserleuterungen_FTEM!G14,Skillserleuterungen_FTEM!C14)","v":"Beschleunigung, Geschwindigkeit, Balance"},null,null,{"$f":"IF($H$2=\"G\",Skillserleuterungen_FTEM!#REF!,Skillserleuterungen_FTEM!#REF!)","v":{"$error":"#REF!"}}]
[{"$f":"Skillserleuterungen_FTEM!A15","v":"SKILLS"},null,null,{"$f":"IF($H$2=\"G\",Skillserleuterungen_FTEM!F15,Skillserleuterungen_FTEM!B15)","v":"Schiessen"},null,null,{"$f":"IF($H$2=\"G\",Skillserleuterungen_FTEM!G15,Skillserleuterungen_FTEM!C15)","v":"Effizienz (no space no time), Variantenreichtum, Überraschungsgrad (Quick Release), Präzision, Härte, (taktische Abschlüsse)"},null,null,{"$f":"IF($H$2=\"G\",Skillserleuterungen_FTEM!#REF!,Skillserleuterungen_FTEM!#REF!)","v":{"$error":"#REF!"}},null,null,null,{"$f":"IFERROR(AVERAGE(O24:O29),\"-\")","v":"-"},null,{"$f":"IFERROR(AVERAGE(Q24:Q29),\"-\")","v":"-"},null,{"$f":"IFERROR(AVERAGE(S24:S29),\"-\")","v":"-"},null,{"$f":"IFERROR(AVERAGE(U24:U29),\"-\")","v":"-"},null,{"$f":"IFERROR(AVERAGE(W24:W29),\"-\")","v":"-"},null,{"$f":"IFERROR(AVERAGE(Y24:Y29),\"-\")","v":"-"}]
[null,null,null,{"$f":"IF($H$2=\"G\",Skillserleuterungen_FTEM!F16,Skillserleuterungen_FTEM!B16)","v":"Passen"},null,null,{"$f":"IF($H$2=\"G\",Skillserleuterungen_FTEM!G16,Skillserleuterungen_FTEM!C16)","v":"Passabgabe (Distanz, Flippass Backhand), Passannahme (Präzision, Timing, Vorhand, Rückhand, Schlittschuh), Puckspeed "},null,null,{"$f":"IF($H$2=\"G\",Skillserleuterungen_FTEM!#REF!,Skillserleuterungen_FTEM!#REF!)","v":{"$error":"#REF!"}}]
[null,null,null,{"$f":"IF($H$2=\"G\",Skillserleuterungen_FTEM!F17,Skillserleuterungen_FTEM!B17)","v":"Stockarbeit"},null,null,{"$f":"IF($H$2=\"G\",Skillserleuterungen_FTEM!G17,Skillserleuterungen_FTEM!C17)","v":"Stock zum Puck, Passlinie unterbinden, ablenken, Stockkontrolle Gegenspielerin"},null,null,{"$f":"IF($H$2=\"G\",Skillserleuterungen_FTEM!#REF!,Skillserleuterungen_FTEM!#REF!)","v":{"$error":"#REF!"}}]
[null,null,null,{"$f":"IF($H$2=\"G\",Skillserleuterungen_FTEM!F18,Skillserleuterungen_FTEM!B18)","v":"Puck besitzen "},null,null,{"$f":"IF($H$2=\"G\",Skillserleuterungen_FTEM!G18,Skillserleuterungen_FTEM!C18)","v":"Puckkontrolle, Dribblings, Puck schützen, Finten (Varianten: mit Schlittschuh, mit sowie ohne Bande), Face-Off"},null,null,{"$f":"IF($H$2=\"G\",Skillserleuterungen_FTEM!#REF!,Skillserleuterungen_FTEM!#REF!)","v":{"$error":"#REF!"}}]
[null,null,null,{"$f":"IF($H$2=\"G\",Skillserleuterungen_FTEM!F19,Skillserleuterungen_FTEM!B19)","v":"Körperspiel"},null,null,{"$f":"IF($H$2=\"G\",Skillserleuterungen_FTEM!G19,Skillserleuterungen_FTEM!C19)","v":"Phyisches Durchsetzungsvermögen, Zweikampf (offenes Eis/Bande), Checks nehmen/Head up, Battle Level, Hart aber fair"},null,null,{"$f":"IF($H$2=\"G\",Skillserleuterungen_FTEM!#REF!,Skillserleuterungen_FTEM!#REF!)","v":{"$error":"#REF!"}}]
[null,null,null,{"$f":"IF($H$2=\"G\",Skillserleuterungen_FTEM!F20,Skillserleuterungen_FTEM!B20)","v":"-"},null,null,{"$f":"IF($H$2=\"G\",Skillserleuterungen_FTEM!G20,Skillserleuterungen_FTEM!C20)","v":"-"},null,null,{"$f":"IF($H$2=\"G\",Skillserleuterungen_FTEM!#REF!,Skillserleuterungen_FTEM!#REF!)","v":{"$error":"#REF!"}}]
[{"$f":"Skillserleuterungen_FTEM!A21","v":"HOCKEY SENSE"},null,null,{"$f":"IF($H$2=\"G\",Skillserleuterungen_FTEM!F21,Skillserleuterungen_FTEM!B21)","v":"Spielintelligenz"},null,null,{"$f":"IF($H$2=\"G\",Skillserleuterungen_FTEM!G21,Skillserleuterungen_FTEM!C21)","v":"Freie Räume und Spielerin sehen und Überzahlsituationen kreieren, lösungsorientiert agieren bei allen Bedingungen, Headspeed"},null,null,{"$f":"IF($H$2=\"G\",Skillserleuterungen_FTEM!#REF!,Skillserleuterungen_FTEM!#REF!)","v":{"$error":"#REF!"}},null,null,null,{"$f":"IFERROR(AVERAGE(O30:O34),\"-\")","v":"-"},null,{"$f":"IFERROR(AVERAGE(Q30:Q34),\"-\")","v":"-"},null,{"$f":"IFERROR(AVERAGE(S30:S34),\"-\")","v":"-"},null,{"$f":"IFERROR(AVERAGE(U30:U34),\"-\")","v":"-"},null,{"$f":"IFERROR(AVERAGE(W30:W34),\"-\")","v":"-"},null,{"$f":"IFERROR(AVERAGE(Y30:Y34),\"-\")","v":"-"}]
[null,null,null,{"$f":"IF($H$2=\"G\",Skillserleuterungen_FTEM!F22,Skillserleuterungen_FTEM!B22)","v":"Offensives Bewusstsein"},null,null,{"$f":"IF($H$2=\"G\",Skillserleuterungen_FTEM!G22,Skillserleuterungen_FTEM!C22)","v":"Anspielbar, Antizipation der Spielsituationen, Freiräume für Mitspielerinnen öffnen, Abschlussorientiert sein, Gapspeed, gute Kommunikation"},null,null,{"$f":"IF($H$2=\"G\",Skillserleuterungen_FTEM!#REF!,Skillserleuterungen_FTEM!#REF!)","v":{"$error":"#REF!"}}]
[null,null,null,{"$f":"IF($H$2=\"G\",Skillserleuterungen_FTEM!F23,Skillserleuterungen_FTEM!B23)","v":"Defensiv Bewusstsein"},null,null,{"$f":"IF($H$2=\"G\",Skillserleuterungen_FTEM!G23,Skillserleuterungen_FTEM!C23)","v":"Inside Position halten, Slot beschützen, Mitspieler absichern/Support, Passlinie erkennen, Schüsse blockieren. Gapspeed, gute Komunikation"},null,null,{"$f":"IF($H$2=\"G\",Skillserleuterungen_FTEM!#REF!,Skillserleuterungen_FTEM!#REF!)","v":{"$error":"#REF!"}}]
[null,null,null,{"$f":"IF($H$2=\"G\",Skillserleuterungen_FTEM!F24,Skillserleuterungen_FTEM!B24)","v":"Puckmanagement"},null,null,{"$f":"IF($H$2=\"G\",Skillserleuterungen_FTEM!G24,Skillserleuterungen_FTEM!C24)","v":"Situationsadäquate Entscheidungen treffen, Support, Overload"},null,null,{"$f":"IF($H$2=\"G\",Skillserleuterungen_FTEM!#REF!,Skillserleuterungen_FTEM!#REF!)","v":{"$error":"#REF!"}}]
[null,null,null,{"$f":"IF($H$2=\"G\",Skillserleuterungen_FTEM!F25,Skillserleuterungen_FTEM!B25)","v":"Kreativität"},null,null,{"$f":"IF($H$2=\"G\",Skillserleuterungen_FTEM!G25,Skillserleuterungen_FTEM!C25)","v":"Überraschende Lösungen, Torriecher"},null,null,{"$f":"IF($H$2=\"G\",Skillserleuterungen_FTEM!#REF!,Skillserleuterungen_FTEM!#REF!)","v":{"$error":"#REF!"}}]
[{"$f":"Skillserleuterungen_FTEM!A26","v":"PERSONALITY"},null,null,{"$f":"Skillserleuterungen_FTEM!B26","v":"FÄHIGKEIT"},null,null,{"$f":"Skillserleuterungen_FTEM!C26","v":"BEOBACHTUNG"},null,null,null,null,null,null,"Datum1",null,"Datum2",null,"Datum3",null,"Datum4",null,"Datum5",null,"Player",null,"ZIEL","MASSNAHME:\nSPEZIFISCH,  MESSBAR, REALISITISCH",null,null,null,null,null,null,"TERMIN","ZIEL-KONTROLLE","Datum"]
[{"$f":"Skillserleuterungen_FTEM!A27","v":"PERSÖNLICHKEIT"},null,null,{"$f":"IF($H$2=\"G\",Skillserleuterungen_FTEM!F27,Skillserleuterungen_FTEM!B27)","v":"Selbstbewusstsein"},null,null,{"$f":"IF($H$2=\"G\",Skillserleuterungen_FTEM!G27,Skillserleuterungen_FTEM!C27)","v":"hat das nötige Selbstvertrauen,\"I can do it\"-Haltung, kann eigene Fähigkeiten einschätzen (kennt eigene Stärken/Schwächen), kann ihre Stärken konstant einsetzen, agiert mutig und nimmt kalkulierte Risiken"},null,null,{"$f":"IF($H$2=\"G\",Skillserleuterungen_FTEM!#REF!,Skillserleuterungen_FTEM!#REF!)","v":{"$error":"#REF!"}},null,null,null,{"$f":"IFERROR(AVERAGE(O36:O40),\"-\")","v":"-"},null,{"$f":"IFERROR(AVERAGE(Q36:Q40),\"-\")","v":"-"},null,{"$f":"IFERROR(AVERAGE(S36:S40),\"-\")","v":"-"},null,{"$f":"IFERROR(AVERAGE(U36:U40),\"-\")","v":"-"},null,{"$f":"IFERROR(AVERAGE(W36:W40),\"-\")","v":"-"},null,{"$f":"IFERROR(AVERAGE(Y36:Y40),\"-\")","v":"-"}]
[null,null,null,{"$f":"IF($H$2=\"G\",Skillserleuterungen_FTEM!F28,Skillserleuterungen_FTEM!B28)","v":"Lernfähigkeit"},null,null,{"$f":"IF($H$2=\"G\",Skillserleuterungen_FTEM!G28,Skillserleuterungen_FTEM!C28)","v":"hat eine gute Auffassungsgabe (nimmt auf und kann umsetzen), reflektiert eigenes Handeln, versucht aus Fehlern zu lernen und kann Massnahmen ableiten"},null,null,{"$f":"IF($H$2=\"G\",Skillserleuterungen_FTEM!#REF!,Skillserleuterungen_FTEM!#REF!)","v":{"$error":"#REF!"}}]
[null,null,null,{"$f":"IF($H$2=\"G\",Skillserleuterungen_FTEM!F29,Skillserleuterungen_FTEM!B29)","v":"Eigenverantwortung"},null,null,{"$f":"IF($H$2=\"G\",Skillserleuterungen_FTEM!G29,Skillserleuterungen_FTEM!C29)","v":"übernimmt Verantwortung für eigene Leistungen und Entwicklung, handelt selbständig, achtet auf Details, zeigt grosses Engagement in allen Bereichen"},null,null,{"$f":"IF($H$2=\"G\",Skillserleuterungen_FTEM!#REF!,Skillserleuterungen_FTEM!#REF!)","v":{"$error":"#REF!"}}]
[null,null,null,{"$f":"IF($H$2=\"G\",Skillserleuterungen_FTEM!F30,Skillserleuterungen_FTEM!B30)","v":"Motivation"},null,null,{"$f":"IF($H$2=\"G\",Skillserleuterungen_FTEM!G30,Skillserleuterungen_FTEM!C30)","v":"Intrinsischer Antrieb, will sich ständig weiterentwickeln und lernen, will die Erste sein und Erfolg haben, gibt nie auf und lässt sich auch durch Misserfolge nicht vom Weg abbringen"},null,null,{"$f":"IF($H$2=\"G\",Skillserleuterungen_FTEM!#REF!,Skillserleuterungen_FTEM!#REF!)","v":{"$error":"#REF!"}}]
[null,null,null,{"$f":"IF($H$2=\"G\",Skillserleuterungen_FTEM!F31,Skillserleuterungen_FTEM!B31)","v":"Performance Lifestyle"},null,null,{"$f":"IF($H$2=\"G\",Skillserleuterungen_FTEM!G31,Skillserleuterungen_FTEM!C31)","v":"managt Alltag und Umfeld nach dem Leistungsprinzip, hartnäckig, beharrlich und zielgerichtet, Fokus auf eigene Leistung, zeigt Biss und kann sich auch gegen Widerstände durchsetzen, Herausforderungen spornen sie an"},null,null,{"$f":"IF($H$2=\"G\",Skillserleuterungen_FTEM!#REF!,Skillserleuterungen_FTEM!#REF!)","v":{"$error":"#REF!"}}]
[{"$f":"Skillserleuterungen_FTEM!A32","v":"MENTALE STÄRKE"},null,null,{"$f":"IF($H$2=\"G\",Skillserleuterungen_FTEM!F32,Skillserleuterungen_FTEM!B32)","v":"Einsatzbereitschaft"},null,null,{"$f":"IF($H$2=\"G\",Skillserleuterungen_FTEM!G32,Skillserleuterungen_FTEM!C32)","v":"zeigt im Spiel und im Training hohe Intensität, gibt immer ihr Maximum und will ihre Limiten pushen, zeigt Leidenschaft, ist um hohe Trainingsqualität bemüht"},null,null,{"$f":"IF($H$2=\"G\",Skillserleuterungen_FTEM!#REF!,Skillserleuterungen_FTEM!#REF!)","v":{"$error":"#REF!"}},null,null,null,{"$f":"IFERROR(AVERAGE(O41:O45),\"-\")","v":"-"},null,{"$f":"IFERROR(AVERAGE(Q41:Q45),\"-\")","v":"-"},null,{"$f":"IFERROR(AVERAGE(S41:S45),\"-\")","v":"-"},null,{"$f":"IFERROR(AVERAGE(U41:U45),\"-\")","v":"-"},null,{"$f":"IFERROR(AVERAGE(W41:W45),\"-\")","v":"-"},null,{"$f":"IFERROR(AVERAGE(Y41:Y45),\"-\")","v":"-"}]
[null,null,null,{"$f":"IF($H$2=\"G\",Skillserleuterungen_FTEM!F33,Skillserleuterungen_FTEM!B33)","v":"Vorbereitung"},null,null,{"$f":"IF($H$2=\"G\",Skillserleuterungen_FTEM!G33,Skillserleuterungen_FTEM!C33)","v":"bewusste und gezielte Vorbereitung, mental wie auch physisch, verfügt über einen effizienten Ablauf zur Erreichung des idealen Leistungszustand (ILZ)"},null,null,{"$f":"IF($H$2=\"G\",Skillserleuterungen_FTEM!#REF!,Skillserleuterungen_FTEM!#REF!)","v":{"$error":"#REF!"}}]
[null,null,null,{"$f":"IF($H$2=\"G\",Skillserleuterungen_FTEM!F34,Skillserleuterungen_FTEM!B34)","v":"Selbstcoaching"},null,null,{"$f":"IF($H$2=\"G\",Skillserleuterungen_FTEM!G34,Skillserleuterungen_FTEM!C34)","v":"verfügt über gute Konzentrationsfähigkeit, kann während Spiel/Training ihren ILZ halten, kann mentale Grundtechniken anwenden, widerstandsfähig gegen negative Gedanken und Einflüsse, ist sich ihrer Körpersprache bewusst und kann diese regulieren"},null,null,{"$f":"IF($H$2=\"G\",Skillserleuterungen_FTEM!#REF!,Skillserleuterungen_FTEM!#REF!)","v":{"$error":"#REF!"}}]
[null,null,null,{"$f":"IF($H$2=\"G\",Skillserleuterungen_FTEM!F35,Skillserleuterungen_FTEM!B35)","v":"Energiemanagement"},null,null,{"$f":"IF($H$2=\"G\",Skillserleuterungen_FTEM!G35,Skillserleuterungen_FTEM!C35)","v":"kann eigene Energie regulieren, bereit zur Regeneration, weiss wann sie \"Vollgas\" geben muss und wann abschalten, On/Off-Schalter"},null,null,{"$f":"IF($H$2=\"G\",Skillserleuterungen_FTEM!#REF!,Skillserleuterungen_FTEM!#REF!)","v":{"$error":"#REF!"}}]
[null,null,null,{"$f":"IF($H$2=\"G\",Skillserleuterungen_FTEM!F36,Skillserleuterungen_FTEM!B36)","v":"Emotionskontrolle"},null,null,{"$f":"IF($H$2=\"G\",Skillserleuterungen_FTEM!G36,Skillserleuterungen_FTEM!C36)","v":"kann eigene Emotionen und Impulse regulieren, behält auch unter Druck die Kontrolle, kann auch in emotional anspruchsvollen oder frustrierenden Situationen angemessen agieren"},null,null,{"$f":"IF($H$2=\"G\",Skillserleuterungen_FTEM!#REF!,Skillserleuterungen_FTEM!#REF!)","v":{"$error":"#REF!"}}]
[{"$f":"Skillserleuterungen_FTEM!A37","v":"PHYSE"},null,null,{"$f":"IF($H$2=\"G\",Skillserleuterungen_FTEM!F37,Skillserleuterungen_FTEM!B37)","v":"Leistungserzeugung"},null,null,{"$f":"IF($H$2=\"G\",Skillserleuterungen_FTEM!G37,Skillserleuterungen_FTEM!C37)","v":"verfügt über die nötige Power/Kraft/Schnelligkeit in den Beinen und im Oberkörper (Neuromuskuläre Faktoren)"},null,null,{"$f":"IF($H$2=\"G\",Skillserleuterungen_FTEM!#REF!,Skillserleuterungen_FTEM!#REF!)","v":{"$error":"#REF!"}},null,null,null,{"$f":"IFERROR(AVERAGE(O46:O50),\"-\")","v":"-"},null,{"$f":"IFERROR(AVERAGE(Q46:Q50),\"-\")","v":"-"},null,{"$f":"IFERROR(AVERAGE(S46:S50),\"-\")","v":"-"},null,{"$f":"IFERROR(AVERAGE(U46:U50),\"-\")","v":"-"},null,{"$f":"IFERROR(AVERAGE(W46:W50),\"-\")","v":"-"},null,{"$f":"IFERROR(AVERAGE(Y46:Y50),\"-\")","v":"-"}]
[null,null,null,{"$f":"IF($H$2=\"G\",Skillserleuterungen_FTEM!F38,Skillserleuterungen_FTEM!B38)","v":"sporartspez. Ermüdungsresistenz"},null,null,{"$f":"IF($H$2=\"G\",Skillserleuterungen_FTEM!G38,Skillserleuterungen_FTEM!C38)","v":"Ist fähig  die Power/Kraft/Schnelligkeit innerhalb des Einsatzes lange aufrechtzuerhalten und kann sich zwischen den Einsätzen jeweils vollkommen erholen (Metabolische und kardiovaskuläre Faktoren)"},null,null,{"$f":"IF($H$2=\"G\",Skillserleuterungen_FTEM!#REF!,Skillserleuterungen_FTEM!#REF!)","v":{"$error":"#REF!"}}]
[null,null,null,{"$f":"IF($H$2=\"G\",Skillserleuterungen_FTEM!F39,Skillserleuterungen_FTEM!B39)","v":"Gesundheit / Prävention"},null,null,{"$f":"IF($H$2=\"G\",Skillserleuterungen_FTEM!G39,Skillserleuterungen_FTEM!C39)","v":"verfügt über die nötige Stabilität (z.B. Beinachsenstabilität) und Beweglichkeit in den zentralen Gelenken"},null,null,{"$f":"IF($H$2=\"G\",Skillserleuterungen_FTEM!#REF!,Skillserleuterungen_FTEM!#REF!)","v":{"$error":"#REF!"}}]
[null,null,null,{"$f":"IF($H$2=\"G\",Skillserleuterungen_FTEM!F40,Skillserleuterungen_FTEM!B40)","v":"Bewegungskompetenzen"},null,null,{"$f":"IF($H$2=\"G\",Skillserleuterungen_FTEM!G40,Skillserleuterungen_FTEM!C40)","v":"beherrscht die grundlegenden Bewegungsfertigkeiten, die eine unerlässliche Zubringerfunktion für die sportspezifischen \"Skills\" darstellt sowie zur nötigen Bewegungseffizienz führt"},null,null,{"$f":"IF($H$2=\"G\",Skillserleuterungen_FTEM!#REF!,Skillserleuterungen_FTEM!#REF!)","v":{"$error":"#REF!"}}]
[null,null,null,{"$f":"IF($H$2=\"G\",Skillserleuterungen_FTEM!F41,Skillserleuterungen_FTEM!B41)","v":"Robustheit"},null,null,{"$f":"IF($H$2=\"G\",Skillserleuterungen_FTEM!G41,Skillserleuterungen_FTEM!C41)","v":"verfügt über die nötige Grundkraft (Körperspannung), um sich in Zweikämpfen durchzusetzen und bei Zusammestössen standzuhalten"},null,null,{"$f":"IF($H$2=\"G\",Skillserleuterungen_FTEM!#REF!,Skillserleuterungen_FTEM!#REF!)","v":{"$error":"#REF!"}}]

{"sheet":"19","index":22,"n_rows":50,"n_cols":36,"rows_kept":50,"cut":false,"hidden":false,"merged":[[13,3,13,5],[14,3,14,5],[15,3,15,5],[13,6,13,11],[14,6,14,11],[15,6,15,11],[21,3,21,5],[21,6,21,11],[26,3,26,5],[26,6,26,11],[0,0,0,24],[0,25,0,26],[0,27,0,32],[0,33,0,35],[29,25,33,25],[29,26,33,32],[29,34,33,34],[35,25,39,25],[35,26,39,32],[35,34,39,34],[1,0,1,1],[1,2,1,5],[1,10,1,24],[2,0,2,1],[2,2,2,5],[2,11,2,24],[6,0,6,1],[6,2,6,35],[7,0,7,1],[7,2,7,35],[8,0,8,1],[8,2,8,35],[3,0,3,1],[3,10,3,24],[4,0,4,1],[4,2,4,5],[4,10,4,24],[10,0,10,24],[10,25,10,35],[40,25,44,25],[40,26,44,32],[40,34,44,34],[12,25,16,25],[12,26,16,32],[12,34,16,34],[18,25,22,25],[18,26,22,32],[18,34,22,34],[23,25,28,25],[23,26,28,32],[23,34,28,34],[17,26,17,32],[11,0,11,2],[11,3,11,5],[11,13,11,14],[11,15,11,16],[11,17,11,18],[11,19,11,20],[11,21,11,22],[11,23,11,24],[11,26,11,32],[11,6,11,11],[12,23,16,23],[16,3,16,5],[16,6,16,11],[17,0,17,2],[17,3,17,5],[17,6,17,11],[17,13,17,14],[17,15,17,16],[17,17,17,18],[17,19,17,20],[17,21,17,22],[17,23,17,24],[12,0,16,2],[12,3,12,5],[12,6,12,11],[12,12,16,12],[12,13,16,13],[12,15,16,15],[12,17,16,17],[12,19,16,19],[12,21,16,21],[18,15,22,15],[18,17,22,17],[18,19,22,19],[18,21,22,21],[18,23,22,23],[22,3,22,5],[22,6,22,11],[23,0,28,2],[23,3,23,5],[23,6,23,11],[23,12,28,12],[23,13,28,13],[23,15,28,15],[23,17,28,17],[18,0,22,2],[18,3,18,5],[18,6,18,11],[18,12,22,12],[18,13,22,13],[19,3,19,5],[19,6,19,11],[20,3,20,5],[20,6,20,11],[23,19,28,19],[23,21,28,21],[23,23,28,23],[24,3,24,5],[24,6,24,11],[28,3,28,5],[28,6,28,11],[33,3,33,5],[33,6,33,11],[29,23,33,23],[29,17,33,17],[29,19,33,19],[29,21,33,21],[30,3,30,5],[30,6,30,11],[31,3,31,5],[31,6,31,11],[27,3,27,5],[27,6,27,11],[32,3,32,5],[32,6,32,11],[29,0,33,2],[29,3,29,5],[29,6,29,11],[29,12,33,12],[29,13,33,13],[29,15,33,15],[34,23,34,24],[34,26,34,32],[35,0,39,2],[35,3,35,5],[35,6,35,11],[35,12,39,12],[35,13,39,13],[35,15,39,15],[39,3,39,5],[39,6,39,11],[35,23,39,23],[34,0,34,2],[34,3,34,5],[34,6,34,11],[34,13,34,14],[34,15,34,16],[34,17,34,18],[34,19,34,20],[36,3,36,5],[36,6,36,11],[37,3,37,5],[37,6,37,11],[40,17,44,17],[40,19,44,19],[40,21,44,21],[41,3,41,5],[41,6,41,11],[44,3,44,5],[44,6,44,11],[38,3,38,5],[38,6,38,11],[43,3,43,5],[43,6,43,11],[45,26,49,32],[45,34,49,34],[25,3,25,5],[25,6,25,11],[42,3,42,5],[42,6,42,11],[45,0,49,2],[45,12,49,12],[45,13,49,13],[45,15,49,15],[45,17,49,17],[45,19,49,19],[45,21,49,21],[45,23,49,23],[45,25,49,25],[45,3,45,5],[45,6,45,11],[46,3,46,5],[46,6,46,11],[40,15,44,15],[34,21,34,22],[35,17,39,17],[35,19,39,19],[35,21,39,21],[47,3,47,5],[47,6,47,11],[49,3,49,5],[49,6,49,11],[40,23,44,23],[40,0,44,2],[40,3,40,5],[40,6,40,11],[40,12,44,12],[40,13,44,13],[48,3,48,5],[48,6,48,11]]}
["Personalien",null,null,null,null,null,null,null,null,null,null,null,null,null,null,null,null,null,null,null,null,null,null,null,null,"Vorausetzungen",null,"Evaluationen",null,null,null,null,null,"Rating"]
["VORNAME",null,{"$f":"IF(ISBLANK(VLOOKUP(19,Tabelle3[],3,0)),\"-\",VLOOKUP(19,Tabelle3[],3,0))","v":"-"},null,null,null,"POSITION",null,null,"ADRESSE",{"$f":"IF(ISBLANK(VLOOKUP(19,Tabelle3[],5,0)),\"-\",VLOOKUP(19,Tabelle3[],5,0))","v":"-"},null,null,null,null,null,null,null,null,null,null,null,null,null,null,"\"Alter\" (Biologisch/Relative Age)",null,"Datum 1",null,null,"cm",null,"Kg",null,"AUSGEZEICHNET",5]
["NAME",null,{"$f":"IF(ISBLANK(VLOOKUP(19,Tabelle3[],2,0)),\"-\",VLOOKUP(19,Tabelle3[],2,0))","v":"-"},null,null,null,"STOCK",null,null,"WOHNORT",{"$f":"IF(ISBLANK(VLOOKUP(19,Tabelle3[],7,0)),\"-\",VLOOKUP(19,Tabelle3[],7,0))","v":"-"},{"$f":"IF(ISBLANK(VLOOKUP(19,Tabelle3[],6,0)),\"-\",VLOOKUP(19,Tabelle3[],6,0))","v":"-"},null,null,null,null,null,null,null,null,null,null,null,null,null,"Veranlagung",null,"Datum 2",null,null,"cm",null,"Kg",null,"GUT",4]
["GEB. DATUM",null,{"$f":"IF(ISBLANK(VLOOKUP(19,Tabelle3[],14,0)),\"-\",VLOOKUP(19,Tabelle3[],14,0))","v":"-"},{"$f":"IF(ISBLANK(VLOOKUP(19,Tabelle3[],15,0)),\"-\",VLOOKUP(19,Tabelle3[],15,0))","v":"-"},{"$f":"IF(ISBLANK(VLOOKUP(19,Tabelle3[],16,0)),\"-\",VLOOKUP(19,Tabelle3[],16,0))","v":"-"},null,"GRÖSSE",null,"cm (Final)","CLUB",{"$f":"IF(ISBLANK(VLOOKUP(19,Tabelle3[],8,0)),\"-\",VLOOKUP(19,Tabelle3[],8,0))","v":"-"},null,null,null,null,null,null,null,null,null,null,null,null,null,null,"Umfeld",null,"Datum 3",null,null,"cm",null,"Kg",null,"DURCHSCHNITT",3]
["SEX",null,{"$f":"IF(ISBLANK(VLOOKUP(19,Tabelle3[],13,0)),\"-\",VLOOKUP(19,Tabelle3[],13,0))","v":"-"},null,null,null,"GEWICHT",null,"Kg (Final)","E-Mail",{"$f":"IF(ISBLANK(VLOOKUP(19,Tabelle3[],9,0)),\"-\",VLOOKUP(19,Tabelle3[],9,0))","v":"-"},null,null,null,null,null,null,null,null,null,null,null,null,null,null,null,null,"Datum 4",null,null,"cm",null,"Kg",null,"MANGELHAFT",2]
[null,null,null,null,null,null,null,null,null,null,null,null,null,null,null,null,null,null,null,null,null,null,null,null,null,null,null,"Datum 5",null,null,"cm",null,"Kg",null,"UNGENÜGEND",1]
["Vision",null,"xxx"]
["Ziele",null,"xxx"]
["Stärken",null,"xxx"]
[]
["EVALUATION (COACH / SPIELERIN)",null,null,null,null,null,null,null,null,null,null,null,null,null,null,null,null,null,null,null,null,null,null,null,null,"SMART"]
[{"$f":"Skillserleuterungen_FTEM!A3","v":"TEAM"},null,null,{"$f":"Skillserleuterungen_FTEM!B3","v":"FÄHIGKEIT"},null,null,{"$f":"Skillserleuterungen_FTEM!C3","v":"BEOBACHTUNG"},null,null,null,null,null,"Final","Datum1",null,"Datum2",null,"Datum3",null,"Datum4",null,"Datum5",null,"Player",null,"ZIEL","MASSNAHME:\nSPEZIFISCH,  MESSBAR, REALISITISCH",null,null,null,null,null,null,"TERMIN","ZIEL-KONTROLLE","Datum"]
[{"$f":"Skillserleuterungen_FTEM!A4","v":"TEAM"},null,null,{"$f":"IF($H$2=\"G\",Skillserleuterungen_FTEM!F4,Skillserleuterungen_FTEM!B4)","v":"Kommunikation"},null,null,{"$f":"IF($H$2=\"G\",Skillserleuterungen_FTEM!G4,Skillserleuterungen_FTEM!C4)","v":"pflegt einen offenen, respektvollen Umgang, Vertrauensbasis als Grundlage, trägt Konflikte aus ohne die Stabilität der Gruppe zu gefährden, kommuniziert mit Mitspielerinnen, Trainern und Funktionären gleichermassen wertschätzend"},null,null,{"$f":"IF($H$2=\"G\",Skillserleuterungen_FTEM!#REF!,Skillserleuterungen_FTEM!#REF!)","v":{"$error":"#REF!"}},null,null,null,{"$f":"IFERROR(AVERAGE(O13:O17),\"-\")","v":"-"},null,{"$f":"IFERROR(AVERAGE(Q13:Q17),\"-\")","v":"-"},null,{"$f":"IFERROR(AVERAGE(S13:S17),\"-\")","v":"-"},null,{"$f":"IFERROR(AVERAGE(U13:U17),\"-\")","v":"-"},null,null,null,{"$f":"IFERROR(AVERAGE(Y13:Y17),\"-\")","v":"-"}]
[null,null,null,{"$f":"IF($H$2=\"G\",Skillserleuterungen_FTEM!F5,Skillserleuterungen_FTEM!B5)","v":"Teamfähigkeit"},null,null,{"$f":"IF($H$2=\"G\",Skillserleuterungen_FTEM!G5,Skillserleuterungen_FTEM!C5)","v":"Integration in die Gruppe, gemeinsame Ziele bestimmen und verfolgen können, WIR vor dem ICH, trägt zu einem guten Team-Spirit und Arbeitsklima bei"},null,null,{"$f":"IF($H$2=\"G\",Skillserleuterungen_FTEM!#REF!,Skillserleuterungen_FTEM!#REF!)","v":{"$error":"#REF!"}}]
[null,null,null,{"$f":"IF($H$2=\"G\",Skillserleuterungen_FTEM!F6,Skillserleuterungen_FTEM!B6)","v":"Leadership"},null,null,{"$f":"IF($H$2=\"G\",Skillserleuterungen_FTEM!G6,Skillserleuterungen_FTEM!C6)","v":"übernimmt Verantwortung in der Gruppe, versucht Team und Mitspielerinnen besser zu machen, nimmt positiven Einfluss auf die Gruppendynamik"},null,null,{"$f":"IF($H$2=\"G\",Skillserleuterungen_FTEM!#REF!,Skillserleuterungen_FTEM!#REF!)","v":{"$error":"#REF!"}}]
[null,null,null,{"$f":"IF($H$2=\"G\",Skillserleuterungen_FTEM!F7,Skillserleuterungen_FTEM!B7)","v":"Rollenverteilung"},null,null,{"$f":"IF($H$2=\"G\",Skillserleuterungen_FTEM!G7,Skillserleuterungen_FTEM!C7)","v":"kennt ihre Rolle und füllt diese aus, ist sich ihrer Stellung im Team und im System bewusst, stellt eigene Kompetenzen in den Dienst des Teams"},null,null,{"$f":"IF($H$2=\"G\",Skillserleuterungen_FTEM!#REF!,Skillserleuterungen_FTEM!#REF!)","v":{"$error":"#REF!"}}]
[null,null,null,{"$f":"IF($H$2=\"G\",Skillserleuterungen_FTEM!F8,Skillserleuterungen_FTEM!B8)","v":"Respekt"},null,null,{"$f":"IF($H$2=\"G\",Skillserleuterungen_FTEM!G8,Skillserleuterungen_FTEM!C8)","v":"Respektvoller Umgang mit Mitspielerinnen, Trainern, Gegnern, Schiedsrichter und Staff; achtet die Regeln, Fairplayprinzipien (inkl. Anti-Doping)"},null,null,{"$f":"IF($H$2=\"G\",Skillserleuterungen_FTEM!#REF!,Skillserleuterungen_FTEM!#REF!)","v":{"$error":"#REF!"}}]
[{"$f":"Skillserleuterungen_FTEM!A9","v":"ON ICE"},null,null,{"$f":"Skillserleuterungen_FTEM!B9","v":"FÄHIGKEIT"},null,null,{"$f":"Skillserleuterungen_FTEM!C9","v":"BEOBACHTUNG"},null,null,null,null,null,null,"Datum1",null,"Datum2",null,"Datum3",null,"Datum4",null,"Datum5",null,"Player",null,"ZIEL","MASSNAHME:\nSPEZIFISCH,  MESSBAR, REALISITISCH",null,null,null,null,null,null,"TERMIN","ZIEL-KONTROLLE","Datum"]
[{"$f":"Skillserleuterungen_FTEM!A10","v":"SKATING"},null,null,{"$f":"IF($H$2=\"G\",Skillserleuterungen_FTEM!F10,Skillserleuterungen_FTEM!B10)","v":"Footspeed"},null,null,{"$f":"IF($H$2=\"G\",Skillserleuterungen_FTEM!G10,Skillserleuterungen_FTEM!C10)","v":"Beschleunigung, Antritt, erste 3 Schritte Explosivität, Frequenz"},null,null,{"$f":"IF($H$2=\"G\",Skillserleuterungen_FTEM!#REF!,Skillserleuterungen_FTEM!#REF!)","v":{"$error":"#REF!"}},null,null,null,{"$f":"IFERROR(AVERAGE(O19:O23),\"-\")","v":"-"},null,{"$f":"IFERROR(AVERAGE(Q19:Q23),\"-\")","v":"-"},null,{"$f":"IFERROR(AVERAGE(S19:S23),\"-\")","v":"-"},null,{"$f":"IFERROR(AVERAGE(U19:U23),\"-\")","v":"-"},null,{"$f":"IFERROR(AVERAGE(W19:W23),\"-\")","v":"-"},null,{"$f":"IFERROR(AVERAGE(Y19:Y23),\"-\")","v":"-"}]
[null,null,null,{"$f":"IF($H$2=\"G\",Skillserleuterungen_FTEM!F11,Skillserleuterungen_FTEM!B11)","v":"Topspeed"},null,null,{"$f":"IF($H$2=\"G\",Skillserleuterungen_FTEM!G11,Skillserleuterungen_FTEM!C11)","v":"Schnelligkeit, Gleitfähigkeit, vorwärts und rückwärts, Ökonomie"},null,null,{"$f":"IF($H$2=\"G\",Skillserleuterungen_FTEM!#REF!,Skillserleuterungen_FTEM!#REF!)","v":{"$error":"#REF!"}}]
[null,null,null,{"$f":"IF($H$2=\"G\",Skillserleuterungen_FTEM!F12,Skillserleuterungen_FTEM!B12)","v":"Agilität"},null,null,{"$f":"IF($H$2=\"G\",Skillserleuterungen_FTEM!G12,Skillserleuterungen_FTEM!C12)","v":"Richtungsänderung, Drehung, Stop und Start, \"Nummelin\""},null,null,{"$f":"IF($H$2=\"G\",Skillserleuterungen_FTEM!#REF!,Skillserleuterungen_FTEM!#REF!)","v":{"$error":"#REF!"}},null,null,null,{"$f":"IFERROR(AVERAGE(O21:O23),\"-\")","v":"-"},null,{"$f":"IFERROR(AVERAGE(Q21:Q23),\"-\")","v":"-"},null,{"$f":"IFERROR(AVERAGE(S21:S23),\"-\")","v":"-"},null,{"$f":"IFERROR(AVERAGE(U21:U23),\"-\")","v":"-"},null,{"$f":"IFERROR(AVERAGE(W21:W23),\"-\")","v":"-"},null,{"$f":"IFERROR(AVERAGE(Y21:Y23),\"-\")","v":"-"}]
[null,null,null,{"$f":"IF($H$2=\"G\",Skillserleuterungen_FTEM!F13,Skillserleuterungen_FTEM!B13)","v":"Balance"},null,null,{"$f":"IF($H$2=\"G\",Skillserleuterungen_FTEM!G13,Skillserleuterungen_FTEM!C13)","v":"Gleichgewicht, Standhaftfähigkeit, tiefe Position, ein- und beidbeinig"},null,null,{"$f":"IF($H$2=\"G\",Skillserleuterungen_FTEM!#REF!,Skillserleuterungen_FTEM!#REF!)","v":{"$error":"#REF!"}}]
[null,null,null,{"$f":"IF($H$2=\"G\",Skillserleuterungen_FTEM!F14,Skillserleuterungen_FTEM!B14)","v":"Backwards Skating"},null,null,{"$f":"IF($H$2=\"G\",Skillserleuterungen_FTEM!G14,Skillserleuterungen_FTEM!C14)","v":"Beschleunigung, Geschwindigkeit, Balance"},null,null,{"$f":"IF($H$2=\"G\",Skillserleuterungen_FTEM!#REF!,Skillserleuterungen_FTEM!#REF!)","v":{"$error":"#REF!"}}]
[{"$f":"Skillserleuterungen_FTEM!A15","v":"SKILLS"},null,null,{"$f":"IF($H$2=\"G\",Skillserleuterungen_FTEM!F15,Skillserleuterungen_FTEM!B15)","v":"Schiessen"},null,null,{"$f":"IF($H$2=\"G\",Skillserleuterungen_FTEM!G15,Skillserleuterungen_FTEM!C15)","v":"Effizienz (no space no time), Variantenreichtum, Überraschungsgrad (Quick Release), Präzision, Härte, (taktische Abschlüsse)"},null,null,{"$f":"IF($H$2=\"G\",Skillserleuterungen_FTEM!#REF!,Skillserleuterungen_FTEM!#REF!)","v":{"$error":"#REF!"}},null,null,null,{"$f":"IFERROR(AVERAGE(O24:O29),\"-\")","v":"-"},null,{"$f":"IFERROR(AVERAGE(Q24:Q29),\"-\")","v":"-"},null,{"$f":"IFERROR(AVERAGE(S24:S29),\"-\")","v":"-"},null,{"$f":"IFERROR(AVERAGE(U24:U29),\"-\")","v":"-"},null,{"$f":"IFERROR(AVERAGE(W24:W29),\"-\")","v":"-"},null,{"$f":"IFERROR(AVERAGE(Y24:Y29),\"-\")","v":"-"}]
[null,null,null,{"$f":"IF($H$2=\"G\",Skillserleuterungen_FTEM!F16,Skillserleuterungen_FTEM!B16)","v":"Passen"},null,null,{"$f":"IF($H$2=\"G\",Skillserleuterungen_FTEM!G16,Skillserleuterungen_FTEM!C16)","v":"Passabgabe (Distanz, Flippass Backhand), Passannahme (Präzision, Timing, Vorhand, Rückhand, Schlittschuh), Puckspeed "},null,null,{"$f":"IF($H$2=\"G\",Skillserleuterungen_FTEM!#REF!,Skillserleuterungen_FTEM!#REF!)","v":{"$error":"#REF!"}}]
[null,null,null,{"$f":"IF($H$2=\"G\",Skillserleuterungen_FTEM!F17,Skillserleuterungen_FTEM!B17)","v":"Stockarbeit"},null,null,{"$f":"IF($H$2=\"G\",Skillserleuterungen_FTEM!G17,Skillserleuterungen_FTEM!C17)","v":"Stock zum Puck, Passlinie unterbinden, ablenken, Stockkontrolle Gegenspielerin"},null,null,{"$f":"IF($H$2=\"G\",Skillserleuterungen_FTEM!#REF!,Skillserleuterungen_FTEM!#REF!)","v":{"$error":"#REF!"}}]
[null,null,null,{"$f":"IF($H$2=\"G\",Skillserleuterungen_FTEM!F18,Skillserleuterungen_FTEM!B18)","v":"Puck besitzen "},null,null,{"$f":"IF($H$2=\"G\",Skillserleuterungen_FTEM!G18,Skillserleuterungen_FTEM!C18)","v":"Puckkontrolle, Dribblings, Puck schützen, Finten (Varianten: mit Schlittschuh, mit sowie ohne Bande), Face-Off"},null,null,{"$f":"IF($H$2=\"G\",Skillserleuterungen_FTEM!#REF!,Skillserleuterungen_FTEM!#REF!)","v":{"$error":"#REF!"}}]
[null,null,null,{"$f":"IF($H$2=\"G\",Skillserleuterungen_FTEM!F19,Skillserleuterungen_FTEM!B19)","v":"Körperspiel"},null,null,{"$f":"IF($H$2=\"G\",Skillserleuterungen_FTEM!G19,Skillserleuterungen_FTEM!C19)","v":"Phyisches Durchsetzungsvermögen, Zweikampf (offenes Eis/Bande), Checks nehmen/Head up, Battle Level, Hart aber fair"},null,null,{"$f":"IF($H$2=\"G\",Skillserleuterungen_FTEM!#REF!,Skillserleuterungen_FTEM!#REF!)","v":{"$error":"#REF!"}}]
[null,null,null,{"$f":"IF($H$2=\"G\",Skillserleuterungen_FTEM!F20,Skillserleuterungen_FTEM!B20)","v":"-"},null,null,{"$f":"IF($H$2=\"G\",Skillserleuterungen_FTEM!G20,Skillserleuterungen_FTEM!C20)","v":"-"},null,null,{"$f":"IF($H$2=\"G\",Skillserleuterungen_FTEM!#REF!,Skillserleuterungen_FTEM!#REF!)","v":{"$error":"#REF!"}}]
[{"$f":"Skillserleuterungen_FTEM!A21","v":"HOCKEY SENSE"},null,null,{"$f":"IF($H$2=\"G\",Skillserleuterungen_FTEM!F21,Skillserleuterungen_FTEM!B21)","v":"Spielintelligenz"},null,null,{"$f":"IF($H$2=\"G\",Skillserleuterungen_FTEM!G21,Skillserleuterungen_FTEM!C21)","v":"Freie Räume und Spielerin sehen und Überzahlsituationen kreieren, lösungsorientiert agieren bei allen Bedingungen, Headspeed"},null,null,{"$f":"IF($H$2=\"G\",Skillserleuterungen_FTEM!#REF!,Skillserleuterungen_FTEM!#REF!)","v":{"$error":"#REF!"}},null,null,null,{"$f":"IFERROR(AVERAGE(O30:O34),\"-\")","v":"-"},null,{"$f":"IFERROR(AVERAGE(Q30:Q34),\"-\")","v":"-"},null,{"$f":"IFERROR(AVERAGE(S30:S34),\"-\")","v":"-"},null,{"$f":"IFERROR(AVERAGE(U30:U34),\"-\")","v":"-"},null,{"$f":"IFERROR(AVERAGE(W30:W34),\"-\")","v":"-"},null,{"$f":"IFERROR(AVERAGE(Y30:Y34),\"-\")","v":"-"}]
[null,null,null,{"$f":"IF($H$2=\"G\",Skillserleuterungen_FTEM!F22,Skillserleuterungen_FTEM!B22)","v":"Offensives Bewusstsein"},null,null,{"$f":"IF($H$2=\"G\",Skillserleuterungen_FTEM!G22,Skillserleuterungen_FTEM!C22)","v":"Anspielbar, Antizipation der Spielsituationen, Freiräume für Mitspielerinnen öffnen, Abschlussorientiert sein, Gapspeed, gute Kommunikation"},null,null,{"$f":"IF($H$2=\"G\",Skillserleuterungen_FTEM!#REF!,Skillserleuterungen_FTEM!#REF!)","v":{"$error":"#REF!"}}]
[null,null,null,{"$f":"IF($H$2=\"G\",Skillserleuterungen_FTEM!F23,Skillserleuterungen_FTEM!B23)","v":"Defensiv Bewusstsein"},null,null,{"$f":"IF($H$2=\"G\",Skillserleuterungen_FTEM!G23,Skillserleuterungen_FTEM!C23)","v":"Inside Position halten, Slot beschützen, Mitspieler absichern/Support, Passlinie erkennen, Schüsse blockieren. Gapspeed, gute Komunikation"},null,null,{"$f":"IF($H$2=\"G\",Skillserleuterungen_FTEM!#REF!,Skillserleuterungen_FTEM!#REF!)","v":{"$error":"#REF!"}}]
[null,null,null,{"$f":"IF($H$2=\"G\",Skillserleuterungen_FTEM!F24,Skillserleuterungen_FTEM!B24)","v":"Puckmanagement"},null,null,{"$f":"IF($H$2=\"G\",Skillserleuterungen_FTEM!G24,Skillserleuterungen_FTEM!C24)","v":"Situationsadäquate Entscheidungen treffen, Support, Overload"},null,null,{"$f":"IF($H$2=\"G\",Skillserleuterungen_FTEM!#REF!,Skillserleuterungen_FTEM!#REF!)","v":{"$error":"#REF!"}}]
[null,null,null,{"$f":"IF($H$2=\"G\",Skillserleuterungen_FTEM!F25,Skillserleuterungen_FTEM!B25)","v":"Kreativität"},null,null,{"$f":"IF($H$2=\"G\",Skillserleuterungen_FTEM!G25,Skillserleuterungen_FTEM!C25)","v":"Überraschende Lösungen, Torriecher"},null,null,{"$f":"IF($H$2=\"G\",Skillserleuterungen_FTEM!#REF!,Skillserleuterungen_FTEM!#REF!)","v":{"$error":"#REF!"}}]
[{"$f":"Skillserleuterungen_FTEM!A26","v":"PERSONALITY"},null,null,{"$f":"Skillserleuterungen_FTEM!B26","v":"FÄHIGKEIT"},null,null,{"$f":"Skillserleuterungen_FTEM!C26","v":"BEOBACHTUNG"},null,null,null,null,null,null,"Datum1",null,"Datum2",null,"Datum3",null,"Datum4",null,"Datum5",null,"Player",null,"ZIEL","MASSNAHME:\nSPEZIFISCH,  MESSBAR, REALISITISCH",null,null,null,null,null,null,"TERMIN","ZIEL-KONTROLLE","Datum"]
[{"$f":"Skillserleuterungen_FTEM!A27","v":"PERSÖNLICHKEIT"},null,null,{"$f":"IF($H$2=\"G\",Skillserleuterungen_FTEM!F27,Skillserleuterungen_FTEM!B27)","v":"Selbstbewusstsein"},null,null,{"$f":"IF($H$2=\"G\",Skillserleuterungen_FTEM!G27,Skillserleuterungen_FTEM!C27)","v":"hat das nötige Selbstvertrauen,\"I can do it\"-Haltung, kann eigene Fähigkeiten einschätzen (kennt eigene Stärken/Schwächen), kann ihre Stärken konstant einsetzen, agiert mutig und nimmt kalkulierte Risiken"},null,null,{"$f":"IF($H$2=\"G\",Skillserleuterungen_FTEM!#REF!,Skillserleuterungen_FTEM!#REF!)","v":{"$error":"#REF!"}},null,null,null,{"$f":"IFERROR(AVERAGE(O36:O40),\"-\")","v":"-"},null,{"$f":"IFERROR(AVERAGE(Q36:Q40),\"-\")","v":"-"},null,{"$f":"IFERROR(AVERAGE(S36:S40),\"-\")","v":"-"},null,{"$f":"IFERROR(AVERAGE(U36:U40),\"-\")","v":"-"},null,{"$f":"IFERROR(AVERAGE(W36:W40),\"-\")","v":"-"},null,{"$f":"IFERROR(AVERAGE(Y36:Y40),\"-\")","v":"-"}]
[null,null,null,{"$f":"IF($H$2=\"G\",Skillserleuterungen_FTEM!F28,Skillserleuterungen_FTEM!B28)","v":"Lernfähigkeit"},null,null,{"$f":"IF($H$2=\"G\",Skillserleuterungen_FTEM!G28,Skillserleuterungen_FTEM!C28)","v":"hat eine gute Auffassungsgabe (nimmt auf und kann umsetzen), reflektiert eigenes Handeln, versucht aus Fehlern zu lernen und kann Massnahmen ableiten"},null,null,{"$f":"IF($H$2=\"G\",Skillserleuterungen_FTEM!#REF!,Skillserleuterungen_FTEM!#REF!)","v":{"$error":"#REF!"}}]
[null,null,null,{"$f":"IF($H$2=\"G\",Skillserleuterungen_FTEM!F29,Skillserleuterungen_FTEM!B29)","v":"Eigenverantwortung"},null,null,{"$f":"IF($H$2=\"G\",Skillserleuterungen_FTEM!G29,Skillserleuterungen_FTEM!C29)","v":"übernimmt Verantwortung für eigene Leistungen und Entwicklung, handelt selbständig, achtet auf Details, zeigt grosses Engagement in allen Bereichen"},null,null,{"$f":"IF($H$2=\"G\",Skillserleuterungen_FTEM!#REF!,Skillserleuterungen_FTEM!#REF!)","v":{"$error":"#REF!"}}]
[null,null,null,{"$f":"IF($H$2=\"G\",Skillserleuterungen_FTEM!F30,Skillserleuterungen_FTEM!B30)","v":"Motivation"},null,null,{"$f":"IF($H$2=\"G\",Skillserleuterungen_FTEM!G30,Skillserleuterungen_FTEM!C30)","v":"Intrinsischer Antrieb, will sich ständig weiterentwickeln und lernen, will die Erste sein und Erfolg haben, gibt nie auf und lässt sich auch durch Misserfolge nicht vom Weg abbringen"},null,null,{"$f":"IF($H$2=\"G\",Skillserleuterungen_FTEM!#REF!,Skillserleuterungen_FTEM!#REF!)","v":{"$error":"#REF!"}}]
[null,null,null,{"$f":"IF($H$2=\"G\",Skillserleuterungen_FTEM!F31,Skillserleuterungen_FTEM!B31)","v":"Performance Lifestyle"},null,null,{"$f":"IF($H$2=\"G\",Skillserleuterungen_FTEM!G31,Skillserleuterungen_FTEM!C31)","v":"managt Alltag und Umfeld nach dem Leistungsprinzip, hartnäckig, beharrlich und zielgerichtet, Fokus auf eigene Leistung, zeigt Biss und kann sich auch gegen Widerstände durchsetzen, Herausforderungen spornen sie an"},null,null,{"$f":"IF($H$2=\"G\",Skillserleuterungen_FTEM!#REF!,Skillserleuterungen_FTEM!#REF!)","v":{"$error":"#REF!"}}]
[{"$f":"Skillserleuterungen_FTEM!A32","v":"MENTALE STÄRKE"},null,null,{"$f":"IF($H$2=\"G\",Skillserleuterungen_FTEM!F32,Skillserleuterungen_FTEM!B32)","v":"Einsatzbereitschaft"},null,null,{"$f":"IF($H$2=\"G\",Skillserleuterungen_FTEM!G32,Skillserleuterungen_FTEM!C32)","v":"zeigt im Spiel und im Training hohe Intensität, gibt immer ihr Maximum und will ihre Limiten pushen, zeigt Leidenschaft, ist um hohe Trainingsqualität bemüht"},null,null,{"$f":"IF($H$2=\"G\",Skillserleuterungen_FTEM!#REF!,Skillserleuterungen_FTEM!#REF!)","v":{"$error":"#REF!"}},null,null,null,{"$f":"IFERROR(AVERAGE(O41:O45),\"-\")","v":"-"},null,{"$f":"IFERROR(AVERAGE(Q41:Q45),\"-\")","v":"-"},null,{"$f":"IFERROR(AVERAGE(S41:S45),\"-\")","v":"-"},null,{"$f":"IFERROR(AVERAGE(U41:U45),\"-\")","v":"-"},null,{"$f":"IFERROR(AVERAGE(W41:W45),\"-\")","v":"-"},null,{"$f":"IFERROR(AVERAGE(Y41:Y45),\"-\")","v":"-"}]
[null,null,null,{"$f":"IF($H$2=\"G\",Skillserleuterungen_FTEM!F33,Skillserleuterungen_FTEM!B33)","v":"Vorbereitung"},null,null,{"$f":"IF($H$2=\"G\",Skillserleuterungen_FTEM!G33,Skillserleuterungen_FTEM!C33)","v":"bewusste und gezielte Vorbereitung, mental wie auch physisch, verfügt über einen effizienten Ablauf zur Erreichung des idealen Leistungszustand (ILZ)"},null,null,{"$f":"IF($H$2=\"G\",Skillserleuterungen_FTEM!#REF!,Skillserleuterungen_FTEM!#REF!)","v":{"$error":"#REF!"}}]
[null,null,null,{"$f":"IF($H$2=\"G\",Skillserleuterungen_FTEM!F34,Skillserleuterungen_FTEM!B34)","v":"Selbstcoaching"},null,null,{"$f":"IF($H$2=\"G\",Skillserleuterungen_FTEM!G34,Skillserleuterungen_FTEM!C34)","v":"verfügt über gute Konzentrationsfähigkeit, kann während Spiel/Training ihren ILZ halten, kann mentale Grundtechniken anwenden, widerstandsfähig gegen negative Gedanken und Einflüsse, ist sich ihrer Körpersprache bewusst und kann diese regulieren"},null,null,{"$f":"IF($H$2=\"G\",Skillserleuterungen_FTEM!#REF!,Skillserleuterungen_FTEM!#REF!)","v":{"$error":"#REF!"}}]
[null,null,null,{"$f":"IF($H$2=\"G\",Skillserleuterungen_FTEM!F35,Skillserleuterungen_FTEM!B35)","v":"Energiemanagement"},null,null,{"$f":"IF($H$2=\"G\",Skillserleuterungen_FTEM!G35,Skillserleuterungen_FTEM!C35)","v":"kann eigene Energie regulieren, bereit zur Regeneration, weiss wann sie \"Vollgas\" geben muss und wann abschalten, On/Off-Schalter"},null,null,{"$f":"IF($H$2=\"G\",Skillserleuterungen_FTEM!#REF!,Skillserleuterungen_FTEM!#REF!)","v":{"$error":"#REF!"}}]
[null,null,null,{"$f":"IF($H$2=\"G\",Skillserleuterungen_FTEM!F36,Skillserleuterungen_FTEM!B36)","v":"Emotionskontrolle"},null,null,{"$f":"IF($H$2=\"G\",Skillserleuterungen_FTEM!G36,Skillserleuterungen_FTEM!C36)","v":"kann eigene Emotionen und Impulse regulieren, behält auch unter Druck die Kontrolle, kann auch in emotional anspruchsvollen oder frustrierenden Situationen angemessen agieren"},null,null,{"$f":"IF($H$2=\"G\",Skillserleuterungen_FTEM!#REF!,Skillserleuterungen_FTEM!#REF!)","v":{"$error":"#REF!"}}]
[{"$f":"Skillserleuterungen_FTEM!A37","v":"PHYSE"},null,null,{"$f":"IF($H$2=\"G\",Skillserleuterungen_FTEM!F37,Skillserleuterungen_FTEM!B37)","v":"Leistungserzeugung"},null,null,{"$f":"IF($H$2=\"G\",Skillserleuterungen_FTEM!G37,Skillserleuterungen_FTEM!C37)","v":"verfügt über die nötige Power/Kraft/Schnelligkeit in den Beinen und im Oberkörper (Neuromuskuläre Faktoren)"},null,null,{"$f":"IF($H$2=\"G\",Skillserleuterungen_FTEM!#REF!,Skillserleuterungen_FTEM!#REF!)","v":{"$error":"#REF!"}},null,null,null,{"$f":"IFERROR(AVERAGE(O46:O50),\"-\")","v":"-"},null,{"$f":"IFERROR(AVERAGE(Q46:Q50),\"-\")","v":"-"},null,{"$f":"IFERROR(AVERAGE(S46:S50),\"-\")","v":"-"},null,{"$f":"IFERROR(AVERAGE(U46:U50),\"-\")","v":"-"},null,{"$f":"IFERROR(AVERAGE(W46:W50),\"-\")","v":"-"},null,{"$f":"IFERROR(AVERAGE(Y46:Y50),\"-\")","v":"-"}]
[null,null,null,{"$f":"IF($H$2=\"G\",Skillserleuterungen_FTEM!F38,Skillserleuterungen_FTEM!B38)","v":"sporartspez. Ermüdungsresistenz"},null,null,{"$f":"IF($H$2=\"G\",Skillserleuterungen_FTEM!G38,Skillserleuterungen_FTEM!C38)","v":"Ist fähig  die Power/Kraft/Schnelligkeit innerhalb des Einsatzes lange aufrechtzuerhalten und kann sich zwischen den Einsätzen jeweils vollkommen erholen (Metabolische und kardiovaskuläre Faktoren)"},null,null,{"$f":"IF($H$2=\"G\",Skillserleuterungen_FTEM!#REF!,Skillserleuterungen_FTEM!#REF!)","v":{"$error":"#REF!"}}]
[null,null,null,{"$f":"IF($H$2=\"G\",Skillserleuterungen_FTEM!F39,Skillserleuterungen_FTEM!B39)","v":"Gesundheit / Prävention"},null,null,{"$f":"IF($H$2=\"G\",Skillserleuterungen_FTEM!G39,Skillserleuterungen_FTEM!C39)","v":"verfügt über die nötige Stabilität (z.B. Beinachsenstabilität) und Beweglichkeit in den zentralen Gelenken"},null,null,{"$f":"IF($H$2=\"G\",Skillserleuterungen_FTEM!#REF!,Skillserleuterungen_FTEM!#REF!)","v":{"$error":"#REF!"}}]
[null,null,null,{"$f":"IF($H$2=\"G\",Skillserleuterungen_FTEM!F40,Skillserleuterungen_FTEM!B40)","v":"Bewegungskompetenzen"},null,null,{"$f":"IF($H$2=\"G\",Skillserleuterungen_FTEM!G40,Skillserleuterungen_FTEM!C40)","v":"beherrscht die grundlegenden Bewegungsfertigkeiten, die eine unerlässliche Zubringerfunktion für die sportspezifischen \"Skills\" darstellt sowie zur nötigen Bewegungseffizienz führt"},null,null,{"$f":"IF($H$2=\"G\",Skillserleuterungen_FTEM!#REF!,Skillserleuterungen_FTEM!#REF!)","v":{"$error":"#REF!"}}]
[null,null,null,{"$f":"IF($H$2=\"G\",Skillserleuterungen_FTEM!F41,Skillserleuterungen_FTEM!B41)","v":"Robustheit"},null,null,{"$f":"IF($H$2=\"G\",Skillserleuterungen_FTEM!G41,Skillserleuterungen_FTEM!C41)","v":"verfügt über die nötige Grundkraft (Körperspannung), um sich in Zweikämpfen durchzusetzen und bei Zusammestössen standzuhalten"},null,null,{"$f":"IF($H$2=\"G\",Skillserleuterungen_FTEM!#REF!,Skillserleuterungen_FTEM!#REF!)","v":{"$error":"#REF!"}}]

{"sheet":"20","index":23,"n_rows":50,"n_cols":36,"rows_kept":50,"cut":false,"hidden":false,"merged":[[13,3,13,5],[14,3,14,5],[15,3,15,5],[13,6,13,11],[14,6,14,11],[15,6,15,11],[21,3,21,5],[21,6,21,11],[26,3,26,5],[26,6,26,11],[0,0,0,24],[0,25,0,26],[0,27,0,32],[0,33,0,35],[29,25,33,25],[29,26,33,32],[29,34,33,34],[35,25,39,25],[35,26,39,32],[35,34,39,34],[1,0,1,1],[1,2,1,5],[1,10,1,24],[2,0,2,1],[2,2,2,5],[2,11,2,24],[6,0,6,1],[6,2,6,35],[7,0,7,1],[7,2,7,35],[8,0,8,1],[8,2,8,35],[3,0,3,1],[3,10,3,24],[4,0,4,1],[4,2,4,5],[4,10,4,24],[10,0,10,24],[10,25,10,35],[40,25,44,25],[40,26,44,32],[40,34,44,34],[12,25,16,25],[12,26,16,32],[12,34,16,34],[18,25,22,25],[18,26,22,32],[18,34,22,34],[23,25,28,25],[23,26,28,32],[23,34,28,34],[17,26,17,32],[11,0,11,2],[11,3,11,5],[11,13,11,14],[11,15,11,16],[11,17,11,18],[11,19,11,20],[11,21,11,22],[11,23,11,24],[11,26,11,32],[11,6,11,11],[12,23,16,23],[16,3,16,5],[16,6,16,11],[17,0,17,2],[17,3,17,5],[17,6,17,11],[17,13,17,14],[17,15,17,16],[17,17,17,18],[17,19,17,20],[17,21,17,22],[17,23,17,24],[12,0,16,2],[12,3,12,5],[12,6,12,11],[12,12,16,12],[12,13,16,13],[12,15,16,15],[12,17,16,17],[12,19,16,19],[12,21,16,21],[18,15,22,15],[18,17,22,17],[18,19,22,19],[18,21,22,21],[18,23,22,23],[22,3,22,5],[22,6,22,11],[23,0,28,2],[23,3,23,5],[23,6,23,11],[23,12,28,12],[23,13,28,13],[23,15,28,15],[23,17,28,17],[18,0,22,2],[18,3,18,5],[18,6,18,11],[18,12,22,12],[18,13,22,13],[19,3,19,5],[19,6,19,11],[20,3,20,5],[20,6,20,11],[23,19,28,19],[23,21,28,21],[23,23,28,23],[24,3,24,5],[24,6,24,11],[28,3,28,5],[28,6,28,11],[33,3,33,5],[33,6,33,11],[29,23,33,23],[29,17,33,17],[29,19,33,19],[29,21,33,21],[30,3,30,5],[30,6,30,11],[31,3,31,5],[31,6,31,11],[27,3,27,5],[27,6,27,11],[32,3,32,5],[32,6,32,11],[29,0,33,2],[29,3,29,5],[29,6,29,11],[29,12,33,12],[29,13,33,13],[29,15,33,15],[34,23,34,24],[34,26,34,32],[35,0,39,2],[35,3,35,5],[35,6,35,11],[35,12,39,12],[35,13,39,13],[35,15,39,15],[39,3,39,5],[39,6,39,11],[35,23,39,23],[34,0,34,2],[34,3,34,5],[34,6,34,11],[34,13,34,14],[34,15,34,16],[34,17,34,18],[34,19,34,20],[36,3,36,5],[36,6,36,11],[37,3,37,5],[37,6,37,11],[40,17,44,17],[40,19,44,19],[40,21,44,21],[41,3,41,5],[41,6,41,11],[44,3,44,5],[44,6,44,11],[38,3,38,5],[38,6,38,11],[43,3,43,5],[43,6,43,11],[45,26,49,32],[45,34,49,34],[25,3,25,5],[25,6,25,11],[42,3,42,5],[42,6,42,11],[45,0,49,2],[45,12,49,12],[45,13,49,13],[45,15,49,15],[45,17,49,17],[45,19,49,19],[45,21,49,21],[45,23,49,23],[45,25,49,25],[45,3,45,5],[45,6,45,11],[46,3,46,5],[46,6,46,11],[40,15,44,15],[34,21,34,22],[35,17,39,17],[35,19,39,19],[35,21,39,21],[47,3,47,5],[47,6,47,11],[49,3,49,5],[49,6,49,11],[40,23,44,23],[40,0,44,2],[40,3,40,5],[40,6,40,11],[40,12,44,12],[40,13,44,13],[48,3,48,5],[48,6,48,11]]}
["Personalien",null,null,null,null,null,null,null,null,null,null,null,null,null,null,null,null,null,null,null,null,null,null,null,null,"Vorausetzungen",null,"Evaluationen",null,null,null,null,null,"Rating"]
["VORNAME",null,{"$f":"IF(ISBLANK(VLOOKUP(20,Tabelle3[],3,0)),\"-\",VLOOKUP(20,Tabelle3[],3,0))","v":"-"},null,null,null,"POSITION",null,null,"ADRESSE",{"$f":"IF(ISBLANK(VLOOKUP(20,Tabelle3[],5,0)),\"-\",VLOOKUP(20,Tabelle3[],5,0))","v":"-"},null,null,null,null,null,null,null,null,null,null,null,null,null,null,"\"Alter\" (Biologisch/Relative Age)",null,"Datum 1",null,null,"cm",null,"Kg",null,"AUSGEZEICHNET",5]
["NAME",null,{"$f":"IF(ISBLANK(VLOOKUP(20,Tabelle3[],2,0)),\"-\",VLOOKUP(20,Tabelle3[],2,0))","v":"-"},null,null,null,"STOCK",null,null,"WOHNORT",{"$f":"IF(ISBLANK(VLOOKUP(20,Tabelle3[],7,0)),\"-\",VLOOKUP(20,Tabelle3[],7,0))","v":"-"},{"$f":"IF(ISBLANK(VLOOKUP(20,Tabelle3[],6,0)),\"-\",VLOOKUP(20,Tabelle3[],6,0))","v":"-"},null,null,null,null,null,null,null,null,null,null,null,null,null,"Veranlagung",null,"Datum 2",null,null,"cm",null,"Kg",null,"GUT",4]
["GEB. DATUM",null,{"$f":"IF(ISBLANK(VLOOKUP(20,Tabelle3[],14,0)),\"-\",VLOOKUP(20,Tabelle3[],14,0))","v":"-"},{"$f":"IF(ISBLANK(VLOOKUP(20,Tabelle3[],15,0)),\"-\",VLOOKUP(20,Tabelle3[],15,0))","v":"-"},{"$f":"IF(ISBLANK(VLOOKUP(20,Tabelle3[],16,0)),\"-\",VLOOKUP(20,Tabelle3[],16,0))","v":"-"},null,"GRÖSSE",null,"cm (Final)","CLUB",{"$f":"IF(ISBLANK(VLOOKUP(20,Tabelle3[],8,0)),\"-\",VLOOKUP(20,Tabelle3[],8,0))","v":"-"},null,null,null,null,null,null,null,null,null,null,null,null,null,null,"Umfeld",null,"Datum 3",null,null,"cm",null,"Kg",null,"DURCHSCHNITT",3]
["SEX",null,{"$f":"IF(ISBLANK(VLOOKUP(20,Tabelle3[],13,0)),\"-\",VLOOKUP(20,Tabelle3[],13,0))","v":"-"},null,null,null,"GEWICHT",null,"Kg (Final)","E-Mail",{"$f":"IF(ISBLANK(VLOOKUP(20,Tabelle3[],9,0)),\"-\",VLOOKUP(20,Tabelle3[],9,0))","v":"-"},null,null,null,null,null,null,null,null,null,null,null,null,null,null,null,null,"Datum 4",null,null,"cm",null,"Kg",null,"MANGELHAFT",2]
[null,null,null,null,null,null,null,null,null,null,null,null,null,null,null,null,null,null,null,null,null,null,null,null,null,null,null,"Datum 5",null,null,"cm",null,"Kg",null,"UNGENÜGEND",1]
["Vision",null,"xxx"]
["Ziele",null,"xxx"]
["Stärken",null,"xxx"]
[]
["EVALUATION (COACH / SPIELERIN)",null,null,null,null,null,null,null,null,null,null,null,null,null,null,null,null,null,null,null,null,null,null,null,null,"SMART"]
[{"$f":"Skillserleuterungen_FTEM!A3","v":"TEAM"},null,null,{"$f":"Skillserleuterungen_FTEM!B3","v":"FÄHIGKEIT"},null,null,{"$f":"Skillserleuterungen_FTEM!C3","v":"BEOBACHTUNG"},null,null,null,null,null,"Final","Datum1",null,"Datum2",null,"Datum3",null,"Datum4",null,"Datum5",null,"Player",null,"ZIEL","MASSNAHME:\nSPEZIFISCH,  MESSBAR, REALISITISCH",null,null,null,null,null,null,"TERMIN","ZIEL-KONTROLLE","Datum"]
[{"$f":"Skillserleuterungen_FTEM!A4","v":"TEAM"},null,null,{"$f":"IF($H$2=\"G\",Skillserleuterungen_FTEM!F4,Skillserleuterungen_FTEM!B4)","v":"Kommunikation"},null,null,{"$f":"IF($H$2=\"G\",Skillserleuterungen_FTEM!G4,Skillserleuterungen_FTEM!C4)","v":"pflegt einen offenen, respektvollen Umgang, Vertrauensbasis als Grundlage, trägt Konflikte aus ohne die Stabilität der Gruppe zu gefährden, kommuniziert mit Mitspielerinnen, Trainern und Funktionären gleichermassen wertschätzend"},null,null,{"$f":"IF($H$2=\"G\",Skillserleuterungen_FTEM!#REF!,Skillserleuterungen_FTEM!#REF!)","v":{"$error":"#REF!"}},null,null,null,{"$f":"IFERROR(AVERAGE(O13:O17),\"-\")","v":"-"},null,{"$f":"IFERROR(AVERAGE(Q13:Q17),\"-\")","v":"-"},null,{"$f":"IFERROR(AVERAGE(S13:S17),\"-\")","v":"-"},null,{"$f":"IFERROR(AVERAGE(U13:U17),\"-\")","v":"-"},null,null,null,{"$f":"IFERROR(AVERAGE(Y13:Y17),\"-\")","v":"-"}]
[null,null,null,{"$f":"IF($H$2=\"G\",Skillserleuterungen_FTEM!F5,Skillserleuterungen_FTEM!B5)","v":"Teamfähigkeit"},null,null,{"$f":"IF($H$2=\"G\",Skillserleuterungen_FTEM!G5,Skillserleuterungen_FTEM!C5)","v":"Integration in die Gruppe, gemeinsame Ziele bestimmen und verfolgen können, WIR vor dem ICH, trägt zu einem guten Team-Spirit und Arbeitsklima bei"},null,null,{"$f":"IF($H$2=\"G\",Skillserleuterungen_FTEM!#REF!,Skillserleuterungen_FTEM!#REF!)","v":{"$error":"#REF!"}}]
[null,null,null,{"$f":"IF($H$2=\"G\",Skillserleuterungen_FTEM!F6,Skillserleuterungen_FTEM!B6)","v":"Leadership"},null,null,{"$f":"IF($H$2=\"G\",Skillserleuterungen_FTEM!G6,Skillserleuterungen_FTEM!C6)","v":"übernimmt Verantwortung in der Gruppe, versucht Team und Mitspielerinnen besser zu machen, nimmt positiven Einfluss auf die Gruppendynamik"},null,null,{"$f":"IF($H$2=\"G\",Skillserleuterungen_FTEM!#REF!,Skillserleuterungen_FTEM!#REF!)","v":{"$error":"#REF!"}}]
[null,null,null,{"$f":"IF($H$2=\"G\",Skillserleuterungen_FTEM!F7,Skillserleuterungen_FTEM!B7)","v":"Rollenverteilung"},null,null,{"$f":"IF($H$2=\"G\",Skillserleuterungen_FTEM!G7,Skillserleuterungen_FTEM!C7)","v":"kennt ihre Rolle und füllt diese aus, ist sich ihrer Stellung im Team und im System bewusst, stellt eigene Kompetenzen in den Dienst des Teams"},null,null,{"$f":"IF($H$2=\"G\",Skillserleuterungen_FTEM!#REF!,Skillserleuterungen_FTEM!#REF!)","v":{"$error":"#REF!"}}]
[null,null,null,{"$f":"IF($H$2=\"G\",Skillserleuterungen_FTEM!F8,Skillserleuterungen_FTEM!B8)","v":"Respekt"},null,null,{"$f":"IF($H$2=\"G\",Skillserleuterungen_FTEM!G8,Skillserleuterungen_FTEM!C8)","v":"Respektvoller Umgang mit Mitspielerinnen, Trainern, Gegnern, Schiedsrichter und Staff; achtet die Regeln, Fairplayprinzipien (inkl. Anti-Doping)"},null,null,{"$f":"IF($H$2=\"G\",Skillserleuterungen_FTEM!#REF!,Skillserleuterungen_FTEM!#REF!)","v":{"$error":"#REF!"}}]
[{"$f":"Skillserleuterungen_FTEM!A9","v":"ON ICE"},null,null,{"$f":"Skillserleuterungen_FTEM!B9","v":"FÄHIGKEIT"},null,null,{"$f":"Skillserleuterungen_FTEM!C9","v":"BEOBACHTUNG"},null,null,null,null,null,null,"Datum1",null,"Datum2",null,"Datum3",null,"Datum4",null,"Datum5",null,"Player",null,"ZIEL","MASSNAHME:\nSPEZIFISCH,  MESSBAR, REALISITISCH",null,null,null,null,null,null,"TERMIN","ZIEL-KONTROLLE","Datum"]
[{"$f":"Skillserleuterungen_FTEM!A10","v":"SKATING"},null,null,{"$f":"IF($H$2=\"G\",Skillserleuterungen_FTEM!F10,Skillserleuterungen_FTEM!B10)","v":"Footspeed"},null,null,{"$f":"IF($H$2=\"G\",Skillserleuterungen_FTEM!G10,Skillserleuterungen_FTEM!C10)","v":"Beschleunigung, Antritt, erste 3 Schritte Explosivität, Frequenz"},null,null,{"$f":"IF($H$2=\"G\",Skillserleuterungen_FTEM!#REF!,Skillserleuterungen_FTEM!#REF!)","v":{"$error":"#REF!"}},null,null,null,{"$f":"IFERROR(AVERAGE(O19:O23),\"-\")","v":"-"},null,{"$f":"IFERROR(AVERAGE(Q19:Q23),\"-\")","v":"-"},null,{"$f":"IFERROR(AVERAGE(S19:S23),\"-\")","v":"-"},null,{"$f":"IFERROR(AVERAGE(U19:U23),\"-\")","v":"-"},null,{"$f":"IFERROR(AVERAGE(W19:W23),\"-\")","v":"-"},null,{"$f":"IFERROR(AVERAGE(Y19:Y23),\"-\")","v":"-"}]
[null,null,null,{"$f":"IF($H$2=\"G\",Skillserleuterungen_FTEM!F11,Skillserleuterungen_FTEM!B11)","v":"Topspeed"},null,null,{"$f":"IF($H$2=\"G\",Skillserleuterungen_FTEM!G11,Skillserleuterungen_FTEM!C11)","v":"Schnelligkeit, Gleitfähigkeit, vorwärts und rückwärts, Ökonomie"},null,null,{"$f":"IF($H$2=\"G\",Skillserleuterungen_FTEM!#REF!,Skillserleuterungen_FTEM!#REF!)","v":{"$error":"#REF!"}}]
[null,null,null,{"$f":"IF($H$2=\"G\",Skillserleuterungen_FTEM!F12,Skillserleuterungen_FTEM!B12)","v":"Agilität"},null,null,{"$f":"IF($H$2=\"G\",Skillserleuterungen_FTEM!G12,Skillserleuterungen_FTEM!C12)","v":"Richtungsänderung, Drehung, Stop und Start, \"Nummelin\""},null,null,{"$f":"IF($H$2=\"G\",Skillserleuterungen_FTEM!#REF!,Skillserleuterungen_FTEM!#REF!)","v":{"$error":"#REF!"}},null,null,null,{"$f":"IFERROR(AVERAGE(O21:O23),\"-\")","v":"-"},null,{"$f":"IFERROR(AVERAGE(Q21:Q23),\"-\")","v":"-"},null,{"$f":"IFERROR(AVERAGE(S21:S23),\"-\")","v":"-"},null,{"$f":"IFERROR(AVERAGE(U21:U23),\"-\")","v":"-"},null,{"$f":"IFERROR(AVERAGE(W21:W23),\"-\")","v":"-"},null,{"$f":"IFERROR(AVERAGE(Y21:Y23),\"-\")","v":"-"}]
[null,null,null,{"$f":"IF($H$2=\"G\",Skillserleuterungen_FTEM!F13,Skillserleuterungen_FTEM!B13)","v":"Balance"},null,null,{"$f":"IF($H$2=\"G\",Skillserleuterungen_FTEM!G13,Skillserleuterungen_FTEM!C13)","v":"Gleichgewicht, Standhaftfähigkeit, tiefe Position, ein- und beidbeinig"},null,null,{"$f":"IF($H$2=\"G\",Skillserleuterungen_FTEM!#REF!,Skillserleuterungen_FTEM!#REF!)","v":{"$error":"#REF!"}}]
[null,null,null,{"$f":"IF($H$2=\"G\",Skillserleuterungen_FTEM!F14,Skillserleuterungen_FTEM!B14)","v":"Backwards Skating"},null,null,{"$f":"IF($H$2=\"G\",Skillserleuterungen_FTEM!G14,Skillserleuterungen_FTEM!C14)","v":"Beschleunigung, Geschwindigkeit, Balance"},null,null,{"$f":"IF($H$2=\"G\",Skillserleuterungen_FTEM!#REF!,Skillserleuterungen_FTEM!#REF!)","v":{"$error":"#REF!"}}]
[{"$f":"Skillserleuterungen_FTEM!A15","v":"SKILLS"},null,null,{"$f":"IF($H$2=\"G\",Skillserleuterungen_FTEM!F15,Skillserleuterungen_FTEM!B15)","v":"Schiessen"},null,null,{"$f":"IF($H$2=\"G\",Skillserleuterungen_FTEM!G15,Skillserleuterungen_FTEM!C15)","v":"Effizienz (no space no time), Variantenreichtum, Überraschungsgrad (Quick Release), Präzision, Härte, (taktische Abschlüsse)"},null,null,{"$f":"IF($H$2=\"G\",Skillserleuterungen_FTEM!#REF!,Skillserleuterungen_FTEM!#REF!)","v":{"$error":"#REF!"}},null,null,null,{"$f":"IFERROR(AVERAGE(O24:O29),\"-\")","v":"-"},null,{"$f":"IFERROR(AVERAGE(Q24:Q29),\"-\")","v":"-"},null,{"$f":"IFERROR(AVERAGE(S24:S29),\"-\")","v":"-"},null,{"$f":"IFERROR(AVERAGE(U24:U29),\"-\")","v":"-"},null,{"$f":"IFERROR(AVERAGE(W24:W29),\"-\")","v":"-"},null,{"$f":"IFERROR(AVERAGE(Y24:Y29),\"-\")","v":"-"}]
[null,null,null,{"$f":"IF($H$2=\"G\",Skillserleuterungen_FTEM!F16,Skillserleuterungen_FTEM!B16)","v":"Passen"},null,null,{"$f":"IF($H$2=\"G\",Skillserleuterungen_FTEM!G16,Skillserleuterungen_FTEM!C16)","v":"Passabgabe (Distanz, Flippass Backhand), Passannahme (Präzision, Timing, Vorhand, Rückhand, Schlittschuh), Puckspeed "},null,null,{"$f":"IF($H$2=\"G\",Skillserleuterungen_FTEM!#REF!,Skillserleuterungen_FTEM!#REF!)","v":{"$error":"#REF!"}}]
[null,null,null,{"$f":"IF($H$2=\"G\",Skillserleuterungen_FTEM!F17,Skillserleuterungen_FTEM!B17)","v":"Stockarbeit"},null,null,{"$f":"IF($H$2=\"G\",Skillserleuterungen_FTEM!G17,Skillserleuterungen_FTEM!C17)","v":"Stock zum Puck, Passlinie unterbinden, ablenken, Stockkontrolle Gegenspielerin"},null,null,{"$f":"IF($H$2=\"G\",Skillserleuterungen_FTEM!#REF!,Skillserleuterungen_FTEM!#REF!)","v":{"$error":"#REF!"}}]
[null,null,null,{"$f":"IF($H$2=\"G\",Skillserleuterungen_FTEM!F18,Skillserleuterungen_FTEM!B18)","v":"Puck besitzen "},null,null,{"$f":"IF($H$2=\"G\",Skillserleuterungen_FTEM!G18,Skillserleuterungen_FTEM!C18)","v":"Puckkontrolle, Dribblings, Puck schützen, Finten (Varianten: mit Schlittschuh, mit sowie ohne Bande), Face-Off"},null,null,{"$f":"IF($H$2=\"G\",Skillserleuterungen_FTEM!#REF!,Skillserleuterungen_FTEM!#REF!)","v":{"$error":"#REF!"}}]
[null,null,null,{"$f":"IF($H$2=\"G\",Skillserleuterungen_FTEM!F19,Skillserleuterungen_FTEM!B19)","v":"Körperspiel"},null,null,{"$f":"IF($H$2=\"G\",Skillserleuterungen_FTEM!G19,Skillserleuterungen_FTEM!C19)","v":"Phyisches Durchsetzungsvermögen, Zweikampf (offenes Eis/Bande), Checks nehmen/Head up, Battle Level, Hart aber fair"},null,null,{"$f":"IF($H$2=\"G\",Skillserleuterungen_FTEM!#REF!,Skillserleuterungen_FTEM!#REF!)","v":{"$error":"#REF!"}}]
[null,null,null,{"$f":"IF($H$2=\"G\",Skillserleuterungen_FTEM!F20,Skillserleuterungen_FTEM!B20)","v":"-"},null,null,{"$f":"IF($H$2=\"G\",Skillserleuterungen_FTEM!G20,Skillserleuterungen_FTEM!C20)","v":"-"},null,null,{"$f":"IF($H$2=\"G\",Skillserleuterungen_FTEM!#REF!,Skillserleuterungen_FTEM!#REF!)","v":{"$error":"#REF!"}}]
[{"$f":"Skillserleuterungen_FTEM!A21","v":"HOCKEY SENSE"},null,null,{"$f":"IF($H$2=\"G\",Skillserleuterungen_FTEM!F21,Skillserleuterungen_FTEM!B21)","v":"Spielintelligenz"},null,null,{"$f":"IF($H$2=\"G\",Skillserleuterungen_FTEM!G21,Skillserleuterungen_FTEM!C21)","v":"Freie Räume und Spielerin sehen und Überzahlsituationen kreieren, lösungsorientiert agieren bei allen Bedingungen, Headspeed"},null,null,{"$f":"IF($H$2=\"G\",Skillserleuterungen_FTEM!#REF!,Skillserleuterungen_FTEM!#REF!)","v":{"$error":"#REF!"}},null,null,null,{"$f":"IFERROR(AVERAGE(O30:O34),\"-\")","v":"-"},null,{"$f":"IFERROR(AVERAGE(Q30:Q34),\"-\")","v":"-"},null,{"$f":"IFERROR(AVERAGE(S30:S34),\"-\")","v":"-"},null,{"$f":"IFERROR(AVERAGE(U30:U34),\"-\")","v":"-"},null,{"$f":"IFERROR(AVERAGE(W30:W34),\"-\")","v":"-"},null,{"$f":"IFERROR(AVERAGE(Y30:Y34),\"-\")","v":"-"}]
[null,null,null,{"$f":"IF($H$2=\"G\",Skillserleuterungen_FTEM!F22,Skillserleuterungen_FTEM!B22)","v":"Offensives Bewusstsein"},null,null,{"$f":"IF($H$2=\"G\",Skillserleuterungen_FTEM!G22,Skillserleuterungen_FTEM!C22)","v":"Anspielbar, Antizipation der Spielsituationen, Freiräume für Mitspielerinnen öffnen, Abschlussorientiert sein, Gapspeed, gute Kommunikation"},null,null,{"$f":"IF($H$2=\"G\",Skillserleuterungen_FTEM!#REF!,Skillserleuterungen_FTEM!#REF!)","v":{"$error":"#REF!"}}]
[null,null,null,{"$f":"IF($H$2=\"G\",Skillserleuterungen_FTEM!F23,Skillserleuterungen_FTEM!B23)","v":"Defensiv Bewusstsein"},null,null,{"$f":"IF($H$2=\"G\",Skillserleuterungen_FTEM!G23,Skillserleuterungen_FTEM!C23)","v":"Inside Position halten, Slot beschützen, Mitspieler absichern/Support, Passlinie erkennen, Schüsse blockieren. Gapspeed, gute Komunikation"},null,null,{"$f":"IF($H$2=\"G\",Skillserleuterungen_FTEM!#REF!,Skillserleuterungen_FTEM!#REF!)","v":{"$error":"#REF!"}}]
[null,null,null,{"$f":"IF($H$2=\"G\",Skillserleuterungen_FTEM!F24,Skillserleuterungen_FTEM!B24)","v":"Puckmanagement"},null,null,{"$f":"IF($H$2=\"G\",Skillserleuterungen_FTEM!G24,Skillserleuterungen_FTEM!C24)","v":"Situationsadäquate Entscheidungen treffen, Support, Overload"},null,null,{"$f":"IF($H$2=\"G\",Skillserleuterungen_FTEM!#REF!,Skillserleuterungen_FTEM!#REF!)","v":{"$error":"#REF!"}}]
[null,null,null,{"$f":"IF($H$2=\"G\",Skillserleuterungen_FTEM!F25,Skillserleuterungen_FTEM!B25)","v":"Kreativität"},null,null,{"$f":"IF($H$2=\"G\",Skillserleuterungen_FTEM!G25,Skillserleuterungen_FTEM!C25)","v":"Überraschende Lösungen, Torriecher"},null,null,{"$f":"IF($H$2=\"G\",Skillserleuterungen_FTEM!#REF!,Skillserleuterungen_FTEM!#REF!)","v":{"$error":"#REF!"}}]
[{"$f":"Skillserleuterungen_FTEM!A26","v":"PERSONALITY"},null,null,{"$f":"Skillserleuterungen_FTEM!B26","v":"FÄHIGKEIT"},null,null,{"$f":"Skillserleuterungen_FTEM!C26","v":"BEOBACHTUNG"},null,null,null,null,null,null,"Datum1",null,"Datum2",null,"Datum3",null,"Datum4",null,"Datum5",null,"Player",null,"ZIEL","MASSNAHME:\nSPEZIFISCH,  MESSBAR, REALISITISCH",null,null,null,null,null,null,"TERMIN","ZIEL-KONTROLLE","Datum"]
[{"$f":"Skillserleuterungen_FTEM!A27","v":"PERSÖNLICHKEIT"},null,null,{"$f":"IF($H$2=\"G\",Skillserleuterungen_FTEM!F27,Skillserleuterungen_FTEM!B27)","v":"Selbstbewusstsein"},null,null,{"$f":"IF($H$2=\"G\",Skillserleuterungen_FTEM!G27,Skillserleuterungen_FTEM!C27)","v":"hat das nötige Selbstvertrauen,\"I can do it\"-Haltung, kann eigene Fähigkeiten einschätzen (kennt eigene Stärken/Schwächen), kann ihre Stärken konstant einsetzen, agiert mutig und nimmt kalkulierte Risiken"},null,null,{"$f":"IF($H$2=\"G\",Skillserleuterungen_FTEM!#REF!,Skillserleuterungen_FTEM!#REF!)","v":{"$error":"#REF!"}},null,null,null,{"$f":"IFERROR(AVERAGE(O36:O40),\"-\")","v":"-"},null,{"$f":"IFERROR(AVERAGE(Q36:Q40),\"-\")","v":"-"},null,{"$f":"IFERROR(AVERAGE(S36:S40),\"-\")","v":"-"},null,{"$f":"IFERROR(AVERAGE(U36:U40),\"-\")","v":"-"},null,{"$f":"IFERROR(AVERAGE(W36:W40),\"-\")","v":"-"},null,{"$f":"IFERROR(AVERAGE(Y36:Y40),\"-\")","v":"-"}]
[null,null,null,{"$f":"IF($H$2=\"G\",Skillserleuterungen_FTEM!F28,Skillserleuterungen_FTEM!B28)","v":"Lernfähigkeit"},null,null,{"$f":"IF($H$2=\"G\",Skillserleuterungen_FTEM!G28,Skillserleuterungen_FTEM!C28)","v":"hat eine gute Auffassungsgabe (nimmt auf und kann umsetzen), reflektiert eigenes Handeln, versucht aus Fehlern zu lernen und kann Massnahmen ableiten"},null,null,{"$f":"IF($H$2=\"G\",Skillserleuterungen_FTEM!#REF!,Skillserleuterungen_FTEM!#REF!)","v":{"$error":"#REF!"}}]
[null,null,null,{"$f":"IF($H$2=\"G\",Skillserleuterungen_FTEM!F29,Skillserleuterungen_FTEM!B29)","v":"Eigenverantwortung"},null,null,{"$f":"IF($H$2=\"G\",Skillserleuterungen_FTEM!G29,Skillserleuterungen_FTEM!C29)","v":"übernimmt Verantwortung für eigene Leistungen und Entwicklung, handelt selbständig, achtet auf Details, zeigt grosses Engagement in allen Bereichen"},null,null,{"$f":"IF($H$2=\"G\",Skillserleuterungen_FTEM!#REF!,Skillserleuterungen_FTEM!#REF!)","v":{"$error":"#REF!"}}]
[null,null,null,{"$f":"IF($H$2=\"G\",Skillserleuterungen_FTEM!F30,Skillserleuterungen_FTEM!B30)","v":"Motivation"},null,null,{"$f":"IF($H$2=\"G\",Skillserleuterungen_FTEM!G30,Skillserleuterungen_FTEM!C30)","v":"Intrinsischer Antrieb, will sich ständig weiterentwickeln und lernen, will die Erste sein und Erfolg haben, gibt nie auf und lässt sich auch durch Misserfolge nicht vom Weg abbringen"},null,null,{"$f":"IF($H$2=\"G\",Skillserleuterungen_FTEM!#REF!,Skillserleuterungen_FTEM!#REF!)","v":{"$error":"#REF!"}}]
[null,null,null,{"$f":"IF($H$2=\"G\",Skillserleuterungen_FTEM!F31,Skillserleuterungen_FTEM!B31)","v":"Performance Lifestyle"},null,null,{"$f":"IF($H$2=\"G\",Skillserleuterungen_FTEM!G31,Skillserleuterungen_FTEM!C31)","v":"managt Alltag und Umfeld nach dem Leistungsprinzip, hartnäckig, beharrlich und zielgerichtet, Fokus auf eigene Leistung, zeigt Biss und kann sich auch gegen Widerstände durchsetzen, Herausforderungen spornen sie an"},null,null,{"$f":"IF($H$2=\"G\",Skillserleuterungen_FTEM!#REF!,Skillserleuterungen_FTEM!#REF!)","v":{"$error":"#REF!"}}]
[{"$f":"Skillserleuterungen_FTEM!A32","v":"MENTALE STÄRKE"},null,null,{"$f":"IF($H$2=\"G\",Skillserleuterungen_FTEM!F32,Skillserleuterungen_FTEM!B32)","v":"Einsatzbereitschaft"},null,null,{"$f":"IF($H$2=\"G\",Skillserleuterungen_FTEM!G32,Skillserleuterungen_FTEM!C32)","v":"zeigt im Spiel und im Training hohe Intensität, gibt immer ihr Maximum und will ihre Limiten pushen, zeigt Leidenschaft, ist um hohe Trainingsqualität bemüht"},null,null,{"$f":"IF($H$2=\"G\",Skillserleuterungen_FTEM!#REF!,Skillserleuterungen_FTEM!#REF!)","v":{"$error":"#REF!"}},null,null,null,{"$f":"IFERROR(AVERAGE(O41:O45),\"-\")","v":"-"},null,{"$f":"IFERROR(AVERAGE(Q41:Q45),\"-\")","v":"-"},null,{"$f":"IFERROR(AVERAGE(S41:S45),\"-\")","v":"-"},null,{"$f":"IFERROR(AVERAGE(U41:U45),\"-\")","v":"-"},null,{"$f":"IFERROR(AVERAGE(W41:W45),\"-\")","v":"-"},null,{"$f":"IFERROR(AVERAGE(Y41:Y45),\"-\")","v":"-"}]
[null,null,null,{"$f":"IF($H$2=\"G\",Skillserleuterungen_FTEM!F33,Skillserleuterungen_FTEM!B33)","v":"Vorbereitung"},null,null,{"$f":"IF($H$2=\"G\",Skillserleuterungen_FTEM!G33,Skillserleuterungen_FTEM!C33)","v":"bewusste und gezielte Vorbereitung, mental wie auch physisch, verfügt über einen effizienten Ablauf zur Erreichung des idealen Leistungszustand (ILZ)"},null,null,{"$f":"IF($H$2=\"G\",Skillserleuterungen_FTEM!#REF!,Skillserleuterungen_FTEM!#REF!)","v":{"$error":"#REF!"}}]
[null,null,null,{"$f":"IF($H$2=\"G\",Skillserleuterungen_FTEM!F34,Skillserleuterungen_FTEM!B34)","v":"Selbstcoaching"},null,null,{"$f":"IF($H$2=\"G\",Skillserleuterungen_FTEM!G34,Skillserleuterungen_FTEM!C34)","v":"verfügt über gute Konzentrationsfähigkeit, kann während Spiel/Training ihren ILZ halten, kann mentale Grundtechniken anwenden, widerstandsfähig gegen negative Gedanken und Einflüsse, ist sich ihrer Körpersprache bewusst und kann diese regulieren"},null,null,{"$f":"IF($H$2=\"G\",Skillserleuterungen_FTEM!#REF!,Skillserleuterungen_FTEM!#REF!)","v":{"$error":"#REF!"}}]
[null,null,null,{"$f":"IF($H$2=\"G\",Skillserleuterungen_FTEM!F35,Skillserleuterungen_FTEM!B35)","v":"Energiemanagement"},null,null,{"$f":"IF($H$2=\"G\",Skillserleuterungen_FTEM!G35,Skillserleuterungen_FTEM!C35)","v":"kann eigene Energie regulieren, bereit zur Regeneration, weiss wann sie \"Vollgas\" geben muss und wann abschalten, On/Off-Schalter"},null,null,{"$f":"IF($H$2=\"G\",Skillserleuterungen_FTEM!#REF!,Skillserleuterungen_FTEM!#REF!)","v":{"$error":"#REF!"}}]
[null,null,null,{"$f":"IF($H$2=\"G\",Skillserleuterungen_FTEM!F36,Skillserleuterungen_FTEM!B36)","v":"Emotionskontrolle"},null,null,{"$f":"IF($H$2=\"G\",Skillserleuterungen_FTEM!G36,Skillserleuterungen_FTEM!C36)","v":"kann eigene Emotionen und Impulse regulieren, behält auch unter Druck die Kontrolle, kann auch in emotional anspruchsvollen oder frustrierenden Situationen angemessen agieren"},null,null,{"$f":"IF($H$2=\"G\",Skillserleuterungen_FTEM!#REF!,Skillserleuterungen_FTEM!#REF!)","v":{"$error":"#REF!"}}]
[{"$f":"Skillserleuterungen_FTEM!A37","v":"PHYSE"},null,null,{"$f":"IF($H$2=\"G\",Skillserleuterungen_FTEM!F37,Skillserleuterungen_FTEM!B37)","v":"Leistungserzeugung"},null,null,{"$f":"IF($H$2=\"G\",Skillserleuterungen_FTEM!G37,Skillserleuterungen_FTEM!C37)","v":"verfügt über die nötige Power/Kraft/Schnelligkeit in den Beinen und im Oberkörper (Neuromuskuläre Faktoren)"},null,null,{"$f":"IF($H$2=\"G\",Skillserleuterungen_FTEM!#REF!,Skillserleuterungen_FTEM!#REF!)","v":{"$error":"#REF!"}},null,null,null,{"$f":"IFERROR(AVERAGE(O46:O50),\"-\")","v":"-"},null,{"$f":"IFERROR(AVERAGE(Q46:Q50),\"-\")","v":"-"},null,{"$f":"IFERROR(AVERAGE(S46:S50),\"-\")","v":"-"},null,{"$f":"IFERROR(AVERAGE(U46:U50),\"-\")","v":"-"},null,{"$f":"IFERROR(AVERAGE(W46:W50),\"-\")","v":"-"},null,{"$f":"IFERROR(AVERAGE(Y46:Y50),\"-\")","v":"-"}]
[null,null,null,{"$f":"IF($H$2=\"G\",Skillserleuterungen_FTEM!F38,Skillserleuterungen_FTEM!B38)","v":"sporartspez. Ermüdungsresistenz"},null,null,{"$f":"IF($H$2=\"G\",Skillserleuterungen_FTEM!G38,Skillserleuterungen_FTEM!C38)","v":"Ist fähig  die Power/Kraft/Schnelligkeit innerhalb des Einsatzes lange aufrechtzuerhalten und kann sich zwischen den Einsätzen jeweils vollkommen erholen (Metabolische und kardiovaskuläre Faktoren)"},null,null,{"$f":"IF($H$2=\"G\",Skillserleuterungen_FTEM!#REF!,Skillserleuterungen_FTEM!#REF!)","v":{"$error":"#REF!"}}]
[null,null,null,{"$f":"IF($H$2=\"G\",Skillserleuterungen_FTEM!F39,Skillserleuterungen_FTEM!B39)","v":"Gesundheit / Prävention"},null,null,{"$f":"IF($H$2=\"G\",Skillserleuterungen_FTEM!G39,Skillserleuterungen_FTEM!C39)","v":"verfügt über die nötige Stabilität (z.B. Beinachsenstabilität) und Beweglichkeit in den zentralen Gelenken"},null,null,{"$f":"IF($H$2=\"G\",Skillserleuterungen_FTEM!#REF!,Skillserleuterungen_FTEM!#REF!)","v":{"$error":"#REF!"}}]
[null,null,null,{"$f":"IF($H$2=\"G\",Skillserleuterungen_FTEM!F40,Skillserleuterungen_FTEM!B40)","v":"Bewegungskompetenzen"},null,null,{"$f":"IF($H$2=\"G\",Skillserleuterungen_FTEM!G40,Skillserleuterungen_FTEM!C40)","v":"beherrscht die grundlegenden Bewegungsfertigkeiten, die eine unerlässliche Zubringerfunktion für die sportspezifischen \"Skills\" darstellt sowie zur nötigen Bewegungseffizienz führt"},null,null,{"$f":"IF($H$2=\"G\",Skillserleuterungen_FTEM!#REF!,Skillserleuterungen_FTEM!#REF!)","v":{"$error":"#REF!"}}]
[null,null,null,{"$f":"IF($H$2=\"G\",Skillserleuterungen_FTEM!F41,Skillserleuterungen_FTEM!B41)","v":"Robustheit"},null,null,{"$f":"IF($H$2=\"G\",Skillserleuterungen_FTEM!G41,Skillserleuterungen_FTEM!C41)","v":"verfügt über die nötige Grundkraft (Körperspannung), um sich in Zweikämpfen durchzusetzen und bei Zusammestössen standzuhalten"},null,null,{"$f":"IF($H$2=\"G\",Skillserleuterungen_FTEM!#REF!,Skillserleuterungen_FTEM!#REF!)","v":{"$error":"#REF!"}}]

{"sheet":"21","index":24,"n_rows":50,"n_cols":36,"rows_kept":50,"cut":false,"hidden":false,"merged":[[13,3,13,5],[14,3,14,5],[15,3,15,5],[13,6,13,11],[14,6,14,11],[15,6,15,11],[21,3,21,5],[21,6,21,11],[26,3,26,5],[26,6,26,11],[0,0,0,24],[0,25,0,26],[0,27,0,32],[0,33,0,35],[29,25,33,25],[29,26,33,32],[29,34,33,34],[35,25,39,25],[35,26,39,32],[35,34,39,34],[1,0,1,1],[1,2,1,5],[1,10,1,24],[2,0,2,1],[2,2,2,5],[2,11,2,24],[6,0,6,1],[6,2,6,35],[7,0,7,1],[7,2,7,35],[8,0,8,1],[8,2,8,35],[3,0,3,1],[3,10,3,24],[4,0,4,1],[4,2,4,5],[4,10,4,24],[10,0,10,24],[10,25,10,35],[40,25,44,25],[40,26,44,32],[40,34,44,34],[12,25,16,25],[12,26,16,32],[12,34,16,34],[18,25,22,25],[18,26,22,32],[18,34,22,34],[23,25,28,25],[23,26,28,32],[23,34,28,34],[17,26,17,32],[11,0,11,2],[11,3,11,5],[11,13,11,14],[11,15,11,16],[11,17,11,18],[11,19,11,20],[11,21,11,22],[11,23,11,24],[11,26,11,32],[11,6,11,11],[12,23,16,23],[16,3,16,5],[16,6,16,11],[17,0,17,2],[17,3,17,5],[17,6,17,11],[17,13,17,14],[17,15,17,16],[17,17,17,18],[17,19,17,20],[17,21,17,22],[17,23,17,24],[12,0,16,2],[12,3,12,5],[12,6,12,11],[12,12,16,12],[12,13,16,13],[12,15,16,15],[12,17,16,17],[12,19,16,19],[12,21,16,21],[18,15,22,15],[18,17,22,17],[18,19,22,19],[18,21,22,21],[18,23,22,23],[22,3,22,5],[22,6,22,11],[23,0,28,2],[23,3,23,5],[23,6,23,11],[23,12,28,12],[23,13,28,13],[23,15,28,15],[23,17,28,17],[18,0,22,2],[18,3,18,5],[18,6,18,11],[18,12,22,12],[18,13,22,13],[19,3,19,5],[19,6,19,11],[20,3,20,5],[20,6,20,11],[23,19,28,19],[23,21,28,21],[23,23,28,23],[24,3,24,5],[24,6,24,11],[28,3,28,5],[28,6,28,11],[33,3,33,5],[33,6,33,11],[29,23,33,23],[29,17,33,17],[29,19,33,19],[29,21,33,21],[30,3,30,5],[30,6,30,11],[31,3,31,5],[31,6,31,11],[27,3,27,5],[27,6,27,11],[32,3,32,5],[32,6,32,11],[29,0,33,2],[29,3,29,5],[29,6,29,11],[29,12,33,12],[29,13,33,13],[29,15,33,15],[34,23,34,24],[34,26,34,32],[35,0,39,2],[35,3,35,5],[35,6,35,11],[35,12,39,12],[35,13,39,13],[35,15,39,15],[39,3,39,5],[39,6,39,11],[35,23,39,23],[34,0,34,2],[34,3,34,5],[34,6,34,11],[34,13,34,14],[34,15,34,16],[34,17,34,18],[34,19,34,20],[36,3,36,5],[36,6,36,11],[37,3,37,5],[37,6,37,11],[40,17,44,17],[40,19,44,19],[40,21,44,21],[41,3,41,5],[41,6,41,11],[44,3,44,5],[44,6,44,11],[38,3,38,5],[38,6,38,11],[43,3,43,5],[43,6,43,11],[45,26,49,32],[45,34,49,34],[25,3,25,5],[25,6,25,11],[42,3,42,5],[42,6,42,11],[45,0,49,2],[45,12,49,12],[45,13,49,13],[45,15,49,15],[45,17,49,17],[45,19,49,19],[45,21,49,21],[45,23,49,23],[45,25,49,25],[45,3,45,5],[45,6,45,11],[46,3,46,5],[46,6,46,11],[40,15,44,15],[34,21,34,22],[35,17,39,17],[35,19,39,19],[35,21,39,21],[47,3,47,5],[47,6,47,11],[49,3,49,5],[49,6,49,11],[40,23,44,23],[40,0,44,2],[40,3,40,5],[40,6,40,11],[40,12,44,12],[40,13,44,13],[48,3,48,5],[48,6,48,11]]}
["Personalien",null,null,null,null,null,null,null,null,null,null,null,null,null,null,null,null,null,null,null,null,null,null,null,null,"Vorausetzungen",null,"Evaluationen",null,null,null,null,null,"Rating"]
["VORNAME",null,{"$f":"IF(ISBLANK(VLOOKUP(21,Tabelle3[],3,0)),\"-\",VLOOKUP(21,Tabelle3[],3,0))","v":"-"},null,null,null,"POSITION",null,null,"ADRESSE",{"$f":"IF(ISBLANK(VLOOKUP(21,Tabelle3[],5,0)),\"-\",VLOOKUP(21,Tabelle3[],5,0))","v":"-"},null,null,null,null,null,null,null,null,null,null,null,null,null,null,"\"Alter\" (Biologisch/Relative Age)",null,"Datum 1",null,null,"cm",null,"Kg",null,"AUSGEZEICHNET",5]
["NAME",null,{"$f":"IF(ISBLANK(VLOOKUP(21,Tabelle3[],2,0)),\"-\",VLOOKUP(21,Tabelle3[],2,0))","v":"-"},null,null,null,"STOCK",null,null,"WOHNORT",{"$f":"IF(ISBLANK(VLOOKUP(21,Tabelle3[],7,0)),\"-\",VLOOKUP(21,Tabelle3[],7,0))","v":"-"},{"$f":"IF(ISBLANK(VLOOKUP(21,Tabelle3[],6,0)),\"-\",VLOOKUP(21,Tabelle3[],6,0))","v":"-"},null,null,null,null,null,null,null,null,null,null,null,null,null,"Veranlagung",null,"Datum 2",null,null,"cm",null,"Kg",null,"GUT",4]
["GEB. DATUM",null,{"$f":"IF(ISBLANK(VLOOKUP(21,Tabelle3[],14,0)),\"-\",VLOOKUP(21,Tabelle3[],14,0))","v":"-"},{"$f":"IF(ISBLANK(VLOOKUP(21,Tabelle3[],15,0)),\"-\",VLOOKUP(21,Tabelle3[],15,0))","v":"-"},{"$f":"IF(ISBLANK(VLOOKUP(21,Tabelle3[],16,0)),\"-\",VLOOKUP(21,Tabelle3[],16,0))","v":"-"},null,"GRÖSSE",null,"cm (Final)","CLUB",{"$f":"IF(ISBLANK(VLOOKUP(21,Tabelle3[],8,0)),\"-\",VLOOKUP(21,Tabelle3[],8,0))","v":"-"},null,null,null,null,null,null,null,null,null,null,null,null,null,null,"Umfeld",null,"Datum 3",null,null,"cm",null,"Kg",null,"DURCHSCHNITT",3]
["SEX",null,{"$f":"IF(ISBLANK(VLOOKUP(21,Tabelle3[],13,0)),\"-\",VLOOKUP(21,Tabelle3[],13,0))","v":"-"},null,null,null,"GEWICHT",null,"Kg (Final)","E-Mail",{"$f":"IF(ISBLANK(VLOOKUP(21,Tabelle3[],9,0)),\"-\",VLOOKUP(21,Tabelle3[],9,0))","v":"-"},null,null,null,null,null,null,null,null,null,null,null,null,null,null,null,null,"Datum 4",null,null,"cm",null,"Kg",null,"MANGELHAFT",2]
[null,null,null,null,null,null,null,null,null,null,null,null,null,null,null,null,null,null,null,null,null,null,null,null,null,null,null,"Datum 5",null,null,"cm",null,"Kg",null,"UNGENÜGEND",1]
["Vision",null,"xxx"]
["Ziele",null,"xxx"]
["Stärken",null,"xxx"]
[]
["EVALUATION (COACH / SPIELERIN)",null,null,null,null,null,null,null,null,null,null,null,null,null,null,null,null,null,null,null,null,null,null,null,null,"SMART"]
[{"$f":"Skillserleuterungen_FTEM!A3","v":"TEAM"},null,null,{"$f":"Skillserleuterungen_FTEM!B3","v":"FÄHIGKEIT"},null,null,{"$f":"Skillserleuterungen_FTEM!C3","v":"BEOBACHTUNG"},null,null,null,null,null,"Final","Datum1",null,"Datum2",null,"Datum3",null,"Datum4",null,"Datum5",null,"Player",null,"ZIEL","MASSNAHME:\nSPEZIFISCH,  MESSBAR, REALISITISCH",null,null,null,null,null,null,"TERMIN","ZIEL-KONTROLLE","Datum"]
[{"$f":"Skillserleuterungen_FTEM!A4","v":"TEAM"},null,null,{"$f":"IF($H$2=\"G\",Skillserleuterungen_FTEM!F4,Skillserleuterungen_FTEM!B4)","v":"Kommunikation"},null,null,{"$f":"IF($H$2=\"G\",Skillserleuterungen_FTEM!G4,Skillserleuterungen_FTEM!C4)","v":"pflegt einen offenen, respektvollen Umgang, Vertrauensbasis als Grundlage, trägt Konflikte aus ohne die Stabilität der Gruppe zu gefährden, kommuniziert mit Mitspielerinnen, Trainern und Funktionären gleichermassen wertschätzend"},null,null,{"$f":"IF($H$2=\"G\",Skillserleuterungen_FTEM!#REF!,Skillserleuterungen_FTEM!#REF!)","v":{"$error":"#REF!"}},null,null,null,{"$f":"IFERROR(AVERAGE(O13:O17),\"-\")","v":"-"},null,{"$f":"IFERROR(AVERAGE(Q13:Q17),\"-\")","v":"-"},null,{"$f":"IFERROR(AVERAGE(S13:S17),\"-\")","v":"-"},null,{"$f":"IFERROR(AVERAGE(U13:U17),\"-\")","v":"-"},null,null,null,{"$f":"IFERROR(AVERAGE(Y13:Y17),\"-\")","v":"-"}]
[null,null,null,{"$f":"IF($H$2=\"G\",Skillserleuterungen_FTEM!F5,Skillserleuterungen_FTEM!B5)","v":"Teamfähigkeit"},null,null,{"$f":"IF($H$2=\"G\",Skillserleuterungen_FTEM!G5,Skillserleuterungen_FTEM!C5)","v":"Integration in die Gruppe, gemeinsame Ziele bestimmen und verfolgen können, WIR vor dem ICH, trägt zu einem guten Team-Spirit und Arbeitsklima bei"},null,null,{"$f":"IF($H$2=\"G\",Skillserleuterungen_FTEM!#REF!,Skillserleuterungen_FTEM!#REF!)","v":{"$error":"#REF!"}}]
[null,null,null,{"$f":"IF($H$2=\"G\",Skillserleuterungen_FTEM!F6,Skillserleuterungen_FTEM!B6)","v":"Leadership"},null,null,{"$f":"IF($H$2=\"G\",Skillserleuterungen_FTEM!G6,Skillserleuterungen_FTEM!C6)","v":"übernimmt Verantwortung in der Gruppe, versucht Team und Mitspielerinnen besser zu machen, nimmt positiven Einfluss auf die Gruppendynamik"},null,null,{"$f":"IF($H$2=\"G\",Skillserleuterungen_FTEM!#REF!,Skillserleuterungen_FTEM!#REF!)","v":{"$error":"#REF!"}}]
[null,null,null,{"$f":"IF($H$2=\"G\",Skillserleuterungen_FTEM!F7,Skillserleuterungen_FTEM!B7)","v":"Rollenverteilung"},null,null,{"$f":"IF($H$2=\"G\",Skillserleuterungen_FTEM!G7,Skillserleuterungen_FTEM!C7)","v":"kennt ihre Rolle und füllt diese aus, ist sich ihrer Stellung im Team und im System bewusst, stellt eigene Kompetenzen in den Dienst des Teams"},null,null,{"$f":"IF($H$2=\"G\",Skillserleuterungen_FTEM!#REF!,Skillserleuterungen_FTEM!#REF!)","v":{"$error":"#REF!"}}]
[null,null,null,{"$f":"IF($H$2=\"G\",Skillserleuterungen_FTEM!F8,Skillserleuterungen_FTEM!B8)","v":"Respekt"},null,null,{"$f":"IF($H$2=\"G\",Skillserleuterungen_FTEM!G8,Skillserleuterungen_FTEM!C8)","v":"Respektvoller Umgang mit Mitspielerinnen, Trainern, Gegnern, Schiedsrichter und Staff; achtet die Regeln, Fairplayprinzipien (inkl. Anti-Doping)"},null,null,{"$f":"IF($H$2=\"G\",Skillserleuterungen_FTEM!#REF!,Skillserleuterungen_FTEM!#REF!)","v":{"$error":"#REF!"}}]
[{"$f":"Skillserleuterungen_FTEM!A9","v":"ON ICE"},null,null,{"$f":"Skillserleuterungen_FTEM!B9","v":"FÄHIGKEIT"},null,null,{"$f":"Skillserleuterungen_FTEM!C9","v":"BEOBACHTUNG"},null,null,null,null,null,null,"Datum1",null,"Datum2",null,"Datum3",null,"Datum4",null,"Datum5",null,"Player",null,"ZIEL","MASSNAHME:\nSPEZIFISCH,  MESSBAR, REALISITISCH",null,null,null,null,null,null,"TERMIN","ZIEL-KONTROLLE","Datum"]
[{"$f":"Skillserleuterungen_FTEM!A10","v":"SKATING"},null,null,{"$f":"IF($H$2=\"G\",Skillserleuterungen_FTEM!F10,Skillserleuterungen_FTEM!B10)","v":"Footspeed"},null,null,{"$f":"IF($H$2=\"G\",Skillserleuterungen_FTEM!G10,Skillserleuterungen_FTEM!C10)","v":"Beschleunigung, Antritt, erste 3 Schritte Explosivität, Frequenz"},null,null,{"$f":"IF($H$2=\"G\",Skillserleuterungen_FTEM!#REF!,Skillserleuterungen_FTEM!#REF!)","v":{"$error":"#REF!"}},null,null,null,{"$f":"IFERROR(AVERAGE(O19:O23),\"-\")","v":"-"},null,{"$f":"IFERROR(AVERAGE(Q19:Q23),\"-\")","v":"-"},null,{"$f":"IFERROR(AVERAGE(S19:S23),\"-\")","v":"-"},null,{"$f":"IFERROR(AVERAGE(U19:U23),\"-\")","v":"-"},null,{"$f":"IFERROR(AVERAGE(W19:W23),\"-\")","v":"-"},null,{"$f":"IFERROR(AVERAGE(Y19:Y23),\"-\")","v":"-"}]
[null,null,null,{"$f":"IF($H$2=\"G\",Skillserleuterungen_FTEM!F11,Skillserleuterungen_FTEM!B11)","v":"Topspeed"},null,null,{"$f":"IF($H$2=\"G\",Skillserleuterungen_FTEM!G11,Skillserleuterungen_FTEM!C11)","v":"Schnelligkeit, Gleitfähigkeit, vorwärts und rückwärts, Ökonomie"},null,null,{"$f":"IF($H$2=\"G\",Skillserleuterungen_FTEM!#REF!,Skillserleuterungen_FTEM!#REF!)","v":{"$error":"#REF!"}}]
[null,null,null,{"$f":"IF($H$2=\"G\",Skillserleuterungen_FTEM!F12,Skillserleuterungen_FTEM!B12)","v":"Agilität"},null,null,{"$f":"IF($H$2=\"G\",Skillserleuterungen_FTEM!G12,Skillserleuterungen_FTEM!C12)","v":"Richtungsänderung, Drehung, Stop und Start, \"Nummelin\""},null,null,{"$f":"IF($H$2=\"G\",Skillserleuterungen_FTEM!#REF!,Skillserleuterungen_FTEM!#REF!)","v":{"$error":"#REF!"}},null,null,null,{"$f":"IFERROR(AVERAGE(O21:O23),\"-\")","v":"-"},null,{"$f":"IFERROR(AVERAGE(Q21:Q23),\"-\")","v":"-"},null,{"$f":"IFERROR(AVERAGE(S21:S23),\"-\")","v":"-"},null,{"$f":"IFERROR(AVERAGE(U21:U23),\"-\")","v":"-"},null,{"$f":"IFERROR(AVERAGE(W21:W23),\"-\")","v":"-"},null,{"$f":"IFERROR(AVERAGE(Y21:Y23),\"-\")","v":"-"}]
[null,null,null,{"$f":"IF($H$2=\"G\",Skillserleuterungen_FTEM!F13,Skillserleuterungen_FTEM!B13)","v":"Balance"},null,null,{"$f":"IF($H$2=\"G\",Skillserleuterungen_FTEM!G13,Skillserleuterungen_FTEM!C13)","v":"Gleichgewicht, Standhaftfähigkeit, tiefe Position, ein- und beidbeinig"},null,null,{"$f":"IF($H$2=\"G\",Skillserleuterungen_FTEM!#REF!,Skillserleuterungen_FTEM!#REF!)","v":{"$error":"#REF!"}}]
[null,null,null,{"$f":"IF($H$2=\"G\",Skillserleuterungen_FTEM!F14,Skillserleuterungen_FTEM!B14)","v":"Backwards Skating"},null,null,{"$f":"IF($H$2=\"G\",Skillserleuterungen_FTEM!G14,Skillserleuterungen_FTEM!C14)","v":"Beschleunigung, Geschwindigkeit, Balance"},null,null,{"$f":"IF($H$2=\"G\",Skillserleuterungen_FTEM!#REF!,Skillserleuterungen_FTEM!#REF!)","v":{"$error":"#REF!"}}]
[{"$f":"Skillserleuterungen_FTEM!A15","v":"SKILLS"},null,null,{"$f":"IF($H$2=\"G\",Skillserleuterungen_FTEM!F15,Skillserleuterungen_FTEM!B15)","v":"Schiessen"},null,null,{"$f":"IF($H$2=\"G\",Skillserleuterungen_FTEM!G15,Skillserleuterungen_FTEM!C15)","v":"Effizienz (no space no time), Variantenreichtum, Überraschungsgrad (Quick Release), Präzision, Härte, (taktische Abschlüsse)"},null,null,{"$f":"IF($H$2=\"G\",Skillserleuterungen_FTEM!#REF!,Skillserleuterungen_FTEM!#REF!)","v":{"$error":"#REF!"}},null,null,null,{"$f":"IFERROR(AVERAGE(O24:O29),\"-\")","v":"-"},null,{"$f":"IFERROR(AVERAGE(Q24:Q29),\"-\")","v":"-"},null,{"$f":"IFERROR(AVERAGE(S24:S29),\"-\")","v":"-"},null,{"$f":"IFERROR(AVERAGE(U24:U29),\"-\")","v":"-"},null,{"$f":"IFERROR(AVERAGE(W24:W29),\"-\")","v":"-"},null,{"$f":"IFERROR(AVERAGE(Y24:Y29),\"-\")","v":"-"}]
[null,null,null,{"$f":"IF($H$2=\"G\",Skillserleuterungen_FTEM!F16,Skillserleuterungen_FTEM!B16)","v":"Passen"},null,null,{"$f":"IF($H$2=\"G\",Skillserleuterungen_FTEM!G16,Skillserleuterungen_FTEM!C16)","v":"Passabgabe (Distanz, Flippass Backhand), Passannahme (Präzision, Timing, Vorhand, Rückhand, Schlittschuh), Puckspeed "},null,null,{"$f":"IF($H$2=\"G\",Skillserleuterungen_FTEM!#REF!,Skillserleuterungen_FTEM!#REF!)","v":{"$error":"#REF!"}}]
[null,null,null,{"$f":"IF($H$2=\"G\",Skillserleuterungen_FTEM!F17,Skillserleuterungen_FTEM!B17)","v":"Stockarbeit"},null,null,{"$f":"IF($H$2=\"G\",Skillserleuterungen_FTEM!G17,Skillserleuterungen_FTEM!C17)","v":"Stock zum Puck, Passlinie unterbinden, ablenken, Stockkontrolle Gegenspielerin"},null,null,{"$f":"IF($H$2=\"G\",Skillserleuterungen_FTEM!#REF!,Skillserleuterungen_FTEM!#REF!)","v":{"$error":"#REF!"}}]
[null,null,null,{"$f":"IF($H$2=\"G\",Skillserleuterungen_FTEM!F18,Skillserleuterungen_FTEM!B18)","v":"Puck besitzen "},null,null,{"$f":"IF($H$2=\"G\",Skillserleuterungen_FTEM!G18,Skillserleuterungen_FTEM!C18)","v":"Puckkontrolle, Dribblings, Puck schützen, Finten (Varianten: mit Schlittschuh, mit sowie ohne Bande), Face-Off"},null,null,{"$f":"IF($H$2=\"G\",Skillserleuterungen_FTEM!#REF!,Skillserleuterungen_FTEM!#REF!)","v":{"$error":"#REF!"}}]
[null,null,null,{"$f":"IF($H$2=\"G\",Skillserleuterungen_FTEM!F19,Skillserleuterungen_FTEM!B19)","v":"Körperspiel"},null,null,{"$f":"IF($H$2=\"G\",Skillserleuterungen_FTEM!G19,Skillserleuterungen_FTEM!C19)","v":"Phyisches Durchsetzungsvermögen, Zweikampf (offenes Eis/Bande), Checks nehmen/Head up, Battle Level, Hart aber fair"},null,null,{"$f":"IF($H$2=\"G\",Skillserleuterungen_FTEM!#REF!,Skillserleuterungen_FTEM!#REF!)","v":{"$error":"#REF!"}}]
[null,null,null,{"$f":"IF($H$2=\"G\",Skillserleuterungen_FTEM!F20,Skillserleuterungen_FTEM!B20)","v":"-"},null,null,{"$f":"IF($H$2=\"G\",Skillserleuterungen_FTEM!G20,Skillserleuterungen_FTEM!C20)","v":"-"},null,null,{"$f":"IF($H$2=\"G\",Skillserleuterungen_FTEM!#REF!,Skillserleuterungen_FTEM!#REF!)","v":{"$error":"#REF!"}}]
[{"$f":"Skillserleuterungen_FTEM!A21","v":"HOCKEY SENSE"},null,null,{"$f":"IF($H$2=\"G\",Skillserleuterungen_FTEM!F21,Skillserleuterungen_FTEM!B21)","v":"Spielintelligenz"},null,null,{"$f":"IF($H$2=\"G\",Skillserleuterungen_FTEM!G21,Skillserleuterungen_FTEM!C21)","v":"Freie Räume und Spielerin sehen und Überzahlsituationen kreieren, lösungsorientiert agieren bei allen Bedingungen, Headspeed"},null,null,{"$f":"IF($H$2=\"G\",Skillserleuterungen_FTEM!#REF!,Skillserleuterungen_FTEM!#REF!)","v":{"$error":"#REF!"}},null,null,null,{"$f":"IFERROR(AVERAGE(O30:O34),\"-\")","v":"-"},null,{"$f":"IFERROR(AVERAGE(Q30:Q34),\"-\")","v":"-"},null,{"$f":"IFERROR(AVERAGE(S30:S34),\"-\")","v":"-"},null,{"$f":"IFERROR(AVERAGE(U30:U34),\"-\")","v":"-"},null,{"$f":"IFERROR(AVERAGE(W30:W34),\"-\")","v":"-"},null,{"$f":"IFERROR(AVERAGE(Y30:Y34),\"-\")","v":"-"}]
[null,null,null,{"$f":"IF($H$2=\"G\",Skillserleuterungen_FTEM!F22,Skillserleuterungen_FTEM!B22)","v":"Offensives Bewusstsein"},null,null,{"$f":"IF($H$2=\"G\",Skillserleuterungen_FTEM!G22,Skillserleuterungen_FTEM!C22)","v":"Anspielbar, Antizipation der Spielsituationen, Freiräume für Mitspielerinnen öffnen, Abschlussorientiert sein, Gapspeed, gute Kommunikation"},null,null,{"$f":"IF($H$2=\"G\",Skillserleuterungen_FTEM!#REF!,Skillserleuterungen_FTEM!#REF!)","v":{"$error":"#REF!"}}]
[null,null,null,{"$f":"IF($H$2=\"G\",Skillserleuterungen_FTEM!F23,Skillserleuterungen_FTEM!B23)","v":"Defensiv Bewusstsein"},null,null,{"$f":"IF($H$2=\"G\",Skillserleuterungen_FTEM!G23,Skillserleuterungen_FTEM!C23)","v":"Inside Position halten, Slot beschützen, Mitspieler absichern/Support, Passlinie erkennen, Schüsse blockieren. Gapspeed, gute Komunikation"},null,null,{"$f":"IF($H$2=\"G\",Skillserleuterungen_FTEM!#REF!,Skillserleuterungen_FTEM!#REF!)","v":{"$error":"#REF!"}}]
[null,null,null,{"$f":"IF($H$2=\"G\",Skillserleuterungen_FTEM!F24,Skillserleuterungen_FTEM!B24)","v":"Puckmanagement"},null,null,{"$f":"IF($H$2=\"G\",Skillserleuterungen_FTEM!G24,Skillserleuterungen_FTEM!C24)","v":"Situationsadäquate Entscheidungen treffen, Support, Overload"},null,null,{"$f":"IF($H$2=\"G\",Skillserleuterungen_FTEM!#REF!,Skillserleuterungen_FTEM!#REF!)","v":{"$error":"#REF!"}}]
[null,null,null,{"$f":"IF($H$2=\"G\",Skillserleuterungen_FTEM!F25,Skillserleuterungen_FTEM!B25)","v":"Kreativität"},null,null,{"$f":"IF($H$2=\"G\",Skillserleuterungen_FTEM!G25,Skillserleuterungen_FTEM!C25)","v":"Überraschende Lösungen, Torriecher"},null,null,{"$f":"IF($H$2=\"G\",Skillserleuterungen_FTEM!#REF!,Skillserleuterungen_FTEM!#REF!)","v":{"$error":"#REF!"}}]
[{"$f":"Skillserleuterungen_FTEM!A26","v":"PERSONALITY"},null,null,{"$f":"Skillserleuterungen_FTEM!B26","v":"FÄHIGKEIT"},null,null,{"$f":"Skillserleuterungen_FTEM!C26","v":"BEOBACHTUNG"},null,null,null,null,null,null,"Datum1",null,"Datum2",null,"Datum3",null,"Datum4",null,"Datum5",null,"Player",null,"ZIEL","MASSNAHME:\nSPEZIFISCH,  MESSBAR, REALISITISCH",null,null,null,null,null,null,"TERMIN","ZIEL-KONTROLLE","Datum"]
[{"$f":"Skillserleuterungen_FTEM!A27","v":"PERSÖNLICHKEIT"},null,null,{"$f":"IF($H$2=\"G\",Skillserleuterungen_FTEM!F27,Skillserleuterungen_FTEM!B27)","v":"Selbstbewusstsein"},null,null,{"$f":"IF($H$2=\"G\",Skillserleuterungen_FTEM!G27,Skillserleuterungen_FTEM!C27)","v":"hat das nötige Selbstvertrauen,\"I can do it\"-Haltung, kann eigene Fähigkeiten einschätzen (kennt eigene Stärken/Schwächen), kann ihre Stärken konstant einsetzen, agiert mutig und nimmt kalkulierte Risiken"},null,null,{"$f":"IF($H$2=\"G\",Skillserleuterungen_FTEM!#REF!,Skillserleuterungen_FTEM!#REF!)","v":{"$error":"#REF!"}},null,null,null,{"$f":"IFERROR(AVERAGE(O36:O40),\"-\")","v":"-"},null,{"$f":"IFERROR(AVERAGE(Q36:Q40),\"-\")","v":"-"},null,{"$f":"IFERROR(AVERAGE(S36:S40),\"-\")","v":"-"},null,{"$f":"IFERROR(AVERAGE(U36:U40),\"-\")","v":"-"},null,{"$f":"IFERROR(AVERAGE(W36:W40),\"-\")","v":"-"},null,{"$f":"IFERROR(AVERAGE(Y36:Y40),\"-\")","v":"-"}]
[null,null,null,{"$f":"IF($H$2=\"G\",Skillserleuterungen_FTEM!F28,Skillserleuterungen_FTEM!B28)","v":"Lernfähigkeit"},null,null,{"$f":"IF($H$2=\"G\",Skillserleuterungen_FTEM!G28,Skillserleuterungen_FTEM!C28)","v":"hat eine gute Auffassungsgabe (nimmt auf und kann umsetzen), reflektiert eigenes Handeln, versucht aus Fehlern zu lernen und kann Massnahmen ableiten"},null,null,{"$f":"IF($H$2=\"G\",Skillserleuterungen_FTEM!#REF!,Skillserleuterungen_FTEM!#REF!)","v":{"$error":"#REF!"}}]
[null,null,null,{"$f":"IF($H$2=\"G\",Skillserleuterungen_FTEM!F29,Skillserleuterungen_FTEM!B29)","v":"Eigenverantwortung"},null,null,{"$f":"IF($H$2=\"G\",Skillserleuterungen_FTEM!G29,Skillserleuterungen_FTEM!C29)","v":"übernimmt Verantwortung für eigene Leistungen und Entwicklung, handelt selbständig, achtet auf Details, zeigt grosses Engagement in allen Bereichen"},null,null,{"$f":"IF($H$2=\"G\",Skillserleuterungen_FTEM!#REF!,Skillserleuterungen_FTEM!#REF!)","v":{"$error":"#REF!"}}]
[null,null,null,{"$f":"IF($H$2=\"G\",Skillserleuterungen_FTEM!F30,Skillserleuterungen_FTEM!B30)","v":"Motivation"},null,null,{"$f":"IF($H$2=\"G\",Skillserleuterungen_FTEM!G30,Skillserleuterungen_FTEM!C30)","v":"Intrinsischer Antrieb, will sich ständig weiterentwickeln und lernen, will die Erste sein und Erfolg haben, gibt nie auf und lässt sich auch durch Misserfolge nicht vom Weg abbringen"},null,null,{"$f":"IF($H$2=\"G\",Skillserleuterungen_FTEM!#REF!,Skillserleuterungen_FTEM!#REF!)","v":{"$error":"#REF!"}}]
[null,null,null,{"$f":"IF($H$2=\"G\",Skillserleuterungen_FTEM!F31,Skillserleuterungen_FTEM!B31)","v":"Performance Lifestyle"},null,null,{"$f":"IF($H$2=\"G\",Skillserleuterungen_FTEM!G31,Skillserleuterungen_FTEM!C31)","v":"managt Alltag und Umfeld nach dem Leistungsprinzip, hartnäckig, beharrlich und zielgerichtet, Fokus auf eigene Leistung, zeigt Biss und kann sich auch gegen Widerstände durchsetzen, Herausforderungen spornen sie an"},null,null,{"$f":"IF($H$2=\"G\",Skillserleuterungen_FTEM!#REF!,Skillserleuterungen_FTEM!#REF!)","v":{"$error":"#REF!"}}]
[{"$f":"Skillserleuterungen_FTEM!A32","v":"MENTALE STÄRKE"},null,null,{"$f":"IF($H$2=\"G\",Skillserleuterungen_FTEM!F32,Skillserleuterungen_FTEM!B32)","v":"Einsatzbereitschaft"},null,null,{"$f":"IF($H$2=\"G\",Skillserleuterungen_FTEM!G32,Skillserleuterungen_FTEM!C32)","v":"zeigt im Spiel und im Training hohe Intensität, gibt immer ihr Maximum und will ihre Limiten pushen, zeigt Leidenschaft, ist um hohe Trainingsqualität bemüht"},null,null,{"$f":"IF($H$2=\"G\",Skillserleuterungen_FTEM!#REF!,Skillserleuterungen_FTEM!#REF!)","v":{"$error":"#REF!"}},null,null,null,{"$f":"IFERROR(AVERAGE(O41:O45),\"-\")","v":"-"},null,{"$f":"IFERROR(AVERAGE(Q41:Q45),\"-\")","v":"-"},null,{"$f":"IFERROR(AVERAGE(S41:S45),\"-\")","v":"-"},null,{"$f":"IFERROR(AVERAGE(U41:U45),\"-\")","v":"-"},null,{"$f":"IFERROR(AVERAGE(W41:W45),\"-\")","v":"-"},null,{"$f":"IFERROR(AVERAGE(Y41:Y45),\"-\")","v":"-"}]
[null,null,null,{"$f":"IF($H$2=\"G\",Skillserleuterungen_FTEM!F33,Skillserleuterungen_FTEM!B33)","v":"Vorbereitung"},null,null,{"$f":"IF($H$2=\"G\",Skillserleuterungen_FTEM!G33,Skillserleuterungen_FTEM!C33)","v":"bewusste und gezielte Vorbereitung, mental wie auch physisch, verfügt über einen effizienten Ablauf zur Erreichung des idealen Leistungszustand (ILZ)"},null,null,{"$f":"IF($H$2=\"G\",Skillserleuterungen_FTEM!#REF!,Skillserleuterungen_FTEM!#REF!)","v":{"$error":"#REF!"}}]
[null,null,null,{"$f":"IF($H$2=\"G\",Skillserleuterungen_FTEM!F34,Skillserleuterungen_FTEM!B34)","v":"Selbstcoaching"},null,null,{"$f":"IF($H$2=\"G\",Skillserleuterungen_FTEM!G34,Skillserleuterungen_FTEM!C34)","v":"verfügt über gute Konzentrationsfähigkeit, kann während Spiel/Training ihren ILZ halten, kann mentale Grundtechniken anwenden, widerstandsfähig gegen negative Gedanken und Einflüsse, ist sich ihrer Körpersprache bewusst und kann diese regulieren"},null,null,{"$f":"IF($H$2=\"G\",Skillserleuterungen_FTEM!#REF!,Skillserleuterungen_FTEM!#REF!)","v":{"$error":"#REF!"}}]
[null,null,null,{"$f":"IF($H$2=\"G\",Skillserleuterungen_FTEM!F35,Skillserleuterungen_FTEM!B35)","v":"Energiemanagement"},null,null,{"$f":"IF($H$2=\"G\",Skillserleuterungen_FTEM!G35,Skillserleuterungen_FTEM!C35)","v":"kann eigene Energie regulieren, bereit zur Regeneration, weiss wann sie \"Vollgas\" geben muss und wann abschalten, On/Off-Schalter"},null,null,{"$f":"IF($H$2=\"G\",Skillserleuterungen_FTEM!#REF!,Skillserleuterungen_FTEM!#REF!)","v":{"$error":"#REF!"}}]
[null,null,null,{"$f":"IF($H$2=\"G\",Skillserleuterungen_FTEM!F36,Skillserleuterungen_FTEM!B36)","v":"Emotionskontrolle"},null,null,{"$f":"IF($H$2=\"G\",Skillserleuterungen_FTEM!G36,Skillserleuterungen_FTEM!C36)","v":"kann eigene Emotionen und Impulse regulieren, behält auch unter Druck die Kontrolle, kann auch in emotional anspruchsvollen oder frustrierenden Situationen angemessen agieren"},null,null,{"$f":"IF($H$2=\"G\",Skillserleuterungen_FTEM!#REF!,Skillserleuterungen_FTEM!#REF!)","v":{"$error":"#REF!"}}]
[{"$f":"Skillserleuterungen_FTEM!A37","v":"PHYSE"},null,null,{"$f":"IF($H$2=\"G\",Skillserleuterungen_FTEM!F37,Skillserleuterungen_FTEM!B37)","v":"Leistungserzeugung"},null,null,{"$f":"IF($H$2=\"G\",Skillserleuterungen_FTEM!G37,Skillserleuterungen_FTEM!C37)","v":"verfügt über die nötige Power/Kraft/Schnelligkeit in den Beinen und im Oberkörper (Neuromuskuläre Faktoren)"},null,null,{"$f":"IF($H$2=\"G\",Skillserleuterungen_FTEM!#REF!,Skillserleuterungen_FTEM!#REF!)","v":{"$error":"#REF!"}},null,null,null,{"$f":"IFERROR(AVERAGE(O46:O50),\"-\")","v":"-"},null,{"$f":"IFERROR(AVERAGE(Q46:Q50),\"-\")","v":"-"},null,{"$f":"IFERROR(AVERAGE(S46:S50),\"-\")","v":"-"},null,{"$f":"IFERROR(AVERAGE(U46:U50),\"-\")","v":"-"},null,{"$f":"IFERROR(AVERAGE(W46:W50),\"-\")","v":"-"},null,{"$f":"IFERROR(AVERAGE(Y46:Y50),\"-\")","v":"-"}]
[null,null,null,{"$f":"IF($H$2=\"G\",Skillserleuterungen_FTEM!F38,Skillserleuterungen_FTEM!B38)","v":"sporartspez. Ermüdungsresistenz"},null,null,{"$f":"IF($H$2=\"G\",Skillserleuterungen_FTEM!G38,Skillserleuterungen_FTEM!C38)","v":"Ist fähig  die Power/Kraft/Schnelligkeit innerhalb des Einsatzes lange aufrechtzuerhalten und kann sich zwischen den Einsätzen jeweils vollkommen erholen (Metabolische und kardiovaskuläre Faktoren)"},null,null,{"$f":"IF($H$2=\"G\",Skillserleuterungen_FTEM!#REF!,Skillserleuterungen_FTEM!#REF!)","v":{"$error":"#REF!"}}]
[null,null,null,{"$f":"IF($H$2=\"G\",Skillserleuterungen_FTEM!F39,Skillserleuterungen_FTEM!B39)","v":"Gesundheit / Prävention"},null,null,{"$f":"IF($H$2=\"G\",Skillserleuterungen_FTEM!G39,Skillserleuterungen_FTEM!C39)","v":"verfügt über die nötige Stabilität (z.B. Beinachsenstabilität) und Beweglichkeit in den zentralen Gelenken"},null,null,{"$f":"IF($H$2=\"G\",Skillserleuterungen_FTEM!#REF!,Skillserleuterungen_FTEM!#REF!)","v":{"$error":"#REF!"}}]
[null,null,null,{"$f":"IF($H$2=\"G\",Skillserleuterungen_FTEM!F40,Skillserleuterungen_FTEM!B40)","v":"Bewegungskompetenzen"},null,null,{"$f":"IF($H$2=\"G\",Skillserleuterungen_FTEM!G40,Skillserleuterungen_FTEM!C40)","v":"beherrscht die grundlegenden Bewegungsfertigkeiten, die eine unerlässliche Zubringerfunktion für die sportspezifischen \"Skills\" darstellt sowie zur nötigen Bewegungseffizienz führt"},null,null,{"$f":"IF($H$2=\"G\",Skillserleuterungen_FTEM!#REF!,Skillserleuterungen_FTEM!#REF!)","v":{"$error":"#REF!"}}]
[null,null,null,{"$f":"IF($H$2=\"G\",Skillserleuterungen_FTEM!F41,Skillserleuterungen_FTEM!B41)","v":"Robustheit"},null,null,{"$f":"IF($H$2=\"G\",Skillserleuterungen_FTEM!G41,Skillserleuterungen_FTEM!C41)","v":"verfügt über die nötige Grundkraft (Körperspannung), um sich in Zweikämpfen durchzusetzen und bei Zusammestössen standzuhalten"},null,null,{"$f":"IF($H$2=\"G\",Skillserleuterungen_FTEM!#REF!,Skillserleuterungen_FTEM!#REF!)","v":{"$error":"#REF!"}}]

{"sheet":"22","index":25,"n_rows":50,"n_cols":36,"rows_kept":50,"cut":false,"hidden":false,"merged":[[13,3,13,5],[14,3,14,5],[15,3,15,5],[13,6,13,11],[14,6,14,11],[15,6,15,11],[21,3,21,5],[21,6,21,11],[26,3,26,5],[26,6,26,11],[0,0,0,24],[0,25,0,26],[0,27,0,32],[0,33,0,35],[29,25,33,25],[29,26,33,32],[29,34,33,34],[35,25,39,25],[35,26,39,32],[35,34,39,34],[1,0,1,1],[1,2,1,5],[1,10,1,24],[2,0,2,1],[2,2,2,5],[2,11,2,24],[6,0,6,1],[6,2,6,35],[7,0,7,1],[7,2,7,35],[8,0,8,1],[8,2,8,35],[3,0,3,1],[3,10,3,24],[4,0,4,1],[4,2,4,5],[4,10,4,24],[10,0,10,24],[10,25,10,35],[40,25,44,25],[40,26,44,32],[40,34,44,34],[12,25,16,25],[12,26,16,32],[12,34,16,34],[18,25,22,25],[18,26,22,32],[18,34,22,34],[23,25,28,25],[23,26,28,32],[23,34,28,34],[17,26,17,32],[11,0,11,2],[11,3,11,5],[11,13,11,14],[11,15,11,16],[11,17,11,18],[11,19,11,20],[11,21,11,22],[11,23,11,24],[11,26,11,32],[11,6,11,11],[12,23,16,23],[16,3,16,5],[16,6,16,11],[17,0,17,2],[17,3,17,5],[17,6,17,11],[17,13,17,14],[17,15,17,16],[17,17,17,18],[17,19,17,20],[17,21,17,22],[17,23,17,24],[12,0,16,2],[12,3,12,5],[12,6,12,11],[12,12,16,12],[12,13,16,13],[12,15,16,15],[12,17,16,17],[12,19,16,19],[12,21,16,21],[18,15,22,15],[18,17,22,17],[18,19,22,19],[18,21,22,21],[18,23,22,23],[22,3,22,5],[22,6,22,11],[23,0,28,2],[23,3,23,5],[23,6,23,11],[23,12,28,12],[23,13,28,13],[23,15,28,15],[23,17,28,17],[18,0,22,2],[18,3,18,5],[18,6,18,11],[18,12,22,12],[18,13,22,13],[19,3,19,5],[19,6,19,11],[20,3,20,5],[20,6,20,11],[23,19,28,19],[23,21,28,21],[23,23,28,23],[24,3,24,5],[24,6,24,11],[28,3,28,5],[28,6,28,11],[33,3,33,5],[33,6,33,11],[29,23,33,23],[29,17,33,17],[29,19,33,19],[29,21,33,21],[30,3,30,5],[30,6,30,11],[31,3,31,5],[31,6,31,11],[27,3,27,5],[27,6,27,11],[32,3,32,5],[32,6,32,11],[29,0,33,2],[29,3,29,5],[29,6,29,11],[29,12,33,12],[29,13,33,13],[29,15,33,15],[34,23,34,24],[34,26,34,32],[35,0,39,2],[35,3,35,5],[35,6,35,11],[35,12,39,12],[35,13,39,13],[35,15,39,15],[39,3,39,5],[39,6,39,11],[35,23,39,23],[34,0,34,2],[34,3,34,5],[34,6,34,11],[34,13,34,14],[34,15,34,16],[34,17,34,18],[34,19,34,20],[36,3,36,5],[36,6,36,11],[37,3,37,5],[37,6,37,11],[40,17,44,17],[40,19,44,19],[40,21,44,21],[41,3,41,5],[41,6,41,11],[44,3,44,5],[44,6,44,11],[38,3,38,5],[38,6,38,11],[43,3,43,5],[43,6,43,11],[45,26,49,32],[45,34,49,34],[25,3,25,5],[25,6,25,11],[42,3,42,5],[42,6,42,11],[45,0,49,2],[45,12,49,12],[45,13,49,13],[45,15,49,15],[45,17,49,17],[45,19,49,19],[45,21,49,21],[45,23,49,23],[45,25,49,25],[45,3,45,5],[45,6,45,11],[46,3,46,5],[46,6,46,11],[40,15,44,15],[34,21,34,22],[35,17,39,17],[35,19,39,19],[35,21,39,21],[47,3,47,5],[47,6,47,11],[49,3,49,5],[49,6,49,11],[40,23,44,23],[40,0,44,2],[40,3,40,5],[40,6,40,11],[40,12,44,12],[40,13,44,13],[48,3,48,5],[48,6,48,11]]}
["Personalien",null,null,null,null,null,null,null,null,null,null,null,null,null,null,null,null,null,null,null,null,null,null,null,null,"Vorausetzungen",null,"Evaluationen",null,null,null,null,null,"Rating"]
["VORNAME",null,{"$f":"IF(ISBLANK(VLOOKUP(22,Tabelle3[],3,0)),\"-\",VLOOKUP(22,Tabelle3[],3,0))","v":"-"},null,null,null,"POSITION",null,null,"ADRESSE",{"$f":"IF(ISBLANK(VLOOKUP(22,Tabelle3[],5,0)),\"-\",VLOOKUP(22,Tabelle3[],5,0))","v":"-"},null,null,null,null,null,null,null,null,null,null,null,null,null,null,"\"Alter\" (Biologisch/Relative Age)",null,"Datum 1",null,null,"cm",null,"Kg",null,"AUSGEZEICHNET",5]
["NAME",null,{"$f":"IF(ISBLANK(VLOOKUP(22,Tabelle3[],2,0)),\"-\",VLOOKUP(22,Tabelle3[],2,0))","v":"-"},null,null,null,"STOCK",null,null,"WOHNORT",{"$f":"IF(ISBLANK(VLOOKUP(22,Tabelle3[],7,0)),\"-\",VLOOKUP(22,Tabelle3[],7,0))","v":"-"},{"$f":"IF(ISBLANK(VLOOKUP(22,Tabelle3[],6,0)),\"-\",VLOOKUP(22,Tabelle3[],6,0))","v":"-"},null,null,null,null,null,null,null,null,null,null,null,null,null,"Veranlagung",null,"Datum 2",null,null,"cm",null,"Kg",null,"GUT",4]
["GEB. DATUM",null,{"$f":"IF(ISBLANK(VLOOKUP(22,Tabelle3[],14,0)),\"-\",VLOOKUP(22,Tabelle3[],14,0))","v":"-"},{"$f":"IF(ISBLANK(VLOOKUP(22,Tabelle3[],15,0)),\"-\",VLOOKUP(22,Tabelle3[],15,0))","v":"-"},{"$f":"IF(ISBLANK(VLOOKUP(22,Tabelle3[],16,0)),\"-\",VLOOKUP(22,Tabelle3[],16,0))","v":"-"},null,"GRÖSSE",null,"cm (Final)","CLUB",{"$f":"IF(ISBLANK(VLOOKUP(22,Tabelle3[],8,0)),\"-\",VLOOKUP(22,Tabelle3[],8,0))","v":"-"},null,null,null,null,null,null,null,null,null,null,null,null,null,null,"Umfeld",null,"Datum 3",null,null,"cm",null,"Kg",null,"DURCHSCHNITT",3]
["SEX",null,{"$f":"IF(ISBLANK(VLOOKUP(22,Tabelle3[],13,0)),\"-\",VLOOKUP(22,Tabelle3[],13,0))","v":"-"},null,null,null,"GEWICHT",null,"Kg (Final)","E-Mail",{"$f":"IF(ISBLANK(VLOOKUP(22,Tabelle3[],9,0)),\"-\",VLOOKUP(22,Tabelle3[],9,0))","v":"-"},null,null,null,null,null,null,null,null,null,null,null,null,null,null,null,null,"Datum 4",null,null,"cm",null,"Kg",null,"MANGELHAFT",2]
[null,null,null,null,null,null,null,null,null,null,null,null,null,null,null,null,null,null,null,null,null,null,null,null,null,null,null,"Datum 5",null,null,"cm",null,"Kg",null,"UNGENÜGEND",1]
["Vision",null,"xxx"]
["Ziele",null,"xxx"]
["Stärken",null,"xxx"]
[]
["EVALUATION (COACH / SPIELERIN)",null,null,null,null,null,null,null,null,null,null,null,null,null,null,null,null,null,null,null,null,null,null,null,null,"SMART"]
[{"$f":"Skillserleuterungen_FTEM!A3","v":"TEAM"},null,null,{"$f":"Skillserleuterungen_FTEM!B3","v":"FÄHIGKEIT"},null,null,{"$f":"Skillserleuterungen_FTEM!C3","v":"BEOBACHTUNG"},null,null,null,null,null,"Final","Datum1",null,"Datum2",null,"Datum3",null,"Datum4",null,"Datum5",null,"Player",null,"ZIEL","MASSNAHME:\nSPEZIFISCH,  MESSBAR, REALISITISCH",null,null,null,null,null,null,"TERMIN","ZIEL-KONTROLLE","Datum"]
[{"$f":"Skillserleuterungen_FTEM!A4","v":"TEAM"},null,null,{"$f":"IF($H$2=\"G\",Skillserleuterungen_FTEM!F4,Skillserleuterungen_FTEM!B4)","v":"Kommunikation"},null,null,{"$f":"IF($H$2=\"G\",Skillserleuterungen_FTEM!G4,Skillserleuterungen_FTEM!C4)","v":"pflegt einen offenen, respektvollen Umgang, Vertrauensbasis als Grundlage, trägt Konflikte aus ohne die Stabilität der Gruppe zu gefährden, kommuniziert mit Mitspielerinnen, Trainern und Funktionären gleichermassen wertschätzend"},null,null,{"$f":"IF($H$2=\"G\",Skillserleuterungen_FTEM!#REF!,Skillserleuterungen_FTEM!#REF!)","v":{"$error":"#REF!"}},null,null,null,{"$f":"IFERROR(AVERAGE(O13:O17),\"-\")","v":"-"},null,{"$f":"IFERROR(AVERAGE(Q13:Q17),\"-\")","v":"-"},null,{"$f":"IFERROR(AVERAGE(S13:S17),\"-\")","v":"-"},null,{"$f":"IFERROR(AVERAGE(U13:U17),\"-\")","v":"-"},null,null,null,{"$f":"IFERROR(AVERAGE(Y13:Y17),\"-\")","v":"-"}]
[null,null,null,{"$f":"IF($H$2=\"G\",Skillserleuterungen_FTEM!F5,Skillserleuterungen_FTEM!B5)","v":"Teamfähigkeit"},null,null,{"$f":"IF($H$2=\"G\",Skillserleuterungen_FTEM!G5,Skillserleuterungen_FTEM!C5)","v":"Integration in die Gruppe, gemeinsame Ziele bestimmen und verfolgen können, WIR vor dem ICH, trägt zu einem guten Team-Spirit und Arbeitsklima bei"},null,null,{"$f":"IF($H$2=\"G\",Skillserleuterungen_FTEM!#REF!,Skillserleuterungen_FTEM!#REF!)","v":{"$error":"#REF!"}}]
[null,null,null,{"$f":"IF($H$2=\"G\",Skillserleuterungen_FTEM!F6,Skillserleuterungen_FTEM!B6)","v":"Leadership"},null,null,{"$f":"IF($H$2=\"G\",Skillserleuterungen_FTEM!G6,Skillserleuterungen_FTEM!C6)","v":"übernimmt Verantwortung in der Gruppe, versucht Team und Mitspielerinnen besser zu machen, nimmt positiven Einfluss auf die Gruppendynamik"},null,null,{"$f":"IF($H$2=\"G\",Skillserleuterungen_FTEM!#REF!,Skillserleuterungen_FTEM!#REF!)","v":{"$error":"#REF!"}}]
[null,null,null,{"$f":"IF($H$2=\"G\",Skillserleuterungen_FTEM!F7,Skillserleuterungen_FTEM!B7)","v":"Rollenverteilung"},null,null,{"$f":"IF($H$2=\"G\",Skillserleuterungen_FTEM!G7,Skillserleuterungen_FTEM!C7)","v":"kennt ihre Rolle und füllt diese aus, ist sich ihrer Stellung im Team und im System bewusst, stellt eigene Kompetenzen in den Dienst des Teams"},null,null,{"$f":"IF($H$2=\"G\",Skillserleuterungen_FTEM!#REF!,Skillserleuterungen_FTEM!#REF!)","v":{"$error":"#REF!"}}]
[null,null,null,{"$f":"IF($H$2=\"G\",Skillserleuterungen_FTEM!F8,Skillserleuterungen_FTEM!B8)","v":"Respekt"},null,null,{"$f":"IF($H$2=\"G\",Skillserleuterungen_FTEM!G8,Skillserleuterungen_FTEM!C8)","v":"Respektvoller Umgang mit Mitspielerinnen, Trainern, Gegnern, Schiedsrichter und Staff; achtet die Regeln, Fairplayprinzipien (inkl. Anti-Doping)"},null,null,{"$f":"IF($H$2=\"G\",Skillserleuterungen_FTEM!#REF!,Skillserleuterungen_FTEM!#REF!)","v":{"$error":"#REF!"}}]
[{"$f":"Skillserleuterungen_FTEM!A9","v":"ON ICE"},null,null,{"$f":"Skillserleuterungen_FTEM!B9","v":"FÄHIGKEIT"},null,null,{"$f":"Skillserleuterungen_FTEM!C9","v":"BEOBACHTUNG"},null,null,null,null,null,null,"Datum1",null,"Datum2",null,"Datum3",null,"Datum4",null,"Datum5",null,"Player",null,"ZIEL","MASSNAHME:\nSPEZIFISCH,  MESSBAR, REALISITISCH",null,null,null,null,null,null,"TERMIN","ZIEL-KONTROLLE","Datum"]
[{"$f":"Skillserleuterungen_FTEM!A10","v":"SKATING"},null,null,{"$f":"IF($H$2=\"G\",Skillserleuterungen_FTEM!F10,Skillserleuterungen_FTEM!B10)","v":"Footspeed"},null,null,{"$f":"IF($H$2=\"G\",Skillserleuterungen_FTEM!G10,Skillserleuterungen_FTEM!C10)","v":"Beschleunigung, Antritt, erste 3 Schritte Explosivität, Frequenz"},null,null,{"$f":"IF($H$2=\"G\",Skillserleuterungen_FTEM!#REF!,Skillserleuterungen_FTEM!#REF!)","v":{"$error":"#REF!"}},null,null,null,{"$f":"IFERROR(AVERAGE(O19:O23),\"-\")","v":"-"},null,{"$f":"IFERROR(AVERAGE(Q19:Q23),\"-\")","v":"-"},null,{"$f":"IFERROR(AVERAGE(S19:S23),\"-\")","v":"-"},null,{"$f":"IFERROR(AVERAGE(U19:U23),\"-\")","v":"-"},null,{"$f":"IFERROR(AVERAGE(W19:W23),\"-\")","v":"-"},null,{"$f":"IFERROR(AVERAGE(Y19:Y23),\"-\")","v":"-"}]
[null,null,null,{"$f":"IF($H$2=\"G\",Skillserleuterungen_FTEM!F11,Skillserleuterungen_FTEM!B11)","v":"Topspeed"},null,null,{"$f":"IF($H$2=\"G\",Skillserleuterungen_FTEM!G11,Skillserleuterungen_FTEM!C11)","v":"Schnelligkeit, Gleitfähigkeit, vorwärts und rückwärts, Ökonomie"},null,null,{"$f":"IF($H$2=\"G\",Skillserleuterungen_FTEM!#REF!,Skillserleuterungen_FTEM!#REF!)","v":{"$error":"#REF!"}}]
[null,null,null,{"$f":"IF($H$2=\"G\",Skillserleuterungen_FTEM!F12,Skillserleuterungen_FTEM!B12)","v":"Agilität"},null,null,{"$f":"IF($H$2=\"G\",Skillserleuterungen_FTEM!G12,Skillserleuterungen_FTEM!C12)","v":"Richtungsänderung, Drehung, Stop und Start, \"Nummelin\""},null,null,{"$f":"IF($H$2=\"G\",Skillserleuterungen_FTEM!#REF!,Skillserleuterungen_FTEM!#REF!)","v":{"$error":"#REF!"}},null,null,null,{"$f":"IFERROR(AVERAGE(O21:O23),\"-\")","v":"-"},null,{"$f":"IFERROR(AVERAGE(Q21:Q23),\"-\")","v":"-"},null,{"$f":"IFERROR(AVERAGE(S21:S23),\"-\")","v":"-"},null,{"$f":"IFERROR(AVERAGE(U21:U23),\"-\")","v":"-"},null,{"$f":"IFERROR(AVERAGE(W21:W23),\"-\")","v":"-"},null,{"$f":"IFERROR(AVERAGE(Y21:Y23),\"-\")","v":"-"}]
[null,null,null,{"$f":"IF($H$2=\"G\",Skillserleuterungen_FTEM!F13,Skillserleuterungen_FTEM!B13)","v":"Balance"},null,null,{"$f":"IF($H$2=\"G\",Skillserleuterungen_FTEM!G13,Skillserleuterungen_FTEM!C13)","v":"Gleichgewicht, Standhaftfähigkeit, tiefe Position, ein- und beidbeinig"},null,null,{"$f":"IF($H$2=\"G\",Skillserleuterungen_FTEM!#REF!,Skillserleuterungen_FTEM!#REF!)","v":{"$error":"#REF!"}}]
[null,null,null,{"$f":"IF($H$2=\"G\",Skillserleuterungen_FTEM!F14,Skillserleuterungen_FTEM!B14)","v":"Backwards Skating"},null,null,{"$f":"IF($H$2=\"G\",Skillserleuterungen_FTEM!G14,Skillserleuterungen_FTEM!C14)","v":"Beschleunigung, Geschwindigkeit, Balance"},null,null,{"$f":"IF($H$2=\"G\",Skillserleuterungen_FTEM!#REF!,Skillserleuterungen_FTEM!#REF!)","v":{"$error":"#REF!"}}]
[{"$f":"Skillserleuterungen_FTEM!A15","v":"SKILLS"},null,null,{"$f":"IF($H$2=\"G\",Skillserleuterungen_FTEM!F15,Skillserleuterungen_FTEM!B15)","v":"Schiessen"},null,null,{"$f":"IF($H$2=\"G\",Skillserleuterungen_FTEM!G15,Skillserleuterungen_FTEM!C15)","v":"Effizienz (no space no time), Variantenreichtum, Überraschungsgrad (Quick Release), Präzision, Härte, (taktische Abschlüsse)"},null,null,{"$f":"IF($H$2=\"G\",Skillserleuterungen_FTEM!#REF!,Skillserleuterungen_FTEM!#REF!)","v":{"$error":"#REF!"}},null,null,null,{"$f":"IFERROR(AVERAGE(O24:O29),\"-\")","v":"-"},null,{"$f":"IFERROR(AVERAGE(Q24:Q29),\"-\")","v":"-"},null,{"$f":"IFERROR(AVERAGE(S24:S29),\"-\")","v":"-"},null,{"$f":"IFERROR(AVERAGE(U24:U29),\"-\")","v":"-"},null,{"$f":"IFERROR(AVERAGE(W24:W29),\"-\")","v":"-"},null,{"$f":"IFERROR(AVERAGE(Y24:Y29),\"-\")","v":"-"}]
[null,null,null,{"$f":"IF($H$2=\"G\",Skillserleuterungen_FTEM!F16,Skillserleuterungen_FTEM!B16)","v":"Passen"},null,null,{"$f":"IF($H$2=\"G\",Skillserleuterungen_FTEM!G16,Skillserleuterungen_FTEM!C16)","v":"Passabgabe (Distanz, Flippass Backhand), Passannahme (Präzision, Timing, Vorhand, Rückhand, Schlittschuh), Puckspeed "},null,null,{"$f":"IF($H$2=\"G\",Skillserleuterungen_FTEM!#REF!,Skillserleuterungen_FTEM!#REF!)","v":{"$error":"#REF!"}}]
[null,null,null,{"$f":"IF($H$2=\"G\",Skillserleuterungen_FTEM!F17,Skillserleuterungen_FTEM!B17)","v":"Stockarbeit"},null,null,{"$f":"IF($H$2=\"G\",Skillserleuterungen_FTEM!G17,Skillserleuterungen_FTEM!C17)","v":"Stock zum Puck, Passlinie unterbinden, ablenken, Stockkontrolle Gegenspielerin"},null,null,{"$f":"IF($H$2=\"G\",Skillserleuterungen_FTEM!#REF!,Skillserleuterungen_FTEM!#REF!)","v":{"$error":"#REF!"}}]
[null,null,null,{"$f":"IF($H$2=\"G\",Skillserleuterungen_FTEM!F18,Skillserleuterungen_FTEM!B18)","v":"Puck besitzen "},null,null,{"$f":"IF($H$2=\"G\",Skillserleuterungen_FTEM!G18,Skillserleuterungen_FTEM!C18)","v":"Puckkontrolle, Dribblings, Puck schützen, Finten (Varianten: mit Schlittschuh, mit sowie ohne Bande), Face-Off"},null,null,{"$f":"IF($H$2=\"G\",Skillserleuterungen_FTEM!#REF!,Skillserleuterungen_FTEM!#REF!)","v":{"$error":"#REF!"}}]
[null,null,null,{"$f":"IF($H$2=\"G\",Skillserleuterungen_FTEM!F19,Skillserleuterungen_FTEM!B19)","v":"Körperspiel"},null,null,{"$f":"IF($H$2=\"G\",Skillserleuterungen_FTEM!G19,Skillserleuterungen_FTEM!C19)","v":"Phyisches Durchsetzungsvermögen, Zweikampf (offenes Eis/Bande), Checks nehmen/Head up, Battle Level, Hart aber fair"},null,null,{"$f":"IF($H$2=\"G\",Skillserleuterungen_FTEM!#REF!,Skillserleuterungen_FTEM!#REF!)","v":{"$error":"#REF!"}}]
[null,null,null,{"$f":"IF($H$2=\"G\",Skillserleuterungen_FTEM!F20,Skillserleuterungen_FTEM!B20)","v":"-"},null,null,{"$f":"IF($H$2=\"G\",Skillserleuterungen_FTEM!G20,Skillserleuterungen_FTEM!C20)","v":"-"},null,null,{"$f":"IF($H$2=\"G\",Skillserleuterungen_FTEM!#REF!,Skillserleuterungen_FTEM!#REF!)","v":{"$error":"#REF!"}}]
[{"$f":"Skillserleuterungen_FTEM!A21","v":"HOCKEY SENSE"},null,null,{"$f":"IF($H$2=\"G\",Skillserleuterungen_FTEM!F21,Skillserleuterungen_FTEM!B21)","v":"Spielintelligenz"},null,null,{"$f":"IF($H$2=\"G\",Skillserleuterungen_FTEM!G21,Skillserleuterungen_FTEM!C21)","v":"Freie Räume und Spielerin sehen und Überzahlsituationen kreieren, lösungsorientiert agieren bei allen Bedingungen, Headspeed"},null,null,{"$f":"IF($H$2=\"G\",Skillserleuterungen_FTEM!#REF!,Skillserleuterungen_FTEM!#REF!)","v":{"$error":"#REF!"}},null,null,null,{"$f":"IFERROR(AVERAGE(O30:O34),\"-\")","v":"-"},null,{"$f":"IFERROR(AVERAGE(Q30:Q34),\"-\")","v":"-"},null,{"$f":"IFERROR(AVERAGE(S30:S34),\"-\")","v":"-"},null,{"$f":"IFERROR(AVERAGE(U30:U34),\"-\")","v":"-"},null,{"$f":"IFERROR(AVERAGE(W30:W34),\"-\")","v":"-"},null,{"$f":"IFERROR(AVERAGE(Y30:Y34),\"-\")","v":"-"}]
[null,null,null,{"$f":"IF($H$2=\"G\",Skillserleuterungen_FTEM!F22,Skillserleuterungen_FTEM!B22)","v":"Offensives Bewusstsein"},null,null,{"$f":"IF($H$2=\"G\",Skillserleuterungen_FTEM!G22,Skillserleuterungen_FTEM!C22)","v":"Anspielbar, Antizipation der Spielsituationen, Freiräume für Mitspielerinnen öffnen, Abschlussorientiert sein, Gapspeed, gute Kommunikation"},null,null,{"$f":"IF($H$2=\"G\",Skillserleuterungen_FTEM!#REF!,Skillserleuterungen_FTEM!#REF!)","v":{"$error":"#REF!"}}]
[null,null,null,{"$f":"IF($H$2=\"G\",Skillserleuterungen_FTEM!F23,Skillserleuterungen_FTEM!B23)","v":"Defensiv Bewusstsein"},null,null,{"$f":"IF($H$2=\"G\",Skillserleuterungen_FTEM!G23,Skillserleuterungen_FTEM!C23)","v":"Inside Position halten, Slot beschützen, Mitspieler absichern/Support, Passlinie erkennen, Schüsse blockieren. Gapspeed, gute Komunikation"},null,null,{"$f":"IF($H$2=\"G\",Skillserleuterungen_FTEM!#REF!,Skillserleuterungen_FTEM!#REF!)","v":{"$error":"#REF!"}}]
[null,null,null,{"$f":"IF($H$2=\"G\",Skillserleuterungen_FTEM!F24,Skillserleuterungen_FTEM!B24)","v":"Puckmanagement"},null,null,{"$f":"IF($H$2=\"G\",Skillserleuterungen_FTEM!G24,Skillserleuterungen_FTEM!C24)","v":"Situationsadäquate Entscheidungen treffen, Support, Overload"},null,null,{"$f":"IF($H$2=\"G\",Skillserleuterungen_FTEM!#REF!,Skillserleuterungen_FTEM!#REF!)","v":{"$error":"#REF!"}}]
[null,null,null,{"$f":"IF($H$2=\"G\",Skillserleuterungen_FTEM!F25,Skillserleuterungen_FTEM!B25)","v":"Kreativität"},null,null,{"$f":"IF($H$2=\"G\",Skillserleuterungen_FTEM!G25,Skillserleuterungen_FTEM!C25)","v":"Überraschende Lösungen, Torriecher"},null,null,{"$f":"IF($H$2=\"G\",Skillserleuterungen_FTEM!#REF!,Skillserleuterungen_FTEM!#REF!)","v":{"$error":"#REF!"}}]
[{"$f":"Skillserleuterungen_FTEM!A26","v":"PERSONALITY"},null,null,{"$f":"Skillserleuterungen_FTEM!B26","v":"FÄHIGKEIT"},null,null,{"$f":"Skillserleuterungen_FTEM!C26","v":"BEOBACHTUNG"},null,null,null,null,null,null,"Datum1",null,"Datum2",null,"Datum3",null,"Datum4",null,"Datum5",null,"Player",null,"ZIEL","MASSNAHME:\nSPEZIFISCH,  MESSBAR, REALISITISCH",null,null,null,null,null,null,"TERMIN","ZIEL-KONTROLLE","Datum"]
[{"$f":"Skillserleuterungen_FTEM!A27","v":"PERSÖNLICHKEIT"},null,null,{"$f":"IF($H$2=\"G\",Skillserleuterungen_FTEM!F27,Skillserleuterungen_FTEM!B27)","v":"Selbstbewusstsein"},null,null,{"$f":"IF($H$2=\"G\",Skillserleuterungen_FTEM!G27,Skillserleuterungen_FTEM!C27)","v":"hat das nötige Selbstvertrauen,\"I can do it\"-Haltung, kann eigene Fähigkeiten einschätzen (kennt eigene Stärken/Schwächen), kann ihre Stärken konstant einsetzen, agiert mutig und nimmt kalkulierte Risiken"},null,null,{"$f":"IF($H$2=\"G\",Skillserleuterungen_FTEM!#REF!,Skillserleuterungen_FTEM!#REF!)","v":{"$error":"#REF!"}},null,null,null,{"$f":"IFERROR(AVERAGE(O36:O40),\"-\")","v":"-"},null,{"$f":"IFERROR(AVERAGE(Q36:Q40),\"-\")","v":"-"},null,{"$f":"IFERROR(AVERAGE(S36:S40),\"-\")","v":"-"},null,{"$f":"IFERROR(AVERAGE(U36:U40),\"-\")","v":"-"},null,{"$f":"IFERROR(AVERAGE(W36:W40),\"-\")","v":"-"},null,{"$f":"IFERROR(AVERAGE(Y36:Y40),\"-\")","v":"-"}]
[null,null,null,{"$f":"IF($H$2=\"G\",Skillserleuterungen_FTEM!F28,Skillserleuterungen_FTEM!B28)","v":"Lernfähigkeit"},null,null,{"$f":"IF($H$2=\"G\",Skillserleuterungen_FTEM!G28,Skillserleuterungen_FTEM!C28)","v":"hat eine gute Auffassungsgabe (nimmt auf und kann umsetzen), reflektiert eigenes Handeln, versucht aus Fehlern zu lernen und kann Massnahmen ableiten"},null,null,{"$f":"IF($H$2=\"G\",Skillserleuterungen_FTEM!#REF!,Skillserleuterungen_FTEM!#REF!)","v":{"$error":"#REF!"}}]
[null,null,null,{"$f":"IF($H$2=\"G\",Skillserleuterungen_FTEM!F29,Skillserleuterungen_FTEM!B29)","v":"Eigenverantwortung"},null,null,{"$f":"IF($H$2=\"G\",Skillserleuterungen_FTEM!G29,Skillserleuterungen_FTEM!C29)","v":"übernimmt Verantwortung für eigene Leistungen und Entwicklung, handelt selbständig, achtet auf Details, zeigt grosses Engagement in allen Bereichen"},null,null,{"$f":"IF($H$2=\"G\",Skillserleuterungen_FTEM!#REF!,Skillserleuterungen_FTEM!#REF!)","v":{"$error":"#REF!"}}]
[null,null,null,{"$f":"IF($H$2=\"G\",Skillserleuterungen_FTEM!F30,Skillserleuterungen_FTEM!B30)","v":"Motivation"},null,null,{"$f":"IF($H$2=\"G\",Skillserleuterungen_FTEM!G30,Skillserleuterungen_FTEM!C30)","v":"Intrinsischer Antrieb, will sich ständig weiterentwickeln und lernen, will die Erste sein und Erfolg haben, gibt nie auf und lässt sich auch durch Misserfolge nicht vom Weg abbringen"},null,null,{"$f":"IF($H$2=\"G\",Skillserleuterungen_FTEM!#REF!,Skillserleuterungen_FTEM!#REF!)","v":{"$error":"#REF!"}}]
[null,null,null,{"$f":"IF($H$2=\"G\",Skillserleuterungen_FTEM!F31,Skillserleuterungen_FTEM!B31)","v":"Performance Lifestyle"},null,null,{"$f":"IF($H$2=\"G\",Skillserleuterungen_FTEM!G31,Skillserleuterungen_FTEM!C31)","v":"managt Alltag und Umfeld nach dem Leistungsprinzip, hartnäckig, beharrlich und zielgerichtet, Fokus auf eigene Leistung, zeigt Biss und kann sich auch gegen Widerstände durchsetzen, Herausforderungen spornen sie an"},null,null,{"$f":"IF($H$2=\"G\",Skillserleuterungen_FTEM!#REF!,Skillserleuterungen_FTEM!#REF!)","v":{"$error":"#REF!"}}]
[{"$f":"Skillserleuterungen_FTEM!A32","v":"MENTALE STÄRKE"},null,null,{"$f":"IF($H$2=\"G\",Skillserleuterungen_FTEM!F32,Skillserleuterungen_FTEM!B32)","v":"Einsatzbereitschaft"},null,null,{"$f":"IF($H$2=\"G\",Skillserleuterungen_FTEM!G32,Skillserleuterungen_FTEM!C32)","v":"zeigt im Spiel und im Training hohe Intensität, gibt immer ihr Maximum und will ihre Limiten pushen, zeigt Leidenschaft, ist um hohe Trainingsqualität bemüht"},null,null,{"$f":"IF($H$2=\"G\",Skillserleuterungen_FTEM!#REF!,Skillserleuterungen_FTEM!#REF!)","v":{"$error":"#REF!"}},null,null,null,{"$f":"IFERROR(AVERAGE(O41:O45),\"-\")","v":"-"},null,{"$f":"IFERROR(AVERAGE(Q41:Q45),\"-\")","v":"-"},null,{"$f":"IFERROR(AVERAGE(S41:S45),\"-\")","v":"-"},null,{"$f":"IFERROR(AVERAGE(U41:U45),\"-\")","v":"-"},null,{"$f":"IFERROR(AVERAGE(W41:W45),\"-\")","v":"-"},null,{"$f":"IFERROR(AVERAGE(Y41:Y45),\"-\")","v":"-"}]
[null,null,null,{"$f":"IF($H$2=\"G\",Skillserleuterungen_FTEM!F33,Skillserleuterungen_FTEM!B33)","v":"Vorbereitung"},null,null,{"$f":"IF($H$2=\"G\",Skillserleuterungen_FTEM!G33,Skillserleuterungen_FTEM!C33)","v":"bewusste und gezielte Vorbereitung, mental wie auch physisch, verfügt über einen effizienten Ablauf zur Erreichung des idealen Leistungszustand (ILZ)"},null,null,{"$f":"IF($H$2=\"G\",Skillserleuterungen_FTEM!#REF!,Skillserleuterungen_FTEM!#REF!)","v":{"$error":"#REF!"}}]
[null,null,null,{"$f":"IF($H$2=\"G\",Skillserleuterungen_FTEM!F34,Skillserleuterungen_FTEM!B34)","v":"Selbstcoaching"},null,null,{"$f":"IF($H$2=\"G\",Skillserleuterungen_FTEM!G34,Skillserleuterungen_FTEM!C34)","v":"verfügt über gute Konzentrationsfähigkeit, kann während Spiel/Training ihren ILZ halten, kann mentale Grundtechniken anwenden, widerstandsfähig gegen negative Gedanken und Einflüsse, ist sich ihrer Körpersprache bewusst und kann diese regulieren"},null,null,{"$f":"IF($H$2=\"G\",Skillserleuterungen_FTEM!#REF!,Skillserleuterungen_FTEM!#REF!)","v":{"$error":"#REF!"}}]
[null,null,null,{"$f":"IF($H$2=\"G\",Skillserleuterungen_FTEM!F35,Skillserleuterungen_FTEM!B35)","v":"Energiemanagement"},null,null,{"$f":"IF($H$2=\"G\",Skillserleuterungen_FTEM!G35,Skillserleuterungen_FTEM!C35)","v":"kann eigene Energie regulieren, bereit zur Regeneration, weiss wann sie \"Vollgas\" geben muss und wann abschalten, On/Off-Schalter"},null,null,{"$f":"IF($H$2=\"G\",Skillserleuterungen_FTEM!#REF!,Skillserleuterungen_FTEM!#REF!)","v":{"$error":"#REF!"}}]
[null,null,null,{"$f":"IF($H$2=\"G\",Skillserleuterungen_FTEM!F36,Skillserleuterungen_FTEM!B36)","v":"Emotionskontrolle"},null,null,{"$f":"IF($H$2=\"G\",Skillserleuterungen_FTEM!G36,Skillserleuterungen_FTEM!C36)","v":"kann eigene Emotionen und Impulse regulieren, behält auch unter Druck die Kontrolle, kann auch in emotional anspruchsvollen oder frustrierenden Situationen angemessen agieren"},null,null,{"$f":"IF($H$2=\"G\",Skillserleuterungen_FTEM!#REF!,Skillserleuterungen_FTEM!#REF!)","v":{"$error":"#REF!"}}]
[{"$f":"Skillserleuterungen_FTEM!A37","v":"PHYSE"},null,null,{"$f":"IF($H$2=\"G\",Skillserleuterungen_FTEM!F37,Skillserleuterungen_FTEM!B37)","v":"Leistungserzeugung"},null,null,{"$f":"IF($H$2=\"G\",Skillserleuterungen_FTEM!G37,Skillserleuterungen_FTEM!C37)","v":"verfügt über die nötige Power/Kraft/Schnelligkeit in den Beinen und im Oberkörper (Neuromuskuläre Faktoren)"},null,null,{"$f":"IF($H$2=\"G\",Skillserleuterungen_FTEM!#REF!,Skillserleuterungen_FTEM!#REF!)","v":{"$error":"#REF!"}},null,null,null,{"$f":"IFERROR(AVERAGE(O46:O50),\"-\")","v":"-"},null,{"$f":"IFERROR(AVERAGE(Q46:Q50),\"-\")","v":"-"},null,{"$f":"IFERROR(AVERAGE(S46:S50),\"-\")","v":"-"},null,{"$f":"IFERROR(AVERAGE(U46:U50),\"-\")","v":"-"},null,{"$f":"IFERROR(AVERAGE(W46:W50),\"-\")","v":"-"},null,{"$f":"IFERROR(AVERAGE(Y46:Y50),\"-\")","v":"-"}]
[null,null,null,{"$f":"IF($H$2=\"G\",Skillserleuterungen_FTEM!F38,Skillserleuterungen_FTEM!B38)","v":"sporartspez. Ermüdungsresistenz"},null,null,{"$f":"IF($H$2=\"G\",Skillserleuterungen_FTEM!G38,Skillserleuterungen_FTEM!C38)","v":"Ist fähig  die Power/Kraft/Schnelligkeit innerhalb des Einsatzes lange aufrechtzuerhalten und kann sich zwischen den Einsätzen jeweils vollkommen erholen (Metabolische und kardiovaskuläre Faktoren)"},null,null,{"$f":"IF($H$2=\"G\",Skillserleuterungen_FTEM!#REF!,Skillserleuterungen_FTEM!#REF!)","v":{"$error":"#REF!"}}]
[null,null,null,{"$f":"IF($H$2=\"G\",Skillserleuterungen_FTEM!F39,Skillserleuterungen_FTEM!B39)","v":"Gesundheit / Prävention"},null,null,{"$f":"IF($H$2=\"G\",Skillserleuterungen_FTEM!G39,Skillserleuterungen_FTEM!C39)","v":"verfügt über die nötige Stabilität (z.B. Beinachsenstabilität) und Beweglichkeit in den zentralen Gelenken"},null,null,{"$f":"IF($H$2=\"G\",Skillserleuterungen_FTEM!#REF!,Skillserleuterungen_FTEM!#REF!)","v":{"$error":"#REF!"}}]
[null,null,null,{"$f":"IF($H$2=\"G\",Skillserleuterungen_FTEM!F40,Skillserleuterungen_FTEM!B40)","v":"Bewegungskompetenzen"},null,null,{"$f":"IF($H$2=\"G\",Skillserleuterungen_FTEM!G40,Skillserleuterungen_FTEM!C40)","v":"beherrscht die grundlegenden Bewegungsfertigkeiten, die eine unerlässliche Zubringerfunktion für die sportspezifischen \"Skills\" darstellt sowie zur nötigen Bewegungseffizienz führt"},null,null,{"$f":"IF($H$2=\"G\",Skillserleuterungen_FTEM!#REF!,Skillserleuterungen_FTEM!#REF!)","v":{"$error":"#REF!"}}]
[null,null,null,{"$f":"IF($H$2=\"G\",Skillserleuterungen_FTEM!F41,Skillserleuterungen_FTEM!B41)","v":"Robustheit"},null,null,{"$f":"IF($H$2=\"G\",Skillserleuterungen_FTEM!G41,Skillserleuterungen_FTEM!C41)","v":"verfügt über die nötige Grundkraft (Körperspannung), um sich in Zweikämpfen durchzusetzen und bei Zusammestössen standzuhalten"},null,null,{"$f":"IF($H$2=\"G\",Skillserleuterungen_FTEM!#REF!,Skillserleuterungen_FTEM!#REF!)","v":{"$error":"#REF!"}}]

{"sheet":"23","index":26,"n_rows":50,"n_cols":36,"rows_kept":50,"cut":false,"hidden":false,"merged":[[13,3,13,5],[14,3,14,5],[15,3,15,5],[13,6,13,11],[14,6,14,11],[15,6,15,11],[21,3,21,5],[21,6,21,11],[26,3,26,5],[26,6,26,11],[0,0,0,24],[0,25,0,26],[0,27,0,32],[0,33,0,35],[29,25,33,25],[29,26,33,32],[29,34,33,34],[35,25,39,25],[35,26,39,32],[35,34,39,34],[1,0,1,1],[1,2,1,5],[1,10,1,24],[2,0,2,1],[2,2,2,5],[2,11,2,24],[6,0,6,1],[6,2,6,35],[7,0,7,1],[7,2,7,35],[8,0,8,1],[8,2,8,35],[3,0,3,1],[3,10,3,24],[4,0,4,1],[4,2,4,5],[4,10,4,24],[10,0,10,24],[10,25,10,35],[40,25,44,25],[40,26,44,32],[40,34,44,34],[12,25,16,25],[12,26,16,32],[12,34,16,34],[18,25,22,25],[18,26,22,32],[18,34,22,34],[23,25,28,25],[23,26,28,32],[23,34,28,34],[17,26,17,32],[11,0,11,2],[11,3,11,5],[11,13,11,14],[11,15,11,16],[11,17,11,18],[11,19,11,20],[11,21,11,22],[11,23,11,24],[11,26,11,32],[11,6,11,11],[12,23,16,23],[16,3,16,5],[16,6,16,11],[17,0,17,2],[17,3,17,5],[17,6,17,11],[17,13,17,14],[17,15,17,16],[17,17,17,18],[17,19,17,20],[17,21,17,22],[17,23,17,24],[12,0,16,2],[12,3,12,5],[12,6,12,11],[12,12,16,12],[12,13,16,13],[12,15,16,15],[12,17,16,17],[12,19,16,19],[12,21,16,21],[18,15,22,15],[18,17,22,17],[18,19,22,19],[18,21,22,21],[18,23,22,23],[22,3,22,5],[22,6,22,11],[23,0,28,2],[23,3,23,5],[23,6,23,11],[23,12,28,12],[23,13,28,13],[23,15,28,15],[23,17,28,17],[18,0,22,2],[18,3,18,5],[18,6,18,11],[18,12,22,12],[18,13,22,13],[19,3,19,5],[19,6,19,11],[20,3,20,5],[20,6,20,11],[23,19,28,19],[23,21,28,21],[23,23,28,23],[24,3,24,5],[24,6,24,11],[28,3,28,5],[28,6,28,11],[33,3,33,5],[33,6,33,11],[29,23,33,23],[29,17,33,17],[29,19,33,19],[29,21,33,21],[30,3,30,5],[30,6,30,11],[31,3,31,5],[31,6,31,11],[27,3,27,5],[27,6,27,11],[32,3,32,5],[32,6,32,11],[29,0,33,2],[29,3,29,5],[29,6,29,11],[29,12,33,12],[29,13,33,13],[29,15,33,15],[34,23,34,24],[34,26,34,32],[35,0,39,2],[35,3,35,5],[35,6,35,11],[35,12,39,12],[35,13,39,13],[35,15,39,15],[39,3,39,5],[39,6,39,11],[35,23,39,23],[34,0,34,2],[34,3,34,5],[34,6,34,11],[34,13,34,14],[34,15,34,16],[34,17,34,18],[34,19,34,20],[36,3,36,5],[36,6,36,11],[37,3,37,5],[37,6,37,11],[40,17,44,17],[40,19,44,19],[40,21,44,21],[41,3,41,5],[41,6,41,11],[44,3,44,5],[44,6,44,11],[38,3,38,5],[38,6,38,11],[43,3,43,5],[43,6,43,11],[45,26,49,32],[45,34,49,34],[25,3,25,5],[25,6,25,11],[42,3,42,5],[42,6,42,11],[45,0,49,2],[45,12,49,12],[45,13,49,13],[45,15,49,15],[45,17,49,17],[45,19,49,19],[45,21,49,21],[45,23,49,23],[45,25,49,25],[45,3,45,5],[45,6,45,11],[46,3,46,5],[46,6,46,11],[40,15,44,15],[34,21,34,22],[35,17,39,17],[35,19,39,19],[35,21,39,21],[47,3,47,5],[47,6,47,11],[49,3,49,5],[49,6,49,11],[40,23,44,23],[40,0,44,2],[40,3,40,5],[40,6,40,11],[40,12,44,12],[40,13,44,13],[48,3,48,5],[48,6,48,11]]}
["Personalien",null,null,null,null,null,null,null,null,null,null,null,null,null,null,null,null,null,null,null,null,null,null,null,null,"Vorausetzungen",null,"Evaluationen",null,null,null,null,null,"Rating"]
["VORNAME",null,{"$f":"IF(ISBLANK(VLOOKUP(23,Tabelle3[],3,0)),\"-\",VLOOKUP(23,Tabelle3[],3,0))","v":"-"},null,null,null,"POSITION",null,null,"ADRESSE",{"$f":"IF(ISBLANK(VLOOKUP(23,Tabelle3[],5,0)),\"-\",VLOOKUP(23,Tabelle3[],5,0))","v":"-"},null,null,null,null,null,null,null,null,null,null,null,null,null,null,"\"Alter\" (Biologisch/Relative Age)",null,"Datum 1",null,null,"cm",null,"Kg",null,"AUSGEZEICHNET",5]
["NAME",null,{"$f":"IF(ISBLANK(VLOOKUP(23,Tabelle3[],2,0)),\"-\",VLOOKUP(23,Tabelle3[],2,0))","v":"-"},null,null,null,"STOCK",null,null,"WOHNORT",{"$f":"IF(ISBLANK(VLOOKUP(23,Tabelle3[],7,0)),\"-\",VLOOKUP(23,Tabelle3[],7,0))","v":"-"},{"$f":"IF(ISBLANK(VLOOKUP(23,Tabelle3[],6,0)),\"-\",VLOOKUP(23,Tabelle3[],6,0))","v":"-"},null,null,null,null,null,null,null,null,null,null,null,null,null,"Veranlagung",null,"Datum 2",null,null,"cm",null,"Kg",null,"GUT",4]
["GEB. DATUM",null,{"$f":"IF(ISBLANK(VLOOKUP(23,Tabelle3[],14,0)),\"-\",VLOOKUP(23,Tabelle3[],14,0))","v":"-"},{"$f":"IF(ISBLANK(VLOOKUP(23,Tabelle3[],15,0)),\"-\",VLOOKUP(23,Tabelle3[],15,0))","v":"-"},{"$f":"IF(ISBLANK(VLOOKUP(23,Tabelle3[],16,0)),\"-\",VLOOKUP(23,Tabelle3[],16,0))","v":"-"},null,"GRÖSSE",null,"cm (Final)","CLUB",{"$f":"IF(ISBLANK(VLOOKUP(23,Tabelle3[],8,0)),\"-\",VLOOKUP(23,Tabelle3[],8,0))","v":"-"},null,null,null,null,null,null,null,null,null,null,null,null,null,null,"Umfeld",null,"Datum 3",null,null,"cm",null,"Kg",null,"DURCHSCHNITT",3]
["SEX",null,{"$f":"IF(ISBLANK(VLOOKUP(23,Tabelle3[],13,0)),\"-\",VLOOKUP(23,Tabelle3[],13,0))","v":"-"},null,null,null,"GEWICHT",null,"Kg (Final)","E-Mail",{"$f":"IF(ISBLANK(VLOOKUP(23,Tabelle3[],9,0)),\"-\",VLOOKUP(23,Tabelle3[],9,0))","v":"-"},null,null,null,null,null,null,null,null,null,null,null,null,null,null,null,null,"Datum 4",null,null,"cm",null,"Kg",null,"MANGELHAFT",2]
[null,null,null,null,null,null,null,null,null,null,null,null,null,null,null,null,null,null,null,null,null,null,null,null,null,null,null,"Datum 5",null,null,"cm",null,"Kg",null,"UNGENÜGEND",1]
["Vision",null,"xxx"]
["Ziele",null,"xxx"]
["Stärken",null,"xxx"]
[]
["EVALUATION (COACH / SPIELERIN)",null,null,null,null,null,null,null,null,null,null,null,null,null,null,null,null,null,null,null,null,null,null,null,null,"SMART"]
[{"$f":"Skillserleuterungen_FTEM!A3","v":"TEAM"},null,null,{"$f":"Skillserleuterungen_FTEM!B3","v":"FÄHIGKEIT"},null,null,{"$f":"Skillserleuterungen_FTEM!C3","v":"BEOBACHTUNG"},null,null,null,null,null,"Final","Datum1",null,"Datum2",null,"Datum3",null,"Datum4",null,"Datum5",null,"Player",null,"ZIEL","MASSNAHME:\nSPEZIFISCH,  MESSBAR, REALISITISCH",null,null,null,null,null,null,"TERMIN","ZIEL-KONTROLLE","Datum"]
[{"$f":"Skillserleuterungen_FTEM!A4","v":"TEAM"},null,null,{"$f":"IF($H$2=\"G\",Skillserleuterungen_FTEM!F4,Skillserleuterungen_FTEM!B4)","v":"Kommunikation"},null,null,{"$f":"IF($H$2=\"G\",Skillserleuterungen_FTEM!G4,Skillserleuterungen_FTEM!C4)","v":"pflegt einen offenen, respektvollen Umgang, Vertrauensbasis als Grundlage, trägt Konflikte aus ohne die Stabilität der Gruppe zu gefährden, kommuniziert mit Mitspielerinnen, Trainern und Funktionären gleichermassen wertschätzend"},null,null,{"$f":"IF($H$2=\"G\",Skillserleuterungen_FTEM!#REF!,Skillserleuterungen_FTEM!#REF!)","v":{"$error":"#REF!"}},null,null,null,{"$f":"IFERROR(AVERAGE(O13:O17),\"-\")","v":"-"},null,{"$f":"IFERROR(AVERAGE(Q13:Q17),\"-\")","v":"-"},null,{"$f":"IFERROR(AVERAGE(S13:S17),\"-\")","v":"-"},null,{"$f":"IFERROR(AVERAGE(U13:U17),\"-\")","v":"-"},null,null,null,{"$f":"IFERROR(AVERAGE(Y13:Y17),\"-\")","v":"-"}]
[null,null,null,{"$f":"IF($H$2=\"G\",Skillserleuterungen_FTEM!F5,Skillserleuterungen_FTEM!B5)","v":"Teamfähigkeit"},null,null,{"$f":"IF($H$2=\"G\",Skillserleuterungen_FTEM!G5,Skillserleuterungen_FTEM!C5)","v":"Integration in die Gruppe, gemeinsame Ziele bestimmen und verfolgen können, WIR vor dem ICH, trägt zu einem guten Team-Spirit und Arbeitsklima bei"},null,null,{"$f":"IF($H$2=\"G\",Skillserleuterungen_FTEM!#REF!,Skillserleuterungen_FTEM!#REF!)","v":{"$error":"#REF!"}}]
[null,null,null,{"$f":"IF($H$2=\"G\",Skillserleuterungen_FTEM!F6,Skillserleuterungen_FTEM!B6)","v":"Leadership"},null,null,{"$f":"IF($H$2=\"G\",Skillserleuterungen_FTEM!G6,Skillserleuterungen_FTEM!C6)","v":"übernimmt Verantwortung in der Gruppe, versucht Team und Mitspielerinnen besser zu machen, nimmt positiven Einfluss auf die Gruppendynamik"},null,null,{"$f":"IF($H$2=\"G\",Skillserleuterungen_FTEM!#REF!,Skillserleuterungen_FTEM!#REF!)","v":{"$error":"#REF!"}}]
[null,null,null,{"$f":"IF($H$2=\"G\",Skillserleuterungen_FTEM!F7,Skillserleuterungen_FTEM!B7)","v":"Rollenverteilung"},null,null,{"$f":"IF($H$2=\"G\",Skillserleuterungen_FTEM!G7,Skillserleuterungen_FTEM!C7)","v":"kennt ihre Rolle und füllt diese aus, ist sich ihrer Stellung im Team und im System bewusst, stellt eigene Kompetenzen in den Dienst des Teams"},null,null,{"$f":"IF($H$2=\"G\",Skillserleuterungen_FTEM!#REF!,Skillserleuterungen_FTEM!#REF!)","v":{"$error":"#REF!"}}]
[null,null,null,{"$f":"IF($H$2=\"G\",Skillserleuterungen_FTEM!F8,Skillserleuterungen_FTEM!B8)","v":"Respekt"},null,null,{"$f":"IF($H$2=\"G\",Skillserleuterungen_FTEM!G8,Skillserleuterungen_FTEM!C8)","v":"Respektvoller Umgang mit Mitspielerinnen, Trainern, Gegnern, Schiedsrichter und Staff; achtet die Regeln, Fairplayprinzipien (inkl. Anti-Doping)"},null,null,{"$f":"IF($H$2=\"G\",Skillserleuterungen_FTEM!#REF!,Skillserleuterungen_FTEM!#REF!)","v":{"$error":"#REF!"}}]
[{"$f":"Skillserleuterungen_FTEM!A9","v":"ON ICE"},null,null,{"$f":"Skillserleuterungen_FTEM!B9","v":"FÄHIGKEIT"},null,null,{"$f":"Skillserleuterungen_FTEM!C9","v":"BEOBACHTUNG"},null,null,null,null,null,null,"Datum1",null,"Datum2",null,"Datum3",null,"Datum4",null,"Datum5",null,"Player",null,"ZIEL","MASSNAHME:\nSPEZIFISCH,  MESSBAR, REALISITISCH",null,null,null,null,null,null,"TERMIN","ZIEL-KONTROLLE","Datum"]
[{"$f":"Skillserleuterungen_FTEM!A10","v":"SKATING"},null,null,{"$f":"IF($H$2=\"G\",Skillserleuterungen_FTEM!F10,Skillserleuterungen_FTEM!B10)","v":"Footspeed"},null,null,{"$f":"IF($H$2=\"G\",Skillserleuterungen_FTEM!G10,Skillserleuterungen_FTEM!C10)","v":"Beschleunigung, Antritt, erste 3 Schritte Explosivität, Frequenz"},null,null,{"$f":"IF($H$2=\"G\",Skillserleuterungen_FTEM!#REF!,Skillserleuterungen_FTEM!#REF!)","v":{"$error":"#REF!"}},null,null,null,{"$f":"IFERROR(AVERAGE(O19:O23),\"-\")","v":"-"},null,{"$f":"IFERROR(AVERAGE(Q19:Q23),\"-\")","v":"-"},null,{"$f":"IFERROR(AVERAGE(S19:S23),\"-\")","v":"-"},null,{"$f":"IFERROR(AVERAGE(U19:U23),\"-\")","v":"-"},null,{"$f":"IFERROR(AVERAGE(W19:W23),\"-\")","v":"-"},null,{"$f":"IFERROR(AVERAGE(Y19:Y23),\"-\")","v":"-"}]
[null,null,null,{"$f":"IF($H$2=\"G\",Skillserleuterungen_FTEM!F11,Skillserleuterungen_FTEM!B11)","v":"Topspeed"},null,null,{"$f":"IF($H$2=\"G\",Skillserleuterungen_FTEM!G11,Skillserleuterungen_FTEM!C11)","v":"Schnelligkeit, Gleitfähigkeit, vorwärts und rückwärts, Ökonomie"},null,null,{"$f":"IF($H$2=\"G\",Skillserleuterungen_FTEM!#REF!,Skillserleuterungen_FTEM!#REF!)","v":{"$error":"#REF!"}}]
[null,null,null,{"$f":"IF($H$2=\"G\",Skillserleuterungen_FTEM!F12,Skillserleuterungen_FTEM!B12)","v":"Agilität"},null,null,{"$f":"IF($H$2=\"G\",Skillserleuterungen_FTEM!G12,Skillserleuterungen_FTEM!C12)","v":"Richtungsänderung, Drehung, Stop und Start, \"Nummelin\""},null,null,{"$f":"IF($H$2=\"G\",Skillserleuterungen_FTEM!#REF!,Skillserleuterungen_FTEM!#REF!)","v":{"$error":"#REF!"}},null,null,null,{"$f":"IFERROR(AVERAGE(O21:O23),\"-\")","v":"-"},null,{"$f":"IFERROR(AVERAGE(Q21:Q23),\"-\")","v":"-"},null,{"$f":"IFERROR(AVERAGE(S21:S23),\"-\")","v":"-"},null,{"$f":"IFERROR(AVERAGE(U21:U23),\"-\")","v":"-"},null,{"$f":"IFERROR(AVERAGE(W21:W23),\"-\")","v":"-"},null,{"$f":"IFERROR(AVERAGE(Y21:Y23),\"-\")","v":"-"}]
[null,null,null,{"$f":"IF($H$2=\"G\",Skillserleuterungen_FTEM!F13,Skillserleuterungen_FTEM!B13)","v":"Balance"},null,null,{"$f":"IF($H$2=\"G\",Skillserleuterungen_FTEM!G13,Skillserleuterungen_FTEM!C13)","v":"Gleichgewicht, Standhaftfähigkeit, tiefe Position, ein- und beidbeinig"},null,null,{"$f":"IF($H$2=\"G\",Skillserleuterungen_FTEM!#REF!,Skillserleuterungen_FTEM!#REF!)","v":{"$error":"#REF!"}}]
[null,null,null,{"$f":"IF($H$2=\"G\",Skillserleuterungen_FTEM!F14,Skillserleuterungen_FTEM!B14)","v":"Backwards Skating"},null,null,{"$f":"IF($H$2=\"G\",Skillserleuterungen_FTEM!G14,Skillserleuterungen_FTEM!C14)","v":"Beschleunigung, Geschwindigkeit, Balance"},null,null,{"$f":"IF($H$2=\"G\",Skillserleuterungen_FTEM!#REF!,Skillserleuterungen_FTEM!#REF!)","v":{"$error":"#REF!"}}]
[{"$f":"Skillserleuterungen_FTEM!A15","v":"SKILLS"},null,null,{"$f":"IF($H$2=\"G\",Skillserleuterungen_FTEM!F15,Skillserleuterungen_FTEM!B15)","v":"Schiessen"},null,null,{"$f":"IF($H$2=\"G\",Skillserleuterungen_FTEM!G15,Skillserleuterungen_FTEM!C15)","v":"Effizienz (no space no time), Variantenreichtum, Überraschungsgrad (Quick Release), Präzision, Härte, (taktische Abschlüsse)"},null,null,{"$f":"IF($H$2=\"G\",Skillserleuterungen_FTEM!#REF!,Skillserleuterungen_FTEM!#REF!)","v":{"$error":"#REF!"}},null,null,null,{"$f":"IFERROR(AVERAGE(O24:O29),\"-\")","v":"-"},null,{"$f":"IFERROR(AVERAGE(Q24:Q29),\"-\")","v":"-"},null,{"$f":"IFERROR(AVERAGE(S24:S29),\"-\")","v":"-"},null,{"$f":"IFERROR(AVERAGE(U24:U29),\"-\")","v":"-"},null,{"$f":"IFERROR(AVERAGE(W24:W29),\"-\")","v":"-"},null,{"$f":"IFERROR(AVERAGE(Y24:Y29),\"-\")","v":"-"}]
[null,null,null,{"$f":"IF($H$2=\"G\",Skillserleuterungen_FTEM!F16,Skillserleuterungen_FTEM!B16)","v":"Passen"},null,null,{"$f":"IF($H$2=\"G\",Skillserleuterungen_FTEM!G16,Skillserleuterungen_FTEM!C16)","v":"Passabgabe (Distanz, Flippass Backhand), Passannahme (Präzision, Timing, Vorhand, Rückhand, Schlittschuh), Puckspeed "},null,null,{"$f":"IF($H$2=\"G\",Skillserleuterungen_FTEM!#REF!,Skillserleuterungen_FTEM!#REF!)","v":{"$error":"#REF!"}}]
[null,null,null,{"$f":"IF($H$2=\"G\",Skillserleuterungen_FTEM!F17,Skillserleuterungen_FTEM!B17)","v":"Stockarbeit"},null,null,{"$f":"IF($H$2=\"G\",Skillserleuterungen_FTEM!G17,Skillserleuterungen_FTEM!C17)","v":"Stock zum Puck, Passlinie unterbinden, ablenken, Stockkontrolle Gegenspielerin"},null,null,{"$f":"IF($H$2=\"G\",Skillserleuterungen_FTEM!#REF!,Skillserleuterungen_FTEM!#REF!)","v":{"$error":"#REF!"}}]
[null,null,null,{"$f":"IF($H$2=\"G\",Skillserleuterungen_FTEM!F18,Skillserleuterungen_FTEM!B18)","v":"Puck besitzen "},null,null,{"$f":"IF($H$2=\"G\",Skillserleuterungen_FTEM!G18,Skillserleuterungen_FTEM!C18)","v":"Puckkontrolle, Dribblings, Puck schützen, Finten (Varianten: mit Schlittschuh, mit sowie ohne Bande), Face-Off"},null,null,{"$f":"IF($H$2=\"G\",Skillserleuterungen_FTEM!#REF!,Skillserleuterungen_FTEM!#REF!)","v":{"$error":"#REF!"}}]
[null,null,null,{"$f":"IF($H$2=\"G\",Skillserleuterungen_FTEM!F19,Skillserleuterungen_FTEM!B19)","v":"Körperspiel"},null,null,{"$f":"IF($H$2=\"G\",Skillserleuterungen_FTEM!G19,Skillserleuterungen_FTEM!C19)","v":"Phyisches Durchsetzungsvermögen, Zweikampf (offenes Eis/Bande), Checks nehmen/Head up, Battle Level, Hart aber fair"},null,null,{"$f":"IF($H$2=\"G\",Skillserleuterungen_FTEM!#REF!,Skillserleuterungen_FTEM!#REF!)","v":{"$error":"#REF!"}}]
[null,null,null,{"$f":"IF($H$2=\"G\",Skillserleuterungen_FTEM!F20,Skillserleuterungen_FTEM!B20)","v":"-"},null,null,{"$f":"IF($H$2=\"G\",Skillserleuterungen_FTEM!G20,Skillserleuterungen_FTEM!C20)","v":"-"},null,null,{"$f":"IF($H$2=\"G\",Skillserleuterungen_FTEM!#REF!,Skillserleuterungen_FTEM!#REF!)","v":{"$error":"#REF!"}}]
[{"$f":"Skillserleuterungen_FTEM!A21","v":"HOCKEY SENSE"},null,null,{"$f":"IF($H$2=\"G\",Skillserleuterungen_FTEM!F21,Skillserleuterungen_FTEM!B21)","v":"Spielintelligenz"},null,null,{"$f":"IF($H$2=\"G\",Skillserleuterungen_FTEM!G21,Skillserleuterungen_FTEM!C21)","v":"Freie Räume und Spielerin sehen und Überzahlsituationen kreieren, lösungsorientiert agieren bei allen Bedingungen, Headspeed"},null,null,{"$f":"IF($H$2=\"G\",Skillserleuterungen_FTEM!#REF!,Skillserleuterungen_FTEM!#REF!)","v":{"$error":"#REF!"}},null,null,null,{"$f":"IFERROR(AVERAGE(O30:O34),\"-\")","v":"-"},null,{"$f":"IFERROR(AVERAGE(Q30:Q34),\"-\")","v":"-"},null,{"$f":"IFERROR(AVERAGE(S30:S34),\"-\")","v":"-"},null,{"$f":"IFERROR(AVERAGE(U30:U34),\"-\")","v":"-"},null,{"$f":"IFERROR(AVERAGE(W30:W34),\"-\")","v":"-"},null,{"$f":"IFERROR(AVERAGE(Y30:Y34),\"-\")","v":"-"}]
[null,null,null,{"$f":"IF($H$2=\"G\",Skillserleuterungen_FTEM!F22,Skillserleuterungen_FTEM!B22)","v":"Offensives Bewusstsein"},null,null,{"$f":"IF($H$2=\"G\",Skillserleuterungen_FTEM!G22,Skillserleuterungen_FTEM!C22)","v":"Anspielbar, Antizipation der Spielsituationen, Freiräume für Mitspielerinnen öffnen, Abschlussorientiert sein, Gapspeed, gute Kommunikation"},null,null,{"$f":"IF($H$2=\"G\",Skillserleuterungen_FTEM!#REF!,Skillserleuterungen_FTEM!#REF!)","v":{"$error":"#REF!"}}]
[null,null,null,{"$f":"IF($H$2=\"G\",Skillserleuterungen_FTEM!F23,Skillserleuterungen_FTEM!B23)","v":"Defensiv Bewusstsein"},null,null,{"$f":"IF($H$2=\"G\",Skillserleuterungen_FTEM!G23,Skillserleuterungen_FTEM!C23)","v":"Inside Position halten, Slot beschützen, Mitspieler absichern/Support, Passlinie erkennen, Schüsse blockieren. Gapspeed, gute Komunikation"},null,null,{"$f":"IF($H$2=\"G\",Skillserleuterungen_FTEM!#REF!,Skillserleuterungen_FTEM!#REF!)","v":{"$error":"#REF!"}}]
[null,null,null,{"$f":"IF($H$2=\"G\",Skillserleuterungen_FTEM!F24,Skillserleuterungen_FTEM!B24)","v":"Puckmanagement"},null,null,{"$f":"IF($H$2=\"G\",Skillserleuterungen_FTEM!G24,Skillserleuterungen_FTEM!C24)","v":"Situationsadäquate Entscheidungen treffen, Support, Overload"},null,null,{"$f":"IF($H$2=\"G\",Skillserleuterungen_FTEM!#REF!,Skillserleuterungen_FTEM!#REF!)","v":{"$error":"#REF!"}}]
[null,null,null,{"$f":"IF($H$2=\"G\",Skillserleuterungen_FTEM!F25,Skillserleuterungen_FTEM!B25)","v":"Kreativität"},null,null,{"$f":"IF($H$2=\"G\",Skillserleuterungen_FTEM!G25,Skillserleuterungen_FTEM!C25)","v":"Überraschende Lösungen, Torriecher"},null,null,{"$f":"IF($H$2=\"G\",Skillserleuterungen_FTEM!#REF!,Skillserleuterungen_FTEM!#REF!)","v":{"$error":"#REF!"}}]
[{"$f":"Skillserleuterungen_FTEM!A26","v":"PERSONALITY"},null,null,{"$f":"Skillserleuterungen_FTEM!B26","v":"FÄHIGKEIT"},null,null,{"$f":"Skillserleuterungen_FTEM!C26","v":"BEOBACHTUNG"},null,null,null,null,null,null,"Datum1",null,"Datum2",null,"Datum3",null,"Datum4",null,"Datum5",null,"Player",null,"ZIEL","MASSNAHME:\nSPEZIFISCH,  MESSBAR, REALISITISCH",null,null,null,null,null,null,"TERMIN","ZIEL-KONTROLLE","Datum"]
[{"$f":"Skillserleuterungen_FTEM!A27","v":"PERSÖNLICHKEIT"},null,null,{"$f":"IF($H$2=\"G\",Skillserleuterungen_FTEM!F27,Skillserleuterungen_FTEM!B27)","v":"Selbstbewusstsein"},null,null,{"$f":"IF($H$2=\"G\",Skillserleuterungen_FTEM!G27,Skillserleuterungen_FTEM!C27)","v":"hat das nötige Selbstvertrauen,\"I can do it\"-Haltung, kann eigene Fähigkeiten einschätzen (kennt eigene Stärken/Schwächen), kann ihre Stärken konstant einsetzen, agiert mutig und nimmt kalkulierte Risiken"},null,null,{"$f":"IF($H$2=\"G\",Skillserleuterungen_FTEM!#REF!,Skillserleuterungen_FTEM!#REF!)","v":{"$error":"#REF!"}},null,null,null,{"$f":"IFERROR(AVERAGE(O36:O40),\"-\")","v":"-"},null,{"$f":"IFERROR(AVERAGE(Q36:Q40),\"-\")","v":"-"},null,{"$f":"IFERROR(AVERAGE(S36:S40),\"-\")","v":"-"},null,{"$f":"IFERROR(AVERAGE(U36:U40),\"-\")","v":"-"},null,{"$f":"IFERROR(AVERAGE(W36:W40),\"-\")","v":"-"},null,{"$f":"IFERROR(AVERAGE(Y36:Y40),\"-\")","v":"-"}]
[null,null,null,{"$f":"IF($H$2=\"G\",Skillserleuterungen_FTEM!F28,Skillserleuterungen_FTEM!B28)","v":"Lernfähigkeit"},null,null,{"$f":"IF($H$2=\"G\",Skillserleuterungen_FTEM!G28,Skillserleuterungen_FTEM!C28)","v":"hat eine gute Auffassungsgabe (nimmt auf und kann umsetzen), reflektiert eigenes Handeln, versucht aus Fehlern zu lernen und kann Massnahmen ableiten"},null,null,{"$f":"IF($H$2=\"G\",Skillserleuterungen_FTEM!#REF!,Skillserleuterungen_FTEM!#REF!)","v":{"$error":"#REF!"}}]
[null,null,null,{"$f":"IF($H$2=\"G\",Skillserleuterungen_FTEM!F29,Skillserleuterungen_FTEM!B29)","v":"Eigenverantwortung"},null,null,{"$f":"IF($H$2=\"G\",Skillserleuterungen_FTEM!G29,Skillserleuterungen_FTEM!C29)","v":"übernimmt Verantwortung für eigene Leistungen und Entwicklung, handelt selbständig, achtet auf Details, zeigt grosses Engagement in allen Bereichen"},null,null,{"$f":"IF($H$2=\"G\",Skillserleuterungen_FTEM!#REF!,Skillserleuterungen_FTEM!#REF!)","v":{"$error":"#REF!"}}]
[null,null,null,{"$f":"IF($H$2=\"G\",Skillserleuterungen_FTEM!F30,Skillserleuterungen_FTEM!B30)","v":"Motivation"},null,null,{"$f":"IF($H$2=\"G\",Skillserleuterungen_FTEM!G30,Skillserleuterungen_FTEM!C30)","v":"Intrinsischer Antrieb, will sich ständig weiterentwickeln und lernen, will die Erste sein und Erfolg haben, gibt nie auf und lässt sich auch durch Misserfolge nicht vom Weg abbringen"},null,null,{"$f":"IF($H$2=\"G\",Skillserleuterungen_FTEM!#REF!,Skillserleuterungen_FTEM!#REF!)","v":{"$error":"#REF!"}}]
[null,null,null,{"$f":"IF($H$2=\"G\",Skillserleuterungen_FTEM!F31,Skillserleuterungen_FTEM!B31)","v":"Performance Lifestyle"},null,null,{"$f":"IF($H$2=\"G\",Skillserleuterungen_FTEM!G31,Skillserleuterungen_FTEM!C31)","v":"managt Alltag und Umfeld nach dem Leistungsprinzip, hartnäckig, beharrlich und zielgerichtet, Fokus auf eigene Leistung, zeigt Biss und kann sich auch gegen Widerstände durchsetzen, Herausforderungen spornen sie an"},null,null,{"$f":"IF($H$2=\"G\",Skillserleuterungen_FTEM!#REF!,Skillserleuterungen_FTEM!#REF!)","v":{"$error":"#REF!"}}]
[{"$f":"Skillserleuterungen_FTEM!A32","v":"MENTALE STÄRKE"},null,null,{"$f":"IF($H$2=\"G\",Skillserleuterungen_FTEM!F32,Skillserleuterungen_FTEM!B32)","v":"Einsatzbereitschaft"},null,null,{"$f":"IF($H$2=\"G\",Skillserleuterungen_FTEM!G32,Skillserleuterungen_FTEM!C32)","v":"zeigt im Spiel und im Training hohe Intensität, gibt immer ihr Maximum und will ihre Limiten pushen, zeigt Leidenschaft, ist um hohe Trainingsqualität bemüht"},null,null,{"$f":"IF($H$2=\"G\",Skillserleuterungen_FTEM!#REF!,Skillserleuterungen_FTEM!#REF!)","v":{"$error":"#REF!"}},null,null,null,{"$f":"IFERROR(AVERAGE(O41:O45),\"-\")","v":"-"},null,{"$f":"IFERROR(AVERAGE(Q41:Q45),\"-\")","v":"-"},null,{"$f":"IFERROR(AVERAGE(S41:S45),\"-\")","v":"-"},null,{"$f":"IFERROR(AVERAGE(U41:U45),\"-\")","v":"-"},null,{"$f":"IFERROR(AVERAGE(W41:W45),\"-\")","v":"-"},null,{"$f":"IFERROR(AVERAGE(Y41:Y45),\"-\")","v":"-"}]
[null,null,null,{"$f":"IF($H$2=\"G\",Skillserleuterungen_FTEM!F33,Skillserleuterungen_FTEM!B33)","v":"Vorbereitung"},null,null,{"$f":"IF($H$2=\"G\",Skillserleuterungen_FTEM!G33,Skillserleuterungen_FTEM!C33)","v":"bewusste und gezielte Vorbereitung, mental wie auch physisch, verfügt über einen effizienten Ablauf zur Erreichung des idealen Leistungszustand (ILZ)"},null,null,{"$f":"IF($H$2=\"G\",Skillserleuterungen_FTEM!#REF!,Skillserleuterungen_FTEM!#REF!)","v":{"$error":"#REF!"}}]
[null,null,null,{"$f":"IF($H$2=\"G\",Skillserleuterungen_FTEM!F34,Skillserleuterungen_FTEM!B34)","v":"Selbstcoaching"},null,null,{"$f":"IF($H$2=\"G\",Skillserleuterungen_FTEM!G34,Skillserleuterungen_FTEM!C34)","v":"verfügt über gute Konzentrationsfähigkeit, kann während Spiel/Training ihren ILZ halten, kann mentale Grundtechniken anwenden, widerstandsfähig gegen negative Gedanken und Einflüsse, ist sich ihrer Körpersprache bewusst und kann diese regulieren"},null,null,{"$f":"IF($H$2=\"G\",Skillserleuterungen_FTEM!#REF!,Skillserleuterungen_FTEM!#REF!)","v":{"$error":"#REF!"}}]
[null,null,null,{"$f":"IF($H$2=\"G\",Skillserleuterungen_FTEM!F35,Skillserleuterungen_FTEM!B35)","v":"Energiemanagement"},null,null,{"$f":"IF($H$2=\"G\",Skillserleuterungen_FTEM!G35,Skillserleuterungen_FTEM!C35)","v":"kann eigene Energie regulieren, bereit zur Regeneration, weiss wann sie \"Vollgas\" geben muss und wann abschalten, On/Off-Schalter"},null,null,{"$f":"IF($H$2=\"G\",Skillserleuterungen_FTEM!#REF!,Skillserleuterungen_FTEM!#REF!)","v":{"$error":"#REF!"}}]
[null,null,null,{"$f":"IF($H$2=\"G\",Skillserleuterungen_FTEM!F36,Skillserleuterungen_FTEM!B36)","v":"Emotionskontrolle"},null,null,{"$f":"IF($H$2=\"G\",Skillserleuterungen_FTEM!G36,Skillserleuterungen_FTEM!C36)","v":"kann eigene Emotionen und Impulse regulieren, behält auch unter Druck die Kontrolle, kann auch in emotional anspruchsvollen oder frustrierenden Situationen angemessen agieren"},null,null,{"$f":"IF($H$2=\"G\",Skillserleuterungen_FTEM!#REF!,Skillserleuterungen_FTEM!#REF!)","v":{"$error":"#REF!"}}]
[{"$f":"Skillserleuterungen_FTEM!A37","v":"PHYSE"},null,null,{"$f":"IF($H$2=\"G\",Skillserleuterungen_FTEM!F37,Skillserleuterungen_FTEM!B37)","v":"Leistungserzeugung"},null,null,{"$f":"IF($H$2=\"G\",Skillserleuterungen_FTEM!G37,Skillserleuterungen_FTEM!C37)","v":"verfügt über die nötige Power/Kraft/Schnelligkeit in den Beinen und im Oberkörper (Neuromuskuläre Faktoren)"},null,null,{"$f":"IF($H$2=\"G\",Skillserleuterungen_FTEM!#REF!,Skillserleuterungen_FTEM!#REF!)","v":{"$error":"#REF!"}},null,null,null,{"$f":"IFERROR(AVERAGE(O46:O50),\"-\")","v":"-"},null,{"$f":"IFERROR(AVERAGE(Q46:Q50),\"-\")","v":"-"},null,{"$f":"IFERROR(AVERAGE(S46:S50),\"-\")","v":"-"},null,{"$f":"IFERROR(AVERAGE(U46:U50),\"-\")","v":"-"},null,{"$f":"IFERROR(AVERAGE(W46:W50),\"-\")","v":"-"},null,{"$f":"IFERROR(AVERAGE(Y46:Y50),\"-\")","v":"-"}]
[null,null,null,{"$f":"IF($H$2=\"G\",Skillserleuterungen_FTEM!F38,Skillserleuterungen_FTEM!B38)","v":"sporartspez. Ermüdungsresistenz"},null,null,{"$f":"IF($H$2=\"G\",Skillserleuterungen_FTEM!G38,Skillserleuterungen_FTEM!C38)","v":"Ist fähig  die Power/Kraft/Schnelligkeit innerhalb des Einsatzes lange aufrechtzuerhalten und kann sich zwischen den Einsätzen jeweils vollkommen erholen (Metabolische und kardiovaskuläre Faktoren)"},null,null,{"$f":"IF($H$2=\"G\",Skillserleuterungen_FTEM!#REF!,Skillserleuterungen_FTEM!#REF!)","v":{"$error":"#REF!"}}]
[null,null,null,{"$f":"IF($H$2=\"G\",Skillserleuterungen_FTEM!F39,Skillserleuterungen_FTEM!B39)","v":"Gesundheit / Prävention"},null,null,{"$f":"IF($H$2=\"G\",Skillserleuterungen_FTEM!G39,Skillserleuterungen_FTEM!C39)","v":"verfügt über die nötige Stabilität (z.B. Beinachsenstabilität) und Beweglichkeit in den zentralen Gelenken"},null,null,{"$f":"IF($H$2=\"G\",Skillserleuterungen_FTEM!#REF!,Skillserleuterungen_FTEM!#REF!)","v":{"$error":"#REF!"}}]
[null,null,null,{"$f":"IF($H$2=\"G\",Skillserleuterungen_FTEM!F40,Skillserleuterungen_FTEM!B40)","v":"Bewegungskompetenzen"},null,null,{"$f":"IF($H$2=\"G\",Skillserleuterungen_FTEM!G40,Skillserleuterungen_FTEM!C40)","v":"beherrscht die grundlegenden Bewegungsfertigkeiten, die eine unerlässliche Zubringerfunktion für die sportspezifischen \"Skills\" darstellt sowie zur nötigen Bewegungseffizienz führt"},null,null,{"$f":"IF($H$2=\"G\",Skillserleuterungen_FTEM!#REF!,Skillserleuterungen_FTEM!#REF!)","v":{"$error":"#REF!"}}]
[null,null,null,{"$f":"IF($H$2=\"G\",Skillserleuterungen_FTEM!F41,Skillserleuterungen_FTEM!B41)","v":"Robustheit"},null,null,{"$f":"IF($H$2=\"G\",Skillserleuterungen_FTEM!G41,Skillserleuterungen_FTEM!C41)","v":"verfügt über die nötige Grundkraft (Körperspannung), um sich in Zweikämpfen durchzusetzen und bei Zusammestössen standzuhalten"},null,null,{"$f":"IF($H$2=\"G\",Skillserleuterungen_FTEM!#REF!,Skillserleuterungen_FTEM!#REF!)","v":{"$error":"#REF!"}}]

{"sheet":"24","index":27,"n_rows":50,"n_cols":36,"rows_kept":50,"cut":false,"hidden":false,"merged":[[13,3,13,5],[14,3,14,5],[15,3,15,5],[13,6,13,11],[14,6,14,11],[15,6,15,11],[21,3,21,5],[21,6,21,11],[26,3,26,5],[26,6,26,11],[0,0,0,24],[0,25,0,26],[0,27,0,32],[0,33,0,35],[29,25,33,25],[29,26,33,32],[29,34,33,34],[35,25,39,25],[35,26,39,32],[35,34,39,34],[1,0,1,1],[1,2,1,5],[1,10,1,24],[2,0,2,1],[2,2,2,5],[2,11,2,24],[6,0,6,1],[6,2,6,35],[7,0,7,1],[7,2,7,35],[8,0,8,1],[8,2,8,35],[3,0,3,1],[3,10,3,24],[4,0,4,1],[4,2,4,5],[4,10,4,24],[10,0,10,24],[10,25,10,35],[40,25,44,25],[40,26,44,32],[40,34,44,34],[12,25,16,25],[12,26,16,32],[12,34,16,34],[18,25,22,25],[18,26,22,32],[18,34,22,34],[23,25,28,25],[23,26,28,32],[23,34,28,34],[17,26,17,32],[11,0,11,2],[11,3,11,5],[11,13,11,14],[11,15,11,16],[11,17,11,18],[11,19,11,20],[11,21,11,22],[11,23,11,24],[11,26,11,32],[11,6,11,11],[12,23,16,23],[16,3,16,5],[16,6,16,11],[17,0,17,2],[17,3,17,5],[17,6,17,11],[17,13,17,14],[17,15,17,16],[17,17,17,18],[17,19,17,20],[17,21,17,22],[17,23,17,24],[12,0,16,2],[12,3,12,5],[12,6,12,11],[12,12,16,12],[12,13,16,13],[12,15,16,15],[12,17,16,17],[12,19,16,19],[12,21,16,21],[18,15,22,15],[18,17,22,17],[18,19,22,19],[18,21,22,21],[18,23,22,23],[22,3,22,5],[22,6,22,11],[23,0,28,2],[23,3,23,5],[23,6,23,11],[23,12,28,12],[23,13,28,13],[23,15,28,15],[23,17,28,17],[18,0,22,2],[18,3,18,5],[18,6,18,11],[18,12,22,12],[18,13,22,13],[19,3,19,5],[19,6,19,11],[20,3,20,5],[20,6,20,11],[23,19,28,19],[23,21,28,21],[23,23,28,23],[24,3,24,5],[24,6,24,11],[28,3,28,5],[28,6,28,11],[33,3,33,5],[33,6,33,11],[29,23,33,23],[29,17,33,17],[29,19,33,19],[29,21,33,21],[30,3,30,5],[30,6,30,11],[31,3,31,5],[31,6,31,11],[27,3,27,5],[27,6,27,11],[32,3,32,5],[32,6,32,11],[29,0,33,2],[29,3,29,5],[29,6,29,11],[29,12,33,12],[29,13,33,13],[29,15,33,15],[34,23,34,24],[34,26,34,32],[35,0,39,2],[35,3,35,5],[35,6,35,11],[35,12,39,12],[35,13,39,13],[35,15,39,15],[39,3,39,5],[39,6,39,11],[35,23,39,23],[34,0,34,2],[34,3,34,5],[34,6,34,11],[34,13,34,14],[34,15,34,16],[34,17,34,18],[34,19,34,20],[36,3,36,5],[36,6,36,11],[37,3,37,5],[37,6,37,11],[40,17,44,17],[40,19,44,19],[40,21,44,21],[41,3,41,5],[41,6,41,11],[44,3,44,5],[44,6,44,11],[38,3,38,5],[38,6,38,11],[43,3,43,5],[43,6,43,11],[45,26,49,32],[45,34,49,34],[25,3,25,5],[25,6,25,11],[42,3,42,5],[42,6,42,11],[45,0,49,2],[45,12,49,12],[45,13,49,13],[45,15,49,15],[45,17,49,17],[45,19,49,19],[45,21,49,21],[45,23,49,23],[45,25,49,25],[45,3,45,5],[45,6,45,11],[46,3,46,5],[46,6,46,11],[40,15,44,15],[34,21,34,22],[35,17,39,17],[35,19,39,19],[35,21,39,21],[47,3,47,5],[47,6,47,11],[49,3,49,5],[49,6,49,11],[40,23,44,23],[40,0,44,2],[40,3,40,5],[40,6,40,11],[40,12,44,12],[40,13,44,13],[48,3,48,5],[48,6,48,11]]}
["Personalien",null,null,null,null,null,null,null,null,null,null,null,null,null,null,null,null,null,null,null,null,null,null,null,null,"Vorausetzungen",null,"Evaluationen",null,null,null,null,null,"Rating"]
["VORNAME",null,{"$f":"IF(ISBLANK(VLOOKUP(24,Tabelle3[],3,0)),\"-\",VLOOKUP(24,Tabelle3[],3,0))","v":"-"},null,null,null,"POSITION",null,null,"ADRESSE",{"$f":"IF(ISBLANK(VLOOKUP(24,Tabelle3[],5,0)),\"-\",VLOOKUP(24,Tabelle3[],5,0))","v":"-"},null,null,null,null,null,null,null,null,null,null,null,null,null,null,"\"Alter\" (Biologisch/Relative Age)",null,"Datum 1",null,null,"cm",null,"Kg",null,"AUSGEZEICHNET",5]
["NAME",null,{"$f":"IF(ISBLANK(VLOOKUP(24,Tabelle3[],2,0)),\"-\",VLOOKUP(24,Tabelle3[],2,0))","v":"-"},null,null,null,"STOCK",null,null,"WOHNORT",{"$f":"IF(ISBLANK(VLOOKUP(24,Tabelle3[],7,0)),\"-\",VLOOKUP(24,Tabelle3[],7,0))","v":"-"},{"$f":"IF(ISBLANK(VLOOKUP(24,Tabelle3[],6,0)),\"-\",VLOOKUP(24,Tabelle3[],6,0))","v":"-"},null,null,null,null,null,null,null,null,null,null,null,null,null,"Veranlagung",null,"Datum 2",null,null,"cm",null,"Kg",null,"GUT",4]
["GEB. DATUM",null,{"$f":"IF(ISBLANK(VLOOKUP(24,Tabelle3[],14,0)),\"-\",VLOOKUP(24,Tabelle3[],14,0))","v":"-"},{"$f":"IF(ISBLANK(VLOOKUP(24,Tabelle3[],15,0)),\"-\",VLOOKUP(24,Tabelle3[],15,0))","v":"-"},{"$f":"IF(ISBLANK(VLOOKUP(24,Tabelle3[],16,0)),\"-\",VLOOKUP(24,Tabelle3[],16,0))","v":"-"},null,"GRÖSSE",null,"cm (Final)","CLUB",{"$f":"IF(ISBLANK(VLOOKUP(24,Tabelle3[],8,0)),\"-\",VLOOKUP(24,Tabelle3[],8,0))","v":"-"},null,null,null,null,null,null,null,null,null,null,null,null,null,null,"Umfeld",null,"Datum 3",null,null,"cm",null,"Kg",null,"DURCHSCHNITT",3]
["SEX",null,{"$f":"IF(ISBLANK(VLOOKUP(24,Tabelle3[],13,0)),\"-\",VLOOKUP(24,Tabelle3[],13,0))","v":"-"},null,null,null,"GEWICHT",null,"Kg (Final)","E-Mail",{"$f":"IF(ISBLANK(VLOOKUP(24,Tabelle3[],9,0)),\"-\",VLOOKUP(24,Tabelle3[],9,0))","v":"-"},null,null,null,null,null,null,null,null,null,null,null,null,null,null,null,null,"Datum 4",null,null,"cm",null,"Kg",null,"MANGELHAFT",2]
[null,null,null,null,null,null,null,null,null,null,null,null,null,null,null,null,null,null,null,null,null,null,null,null,null,null,null,"Datum 5",null,null,"cm",null,"Kg",null,"UNGENÜGEND",1]
["Vision",null,"xxx"]
["Ziele",null,"xxx"]
["Stärken",null,"xxx"]
[]
["EVALUATION (COACH / SPIELERIN)",null,null,null,null,null,null,null,null,null,null,null,null,null,null,null,null,null,null,null,null,null,null,null,null,"SMART"]
[{"$f":"Skillserleuterungen_FTEM!A3","v":"TEAM"},null,null,{"$f":"Skillserleuterungen_FTEM!B3","v":"FÄHIGKEIT"},null,null,{"$f":"Skillserleuterungen_FTEM!C3","v":"BEOBACHTUNG"},null,null,null,null,null,"Final","Datum1",null,"Datum2",null,"Datum3",null,"Datum4",null,"Datum5",null,"Player",null,"ZIEL","MASSNAHME:\nSPEZIFISCH,  MESSBAR, REALISITISCH",null,null,null,null,null,null,"TERMIN","ZIEL-KONTROLLE","Datum"]
[{"$f":"Skillserleuterungen_FTEM!A4","v":"TEAM"},null,null,{"$f":"IF($H$2=\"G\",Skillserleuterungen_FTEM!F4,Skillserleuterungen_FTEM!B4)","v":"Kommunikation"},null,null,{"$f":"IF($H$2=\"G\",Skillserleuterungen_FTEM!G4,Skillserleuterungen_FTEM!C4)","v":"pflegt einen offenen, respektvollen Umgang, Vertrauensbasis als Grundlage, trägt Konflikte aus ohne die Stabilität der Gruppe zu gefährden, kommuniziert mit Mitspielerinnen, Trainern und Funktionären gleichermassen wertschätzend"},null,null,{"$f":"IF($H$2=\"G\",Skillserleuterungen_FTEM!#REF!,Skillserleuterungen_FTEM!#REF!)","v":{"$error":"#REF!"}},null,null,null,{"$f":"IFERROR(AVERAGE(O13:O17),\"-\")","v":"-"},null,{"$f":"IFERROR(AVERAGE(Q13:Q17),\"-\")","v":"-"},null,{"$f":"IFERROR(AVERAGE(S13:S17),\"-\")","v":"-"},null,{"$f":"IFERROR(AVERAGE(U13:U17),\"-\")","v":"-"},null,null,null,{"$f":"IFERROR(AVERAGE(Y13:Y17),\"-\")","v":"-"}]
[null,null,null,{"$f":"IF($H$2=\"G\",Skillserleuterungen_FTEM!F5,Skillserleuterungen_FTEM!B5)","v":"Teamfähigkeit"},null,null,{"$f":"IF($H$2=\"G\",Skillserleuterungen_FTEM!G5,Skillserleuterungen_FTEM!C5)","v":"Integration in die Gruppe, gemeinsame Ziele bestimmen und verfolgen können, WIR vor dem ICH, trägt zu einem guten Team-Spirit und Arbeitsklima bei"},null,null,{"$f":"IF($H$2=\"G\",Skillserleuterungen_FTEM!#REF!,Skillserleuterungen_FTEM!#REF!)","v":{"$error":"#REF!"}}]
[null,null,null,{"$f":"IF($H$2=\"G\",Skillserleuterungen_FTEM!F6,Skillserleuterungen_FTEM!B6)","v":"Leadership"},null,null,{"$f":"IF($H$2=\"G\",Skillserleuterungen_FTEM!G6,Skillserleuterungen_FTEM!C6)","v":"übernimmt Verantwortung in der Gruppe, versucht Team und Mitspielerinnen besser zu machen, nimmt positiven Einfluss auf die Gruppendynamik"},null,null,{"$f":"IF($H$2=\"G\",Skillserleuterungen_FTEM!#REF!,Skillserleuterungen_FTEM!#REF!)","v":{"$error":"#REF!"}}]
[null,null,null,{"$f":"IF($H$2=\"G\",Skillserleuterungen_FTEM!F7,Skillserleuterungen_FTEM!B7)","v":"Rollenverteilung"},null,null,{"$f":"IF($H$2=\"G\",Skillserleuterungen_FTEM!G7,Skillserleuterungen_FTEM!C7)","v":"kennt ihre Rolle und füllt diese aus, ist sich ihrer Stellung im Team und im System bewusst, stellt eigene Kompetenzen in den Dienst des Teams"},null,null,{"$f":"IF($H$2=\"G\",Skillserleuterungen_FTEM!#REF!,Skillserleuterungen_FTEM!#REF!)","v":{"$error":"#REF!"}}]
[null,null,null,{"$f":"IF($H$2=\"G\",Skillserleuterungen_FTEM!F8,Skillserleuterungen_FTEM!B8)","v":"Respekt"},null,null,{"$f":"IF($H$2=\"G\",Skillserleuterungen_FTEM!G8,Skillserleuterungen_FTEM!C8)","v":"Respektvoller Umgang mit Mitspielerinnen, Trainern, Gegnern, Schiedsrichter und Staff; achtet die Regeln, Fairplayprinzipien (inkl. Anti-Doping)"},null,null,{"$f":"IF($H$2=\"G\",Skillserleuterungen_FTEM!#REF!,Skillserleuterungen_FTEM!#REF!)","v":{"$error":"#REF!"}}]
[{"$f":"Skillserleuterungen_FTEM!A9","v":"ON ICE"},null,null,{"$f":"Skillserleuterungen_FTEM!B9","v":"FÄHIGKEIT"},null,null,{"$f":"Skillserleuterungen_FTEM!C9","v":"BEOBACHTUNG"},null,null,null,null,null,null,"Datum1",null,"Datum2",null,"Datum3",null,"Datum4",null,"Datum5",null,"Player",null,"ZIEL","MASSNAHME:\nSPEZIFISCH,  MESSBAR, REALISITISCH",null,null,null,null,null,null,"TERMIN","ZIEL-KONTROLLE","Datum"]
[{"$f":"Skillserleuterungen_FTEM!A10","v":"SKATING"},null,null,{"$f":"IF($H$2=\"G\",Skillserleuterungen_FTEM!F10,Skillserleuterungen_FTEM!B10)","v":"Footspeed"},null,null,{"$f":"IF($H$2=\"G\",Skillserleuterungen_FTEM!G10,Skillserleuterungen_FTEM!C10)","v":"Beschleunigung, Antritt, erste 3 Schritte Explosivität, Frequenz"},null,null,{"$f":"IF($H$2=\"G\",Skillserleuterungen_FTEM!#REF!,Skillserleuterungen_FTEM!#REF!)","v":{"$error":"#REF!"}},null,null,null,{"$f":"IFERROR(AVERAGE(O19:O23),\"-\")","v":"-"},null,{"$f":"IFERROR(AVERAGE(Q19:Q23),\"-\")","v":"-"},null,{"$f":"IFERROR(AVERAGE(S19:S23),\"-\")","v":"-"},null,{"$f":"IFERROR(AVERAGE(U19:U23),\"-\")","v":"-"},null,{"$f":"IFERROR(AVERAGE(W19:W23),\"-\")","v":"-"},null,{"$f":"IFERROR(AVERAGE(Y19:Y23),\"-\")","v":"-"}]
[null,null,null,{"$f":"IF($H$2=\"G\",Skillserleuterungen_FTEM!F11,Skillserleuterungen_FTEM!B11)","v":"Topspeed"},null,null,{"$f":"IF($H$2=\"G\",Skillserleuterungen_FTEM!G11,Skillserleuterungen_FTEM!C11)","v":"Schnelligkeit, Gleitfähigkeit, vorwärts und rückwärts, Ökonomie"},null,null,{"$f":"IF($H$2=\"G\",Skillserleuterungen_FTEM!#REF!,Skillserleuterungen_FTEM!#REF!)","v":{"$error":"#REF!"}}]
[null,null,null,{"$f":"IF($H$2=\"G\",Skillserleuterungen_FTEM!F12,Skillserleuterungen_FTEM!B12)","v":"Agilität"},null,null,{"$f":"IF($H$2=\"G\",Skillserleuterungen_FTEM!G12,Skillserleuterungen_FTEM!C12)","v":"Richtungsänderung, Drehung, Stop und Start, \"Nummelin\""},null,null,{"$f":"IF($H$2=\"G\",Skillserleuterungen_FTEM!#REF!,Skillserleuterungen_FTEM!#REF!)","v":{"$error":"#REF!"}},null,null,null,{"$f":"IFERROR(AVERAGE(O21:O23),\"-\")","v":"-"},null,{"$f":"IFERROR(AVERAGE(Q21:Q23),\"-\")","v":"-"},null,{"$f":"IFERROR(AVERAGE(S21:S23),\"-\")","v":"-"},null,{"$f":"IFERROR(AVERAGE(U21:U23),\"-\")","v":"-"},null,{"$f":"IFERROR(AVERAGE(W21:W23),\"-\")","v":"-"},null,{"$f":"IFERROR(AVERAGE(Y21:Y23),\"-\")","v":"-"}]
[null,null,null,{"$f":"IF($H$2=\"G\",Skillserleuterungen_FTEM!F13,Skillserleuterungen_FTEM!B13)","v":"Balance"},null,null,{"$f":"IF($H$2=\"G\",Skillserleuterungen_FTEM!G13,Skillserleuterungen_FTEM!C13)","v":"Gleichgewicht, Standhaftfähigkeit, tiefe Position, ein- und beidbeinig"},null,null,{"$f":"IF($H$2=\"G\",Skillserleuterungen_FTEM!#REF!,Skillserleuterungen_FTEM!#REF!)","v":{"$error":"#REF!"}}]
[null,null,null,{"$f":"IF($H$2=\"G\",Skillserleuterungen_FTEM!F14,Skillserleuterungen_FTEM!B14)","v":"Backwards Skating"},null,null,{"$f":"IF($H$2=\"G\",Skillserleuterungen_FTEM!G14,Skillserleuterungen_FTEM!C14)","v":"Beschleunigung, Geschwindigkeit, Balance"},null,null,{"$f":"IF($H$2=\"G\",Skillserleuterungen_FTEM!#REF!,Skillserleuterungen_FTEM!#REF!)","v":{"$error":"#REF!"}}]
[{"$f":"Skillserleuterungen_FTEM!A15","v":"SKILLS"},null,null,{"$f":"IF($H$2=\"G\",Skillserleuterungen_FTEM!F15,Skillserleuterungen_FTEM!B15)","v":"Schiessen"},null,null,{"$f":"IF($H$2=\"G\",Skillserleuterungen_FTEM!G15,Skillserleuterungen_FTEM!C15)","v":"Effizienz (no space no time), Variantenreichtum, Überraschungsgrad (Quick Release), Präzision, Härte, (taktische Abschlüsse)"},null,null,{"$f":"IF($H$2=\"G\",Skillserleuterungen_FTEM!#REF!,Skillserleuterungen_FTEM!#REF!)","v":{"$error":"#REF!"}},null,null,null,{"$f":"IFERROR(AVERAGE(O24:O29),\"-\")","v":"-"},null,{"$f":"IFERROR(AVERAGE(Q24:Q29),\"-\")","v":"-"},null,{"$f":"IFERROR(AVERAGE(S24:S29),\"-\")","v":"-"},null,{"$f":"IFERROR(AVERAGE(U24:U29),\"-\")","v":"-"},null,{"$f":"IFERROR(AVERAGE(W24:W29),\"-\")","v":"-"},null,{"$f":"IFERROR(AVERAGE(Y24:Y29),\"-\")","v":"-"}]
[null,null,null,{"$f":"IF($H$2=\"G\",Skillserleuterungen_FTEM!F16,Skillserleuterungen_FTEM!B16)","v":"Passen"},null,null,{"$f":"IF($H$2=\"G\",Skillserleuterungen_FTEM!G16,Skillserleuterungen_FTEM!C16)","v":"Passabgabe (Distanz, Flippass Backhand), Passannahme (Präzision, Timing, Vorhand, Rückhand, Schlittschuh), Puckspeed "},null,null,{"$f":"IF($H$2=\"G\",Skillserleuterungen_FTEM!#REF!,Skillserleuterungen_FTEM!#REF!)","v":{"$error":"#REF!"}}]
[null,null,null,{"$f":"IF($H$2=\"G\",Skillserleuterungen_FTEM!F17,Skillserleuterungen_FTEM!B17)","v":"Stockarbeit"},null,null,{"$f":"IF($H$2=\"G\",Skillserleuterungen_FTEM!G17,Skillserleuterungen_FTEM!C17)","v":"Stock zum Puck, Passlinie unterbinden, ablenken, Stockkontrolle Gegenspielerin"},null,null,{"$f":"IF($H$2=\"G\",Skillserleuterungen_FTEM!#REF!,Skillserleuterungen_FTEM!#REF!)","v":{"$error":"#REF!"}}]
[null,null,null,{"$f":"IF($H$2=\"G\",Skillserleuterungen_FTEM!F18,Skillserleuterungen_FTEM!B18)","v":"Puck besitzen "},null,null,{"$f":"IF($H$2=\"G\",Skillserleuterungen_FTEM!G18,Skillserleuterungen_FTEM!C18)","v":"Puckkontrolle, Dribblings, Puck schützen, Finten (Varianten: mit Schlittschuh, mit sowie ohne Bande), Face-Off"},null,null,{"$f":"IF($H$2=\"G\",Skillserleuterungen_FTEM!#REF!,Skillserleuterungen_FTEM!#REF!)","v":{"$error":"#REF!"}}]
[null,null,null,{"$f":"IF($H$2=\"G\",Skillserleuterungen_FTEM!F19,Skillserleuterungen_FTEM!B19)","v":"Körperspiel"},null,null,{"$f":"IF($H$2=\"G\",Skillserleuterungen_FTEM!G19,Skillserleuterungen_FTEM!C19)","v":"Phyisches Durchsetzungsvermögen, Zweikampf (offenes Eis/Bande), Checks nehmen/Head up, Battle Level, Hart aber fair"},null,null,{"$f":"IF($H$2=\"G\",Skillserleuterungen_FTEM!#REF!,Skillserleuterungen_FTEM!#REF!)","v":{"$error":"#REF!"}}]
[null,null,null,{"$f":"IF($H$2=\"G\",Skillserleuterungen_FTEM!F20,Skillserleuterungen_FTEM!B20)","v":"-"},null,null,{"$f":"IF($H$2=\"G\",Skillserleuterungen_FTEM!G20,Skillserleuterungen_FTEM!C20)","v":"-"},null,null,{"$f":"IF($H$2=\"G\",Skillserleuterungen_FTEM!#REF!,Skillserleuterungen_FTEM!#REF!)","v":{"$error":"#REF!"}}]
[{"$f":"Skillserleuterungen_FTEM!A21","v":"HOCKEY SENSE"},null,null,{"$f":"IF($H$2=\"G\",Skillserleuterungen_FTEM!F21,Skillserleuterungen_FTEM!B21)","v":"Spielintelligenz"},null,null,{"$f":"IF($H$2=\"G\",Skillserleuterungen_FTEM!G21,Skillserleuterungen_FTEM!C21)","v":"Freie Räume und Spielerin sehen und Überzahlsituationen kreieren, lösungsorientiert agieren bei allen Bedingungen, Headspeed"},null,null,{"$f":"IF($H$2=\"G\",Skillserleuterungen_FTEM!#REF!,Skillserleuterungen_FTEM!#REF!)","v":{"$error":"#REF!"}},null,null,null,{"$f":"IFERROR(AVERAGE(O30:O34),\"-\")","v":"-"},null,{"$f":"IFERROR(AVERAGE(Q30:Q34),\"-\")","v":"-"},null,{"$f":"IFERROR(AVERAGE(S30:S34),\"-\")","v":"-"},null,{"$f":"IFERROR(AVERAGE(U30:U34),\"-\")","v":"-"},null,{"$f":"IFERROR(AVERAGE(W30:W34),\"-\")","v":"-"},null,{"$f":"IFERROR(AVERAGE(Y30:Y34),\"-\")","v":"-"}]
[null,null,null,{"$f":"IF($H$2=\"G\",Skillserleuterungen_FTEM!F22,Skillserleuterungen_FTEM!B22)","v":"Offensives Bewusstsein"},null,null,{"$f":"IF($H$2=\"G\",Skillserleuterungen_FTEM!G22,Skillserleuterungen_FTEM!C22)","v":"Anspielbar, Antizipation der Spielsituationen, Freiräume für Mitspielerinnen öffnen, Abschlussorientiert sein, Gapspeed, gute Kommunikation"},null,null,{"$f":"IF($H$2=\"G\",Skillserleuterungen_FTEM!#REF!,Skillserleuterungen_FTEM!#REF!)","v":{"$error":"#REF!"}}]
[null,null,null,{"$f":"IF($H$2=\"G\",Skillserleuterungen_FTEM!F23,Skillserleuterungen_FTEM!B23)","v":"Defensiv Bewusstsein"},null,null,{"$f":"IF($H$2=\"G\",Skillserleuterungen_FTEM!G23,Skillserleuterungen_FTEM!C23)","v":"Inside Position halten, Slot beschützen, Mitspieler absichern/Support, Passlinie erkennen, Schüsse blockieren. Gapspeed, gute Komunikation"},null,null,{"$f":"IF($H$2=\"G\",Skillserleuterungen_FTEM!#REF!,Skillserleuterungen_FTEM!#REF!)","v":{"$error":"#REF!"}}]
[null,null,null,{"$f":"IF($H$2=\"G\",Skillserleuterungen_FTEM!F24,Skillserleuterungen_FTEM!B24)","v":"Puckmanagement"},null,null,{"$f":"IF($H$2=\"G\",Skillserleuterungen_FTEM!G24,Skillserleuterungen_FTEM!C24)","v":"Situationsadäquate Entscheidungen treffen, Support, Overload"},null,null,{"$f":"IF($H$2=\"G\",Skillserleuterungen_FTEM!#REF!,Skillserleuterungen_FTEM!#REF!)","v":{"$error":"#REF!"}}]
[null,null,null,{"$f":"IF($H$2=\"G\",Skillserleuterungen_FTEM!F25,Skillserleuterungen_FTEM!B25)","v":"Kreativität"},null,null,{"$f":"IF($H$2=\"G\",Skillserleuterungen_FTEM!G25,Skillserleuterungen_FTEM!C25)","v":"Überraschende Lösungen, Torriecher"},null,null,{"$f":"IF($H$2=\"G\",Skillserleuterungen_FTEM!#REF!,Skillserleuterungen_FTEM!#REF!)","v":{"$error":"#REF!"}}]
[{"$f":"Skillserleuterungen_FTEM!A26","v":"PERSONALITY"},null,null,{"$f":"Skillserleuterungen_FTEM!B26","v":"FÄHIGKEIT"},null,null,{"$f":"Skillserleuterungen_FTEM!C26","v":"BEOBACHTUNG"},null,null,null,null,null,null,"Datum1",null,"Datum2",null,"Datum3",null,"Datum4",null,"Datum5",null,"Player",null,"ZIEL","MASSNAHME:\nSPEZIFISCH,  MESSBAR, REALISITISCH",null,null,null,null,null,null,"TERMIN","ZIEL-KONTROLLE","Datum"]
[{"$f":"Skillserleuterungen_FTEM!A27","v":"PERSÖNLICHKEIT"},null,null,{"$f":"IF($H$2=\"G\",Skillserleuterungen_FTEM!F27,Skillserleuterungen_FTEM!B27)","v":"Selbstbewusstsein"},null,null,{"$f":"IF($H$2=\"G\",Skillserleuterungen_FTEM!G27,Skillserleuterungen_FTEM!C27)","v":"hat das nötige Selbstvertrauen,\"I can do it\"-Haltung, kann eigene Fähigkeiten einschätzen (kennt eigene Stärken/Schwächen), kann ihre Stärken konstant einsetzen, agiert mutig und nimmt kalkulierte Risiken"},null,null,{"$f":"IF($H$2=\"G\",Skillserleuterungen_FTEM!#REF!,Skillserleuterungen_FTEM!#REF!)","v":{"$error":"#REF!"}},null,null,null,{"$f":"IFERROR(AVERAGE(O36:O40),\"-\")","v":"-"},null,{"$f":"IFERROR(AVERAGE(Q36:Q40),\"-\")","v":"-"},null,{"$f":"IFERROR(AVERAGE(S36:S40),\"-\")","v":"-"},null,{"$f":"IFERROR(AVERAGE(U36:U40),\"-\")","v":"-"},null,{"$f":"IFERROR(AVERAGE(W36:W40),\"-\")","v":"-"},null,{"$f":"IFERROR(AVERAGE(Y36:Y40),\"-\")","v":"-"}]
[null,null,null,{"$f":"IF($H$2=\"G\",Skillserleuterungen_FTEM!F28,Skillserleuterungen_FTEM!B28)","v":"Lernfähigkeit"},null,null,{"$f":"IF($H$2=\"G\",Skillserleuterungen_FTEM!G28,Skillserleuterungen_FTEM!C28)","v":"hat eine gute Auffassungsgabe (nimmt auf und kann umsetzen), reflektiert eigenes Handeln, versucht aus Fehlern zu lernen und kann Massnahmen ableiten"},null,null,{"$f":"IF($H$2=\"G\",Skillserleuterungen_FTEM!#REF!,Skillserleuterungen_FTEM!#REF!)","v":{"$error":"#REF!"}}]
[null,null,null,{"$f":"IF($H$2=\"G\",Skillserleuterungen_FTEM!F29,Skillserleuterungen_FTEM!B29)","v":"Eigenverantwortung"},null,null,{"$f":"IF($H$2=\"G\",Skillserleuterungen_FTEM!G29,Skillserleuterungen_FTEM!C29)","v":"übernimmt Verantwortung für eigene Leistungen und Entwicklung, handelt selbständig, achtet auf Details, zeigt grosses Engagement in allen Bereichen"},null,null,{"$f":"IF($H$2=\"G\",Skillserleuterungen_FTEM!#REF!,Skillserleuterungen_FTEM!#REF!)","v":{"$error":"#REF!"}}]
[null,null,null,{"$f":"IF($H$2=\"G\",Skillserleuterungen_FTEM!F30,Skillserleuterungen_FTEM!B30)","v":"Motivation"},null,null,{"$f":"IF($H$2=\"G\",Skillserleuterungen_FTEM!G30,Skillserleuterungen_FTEM!C30)","v":"Intrinsischer Antrieb, will sich ständig weiterentwickeln und lernen, will die Erste sein und Erfolg haben, gibt nie auf und lässt sich auch durch Misserfolge nicht vom Weg abbringen"},null,null,{"$f":"IF($H$2=\"G\",Skillserleuterungen_FTEM!#REF!,Skillserleuterungen_FTEM!#REF!)","v":{"$error":"#REF!"}}]
[null,null,null,{"$f":"IF($H$2=\"G\",Skillserleuterungen_FTEM!F31,Skillserleuterungen_FTEM!B31)","v":"Performance Lifestyle"},null,null,{"$f":"IF($H$2=\"G\",Skillserleuterungen_FTEM!G31,Skillserleuterungen_FTEM!C31)","v":"managt Alltag und Umfeld nach dem Leistungsprinzip, hartnäckig, beharrlich und zielgerichtet, Fokus auf eigene Leistung, zeigt Biss und kann sich auch gegen Widerstände durchsetzen, Herausforderungen spornen sie an"},null,null,{"$f":"IF($H$2=\"G\",Skillserleuterungen_FTEM!#REF!,Skillserleuterungen_FTEM!#REF!)","v":{"$error":"#REF!"}}]
[{"$f":"Skillserleuterungen_FTEM!A32","v":"MENTALE STÄRKE"},null,null,{"$f":"IF($H$2=\"G\",Skillserleuterungen_FTEM!F32,Skillserleuterungen_FTEM!B32)","v":"Einsatzbereitschaft"},null,null,{"$f":"IF($H$2=\"G\",Skillserleuterungen_FTEM!G32,Skillserleuterungen_FTEM!C32)","v":"zeigt im Spiel und im Training hohe Intensität, gibt immer ihr Maximum und will ihre Limiten pushen, zeigt Leidenschaft, ist um hohe Trainingsqualität bemüht"},null,null,{"$f":"IF($H$2=\"G\",Skillserleuterungen_FTEM!#REF!,Skillserleuterungen_FTEM!#REF!)","v":{"$error":"#REF!"}},null,null,null,{"$f":"IFERROR(AVERAGE(O41:O45),\"-\")","v":"-"},null,{"$f":"IFERROR(AVERAGE(Q41:Q45),\"-\")","v":"-"},null,{"$f":"IFERROR(AVERAGE(S41:S45),\"-\")","v":"-"},null,{"$f":"IFERROR(AVERAGE(U41:U45),\"-\")","v":"-"},null,{"$f":"IFERROR(AVERAGE(W41:W45),\"-\")","v":"-"},null,{"$f":"IFERROR(AVERAGE(Y41:Y45),\"-\")","v":"-"}]
[null,null,null,{"$f":"IF($H$2=\"G\",Skillserleuterungen_FTEM!F33,Skillserleuterungen_FTEM!B33)","v":"Vorbereitung"},null,null,{"$f":"IF($H$2=\"G\",Skillserleuterungen_FTEM!G33,Skillserleuterungen_FTEM!C33)","v":"bewusste und gezielte Vorbereitung, mental wie auch physisch, verfügt über einen effizienten Ablauf zur Erreichung des idealen Leistungszustand (ILZ)"},null,null,{"$f":"IF($H$2=\"G\",Skillserleuterungen_FTEM!#REF!,Skillserleuterungen_FTEM!#REF!)","v":{"$error":"#REF!"}}]
[null,null,null,{"$f":"IF($H$2=\"G\",Skillserleuterungen_FTEM!F34,Skillserleuterungen_FTEM!B34)","v":"Selbstcoaching"},null,null,{"$f":"IF($H$2=\"G\",Skillserleuterungen_FTEM!G34,Skillserleuterungen_FTEM!C34)","v":"verfügt über gute Konzentrationsfähigkeit, kann während Spiel/Training ihren ILZ halten, kann mentale Grundtechniken anwenden, widerstandsfähig gegen negative Gedanken und Einflüsse, ist sich ihrer Körpersprache bewusst und kann diese regulieren"},null,null,{"$f":"IF($H$2=\"G\",Skillserleuterungen_FTEM!#REF!,Skillserleuterungen_FTEM!#REF!)","v":{"$error":"#REF!"}}]
[null,null,null,{"$f":"IF($H$2=\"G\",Skillserleuterungen_FTEM!F35,Skillserleuterungen_FTEM!B35)","v":"Energiemanagement"},null,null,{"$f":"IF($H$2=\"G\",Skillserleuterungen_FTEM!G35,Skillserleuterungen_FTEM!C35)","v":"kann eigene Energie regulieren, bereit zur Regeneration, weiss wann sie \"Vollgas\" geben muss und wann abschalten, On/Off-Schalter"},null,null,{"$f":"IF($H$2=\"G\",Skillserleuterungen_FTEM!#REF!,Skillserleuterungen_FTEM!#REF!)","v":{"$error":"#REF!"}}]
[null,null,null,{"$f":"IF($H$2=\"G\",Skillserleuterungen_FTEM!F36,Skillserleuterungen_FTEM!B36)","v":"Emotionskontrolle"},null,null,{"$f":"IF($H$2=\"G\",Skillserleuterungen_FTEM!G36,Skillserleuterungen_FTEM!C36)","v":"kann eigene Emotionen und Impulse regulieren, behält auch unter Druck die Kontrolle, kann auch in emotional anspruchsvollen oder frustrierenden Situationen angemessen agieren"},null,null,{"$f":"IF($H$2=\"G\",Skillserleuterungen_FTEM!#REF!,Skillserleuterungen_FTEM!#REF!)","v":{"$error":"#REF!"}}]
[{"$f":"Skillserleuterungen_FTEM!A37","v":"PHYSE"},null,null,{"$f":"IF($H$2=\"G\",Skillserleuterungen_FTEM!F37,Skillserleuterungen_FTEM!B37)","v":"Leistungserzeugung"},null,null,{"$f":"IF($H$2=\"G\",Skillserleuterungen_FTEM!G37,Skillserleuterungen_FTEM!C37)","v":"verfügt über die nötige Power/Kraft/Schnelligkeit in den Beinen und im Oberkörper (Neuromuskuläre Faktoren)"},null,null,{"$f":"IF($H$2=\"G\",Skillserleuterungen_FTEM!#REF!,Skillserleuterungen_FTEM!#REF!)","v":{"$error":"#REF!"}},null,null,null,{"$f":"IFERROR(AVERAGE(O46:O50),\"-\")","v":"-"},null,{"$f":"IFERROR(AVERAGE(Q46:Q50),\"-\")","v":"-"},null,{"$f":"IFERROR(AVERAGE(S46:S50),\"-\")","v":"-"},null,{"$f":"IFERROR(AVERAGE(U46:U50),\"-\")","v":"-"},null,{"$f":"IFERROR(AVERAGE(W46:W50),\"-\")","v":"-"},null,{"$f":"IFERROR(AVERAGE(Y46:Y50),\"-\")","v":"-"}]
[null,null,null,{"$f":"IF($H$2=\"G\",Skillserleuterungen_FTEM!F38,Skillserleuterungen_FTEM!B38)","v":"sporartspez. Ermüdungsresistenz"},null,null,{"$f":"IF($H$2=\"G\",Skillserleuterungen_FTEM!G38,Skillserleuterungen_FTEM!C38)","v":"Ist fähig  die Power/Kraft/Schnelligkeit innerhalb des Einsatzes lange aufrechtzuerhalten und kann sich zwischen den Einsätzen jeweils vollkommen erholen (Metabolische und kardiovaskuläre Faktoren)"},null,null,{"$f":"IF($H$2=\"G\",Skillserleuterungen_FTEM!#REF!,Skillserleuterungen_FTEM!#REF!)","v":{"$error":"#REF!"}}]
[null,null,null,{"$f":"IF($H$2=\"G\",Skillserleuterungen_FTEM!F39,Skillserleuterungen_FTEM!B39)","v":"Gesundheit / Prävention"},null,null,{"$f":"IF($H$2=\"G\",Skillserleuterungen_FTEM!G39,Skillserleuterungen_FTEM!C39)","v":"verfügt über die nötige Stabilität (z.B. Beinachsenstabilität) und Beweglichkeit in den zentralen Gelenken"},null,null,{"$f":"IF($H$2=\"G\",Skillserleuterungen_FTEM!#REF!,Skillserleuterungen_FTEM!#REF!)","v":{"$error":"#REF!"}}]
[null,null,null,{"$f":"IF($H$2=\"G\",Skillserleuterungen_FTEM!F40,Skillserleuterungen_FTEM!B40)","v":"Bewegungskompetenzen"},null,null,{"$f":"IF($H$2=\"G\",Skillserleuterungen_FTEM!G40,Skillserleuterungen_FTEM!C40)","v":"beherrscht die grundlegenden Bewegungsfertigkeiten, die eine unerlässliche Zubringerfunktion für die sportspezifischen \"Skills\" darstellt sowie zur nötigen Bewegungseffizienz führt"},null,null,{"$f":"IF($H$2=\"G\",Skillserleuterungen_FTEM!#REF!,Skillserleuterungen_FTEM!#REF!)","v":{"$error":"#REF!"}}]
[null,null,null,{"$f":"IF($H$2=\"G\",Skillserleuterungen_FTEM!F41,Skillserleuterungen_FTEM!B41)","v":"Robustheit"},null,null,{"$f":"IF($H$2=\"G\",Skillserleuterungen_FTEM!G41,Skillserleuterungen_FTEM!C41)","v":"verfügt über die nötige Grundkraft (Körperspannung), um sich in Zweikämpfen durchzusetzen und bei Zusammestössen standzuhalten"},null,null,{"$f":"IF($H$2=\"G\",Skillserleuterungen_FTEM!#REF!,Skillserleuterungen_FTEM!#REF!)","v":{"$error":"#REF!"}}]

{"sheet":"25","index":28,"n_rows":50,"n_cols":36,"rows_kept":50,"cut":false,"hidden":false,"merged":[[13,3,13,5],[14,3,14,5],[15,3,15,5],[13,6,13,11],[14,6,14,11],[15,6,15,11],[21,3,21,5],[21,6,21,11],[26,3,26,5],[26,6,26,11],[0,0,0,24],[0,25,0,26],[0,27,0,32],[0,33,0,35],[29,25,33,25],[29,26,33,32],[29,34,33,34],[35,25,39,25],[35,26,39,32],[35,34,39,34],[1,0,1,1],[1,2,1,5],[1,10,1,24],[2,0,2,1],[2,2,2,5],[2,11,2,24],[6,0,6,1],[6,2,6,35],[7,0,7,1],[7,2,7,35],[8,0,8,1],[8,2,8,35],[3,0,3,1],[3,10,3,24],[4,0,4,1],[4,2,4,5],[4,10,4,24],[10,0,10,24],[10,25,10,35],[40,25,44,25],[40,26,44,32],[40,34,44,34],[12,25,16,25],[12,26,16,32],[12,34,16,34],[18,25,22,25],[18,26,22,32],[18,34,22,34],[23,25,28,25],[23,26,28,32],[23,34,28,34],[17,26,17,32],[11,0,11,2],[11,3,11,5],[11,13,11,14],[11,15,11,16],[11,17,11,18],[11,19,11,20],[11,21,11,22],[11,23,11,24],[11,26,11,32],[11,6,11,11],[12,23,16,23],[16,3,16,5],[16,6,16,11],[17,0,17,2],[17,3,17,5],[17,6,17,11],[17,13,17,14],[17,15,17,16],[17,17,17,18],[17,19,17,20],[17,21,17,22],[17,23,17,24],[12,0,16,2],[12,3,12,5],[12,6,12,11],[12,12,16,12],[12,13,16,13],[12,15,16,15],[12,17,16,17],[12,19,16,19],[12,21,16,21],[18,15,22,15],[18,17,22,17],[18,19,22,19],[18,21,22,21],[18,23,22,23],[22,3,22,5],[22,6,22,11],[23,0,28,2],[23,3,23,5],[23,6,23,11],[23,12,28,12],[23,13,28,13],[23,15,28,15],[23,17,28,17],[18,0,22,2],[18,3,18,5],[18,6,18,11],[18,12,22,12],[18,13,22,13],[19,3,19,5],[19,6,19,11],[20,3,20,5],[20,6,20,11],[23,19,28,19],[23,21,28,21],[23,23,28,23],[24,3,24,5],[24,6,24,11],[28,3,28,5],[28,6,28,11],[33,3,33,5],[33,6,33,11],[29,23,33,23],[29,17,33,17],[29,19,33,19],[29,21,33,21],[30,3,30,5],[30,6,30,11],[31,3,31,5],[31,6,31,11],[27,3,27,5],[27,6,27,11],[32,3,32,5],[32,6,32,11],[29,0,33,2],[29,3,29,5],[29,6,29,11],[29,12,33,12],[29,13,33,13],[29,15,33,15],[34,23,34,24],[34,26,34,32],[35,0,39,2],[35,3,35,5],[35,6,35,11],[35,12,39,12],[35,13,39,13],[35,15,39,15],[39,3,39,5],[39,6,39,11],[35,23,39,23],[34,0,34,2],[34,3,34,5],[34,6,34,11],[34,13,34,14],[34,15,34,16],[34,17,34,18],[34,19,34,20],[36,3,36,5],[36,6,36,11],[37,3,37,5],[37,6,37,11],[40,17,44,17],[40,19,44,19],[40,21,44,21],[41,3,41,5],[41,6,41,11],[44,3,44,5],[44,6,44,11],[38,3,38,5],[38,6,38,11],[43,3,43,5],[43,6,43,11],[45,26,49,32],[45,34,49,34],[25,3,25,5],[25,6,25,11],[42,3,42,5],[42,6,42,11],[45,0,49,2],[45,12,49,12],[45,13,49,13],[45,15,49,15],[45,17,49,17],[45,19,49,19],[45,21,49,21],[45,23,49,23],[45,25,49,25],[45,3,45,5],[45,6,45,11],[46,3,46,5],[46,6,46,11],[40,15,44,15],[34,21,34,22],[35,17,39,17],[35,19,39,19],[35,21,39,21],[47,3,47,5],[47,6,47,11],[49,3,49,5],[49,6,49,11],[40,23,44,23],[40,0,44,2],[40,3,40,5],[40,6,40,11],[40,12,44,12],[40,13,44,13],[48,3,48,5],[48,6,48,11]]}
["Personalien",null,null,null,null,null,null,null,null,null,null,null,null,null,null,null,null,null,null,null,null,null,null,null,null,"Vorausetzungen",null,"Evaluationen",null,null,null,null,null,"Rating"]
["VORNAME",null,{"$f":"IF(ISBLANK(VLOOKUP(25,Tabelle3[],3,0)),\"-\",VLOOKUP(25,Tabelle3[],3,0))","v":"-"},null,null,null,"POSITION",null,null,"ADRESSE",{"$f":"IF(ISBLANK(VLOOKUP(25,Tabelle3[],5,0)),\"-\",VLOOKUP(25,Tabelle3[],5,0))","v":"-"},null,null,null,null,null,null,null,null,null,null,null,null,null,null,"\"Alter\" (Biologisch/Relative Age)",null,"Datum 1",null,null,"cm",null,"Kg",null,"AUSGEZEICHNET",5]
["NAME",null,{"$f":"IF(ISBLANK(VLOOKUP(25,Tabelle3[],2,0)),\"-\",VLOOKUP(25,Tabelle3[],2,0))","v":"-"},null,null,null,"STOCK",null,null,"WOHNORT",{"$f":"IF(ISBLANK(VLOOKUP(25,Tabelle3[],7,0)),\"-\",VLOOKUP(25,Tabelle3[],7,0))","v":"-"},{"$f":"IF(ISBLANK(VLOOKUP(25,Tabelle3[],6,0)),\"-\",VLOOKUP(25,Tabelle3[],6,0))","v":"-"},null,null,null,null,null,null,null,null,null,null,null,null,null,"Veranlagung",null,"Datum 2",null,null,"cm",null,"Kg",null,"GUT",4]
["GEB. DATUM",null,{"$f":"IF(ISBLANK(VLOOKUP(25,Tabelle3[],14,0)),\"-\",VLOOKUP(25,Tabelle3[],14,0))","v":"-"},{"$f":"IF(ISBLANK(VLOOKUP(25,Tabelle3[],15,0)),\"-\",VLOOKUP(25,Tabelle3[],15,0))","v":"-"},{"$f":"IF(ISBLANK(VLOOKUP(25,Tabelle3[],16,0)),\"-\",VLOOKUP(25,Tabelle3[],16,0))","v":"-"},null,"GRÖSSE",null,"cm (Final)","CLUB",{"$f":"IF(ISBLANK(VLOOKUP(25,Tabelle3[],8,0)),\"-\",VLOOKUP(25,Tabelle3[],8,0))","v":"-"},null,null,null,null,null,null,null,null,null,null,null,null,null,null,"Umfeld",null,"Datum 3",null,null,"cm",null,"Kg",null,"DURCHSCHNITT",3]
["SEX",null,{"$f":"IF(ISBLANK(VLOOKUP(25,Tabelle3[],13,0)),\"-\",VLOOKUP(25,Tabelle3[],13,0))","v":"-"},null,null,null,"GEWICHT",null,"Kg (Final)","E-Mail",{"$f":"IF(ISBLANK(VLOOKUP(25,Tabelle3[],9,0)),\"-\",VLOOKUP(25,Tabelle3[],9,0))","v":"-"},null,null,null,null,null,null,null,null,null,null,null,null,null,null,null,null,"Datum 4",null,null,"cm",null,"Kg",null,"MANGELHAFT",2]
[null,null,null,null,null,null,null,null,null,null,null,null,null,null,null,null,null,null,null,null,null,null,null,null,null,null,null,"Datum 5",null,null,"cm",null,"Kg",null,"UNGENÜGEND",1]
["Vision",null,"xxx"]
["Ziele",null,"xxx"]
["Stärken",null,"xxx"]
[]
["EVALUATION (COACH / SPIELERIN)",null,null,null,null,null,null,null,null,null,null,null,null,null,null,null,null,null,null,null,null,null,null,null,null,"SMART"]
[{"$f":"Skillserleuterungen_FTEM!A3","v":"TEAM"},null,null,{"$f":"Skillserleuterungen_FTEM!B3","v":"FÄHIGKEIT"},null,null,{"$f":"Skillserleuterungen_FTEM!C3","v":"BEOBACHTUNG"},null,null,null,null,null,"Final","Datum1",null,"Datum2",null,"Datum3",null,"Datum4",null,"Datum5",null,"Player",null,"ZIEL","MASSNAHME:\nSPEZIFISCH,  MESSBAR, REALISITISCH",null,null,null,null,null,null,"TERMIN","ZIEL-KONTROLLE","Datum"]
[{"$f":"Skillserleuterungen_FTEM!A4","v":"TEAM"},null,null,{"$f":"IF($H$2=\"G\",Skillserleuterungen_FTEM!F4,Skillserleuterungen_FTEM!B4)","v":"Kommunikation"},null,null,{"$f":"IF($H$2=\"G\",Skillserleuterungen_FTEM!G4,Skillserleuterungen_FTEM!C4)","v":"pflegt einen offenen, respektvollen Umgang, Vertrauensbasis als Grundlage, trägt Konflikte aus ohne die Stabilität der Gruppe zu gefährden, kommuniziert mit Mitspielerinnen, Trainern und Funktionären gleichermassen wertschätzend"},null,null,{"$f":"IF($H$2=\"G\",Skillserleuterungen_FTEM!#REF!,Skillserleuterungen_FTEM!#REF!)","v":{"$error":"#REF!"}},null,null,null,{"$f":"IFERROR(AVERAGE(O13:O17),\"-\")","v":"-"},null,{"$f":"IFERROR(AVERAGE(Q13:Q17),\"-\")","v":"-"},null,{"$f":"IFERROR(AVERAGE(S13:S17),\"-\")","v":"-"},null,{"$f":"IFERROR(AVERAGE(U13:U17),\"-\")","v":"-"},null,null,null,{"$f":"IFERROR(AVERAGE(Y13:Y17),\"-\")","v":"-"}]
[null,null,null,{"$f":"IF($H$2=\"G\",Skillserleuterungen_FTEM!F5,Skillserleuterungen_FTEM!B5)","v":"Teamfähigkeit"},null,null,{"$f":"IF($H$2=\"G\",Skillserleuterungen_FTEM!G5,Skillserleuterungen_FTEM!C5)","v":"Integration in die Gruppe, gemeinsame Ziele bestimmen und verfolgen können, WIR vor dem ICH, trägt zu einem guten Team-Spirit und Arbeitsklima bei"},null,null,{"$f":"IF($H$2=\"G\",Skillserleuterungen_FTEM!#REF!,Skillserleuterungen_FTEM!#REF!)","v":{"$error":"#REF!"}}]
[null,null,null,{"$f":"IF($H$2=\"G\",Skillserleuterungen_FTEM!F6,Skillserleuterungen_FTEM!B6)","v":"Leadership"},null,null,{"$f":"IF($H$2=\"G\",Skillserleuterungen_FTEM!G6,Skillserleuterungen_FTEM!C6)","v":"übernimmt Verantwortung in der Gruppe, versucht Team und Mitspielerinnen besser zu machen, nimmt positiven Einfluss auf die Gruppendynamik"},null,null,{"$f":"IF($H$2=\"G\",Skillserleuterungen_FTEM!#REF!,Skillserleuterungen_FTEM!#REF!)","v":{"$error":"#REF!"}}]
[null,null,null,{"$f":"IF($H$2=\"G\",Skillserleuterungen_FTEM!F7,Skillserleuterungen_FTEM!B7)","v":"Rollenverteilung"},null,null,{"$f":"IF($H$2=\"G\",Skillserleuterungen_FTEM!G7,Skillserleuterungen_FTEM!C7)","v":"kennt ihre Rolle und füllt diese aus, ist sich ihrer Stellung im Team und im System bewusst, stellt eigene Kompetenzen in den Dienst des Teams"},null,null,{"$f":"IF($H$2=\"G\",Skillserleuterungen_FTEM!#REF!,Skillserleuterungen_FTEM!#REF!)","v":{"$error":"#REF!"}}]
[null,null,null,{"$f":"IF($H$2=\"G\",Skillserleuterungen_FTEM!F8,Skillserleuterungen_FTEM!B8)","v":"Respekt"},null,null,{"$f":"IF($H$2=\"G\",Skillserleuterungen_FTEM!G8,Skillserleuterungen_FTEM!C8)","v":"Respektvoller Umgang mit Mitspielerinnen, Trainern, Gegnern, Schiedsrichter und Staff; achtet die Regeln, Fairplayprinzipien (inkl. Anti-Doping)"},null,null,{"$f":"IF($H$2=\"G\",Skillserleuterungen_FTEM!#REF!,Skillserleuterungen_FTEM!#REF!)","v":{"$error":"#REF!"}}]
[{"$f":"Skillserleuterungen_FTEM!A9","v":"ON ICE"},null,null,{"$f":"Skillserleuterungen_FTEM!B9","v":"FÄHIGKEIT"},null,null,{"$f":"Skillserleuterungen_FTEM!C9","v":"BEOBACHTUNG"},null,null,null,null,null,null,"Datum1",null,"Datum2",null,"Datum3",null,"Datum4",null,"Datum5",null,"Player",null,"ZIEL","MASSNAHME:\nSPEZIFISCH,  MESSBAR, REALISITISCH",null,null,null,null,null,null,"TERMIN","ZIEL-KONTROLLE","Datum"]
[{"$f":"Skillserleuterungen_FTEM!A10","v":"SKATING"},null,null,{"$f":"IF($H$2=\"G\",Skillserleuterungen_FTEM!F10,Skillserleuterungen_FTEM!B10)","v":"Footspeed"},null,null,{"$f":"IF($H$2=\"G\",Skillserleuterungen_FTEM!G10,Skillserleuterungen_FTEM!C10)","v":"Beschleunigung, Antritt, erste 3 Schritte Explosivität, Frequenz"},null,null,{"$f":"IF($H$2=\"G\",Skillserleuterungen_FTEM!#REF!,Skillserleuterungen_FTEM!#REF!)","v":{"$error":"#REF!"}},null,null,null,{"$f":"IFERROR(AVERAGE(O19:O23),\"-\")","v":"-"},null,{"$f":"IFERROR(AVERAGE(Q19:Q23),\"-\")","v":"-"},null,{"$f":"IFERROR(AVERAGE(S19:S23),\"-\")","v":"-"},null,{"$f":"IFERROR(AVERAGE(U19:U23),\"-\")","v":"-"},null,{"$f":"IFERROR(AVERAGE(W19:W23),\"-\")","v":"-"},null,{"$f":"IFERROR(AVERAGE(Y19:Y23),\"-\")","v":"-"}]
[null,null,null,{"$f":"IF($H$2=\"G\",Skillserleuterungen_FTEM!F11,Skillserleuterungen_FTEM!B11)","v":"Topspeed"},null,null,{"$f":"IF($H$2=\"G\",Skillserleuterungen_FTEM!G11,Skillserleuterungen_FTEM!C11)","v":"Schnelligkeit, Gleitfähigkeit, vorwärts und rückwärts, Ökonomie"},null,null,{"$f":"IF($H$2=\"G\",Skillserleuterungen_FTEM!#REF!,Skillserleuterungen_FTEM!#REF!)","v":{"$error":"#REF!"}}]
[null,null,null,{"$f":"IF($H$2=\"G\",Skillserleuterungen_FTEM!F12,Skillserleuterungen_FTEM!B12)","v":"Agilität"},null,null,{"$f":"IF($H$2=\"G\",Skillserleuterungen_FTEM!G12,Skillserleuterungen_FTEM!C12)","v":"Richtungsänderung, Drehung, Stop und Start, \"Nummelin\""},null,null,{"$f":"IF($H$2=\"G\",Skillserleuterungen_FTEM!#REF!,Skillserleuterungen_FTEM!#REF!)","v":{"$error":"#REF!"}},null,null,null,{"$f":"IFERROR(AVERAGE(O21:O23),\"-\")","v":"-"},null,{"$f":"IFERROR(AVERAGE(Q21:Q23),\"-\")","v":"-"},null,{"$f":"IFERROR(AVERAGE(S21:S23),\"-\")","v":"-"},null,{"$f":"IFERROR(AVERAGE(U21:U23),\"-\")","v":"-"},null,{"$f":"IFERROR(AVERAGE(W21:W23),\"-\")","v":"-"},null,{"$f":"IFERROR(AVERAGE(Y21:Y23),\"-\")","v":"-"}]
[null,null,null,{"$f":"IF($H$2=\"G\",Skillserleuterungen_FTEM!F13,Skillserleuterungen_FTEM!B13)","v":"Balance"},null,null,{"$f":"IF($H$2=\"G\",Skillserleuterungen_FTEM!G13,Skillserleuterungen_FTEM!C13)","v":"Gleichgewicht, Standhaftfähigkeit, tiefe Position, ein- und beidbeinig"},null,null,{"$f":"IF($H$2=\"G\",Skillserleuterungen_FTEM!#REF!,Skillserleuterungen_FTEM!#REF!)","v":{"$error":"#REF!"}}]
[null,null,null,{"$f":"IF($H$2=\"G\",Skillserleuterungen_FTEM!F14,Skillserleuterungen_FTEM!B14)","v":"Backwards Skating"},null,null,{"$f":"IF($H$2=\"G\",Skillserleuterungen_FTEM!G14,Skillserleuterungen_FTEM!C14)","v":"Beschleunigung, Geschwindigkeit, Balance"},null,null,{"$f":"IF($H$2=\"G\",Skillserleuterungen_FTEM!#REF!,Skillserleuterungen_FTEM!#REF!)","v":{"$error":"#REF!"}}]
[{"$f":"Skillserleuterungen_FTEM!A15","v":"SKILLS"},null,null,{"$f":"IF($H$2=\"G\",Skillserleuterungen_FTEM!F15,Skillserleuterungen_FTEM!B15)","v":"Schiessen"},null,null,{"$f":"IF($H$2=\"G\",Skillserleuterungen_FTEM!G15,Skillserleuterungen_FTEM!C15)","v":"Effizienz (no space no time), Variantenreichtum, Überraschungsgrad (Quick Release), Präzision, Härte, (taktische Abschlüsse)"},null,null,{"$f":"IF($H$2=\"G\",Skillserleuterungen_FTEM!#REF!,Skillserleuterungen_FTEM!#REF!)","v":{"$error":"#REF!"}},null,null,null,{"$f":"IFERROR(AVERAGE(O24:O29),\"-\")","v":"-"},null,{"$f":"IFERROR(AVERAGE(Q24:Q29),\"-\")","v":"-"},null,{"$f":"IFERROR(AVERAGE(S24:S29),\"-\")","v":"-"},null,{"$f":"IFERROR(AVERAGE(U24:U29),\"-\")","v":"-"},null,{"$f":"IFERROR(AVERAGE(W24:W29),\"-\")","v":"-"},null,{"$f":"IFERROR(AVERAGE(Y24:Y29),\"-\")","v":"-"}]
[null,null,null,{"$f":"IF($H$2=\"G\",Skillserleuterungen_FTEM!F16,Skillserleuterungen_FTEM!B16)","v":"Passen"},null,null,{"$f":"IF($H$2=\"G\",Skillserleuterungen_FTEM!G16,Skillserleuterungen_FTEM!C16)","v":"Passabgabe (Distanz, Flippass Backhand), Passannahme (Präzision, Timing, Vorhand, Rückhand, Schlittschuh), Puckspeed "},null,null,{"$f":"IF($H$2=\"G\",Skillserleuterungen_FTEM!#REF!,Skillserleuterungen_FTEM!#REF!)","v":{"$error":"#REF!"}}]
[null,null,null,{"$f":"IF($H$2=\"G\",Skillserleuterungen_FTEM!F17,Skillserleuterungen_FTEM!B17)","v":"Stockarbeit"},null,null,{"$f":"IF($H$2=\"G\",Skillserleuterungen_FTEM!G17,Skillserleuterungen_FTEM!C17)","v":"Stock zum Puck, Passlinie unterbinden, ablenken, Stockkontrolle Gegenspielerin"},null,null,{"$f":"IF($H$2=\"G\",Skillserleuterungen_FTEM!#REF!,Skillserleuterungen_FTEM!#REF!)","v":{"$error":"#REF!"}}]
[null,null,null,{"$f":"IF($H$2=\"G\",Skillserleuterungen_FTEM!F18,Skillserleuterungen_FTEM!B18)","v":"Puck besitzen "},null,null,{"$f":"IF($H$2=\"G\",Skillserleuterungen_FTEM!G18,Skillserleuterungen_FTEM!C18)","v":"Puckkontrolle, Dribblings, Puck schützen, Finten (Varianten: mit Schlittschuh, mit sowie ohne Bande), Face-Off"},null,null,{"$f":"IF($H$2=\"G\",Skillserleuterungen_FTEM!#REF!,Skillserleuterungen_FTEM!#REF!)","v":{"$error":"#REF!"}}]
[null,null,null,{"$f":"IF($H$2=\"G\",Skillserleuterungen_FTEM!F19,Skillserleuterungen_FTEM!B19)","v":"Körperspiel"},null,null,{"$f":"IF($H$2=\"G\",Skillserleuterungen_FTEM!G19,Skillserleuterungen_FTEM!C19)","v":"Phyisches Durchsetzungsvermögen, Zweikampf (offenes Eis/Bande), Checks nehmen/Head up, Battle Level, Hart aber fair"},null,null,{"$f":"IF($H$2=\"G\",Skillserleuterungen_FTEM!#REF!,Skillserleuterungen_FTEM!#REF!)","v":{"$error":"#REF!"}}]
[null,null,null,{"$f":"IF($H$2=\"G\",Skillserleuterungen_FTEM!F20,Skillserleuterungen_FTEM!B20)","v":"-"},null,null,{"$f":"IF($H$2=\"G\",Skillserleuterungen_FTEM!G20,Skillserleuterungen_FTEM!C20)","v":"-"},null,null,{"$f":"IF($H$2=\"G\",Skillserleuterungen_FTEM!#REF!,Skillserleuterungen_FTEM!#REF!)","v":{"$error":"#REF!"}}]
[{"$f":"Skillserleuterungen_FTEM!A21","v":"HOCKEY SENSE"},null,null,{"$f":"IF($H$2=\"G\",Skillserleuterungen_FTEM!F21,Skillserleuterungen_FTEM!B21)","v":"Spielintelligenz"},null,null,{"$f":"IF($H$2=\"G\",Skillserleuterungen_FTEM!G21,Skillserleuterungen_FTEM!C21)","v":"Freie Räume und Spielerin sehen und Überzahlsituationen kreieren, lösungsorientiert agieren bei allen Bedingungen, Headspeed"},null,null,{"$f":"IF($H$2=\"G\",Skillserleuterungen_FTEM!#REF!,Skillserleuterungen_FTEM!#REF!)","v":{"$error":"#REF!"}},null,null,null,{"$f":"IFERROR(AVERAGE(O30:O34),\"-\")","v":"-"},null,{"$f":"IFERROR(AVERAGE(Q30:Q34),\"-\")","v":"-"},null,{"$f":"IFERROR(AVERAGE(S30:S34),\"-\")","v":"-"},null,{"$f":"IFERROR(AVERAGE(U30:U34),\"-\")","v":"-"},null,{"$f":"IFERROR(AVERAGE(W30:W34),\"-\")","v":"-"},null,{"$f":"IFERROR(AVERAGE(Y30:Y34),\"-\")","v":"-"}]
[null,null,null,{"$f":"IF($H$2=\"G\",Skillserleuterungen_FTEM!F22,Skillserleuterungen_FTEM!B22)","v":"Offensives Bewusstsein"},null,null,{"$f":"IF($H$2=\"G\",Skillserleuterungen_FTEM!G22,Skillserleuterungen_FTEM!C22)","v":"Anspielbar, Antizipation der Spielsituationen, Freiräume für Mitspielerinnen öffnen, Abschlussorientiert sein, Gapspeed, gute Kommunikation"},null,null,{"$f":"IF($H$2=\"G\",Skillserleuterungen_FTEM!#REF!,Skillserleuterungen_FTEM!#REF!)","v":{"$error":"#REF!"}}]
[null,null,null,{"$f":"IF($H$2=\"G\",Skillserleuterungen_FTEM!F23,Skillserleuterungen_FTEM!B23)","v":"Defensiv Bewusstsein"},null,null,{"$f":"IF($H$2=\"G\",Skillserleuterungen_FTEM!G23,Skillserleuterungen_FTEM!C23)","v":"Inside Position halten, Slot beschützen, Mitspieler absichern/Support, Passlinie erkennen, Schüsse blockieren. Gapspeed, gute Komunikation"},null,null,{"$f":"IF($H$2=\"G\",Skillserleuterungen_FTEM!#REF!,Skillserleuterungen_FTEM!#REF!)","v":{"$error":"#REF!"}}]
[null,null,null,{"$f":"IF($H$2=\"G\",Skillserleuterungen_FTEM!F24,Skillserleuterungen_FTEM!B24)","v":"Puckmanagement"},null,null,{"$f":"IF($H$2=\"G\",Skillserleuterungen_FTEM!G24,Skillserleuterungen_FTEM!C24)","v":"Situationsadäquate Entscheidungen treffen, Support, Overload"},null,null,{"$f":"IF($H$2=\"G\",Skillserleuterungen_FTEM!#REF!,Skillserleuterungen_FTEM!#REF!)","v":{"$error":"#REF!"}}]
[null,null,null,{"$f":"IF($H$2=\"G\",Skillserleuterungen_FTEM!F25,Skillserleuterungen_FTEM!B25)","v":"Kreativität"},null,null,{"$f":"IF($H$2=\"G\",Skillserleuterungen_FTEM!G25,Skillserleuterungen_FTEM!C25)","v":"Überraschende Lösungen, Torriecher"},null,null,{"$f":"IF($H$2=\"G\",Skillserleuterungen_FTEM!#REF!,Skillserleuterungen_FTEM!#REF!)","v":{"$error":"#REF!"}}]
[{"$f":"Skillserleuterungen_FTEM!A26","v":"PERSONALITY"},null,null,{"$f":"Skillserleuterungen_FTEM!B26","v":"FÄHIGKEIT"},null,null,{"$f":"Skillserleuterungen_FTEM!C26","v":"BEOBACHTUNG"},null,null,null,null,null,null,"Datum1",null,"Datum2",null,"Datum3",null,"Datum4",null,"Datum5",null,"Player",null,"ZIEL","MASSNAHME:\nSPEZIFISCH,  MESSBAR, REALISITISCH",null,null,null,null,null,null,"TERMIN","ZIEL-KONTROLLE","Datum"]
[{"$f":"Skillserleuterungen_FTEM!A27","v":"PERSÖNLICHKEIT"},null,null,{"$f":"IF($H$2=\"G\",Skillserleuterungen_FTEM!F27,Skillserleuterungen_FTEM!B27)","v":"Selbstbewusstsein"},null,null,{"$f":"IF($H$2=\"G\",Skillserleuterungen_FTEM!G27,Skillserleuterungen_FTEM!C27)","v":"hat das nötige Selbstvertrauen,\"I can do it\"-Haltung, kann eigene Fähigkeiten einschätzen (kennt eigene Stärken/Schwächen), kann ihre Stärken konstant einsetzen, agiert mutig und nimmt kalkulierte Risiken"},null,null,{"$f":"IF($H$2=\"G\",Skillserleuterungen_FTEM!#REF!,Skillserleuterungen_FTEM!#REF!)","v":{"$error":"#REF!"}},null,null,null,{"$f":"IFERROR(AVERAGE(O36:O40),\"-\")","v":"-"},null,{"$f":"IFERROR(AVERAGE(Q36:Q40),\"-\")","v":"-"},null,{"$f":"IFERROR(AVERAGE(S36:S40),\"-\")","v":"-"},null,{"$f":"IFERROR(AVERAGE(U36:U40),\"-\")","v":"-"},null,{"$f":"IFERROR(AVERAGE(W36:W40),\"-\")","v":"-"},null,{"$f":"IFERROR(AVERAGE(Y36:Y40),\"-\")","v":"-"}]
[null,null,null,{"$f":"IF($H$2=\"G\",Skillserleuterungen_FTEM!F28,Skillserleuterungen_FTEM!B28)","v":"Lernfähigkeit"},null,null,{"$f":"IF($H$2=\"G\",Skillserleuterungen_FTEM!G28,Skillserleuterungen_FTEM!C28)","v":"hat eine gute Auffassungsgabe (nimmt auf und kann umsetzen), reflektiert eigenes Handeln, versucht aus Fehlern zu lernen und kann Massnahmen ableiten"},null,null,{"$f":"IF($H$2=\"G\",Skillserleuterungen_FTEM!#REF!,Skillserleuterungen_FTEM!#REF!)","v":{"$error":"#REF!"}}]
[null,null,null,{"$f":"IF($H$2=\"G\",Skillserleuterungen_FTEM!F29,Skillserleuterungen_FTEM!B29)","v":"Eigenverantwortung"},null,null,{"$f":"IF($H$2=\"G\",Skillserleuterungen_FTEM!G29,Skillserleuterungen_FTEM!C29)","v":"übernimmt Verantwortung für eigene Leistungen und Entwicklung, handelt selbständig, achtet auf Details, zeigt grosses Engagement in allen Bereichen"},null,null,{"$f":"IF($H$2=\"G\",Skillserleuterungen_FTEM!#REF!,Skillserleuterungen_FTEM!#REF!)","v":{"$error":"#REF!"}}]
[null,null,null,{"$f":"IF($H$2=\"G\",Skillserleuterungen_FTEM!F30,Skillserleuterungen_FTEM!B30)","v":"Motivation"},null,null,{"$f":"IF($H$2=\"G\",Skillserleuterungen_FTEM!G30,Skillserleuterungen_FTEM!C30)","v":"Intrinsischer Antrieb, will sich ständig weiterentwickeln und lernen, will die Erste sein und Erfolg haben, gibt nie auf und lässt sich auch durch Misserfolge nicht vom Weg abbringen"},null,null,{"$f":"IF($H$2=\"G\",Skillserleuterungen_FTEM!#REF!,Skillserleuterungen_FTEM!#REF!)","v":{"$error":"#REF!"}}]
[null,null,null,{"$f":"IF($H$2=\"G\",Skillserleuterungen_FTEM!F31,Skillserleuterungen_FTEM!B31)","v":"Performance Lifestyle"},null,null,{"$f":"IF($H$2=\"G\",Skillserleuterungen_FTEM!G31,Skillserleuterungen_FTEM!C31)","v":"managt Alltag und Umfeld nach dem Leistungsprinzip, hartnäckig, beharrlich und zielgerichtet, Fokus auf eigene Leistung, zeigt Biss und kann sich auch gegen Widerstände durchsetzen, Herausforderungen spornen sie an"},null,null,{"$f":"IF($H$2=\"G\",Skillserleuterungen_FTEM!#REF!,Skillserleuterungen_FTEM!#REF!)","v":{"$error":"#REF!"}}]
[{"$f":"Skillserleuterungen_FTEM!A32","v":"MENTALE STÄRKE"},null,null,{"$f":"IF($H$2=\"G\",Skillserleuterungen_FTEM!F32,Skillserleuterungen_FTEM!B32)","v":"Einsatzbereitschaft"},null,null,{"$f":"IF($H$2=\"G\",Skillserleuterungen_FTEM!G32,Skillserleuterungen_FTEM!C32)","v":"zeigt im Spiel und im Training hohe Intensität, gibt immer ihr Maximum und will ihre Limiten pushen, zeigt Leidenschaft, ist um hohe Trainingsqualität bemüht"},null,null,{"$f":"IF($H$2=\"G\",Skillserleuterungen_FTEM!#REF!,Skillserleuterungen_FTEM!#REF!)","v":{"$error":"#REF!"}},null,null,null,{"$f":"IFERROR(AVERAGE(O41:O45),\"-\")","v":"-"},null,{"$f":"IFERROR(AVERAGE(Q41:Q45),\"-\")","v":"-"},null,{"$f":"IFERROR(AVERAGE(S41:S45),\"-\")","v":"-"},null,{"$f":"IFERROR(AVERAGE(U41:U45),\"-\")","v":"-"},null,{"$f":"IFERROR(AVERAGE(W41:W45),\"-\")","v":"-"},null,{"$f":"IFERROR(AVERAGE(Y41:Y45),\"-\")","v":"-"}]
[null,null,null,{"$f":"IF($H$2=\"G\",Skillserleuterungen_FTEM!F33,Skillserleuterungen_FTEM!B33)","v":"Vorbereitung"},null,null,{"$f":"IF($H$2=\"G\",Skillserleuterungen_FTEM!G33,Skillserleuterungen_FTEM!C33)","v":"bewusste und gezielte Vorbereitung, mental wie auch physisch, verfügt über einen effizienten Ablauf zur Erreichung des idealen Leistungszustand (ILZ)"},null,null,{"$f":"IF($H$2=\"G\",Skillserleuterungen_FTEM!#REF!,Skillserleuterungen_FTEM!#REF!)","v":{"$error":"#REF!"}}]
[null,null,null,{"$f":"IF($H$2=\"G\",Skillserleuterungen_FTEM!F34,Skillserleuterungen_FTEM!B34)","v":"Selbstcoaching"},null,null,{"$f":"IF($H$2=\"G\",Skillserleuterungen_FTEM!G34,Skillserleuterungen_FTEM!C34)","v":"verfügt über gute Konzentrationsfähigkeit, kann während Spiel/Training ihren ILZ halten, kann mentale Grundtechniken anwenden, widerstandsfähig gegen negative Gedanken und Einflüsse, ist sich ihrer Körpersprache bewusst und kann diese regulieren"},null,null,{"$f":"IF($H$2=\"G\",Skillserleuterungen_FTEM!#REF!,Skillserleuterungen_FTEM!#REF!)","v":{"$error":"#REF!"}}]
[null,null,null,{"$f":"IF($H$2=\"G\",Skillserleuterungen_FTEM!F35,Skillserleuterungen_FTEM!B35)","v":"Energiemanagement"},null,null,{"$f":"IF($H$2=\"G\",Skillserleuterungen_FTEM!G35,Skillserleuterungen_FTEM!C35)","v":"kann eigene Energie regulieren, bereit zur Regeneration, weiss wann sie \"Vollgas\" geben muss und wann abschalten, On/Off-Schalter"},null,null,{"$f":"IF($H$2=\"G\",Skillserleuterungen_FTEM!#REF!,Skillserleuterungen_FTEM!#REF!)","v":{"$error":"#REF!"}}]
[null,null,null,{"$f":"IF($H$2=\"G\",Skillserleuterungen_FTEM!F36,Skillserleuterungen_FTEM!B36)","v":"Emotionskontrolle"},null,null,{"$f":"IF($H$2=\"G\",Skillserleuterungen_FTEM!G36,Skillserleuterungen_FTEM!C36)","v":"kann eigene Emotionen und Impulse regulieren, behält auch unter Druck die Kontrolle, kann auch in emotional anspruchsvollen oder frustrierenden Situationen angemessen agieren"},null,null,{"$f":"IF($H$2=\"G\",Skillserleuterungen_FTEM!#REF!,Skillserleuterungen_FTEM!#REF!)","v":{"$error":"#REF!"}}]
[{"$f":"Skillserleuterungen_FTEM!A37","v":"PHYSE"},null,null,{"$f":"IF($H$2=\"G\",Skillserleuterungen_FTEM!F37,Skillserleuterungen_FTEM!B37)","v":"Leistungserzeugung"},null,null,{"$f":"IF($H$2=\"G\",Skillserleuterungen_FTEM!G37,Skillserleuterungen_FTEM!C37)","v":"verfügt über die nötige Power/Kraft/Schnelligkeit in den Beinen und im Oberkörper (Neuromuskuläre Faktoren)"},null,null,{"$f":"IF($H$2=\"G\",Skillserleuterungen_FTEM!#REF!,Skillserleuterungen_FTEM!#REF!)","v":{"$error":"#REF!"}},null,null,null,{"$f":"IFERROR(AVERAGE(O46:O50),\"-\")","v":"-"},null,{"$f":"IFERROR(AVERAGE(Q46:Q50),\"-\")","v":"-"},null,{"$f":"IFERROR(AVERAGE(S46:S50),\"-\")","v":"-"},null,{"$f":"IFERROR(AVERAGE(U46:U50),\"-\")","v":"-"},null,{"$f":"IFERROR(AVERAGE(W46:W50),\"-\")","v":"-"},null,{"$f":"IFERROR(AVERAGE(Y46:Y50),\"-\")","v":"-"}]
[null,null,null,{"$f":"IF($H$2=\"G\",Skillserleuterungen_FTEM!F38,Skillserleuterungen_FTEM!B38)","v":"sporartspez. Ermüdungsresistenz"},null,null,{"$f":"IF($H$2=\"G\",Skillserleuterungen_FTEM!G38,Skillserleuterungen_FTEM!C38)","v":"Ist fähig  die Power/Kraft/Schnelligkeit innerhalb des Einsatzes lange aufrechtzuerhalten und kann sich zwischen den Einsätzen jeweils vollkommen erholen (Metabolische und kardiovaskuläre Faktoren)"},null,null,{"$f":"IF($H$2=\"G\",Skillserleuterungen_FTEM!#REF!,Skillserleuterungen_FTEM!#REF!)","v":{"$error":"#REF!"}}]
[null,null,null,{"$f":"IF($H$2=\"G\",Skillserleuterungen_FTEM!F39,Skillserleuterungen_FTEM!B39)","v":"Gesundheit / Prävention"},null,null,{"$f":"IF($H$2=\"G\",Skillserleuterungen_FTEM!G39,Skillserleuterungen_FTEM!C39)","v":"verfügt über die nötige Stabilität (z.B. Beinachsenstabilität) und Beweglichkeit in den zentralen Gelenken"},null,null,{"$f":"IF($H$2=\"G\",Skillserleuterungen_FTEM!#REF!,Skillserleuterungen_FTEM!#REF!)","v":{"$error":"#REF!"}}]
[null,null,null,{"$f":"IF($H$2=\"G\",Skillserleuterungen_FTEM!F40,Skillserleuterungen_FTEM!B40)","v":"Bewegungskompetenzen"},null,null,{"$f":"IF($H$2=\"G\",Skillserleuterungen_FTEM!G40,Skillserleuterungen_FTEM!C40)","v":"beherrscht die grundlegenden Bewegungsfertigkeiten, die eine unerlässliche Zubringerfunktion für die sportspezifischen \"Skills\" darstellt sowie zur nötigen Bewegungseffizienz führt"},null,null,{"$f":"IF($H$2=\"G\",Skillserleuterungen_FTEM!#REF!,Skillserleuterungen_FTEM!#REF!)","v":{"$error":"#REF!"}}]
[null,null,null,{"$f":"IF($H$2=\"G\",Skillserleuterungen_FTEM!F41,Skillserleuterungen_FTEM!B41)","v":"Robustheit"},null,null,{"$f":"IF($H$2=\"G\",Skillserleuterungen_FTEM!G41,Skillserleuterungen_FTEM!C41)","v":"verfügt über die nötige Grundkraft (Körperspannung), um sich in Zweikämpfen durchzusetzen und bei Zusammestössen standzuhalten"},null,null,{"$f":"IF($H$2=\"G\",Skillserleuterungen_FTEM!#REF!,Skillserleuterungen_FTEM!#REF!)","v":{"$error":"#REF!"}}]

{"sheet":"26","index":29,"n_rows":50,"n_cols":36,"rows_kept":50,"cut":false,"hidden":false,"merged":[[13,3,13,5],[14,3,14,5],[15,3,15,5],[13,6,13,11],[14,6,14,11],[15,6,15,11],[21,3,21,5],[21,6,21,11],[26,3,26,5],[26,6,26,11],[0,0,0,24],[0,25,0,26],[0,27,0,32],[0,33,0,35],[29,25,33,25],[29,26,33,32],[29,34,33,34],[35,25,39,25],[35,26,39,32],[35,34,39,34],[1,0,1,1],[1,2,1,5],[1,10,1,24],[2,0,2,1],[2,2,2,5],[2,11,2,24],[6,0,6,1],[6,2,6,35],[7,0,7,1],[7,2,7,35],[8,0,8,1],[8,2,8,35],[3,0,3,1],[3,10,3,24],[4,0,4,1],[4,2,4,5],[4,10,4,24],[10,0,10,24],[10,25,10,35],[40,25,44,25],[40,26,44,32],[40,34,44,34],[12,25,16,25],[12,26,16,32],[12,34,16,34],[18,25,22,25],[18,26,22,32],[18,34,22,34],[23,25,28,25],[23,26,28,32],[23,34,28,34],[17,26,17,32],[11,0,11,2],[11,3,11,5],[11,13,11,14],[11,15,11,16],[11,17,11,18],[11,19,11,20],[11,21,11,22],[11,23,11,24],[11,26,11,32],[11,6,11,11],[12,23,16,23],[16,3,16,5],[16,6,16,11],[17,0,17,2],[17,3,17,5],[17,6,17,11],[17,13,17,14],[17,15,17,16],[17,17,17,18],[17,19,17,20],[17,21,17,22],[17,23,17,24],[12,0,16,2],[12,3,12,5],[12,6,12,11],[12,12,16,12],[12,13,16,13],[12,15,16,15],[12,17,16,17],[12,19,16,19],[12,21,16,21],[18,15,22,15],[18,17,22,17],[18,19,22,19],[18,21,22,21],[18,23,22,23],[22,3,22,5],[22,6,22,11],[23,0,28,2],[23,3,23,5],[23,6,23,11],[23,12,28,12],[23,13,28,13],[23,15,28,15],[23,17,28,17],[18,0,22,2],[18,3,18,5],[18,6,18,11],[18,12,22,12],[18,13,22,13],[19,3,19,5],[19,6,19,11],[20,3,20,5],[20,6,20,11],[23,19,28,19],[23,21,28,21],[23,23,28,23],[24,3,24,5],[24,6,24,11],[28,3,28,5],[28,6,28,11],[33,3,33,5],[33,6,33,11],[29,23,33,23],[29,17,33,17],[29,19,33,19],[29,21,33,21],[30,3,30,5],[30,6,30,11],[31,3,31,5],[31,6,31,11],[27,3,27,5],[27,6,27,11],[32,3,32,5],[32,6,32,11],[29,0,33,2],[29,3,29,5],[29,6,29,11],[29,12,33,12],[29,13,33,13],[29,15,33,15],[34,23,34,24],[34,26,34,32],[35,0,39,2],[35,3,35,5],[35,6,35,11],[35,12,39,12],[35,13,39,13],[35,15,39,15],[39,3,39,5],[39,6,39,11],[35,23,39,23],[34,0,34,2],[34,3,34,5],[34,6,34,11],[34,13,34,14],[34,15,34,16],[34,17,34,18],[34,19,34,20],[36,3,36,5],[36,6,36,11],[37,3,37,5],[37,6,37,11],[40,17,44,17],[40,19,44,19],[40,21,44,21],[41,3,41,5],[41,6,41,11],[44,3,44,5],[44,6,44,11],[38,3,38,5],[38,6,38,11],[43,3,43,5],[43,6,43,11],[45,26,49,32],[45,34,49,34],[25,3,25,5],[25,6,25,11],[42,3,42,5],[42,6,42,11],[45,0,49,2],[45,12,49,12],[45,13,49,13],[45,15,49,15],[45,17,49,17],[45,19,49,19],[45,21,49,21],[45,23,49,23],[45,25,49,25],[45,3,45,5],[45,6,45,11],[46,3,46,5],[46,6,46,11],[40,15,44,15],[34,21,34,22],[35,17,39,17],[35,19,39,19],[35,21,39,21],[47,3,47,5],[47,6,47,11],[49,3,49,5],[49,6,49,11],[40,23,44,23],[40,0,44,2],[40,3,40,5],[40,6,40,11],[40,12,44,12],[40,13,44,13],[48,3,48,5],[48,6,48,11]]}
["Personalien",null,null,null,null,null,null,null,null,null,null,null,null,null,null,null,null,null,null,null,null,null,null,null,null,"Vorausetzungen",null,"Evaluationen",null,null,null,null,null,"Rating"]
["VORNAME",null,{"$f":"IF(ISBLANK(VLOOKUP(26,Tabelle3[],3,0)),\"-\",VLOOKUP(26,Tabelle3[],3,0))","v":"-"},null,null,null,"POSITION",null,null,"ADRESSE",{"$f":"IF(ISBLANK(VLOOKUP(26,Tabelle3[],5,0)),\"-\",VLOOKUP(26,Tabelle3[],5,0))","v":"-"},null,null,null,null,null,null,null,null,null,null,null,null,null,null,"\"Alter\" (Biologisch/Relative Age)",null,"Datum 1",null,null,"cm",null,"Kg",null,"AUSGEZEICHNET",5]
["NAME",null,{"$f":"IF(ISBLANK(VLOOKUP(26,Tabelle3[],2,0)),\"-\",VLOOKUP(26,Tabelle3[],2,0))","v":"-"},null,null,null,"STOCK",null,null,"WOHNORT",{"$f":"IF(ISBLANK(VLOOKUP(26,Tabelle3[],7,0)),\"-\",VLOOKUP(26,Tabelle3[],7,0))","v":"-"},{"$f":"IF(ISBLANK(VLOOKUP(26,Tabelle3[],6,0)),\"-\",VLOOKUP(26,Tabelle3[],6,0))","v":"-"},null,null,null,null,null,null,null,null,null,null,null,null,null,"Veranlagung",null,"Datum 2",null,null,"cm",null,"Kg",null,"GUT",4]
["GEB. DATUM",null,{"$f":"IF(ISBLANK(VLOOKUP(26,Tabelle3[],14,0)),\"-\",VLOOKUP(26,Tabelle3[],14,0))","v":"-"},{"$f":"IF(ISBLANK(VLOOKUP(26,Tabelle3[],15,0)),\"-\",VLOOKUP(26,Tabelle3[],15,0))","v":"-"},{"$f":"IF(ISBLANK(VLOOKUP(26,Tabelle3[],16,0)),\"-\",VLOOKUP(26,Tabelle3[],16,0))","v":"-"},null,"GRÖSSE",null,"cm (Final)","CLUB",{"$f":"IF(ISBLANK(VLOOKUP(26,Tabelle3[],8,0)),\"-\",VLOOKUP(26,Tabelle3[],8,0))","v":"-"},null,null,null,null,null,null,null,null,null,null,null,null,null,null,"Umfeld",null,"Datum 3",null,null,"cm",null,"Kg",null,"DURCHSCHNITT",3]
["SEX",null,{"$f":"IF(ISBLANK(VLOOKUP(26,Tabelle3[],13,0)),\"-\",VLOOKUP(26,Tabelle3[],13,0))","v":"-"},null,null,null,"GEWICHT",null,"Kg (Final)","E-Mail",{"$f":"IF(ISBLANK(VLOOKUP(26,Tabelle3[],9,0)),\"-\",VLOOKUP(26,Tabelle3[],9,0))","v":"-"},null,null,null,null,null,null,null,null,null,null,null,null,null,null,null,null,"Datum 4",null,null,"cm",null,"Kg",null,"MANGELHAFT",2]
[null,null,null,null,null,null,null,null,null,null,null,null,null,null,null,null,null,null,null,null,null,null,null,null,null,null,null,"Datum 5",null,null,"cm",null,"Kg",null,"UNGENÜGEND",1]
["Vision",null,"xxx"]
["Ziele",null,"xxx"]
["Stärken",null,"xxx"]
[]
["EVALUATION (COACH / SPIELERIN)",null,null,null,null,null,null,null,null,null,null,null,null,null,null,null,null,null,null,null,null,null,null,null,null,"SMART"]
[{"$f":"Skillserleuterungen_FTEM!A3","v":"TEAM"},null,null,{"$f":"Skillserleuterungen_FTEM!B3","v":"FÄHIGKEIT"},null,null,{"$f":"Skillserleuterungen_FTEM!C3","v":"BEOBACHTUNG"},null,null,null,null,null,"Final","Datum1",null,"Datum2",null,"Datum3",null,"Datum4",null,"Datum5",null,"Player",null,"ZIEL","MASSNAHME:\nSPEZIFISCH,  MESSBAR, REALISITISCH",null,null,null,null,null,null,"TERMIN","ZIEL-KONTROLLE","Datum"]
[{"$f":"Skillserleuterungen_FTEM!A4","v":"TEAM"},null,null,{"$f":"IF($H$2=\"G\",Skillserleuterungen_FTEM!F4,Skillserleuterungen_FTEM!B4)","v":"Kommunikation"},null,null,{"$f":"IF($H$2=\"G\",Skillserleuterungen_FTEM!G4,Skillserleuterungen_FTEM!C4)","v":"pflegt einen offenen, respektvollen Umgang, Vertrauensbasis als Grundlage, trägt Konflikte aus ohne die Stabilität der Gruppe zu gefährden, kommuniziert mit Mitspielerinnen, Trainern und Funktionären gleichermassen wertschätzend"},null,null,{"$f":"IF($H$2=\"G\",Skillserleuterungen_FTEM!#REF!,Skillserleuterungen_FTEM!#REF!)","v":{"$error":"#REF!"}},null,null,null,{"$f":"IFERROR(AVERAGE(O13:O17),\"-\")","v":"-"},null,{"$f":"IFERROR(AVERAGE(Q13:Q17),\"-\")","v":"-"},null,{"$f":"IFERROR(AVERAGE(S13:S17),\"-\")","v":"-"},null,{"$f":"IFERROR(AVERAGE(U13:U17),\"-\")","v":"-"},null,null,null,{"$f":"IFERROR(AVERAGE(Y13:Y17),\"-\")","v":"-"}]
[null,null,null,{"$f":"IF($H$2=\"G\",Skillserleuterungen_FTEM!F5,Skillserleuterungen_FTEM!B5)","v":"Teamfähigkeit"},null,null,{"$f":"IF($H$2=\"G\",Skillserleuterungen_FTEM!G5,Skillserleuterungen_FTEM!C5)","v":"Integration in die Gruppe, gemeinsame Ziele bestimmen und verfolgen können, WIR vor dem ICH, trägt zu einem guten Team-Spirit und Arbeitsklima bei"},null,null,{"$f":"IF($H$2=\"G\",Skillserleuterungen_FTEM!#REF!,Skillserleuterungen_FTEM!#REF!)","v":{"$error":"#REF!"}}]
[null,null,null,{"$f":"IF($H$2=\"G\",Skillserleuterungen_FTEM!F6,Skillserleuterungen_FTEM!B6)","v":"Leadership"},null,null,{"$f":"IF($H$2=\"G\",Skillserleuterungen_FTEM!G6,Skillserleuterungen_FTEM!C6)","v":"übernimmt Verantwortung in der Gruppe, versucht Team und Mitspielerinnen besser zu machen, nimmt positiven Einfluss auf die Gruppendynamik"},null,null,{"$f":"IF($H$2=\"G\",Skillserleuterungen_FTEM!#REF!,Skillserleuterungen_FTEM!#REF!)","v":{"$error":"#REF!"}}]
[null,null,null,{"$f":"IF($H$2=\"G\",Skillserleuterungen_FTEM!F7,Skillserleuterungen_FTEM!B7)","v":"Rollenverteilung"},null,null,{"$f":"IF($H$2=\"G\",Skillserleuterungen_FTEM!G7,Skillserleuterungen_FTEM!C7)","v":"kennt ihre Rolle und füllt diese aus, ist sich ihrer Stellung im Team und im System bewusst, stellt eigene Kompetenzen in den Dienst des Teams"},null,null,{"$f":"IF($H$2=\"G\",Skillserleuterungen_FTEM!#REF!,Skillserleuterungen_FTEM!#REF!)","v":{"$error":"#REF!"}}]
[null,null,null,{"$f":"IF($H$2=\"G\",Skillserleuterungen_FTEM!F8,Skillserleuterungen_FTEM!B8)","v":"Respekt"},null,null,{"$f":"IF($H$2=\"G\",Skillserleuterungen_FTEM!G8,Skillserleuterungen_FTEM!C8)","v":"Respektvoller Umgang mit Mitspielerinnen, Trainern, Gegnern, Schiedsrichter und Staff; achtet die Regeln, Fairplayprinzipien (inkl. Anti-Doping)"},null,null,{"$f":"IF($H$2=\"G\",Skillserleuterungen_FTEM!#REF!,Skillserleuterungen_FTEM!#REF!)","v":{"$error":"#REF!"}}]
[{"$f":"Skillserleuterungen_FTEM!A9","v":"ON ICE"},null,null,{"$f":"Skillserleuterungen_FTEM!B9","v":"FÄHIGKEIT"},null,null,{"$f":"Skillserleuterungen_FTEM!C9","v":"BEOBACHTUNG"},null,null,null,null,null,null,"Datum1",null,"Datum2",null,"Datum3",null,"Datum4",null,"Datum5",null,"Player",null,"ZIEL","MASSNAHME:\nSPEZIFISCH,  MESSBAR, REALISITISCH",null,null,null,null,null,null,"TERMIN","ZIEL-KONTROLLE","Datum"]
[{"$f":"Skillserleuterungen_FTEM!A10","v":"SKATING"},null,null,{"$f":"IF($H$2=\"G\",Skillserleuterungen_FTEM!F10,Skillserleuterungen_FTEM!B10)","v":"Footspeed"},null,null,{"$f":"IF($H$2=\"G\",Skillserleuterungen_FTEM!G10,Skillserleuterungen_FTEM!C10)","v":"Beschleunigung, Antritt, erste 3 Schritte Explosivität, Frequenz"},null,null,{"$f":"IF($H$2=\"G\",Skillserleuterungen_FTEM!#REF!,Skillserleuterungen_FTEM!#REF!)","v":{"$error":"#REF!"}},null,null,null,{"$f":"IFERROR(AVERAGE(O19:O23),\"-\")","v":"-"},null,{"$f":"IFERROR(AVERAGE(Q19:Q23),\"-\")","v":"-"},null,{"$f":"IFERROR(AVERAGE(S19:S23),\"-\")","v":"-"},null,{"$f":"IFERROR(AVERAGE(U19:U23),\"-\")","v":"-"},null,{"$f":"IFERROR(AVERAGE(W19:W23),\"-\")","v":"-"},null,{"$f":"IFERROR(AVERAGE(Y19:Y23),\"-\")","v":"-"}]
[null,null,null,{"$f":"IF($H$2=\"G\",Skillserleuterungen_FTEM!F11,Skillserleuterungen_FTEM!B11)","v":"Topspeed"},null,null,{"$f":"IF($H$2=\"G\",Skillserleuterungen_FTEM!G11,Skillserleuterungen_FTEM!C11)","v":"Schnelligkeit, Gleitfähigkeit, vorwärts und rückwärts, Ökonomie"},null,null,{"$f":"IF($H$2=\"G\",Skillserleuterungen_FTEM!#REF!,Skillserleuterungen_FTEM!#REF!)","v":{"$error":"#REF!"}}]
[null,null,null,{"$f":"IF($H$2=\"G\",Skillserleuterungen_FTEM!F12,Skillserleuterungen_FTEM!B12)","v":"Agilität"},null,null,{"$f":"IF($H$2=\"G\",Skillserleuterungen_FTEM!G12,Skillserleuterungen_FTEM!C12)","v":"Richtungsänderung, Drehung, Stop und Start, \"Nummelin\""},null,null,{"$f":"IF($H$2=\"G\",Skillserleuterungen_FTEM!#REF!,Skillserleuterungen_FTEM!#REF!)","v":{"$error":"#REF!"}},null,null,null,{"$f":"IFERROR(AVERAGE(O21:O23),\"-\")","v":"-"},null,{"$f":"IFERROR(AVERAGE(Q21:Q23),\"-\")","v":"-"},null,{"$f":"IFERROR(AVERAGE(S21:S23),\"-\")","v":"-"},null,{"$f":"IFERROR(AVERAGE(U21:U23),\"-\")","v":"-"},null,{"$f":"IFERROR(AVERAGE(W21:W23),\"-\")","v":"-"},null,{"$f":"IFERROR(AVERAGE(Y21:Y23),\"-\")","v":"-"}]
[null,null,null,{"$f":"IF($H$2=\"G\",Skillserleuterungen_FTEM!F13,Skillserleuterungen_FTEM!B13)","v":"Balance"},null,null,{"$f":"IF($H$2=\"G\",Skillserleuterungen_FTEM!G13,Skillserleuterungen_FTEM!C13)","v":"Gleichgewicht, Standhaftfähigkeit, tiefe Position, ein- und beidbeinig"},null,null,{"$f":"IF($H$2=\"G\",Skillserleuterungen_FTEM!#REF!,Skillserleuterungen_FTEM!#REF!)","v":{"$error":"#REF!"}}]
[null,null,null,{"$f":"IF($H$2=\"G\",Skillserleuterungen_FTEM!F14,Skillserleuterungen_FTEM!B14)","v":"Backwards Skating"},null,null,{"$f":"IF($H$2=\"G\",Skillserleuterungen_FTEM!G14,Skillserleuterungen_FTEM!C14)","v":"Beschleunigung, Geschwindigkeit, Balance"},null,null,{"$f":"IF($H$2=\"G\",Skillserleuterungen_FTEM!#REF!,Skillserleuterungen_FTEM!#REF!)","v":{"$error":"#REF!"}}]
[{"$f":"Skillserleuterungen_FTEM!A15","v":"SKILLS"},null,null,{"$f":"IF($H$2=\"G\",Skillserleuterungen_FTEM!F15,Skillserleuterungen_FTEM!B15)","v":"Schiessen"},null,null,{"$f":"IF($H$2=\"G\",Skillserleuterungen_FTEM!G15,Skillserleuterungen_FTEM!C15)","v":"Effizienz (no space no time), Variantenreichtum, Überraschungsgrad (Quick Release), Präzision, Härte, (taktische Abschlüsse)"},null,null,{"$f":"IF($H$2=\"G\",Skillserleuterungen_FTEM!#REF!,Skillserleuterungen_FTEM!#REF!)","v":{"$error":"#REF!"}},null,null,null,{"$f":"IFERROR(AVERAGE(O24:O29),\"-\")","v":"-"},null,{"$f":"IFERROR(AVERAGE(Q24:Q29),\"-\")","v":"-"},null,{"$f":"IFERROR(AVERAGE(S24:S29),\"-\")","v":"-"},null,{"$f":"IFERROR(AVERAGE(U24:U29),\"-\")","v":"-"},null,{"$f":"IFERROR(AVERAGE(W24:W29),\"-\")","v":"-"},null,{"$f":"IFERROR(AVERAGE(Y24:Y29),\"-\")","v":"-"}]
[null,null,null,{"$f":"IF($H$2=\"G\",Skillserleuterungen_FTEM!F16,Skillserleuterungen_FTEM!B16)","v":"Passen"},null,null,{"$f":"IF($H$2=\"G\",Skillserleuterungen_FTEM!G16,Skillserleuterungen_FTEM!C16)","v":"Passabgabe (Distanz, Flippass Backhand), Passannahme (Präzision, Timing, Vorhand, Rückhand, Schlittschuh), Puckspeed "},null,null,{"$f":"IF($H$2=\"G\",Skillserleuterungen_FTEM!#REF!,Skillserleuterungen_FTEM!#REF!)","v":{"$error":"#REF!"}}]
[null,null,null,{"$f":"IF($H$2=\"G\",Skillserleuterungen_FTEM!F17,Skillserleuterungen_FTEM!B17)","v":"Stockarbeit"},null,null,{"$f":"IF($H$2=\"G\",Skillserleuterungen_FTEM!G17,Skillserleuterungen_FTEM!C17)","v":"Stock zum Puck, Passlinie unterbinden, ablenken, Stockkontrolle Gegenspielerin"},null,null,{"$f":"IF($H$2=\"G\",Skillserleuterungen_FTEM!#REF!,Skillserleuterungen_FTEM!#REF!)","v":{"$error":"#REF!"}}]
[null,null,null,{"$f":"IF($H$2=\"G\",Skillserleuterungen_FTEM!F18,Skillserleuterungen_FTEM!B18)","v":"Puck besitzen "},null,null,{"$f":"IF($H$2=\"G\",Skillserleuterungen_FTEM!G18,Skillserleuterungen_FTEM!C18)","v":"Puckkontrolle, Dribblings, Puck schützen, Finten (Varianten: mit Schlittschuh, mit sowie ohne Bande), Face-Off"},null,null,{"$f":"IF($H$2=\"G\",Skillserleuterungen_FTEM!#REF!,Skillserleuterungen_FTEM!#REF!)","v":{"$error":"#REF!"}}]
[null,null,null,{"$f":"IF($H$2=\"G\",Skillserleuterungen_FTEM!F19,Skillserleuterungen_FTEM!B19)","v":"Körperspiel"},null,null,{"$f":"IF($H$2=\"G\",Skillserleuterungen_FTEM!G19,Skillserleuterungen_FTEM!C19)","v":"Phyisches Durchsetzungsvermögen, Zweikampf (offenes Eis/Bande), Checks nehmen/Head up, Battle Level, Hart aber fair"},null,null,{"$f":"IF($H$2=\"G\",Skillserleuterungen_FTEM!#REF!,Skillserleuterungen_FTEM!#REF!)","v":{"$error":"#REF!"}}]
[null,null,null,{"$f":"IF($H$2=\"G\",Skillserleuterungen_FTEM!F20,Skillserleuterungen_FTEM!B20)","v":"-"},null,null,{"$f":"IF($H$2=\"G\",Skillserleuterungen_FTEM!G20,Skillserleuterungen_FTEM!C20)","v":"-"},null,null,{"$f":"IF($H$2=\"G\",Skillserleuterungen_FTEM!#REF!,Skillserleuterungen_FTEM!#REF!)","v":{"$error":"#REF!"}}]
[{"$f":"Skillserleuterungen_FTEM!A21","v":"HOCKEY SENSE"},null,null,{"$f":"IF($H$2=\"G\",Skillserleuterungen_FTEM!F21,Skillserleuterungen_FTEM!B21)","v":"Spielintelligenz"},null,null,{"$f":"IF($H$2=\"G\",Skillserleuterungen_FTEM!G21,Skillserleuterungen_FTEM!C21)","v":"Freie Räume und Spielerin sehen und Überzahlsituationen kreieren, lösungsorientiert agieren bei allen Bedingungen, Headspeed"},null,null,{"$f":"IF($H$2=\"G\",Skillserleuterungen_FTEM!#REF!,Skillserleuterungen_FTEM!#REF!)","v":{"$error":"#REF!"}},null,null,null,{"$f":"IFERROR(AVERAGE(O30:O34),\"-\")","v":"-"},null,{"$f":"IFERROR(AVERAGE(Q30:Q34),\"-\")","v":"-"},null,{"$f":"IFERROR(AVERAGE(S30:S34),\"-\")","v":"-"},null,{"$f":"IFERROR(AVERAGE(U30:U34),\"-\")","v":"-"},null,{"$f":"IFERROR(AVERAGE(W30:W34),\"-\")","v":"-"},null,{"$f":"IFERROR(AVERAGE(Y30:Y34),\"-\")","v":"-"}]
[null,null,null,{"$f":"IF($H$2=\"G\",Skillserleuterungen_FTEM!F22,Skillserleuterungen_FTEM!B22)","v":"Offensives Bewusstsein"},null,null,{"$f":"IF($H$2=\"G\",Skillserleuterungen_FTEM!G22,Skillserleuterungen_FTEM!C22)","v":"Anspielbar, Antizipation der Spielsituationen, Freiräume für Mitspielerinnen öffnen, Abschlussorientiert sein, Gapspeed, gute Kommunikation"},null,null,{"$f":"IF($H$2=\"G\",Skillserleuterungen_FTEM!#REF!,Skillserleuterungen_FTEM!#REF!)","v":{"$error":"#REF!"}}]
[null,null,null,{"$f":"IF($H$2=\"G\",Skillserleuterungen_FTEM!F23,Skillserleuterungen_FTEM!B23)","v":"Defensiv Bewusstsein"},null,null,{"$f":"IF($H$2=\"G\",Skillserleuterungen_FTEM!G23,Skillserleuterungen_FTEM!C23)","v":"Inside Position halten, Slot beschützen, Mitspieler absichern/Support, Passlinie erkennen, Schüsse blockieren. Gapspeed, gute Komunikation"},null,null,{"$f":"IF($H$2=\"G\",Skillserleuterungen_FTEM!#REF!,Skillserleuterungen_FTEM!#REF!)","v":{"$error":"#REF!"}}]
[null,null,null,{"$f":"IF($H$2=\"G\",Skillserleuterungen_FTEM!F24,Skillserleuterungen_FTEM!B24)","v":"Puckmanagement"},null,null,{"$f":"IF($H$2=\"G\",Skillserleuterungen_FTEM!G24,Skillserleuterungen_FTEM!C24)","v":"Situationsadäquate Entscheidungen treffen, Support, Overload"},null,null,{"$f":"IF($H$2=\"G\",Skillserleuterungen_FTEM!#REF!,Skillserleuterungen_FTEM!#REF!)","v":{"$error":"#REF!"}}]
[null,null,null,{"$f":"IF($H$2=\"G\",Skillserleuterungen_FTEM!F25,Skillserleuterungen_FTEM!B25)","v":"Kreativität"},null,null,{"$f":"IF($H$2=\"G\",Skillserleuterungen_FTEM!G25,Skillserleuterungen_FTEM!C25)","v":"Überraschende Lösungen, Torriecher"},null,null,{"$f":"IF($H$2=\"G\",Skillserleuterungen_FTEM!#REF!,Skillserleuterungen_FTEM!#REF!)","v":{"$error":"#REF!"}}]
[{"$f":"Skillserleuterungen_FTEM!A26","v":"PERSONALITY"},null,null,{"$f":"Skillserleuterungen_FTEM!B26","v":"FÄHIGKEIT"},null,null,{"$f":"Skillserleuterungen_FTEM!C26","v":"BEOBACHTUNG"},null,null,null,null,null,null,"Datum1",null,"Datum2",null,"Datum3",null,"Datum4",null,"Datum5",null,"Player",null,"ZIEL","MASSNAHME:\nSPEZIFISCH,  MESSBAR, REALISITISCH",null,null,null,null,null,null,"TERMIN","ZIEL-KONTROLLE","Datum"]
[{"$f":"Skillserleuterungen_FTEM!A27","v":"PERSÖNLICHKEIT"},null,null,{"$f":"IF($H$2=\"G\",Skillserleuterungen_FTEM!F27,Skillserleuterungen_FTEM!B27)","v":"Selbstbewusstsein"},null,null,{"$f":"IF($H$2=\"G\",Skillserleuterungen_FTEM!G27,Skillserleuterungen_FTEM!C27)","v":"hat das nötige Selbstvertrauen,\"I can do it\"-Haltung, kann eigene Fähigkeiten einschätzen (kennt eigene Stärken/Schwächen), kann ihre Stärken konstant einsetzen, agiert mutig und nimmt kalkulierte Risiken"},null,null,{"$f":"IF($H$2=\"G\",Skillserleuterungen_FTEM!#REF!,Skillserleuterungen_FTEM!#REF!)","v":{"$error":"#REF!"}},null,null,null,{"$f":"IFERROR(AVERAGE(O36:O40),\"-\")","v":"-"},null,{"$f":"IFERROR(AVERAGE(Q36:Q40),\"-\")","v":"-"},null,{"$f":"IFERROR(AVERAGE(S36:S40),\"-\")","v":"-"},null,{"$f":"IFERROR(AVERAGE(U36:U40),\"-\")","v":"-"},null,{"$f":"IFERROR(AVERAGE(W36:W40),\"-\")","v":"-"},null,{"$f":"IFERROR(AVERAGE(Y36:Y40),\"-\")","v":"-"}]
[null,null,null,{"$f":"IF($H$2=\"G\",Skillserleuterungen_FTEM!F28,Skillserleuterungen_FTEM!B28)","v":"Lernfähigkeit"},null,null,{"$f":"IF($H$2=\"G\",Skillserleuterungen_FTEM!G28,Skillserleuterungen_FTEM!C28)","v":"hat eine gute Auffassungsgabe (nimmt auf und kann umsetzen), reflektiert eigenes Handeln, versucht aus Fehlern zu lernen und kann Massnahmen ableiten"},null,null,{"$f":"IF($H$2=\"G\",Skillserleuterungen_FTEM!#REF!,Skillserleuterungen_FTEM!#REF!)","v":{"$error":"#REF!"}}]
[null,null,null,{"$f":"IF($H$2=\"G\",Skillserleuterungen_FTEM!F29,Skillserleuterungen_FTEM!B29)","v":"Eigenverantwortung"},null,null,{"$f":"IF($H$2=\"G\",Skillserleuterungen_FTEM!G29,Skillserleuterungen_FTEM!C29)","v":"übernimmt Verantwortung für eigene Leistungen und Entwicklung, handelt selbständig, achtet auf Details, zeigt grosses Engagement in allen Bereichen"},null,null,{"$f":"IF($H$2=\"G\",Skillserleuterungen_FTEM!#REF!,Skillserleuterungen_FTEM!#REF!)","v":{"$error":"#REF!"}}]
[null,null,null,{"$f":"IF($H$2=\"G\",Skillserleuterungen_FTEM!F30,Skillserleuterungen_FTEM!B30)","v":"Motivation"},null,null,{"$f":"IF($H$2=\"G\",Skillserleuterungen_FTEM!G30,Skillserleuterungen_FTEM!C30)","v":"Intrinsischer Antrieb, will sich ständig weiterentwickeln und lernen, will die Erste sein und Erfolg haben, gibt nie auf und lässt sich auch durch Misserfolge nicht vom Weg abbringen"},null,null,{"$f":"IF($H$2=\"G\",Skillserleuterungen_FTEM!#REF!,Skillserleuterungen_FTEM!#REF!)","v":{"$error":"#REF!"}}]
[null,null,null,{"$f":"IF($H$2=\"G\",Skillserleuterungen_FTEM!F31,Skillserleuterungen_FTEM!B31)","v":"Performance Lifestyle"},null,null,{"$f":"IF($H$2=\"G\",Skillserleuterungen_FTEM!G31,Skillserleuterungen_FTEM!C31)","v":"managt Alltag und Umfeld nach dem Leistungsprinzip, hartnäckig, beharrlich und zielgerichtet, Fokus auf eigene Leistung, zeigt Biss und kann sich auch gegen Widerstände durchsetzen, Herausforderungen spornen sie an"},null,null,{"$f":"IF($H$2=\"G\",Skillserleuterungen_FTEM!#REF!,Skillserleuterungen_FTEM!#REF!)","v":{"$error":"#REF!"}}]
[{"$f":"Skillserleuterungen_FTEM!A32","v":"MENTALE STÄRKE"},null,null,{"$f":"IF($H$2=\"G\",Skillserleuterungen_FTEM!F32,Skillserleuterungen_FTEM!B32)","v":"Einsatzbereitschaft"},null,null,{"$f":"IF($H$2=\"G\",Skillserleuterungen_FTEM!G32,Skillserleuterungen_FTEM!C32)","v":"zeigt im Spiel und im Training hohe Intensität, gibt immer ihr Maximum und will ihre Limiten pushen, zeigt Leidenschaft, ist um hohe Trainingsqualität bemüht"},null,null,{"$f":"IF($H$2=\"G\",Skillserleuterungen_FTEM!#REF!,Skillserleuterungen_FTEM!#REF!)","v":{"$error":"#REF!"}},null,null,null,{"$f":"IFERROR(AVERAGE(O41:O45),\"-\")","v":"-"},null,{"$f":"IFERROR(AVERAGE(Q41:Q45),\"-\")","v":"-"},null,{"$f":"IFERROR(AVERAGE(S41:S45),\"-\")","v":"-"},null,{"$f":"IFERROR(AVERAGE(U41:U45),\"-\")","v":"-"},null,{"$f":"IFERROR(AVERAGE(W41:W45),\"-\")","v":"-"},null,{"$f":"IFERROR(AVERAGE(Y41:Y45),\"-\")","v":"-"}]
[null,null,null,{"$f":"IF($H$2=\"G\",Skillserleuterungen_FTEM!F33,Skillserleuterungen_FTEM!B33)","v":"Vorbereitung"},null,null,{"$f":"IF($H$2=\"G\",Skillserleuterungen_FTEM!G33,Skillserleuterungen_FTEM!C33)","v":"bewusste und gezielte Vorbereitung, mental wie auch physisch, verfügt über einen effizienten Ablauf zur Erreichung des idealen Leistungszustand (ILZ)"},null,null,{"$f":"IF($H$2=\"G\",Skillserleuterungen_FTEM!#REF!,Skillserleuterungen_FTEM!#REF!)","v":{"$error":"#REF!"}}]
[null,null,null,{"$f":"IF($H$2=\"G\",Skillserleuterungen_FTEM!F34,Skillserleuterungen_FTEM!B34)","v":"Selbstcoaching"},null,null,{"$f":"IF($H$2=\"G\",Skillserleuterungen_FTEM!G34,Skillserleuterungen_FTEM!C34)","v":"verfügt über gute Konzentrationsfähigkeit, kann während Spiel/Training ihren ILZ halten, kann mentale Grundtechniken anwenden, widerstandsfähig gegen negative Gedanken und Einflüsse, ist sich ihrer Körpersprache bewusst und kann diese regulieren"},null,null,{"$f":"IF($H$2=\"G\",Skillserleuterungen_FTEM!#REF!,Skillserleuterungen_FTEM!#REF!)","v":{"$error":"#REF!"}}]
[null,null,null,{"$f":"IF($H$2=\"G\",Skillserleuterungen_FTEM!F35,Skillserleuterungen_FTEM!B35)","v":"Energiemanagement"},null,null,{"$f":"IF($H$2=\"G\",Skillserleuterungen_FTEM!G35,Skillserleuterungen_FTEM!C35)","v":"kann eigene Energie regulieren, bereit zur Regeneration, weiss wann sie \"Vollgas\" geben muss und wann abschalten, On/Off-Schalter"},null,null,{"$f":"IF($H$2=\"G\",Skillserleuterungen_FTEM!#REF!,Skillserleuterungen_FTEM!#REF!)","v":{"$error":"#REF!"}}]
[null,null,null,{"$f":"IF($H$2=\"G\",Skillserleuterungen_FTEM!F36,Skillserleuterungen_FTEM!B36)","v":"Emotionskontrolle"},null,null,{"$f":"IF($H$2=\"G\",Skillserleuterungen_FTEM!G36,Skillserleuterungen_FTEM!C36)","v":"kann eigene Emotionen und Impulse regulieren, behält auch unter Druck die Kontrolle, kann auch in emotional anspruchsvollen oder frustrierenden Situationen angemessen agieren"},null,null,{"$f":"IF($H$2=\"G\",Skillserleuterungen_FTEM!#REF!,Skillserleuterungen_FTEM!#REF!)","v":{"$error":"#REF!"}}]
[{"$f":"Skillserleuterungen_FTEM!A37","v":"PHYSE"},null,null,{"$f":"IF($H$2=\"G\",Skillserleuterungen_FTEM!F37,Skillserleuterungen_FTEM!B37)","v":"Leistungserzeugung"},null,null,{"$f":"IF($H$2=\"G\",Skillserleuterungen_FTEM!G37,Skillserleuterungen_FTEM!C37)","v":"verfügt über die nötige Power/Kraft/Schnelligkeit in den Beinen und im Oberkörper (Neuromuskuläre Faktoren)"},null,null,{"$f":"IF($H$2=\"G\",Skillserleuterungen_FTEM!#REF!,Skillserleuterungen_FTEM!#REF!)","v":{"$error":"#REF!"}},null,null,null,{"$f":"IFERROR(AVERAGE(O46:O50),\"-\")","v":"-"},null,{"$f":"IFERROR(AVERAGE(Q46:Q50),\"-\")","v":"-"},null,{"$f":"IFERROR(AVERAGE(S46:S50),\"-\")","v":"-"},null,{"$f":"IFERROR(AVERAGE(U46:U50),\"-\")","v":"-"},null,{"$f":"IFERROR(AVERAGE(W46:W50),\"-\")","v":"-"},null,{"$f":"IFERROR(AVERAGE(Y46:Y50),\"-\")","v":"-"}]
[null,null,null,{"$f":"IF($H$2=\"G\",Skillserleuterungen_FTEM!F38,Skillserleuterungen_FTEM!B38)","v":"sporartspez. Ermüdungsresistenz"},null,null,{"$f":"IF($H$2=\"G\",Skillserleuterungen_FTEM!G38,Skillserleuterungen_FTEM!C38)","v":"Ist fähig  die Power/Kraft/Schnelligkeit innerhalb des Einsatzes lange aufrechtzuerhalten und kann sich zwischen den Einsätzen jeweils vollkommen erholen (Metabolische und kardiovaskuläre Faktoren)"},null,null,{"$f":"IF($H$2=\"G\",Skillserleuterungen_FTEM!#REF!,Skillserleuterungen_FTEM!#REF!)","v":{"$error":"#REF!"}}]
[null,null,null,{"$f":"IF($H$2=\"G\",Skillserleuterungen_FTEM!F39,Skillserleuterungen_FTEM!B39)","v":"Gesundheit / Prävention"},null,null,{"$f":"IF($H$2=\"G\",Skillserleuterungen_FTEM!G39,Skillserleuterungen_FTEM!C39)","v":"verfügt über die nötige Stabilität (z.B. Beinachsenstabilität) und Beweglichkeit in den zentralen Gelenken"},null,null,{"$f":"IF($H$2=\"G\",Skillserleuterungen_FTEM!#REF!,Skillserleuterungen_FTEM!#REF!)","v":{"$error":"#REF!"}}]
[null,null,null,{"$f":"IF($H$2=\"G\",Skillserleuterungen_FTEM!F40,Skillserleuterungen_FTEM!B40)","v":"Bewegungskompetenzen"},null,null,{"$f":"IF($H$2=\"G\",Skillserleuterungen_FTEM!G40,Skillserleuterungen_FTEM!C40)","v":"beherrscht die grundlegenden Bewegungsfertigkeiten, die eine unerlässliche Zubringerfunktion für die sportspezifischen \"Skills\" darstellt sowie zur nötigen Bewegungseffizienz führt"},null,null,{"$f":"IF($H$2=\"G\",Skillserleuterungen_FTEM!#REF!,Skillserleuterungen_FTEM!#REF!)","v":{"$error":"#REF!"}}]
[null,null,null,{"$f":"IF($H$2=\"G\",Skillserleuterungen_FTEM!F41,Skillserleuterungen_FTEM!B41)","v":"Robustheit"},null,null,{"$f":"IF($H$2=\"G\",Skillserleuterungen_FTEM!G41,Skillserleuterungen_FTEM!C41)","v":"verfügt über die nötige Grundkraft (Körperspannung), um sich in Zweikämpfen durchzusetzen und bei Zusammestössen standzuhalten"},null,null,{"$f":"IF($H$2=\"G\",Skillserleuterungen_FTEM!#REF!,Skillserleuterungen_FTEM!#REF!)","v":{"$error":"#REF!"}}]

{"sheet":"27","index":30,"n_rows":50,"n_cols":36,"rows_kept":50,"cut":false,"hidden":false,"merged":[[13,3,13,5],[14,3,14,5],[15,3,15,5],[13,6,13,11],[14,6,14,11],[15,6,15,11],[21,3,21,5],[21,6,21,11],[26,3,26,5],[26,6,26,11],[0,0,0,24],[0,25,0,26],[0,27,0,32],[0,33,0,35],[29,25,33,25],[29,26,33,32],[29,34,33,34],[35,25,39,25],[35,26,39,32],[35,34,39,34],[1,0,1,1],[1,2,1,5],[1,10,1,24],[2,0,2,1],[2,2,2,5],[2,11,2,24],[6,0,6,1],[6,2,6,35],[7,0,7,1],[7,2,7,35],[8,0,8,1],[8,2,8,35],[3,0,3,1],[3,10,3,24],[4,0,4,1],[4,2,4,5],[4,10,4,24],[10,0,10,24],[10,25,10,35],[40,25,44,25],[40,26,44,32],[40,34,44,34],[12,25,16,25],[12,26,16,32],[12,34,16,34],[18,25,22,25],[18,26,22,32],[18,34,22,34],[23,25,28,25],[23,26,28,32],[23,34,28,34],[17,26,17,32],[11,0,11,2],[11,3,11,5],[11,13,11,14],[11,15,11,16],[11,17,11,18],[11,19,11,20],[11,21,11,22],[11,23,11,24],[11,26,11,32],[11,6,11,11],[12,23,16,23],[16,3,16,5],[16,6,16,11],[17,0,17,2],[17,3,17,5],[17,6,17,11],[17,13,17,14],[17,15,17,16],[17,17,17,18],[17,19,17,20],[17,21,17,22],[17,23,17,24],[12,0,16,2],[12,3,12,5],[12,6,12,11],[12,12,16,12],[12,13,16,13],[12,15,16,15],[12,17,16,17],[12,19,16,19],[12,21,16,21],[18,15,22,15],[18,17,22,17],[18,19,22,19],[18,21,22,21],[18,23,22,23],[22,3,22,5],[22,6,22,11],[23,0,28,2],[23,3,23,5],[23,6,23,11],[23,12,28,12],[23,13,28,13],[23,15,28,15],[23,17,28,17],[18,0,22,2],[18,3,18,5],[18,6,18,11],[18,12,22,12],[18,13,22,13],[19,3,19,5],[19,6,19,11],[20,3,20,5],[20,6,20,11],[23,19,28,19],[23,21,28,21],[23,23,28,23],[24,3,24,5],[24,6,24,11],[28,3,28,5],[28,6,28,11],[33,3,33,5],[33,6,33,11],[29,23,33,23],[29,17,33,17],[29,19,33,19],[29,21,33,21],[30,3,30,5],[30,6,30,11],[31,3,31,5],[31,6,31,11],[27,3,27,5],[27,6,27,11],[32,3,32,5],[32,6,32,11],[29,0,33,2],[29,3,29,5],[29,6,29,11],[29,12,33,12],[29,13,33,13],[29,15,33,15],[34,23,34,24],[34,26,34,32],[35,0,39,2],[35,3,35,5],[35,6,35,11],[35,12,39,12],[35,13,39,13],[35,15,39,15],[39,3,39,5],[39,6,39,11],[35,23,39,23],[34,0,34,2],[34,3,34,5],[34,6,34,11],[34,13,34,14],[34,15,34,16],[34,17,34,18],[34,19,34,20],[36,3,36,5],[36,6,36,11],[37,3,37,5],[37,6,37,11],[40,17,44,17],[40,19,44,19],[40,21,44,21],[41,3,41,5],[41,6,41,11],[44,3,44,5],[44,6,44,11],[38,3,38,5],[38,6,38,11],[43,3,43,5],[43,6,43,11],[45,26,49,32],[45,34,49,34],[25,3,25,5],[25,6,25,11],[42,3,42,5],[42,6,42,11],[45,0,49,2],[45,12,49,12],[45,13,49,13],[45,15,49,15],[45,17,49,17],[45,19,49,19],[45,21,49,21],[45,23,49,23],[45,25,49,25],[45,3,45,5],[45,6,45,11],[46,3,46,5],[46,6,46,11],[40,15,44,15],[34,21,34,22],[35,17,39,17],[35,19,39,19],[35,21,39,21],[47,3,47,5],[47,6,47,11],[49,3,49,5],[49,6,49,11],[40,23,44,23],[40,0,44,2],[40,3,40,5],[40,6,40,11],[40,12,44,12],[40,13,44,13],[48,3,48,5],[48,6,48,11]]}
["Personalien",null,null,null,null,null,null,null,null,null,null,null,null,null,null,null,null,null,null,null,null,null,null,null,null,"Vorausetzungen",null,"Evaluationen",null,null,null,null,null,"Rating"]
["VORNAME",null,{"$f":"IF(ISBLANK(VLOOKUP(27,Tabelle3[],3,0)),\"-\",VLOOKUP(27,Tabelle3[],3,0))","v":"-"},null,null,null,"POSITION",null,null,"ADRESSE",{"$f":"IF(ISBLANK(VLOOKUP(27,Tabelle3[],5,0)),\"-\",VLOOKUP(27,Tabelle3[],5,0))","v":"-"},null,null,null,null,null,null,null,null,null,null,null,null,null,null,"\"Alter\" (Biologisch/Relative Age)",null,"Datum 1",null,null,"cm",null,"Kg",null,"AUSGEZEICHNET",5]
["NAME",null,{"$f":"IF(ISBLANK(VLOOKUP(27,Tabelle3[],2,0)),\"-\",VLOOKUP(27,Tabelle3[],2,0))","v":"-"},null,null,null,"STOCK",null,null,"WOHNORT",{"$f":"IF(ISBLANK(VLOOKUP(27,Tabelle3[],7,0)),\"-\",VLOOKUP(27,Tabelle3[],7,0))","v":"-"},{"$f":"IF(ISBLANK(VLOOKUP(27,Tabelle3[],6,0)),\"-\",VLOOKUP(27,Tabelle3[],6,0))","v":"-"},null,null,null,null,null,null,null,null,null,null,null,null,null,"Veranlagung",null,"Datum 2",null,null,"cm",null,"Kg",null,"GUT",4]
["GEB. DATUM",null,{"$f":"IF(ISBLANK(VLOOKUP(27,Tabelle3[],14,0)),\"-\",VLOOKUP(27,Tabelle3[],14,0))","v":"-"},{"$f":"IF(ISBLANK(VLOOKUP(27,Tabelle3[],15,0)),\"-\",VLOOKUP(27,Tabelle3[],15,0))","v":"-"},{"$f":"IF(ISBLANK(VLOOKUP(27,Tabelle3[],16,0)),\"-\",VLOOKUP(27,Tabelle3[],16,0))","v":"-"},null,"GRÖSSE",null,"cm (Final)","CLUB",{"$f":"IF(ISBLANK(VLOOKUP(27,Tabelle3[],8,0)),\"-\",VLOOKUP(27,Tabelle3[],8,0))","v":"-"},null,null,null,null,null,null,null,null,null,null,null,null,null,null,"Umfeld",null,"Datum 3",null,null,"cm",null,"Kg",null,"DURCHSCHNITT",3]
["SEX",null,{"$f":"IF(ISBLANK(VLOOKUP(27,Tabelle3[],13,0)),\"-\",VLOOKUP(27,Tabelle3[],13,0))","v":"-"},null,null,null,"GEWICHT",null,"Kg (Final)","E-Mail",{"$f":"IF(ISBLANK(VLOOKUP(27,Tabelle3[],9,0)),\"-\",VLOOKUP(27,Tabelle3[],9,0))","v":"-"},null,null,null,null,null,null,null,null,null,null,null,null,null,null,null,null,"Datum 4",null,null,"cm",null,"Kg",null,"MANGELHAFT",2]
[null,null,null,null,null,null,null,null,null,null,null,null,null,null,null,null,null,null,null,null,null,null,null,null,null,null,null,"Datum 5",null,null,"cm",null,"Kg",null,"UNGENÜGEND",1]
["Vision",null,"xxx"]
["Ziele",null,"xxx"]
["Stärken",null,"xxx"]
[]
["EVALUATION (COACH / SPIELERIN)",null,null,null,null,null,null,null,null,null,null,null,null,null,null,null,null,null,null,null,null,null,null,null,null,"SMART"]
[{"$f":"Skillserleuterungen_FTEM!A3","v":"TEAM"},null,null,{"$f":"Skillserleuterungen_FTEM!B3","v":"FÄHIGKEIT"},null,null,{"$f":"Skillserleuterungen_FTEM!C3","v":"BEOBACHTUNG"},null,null,null,null,null,"Final","Datum1",null,"Datum2",null,"Datum3",null,"Datum4",null,"Datum5",null,"Player",null,"ZIEL","MASSNAHME:\nSPEZIFISCH,  MESSBAR, REALISITISCH",null,null,null,null,null,null,"TERMIN","ZIEL-KONTROLLE","Datum"]
[{"$f":"Skillserleuterungen_FTEM!A4","v":"TEAM"},null,null,{"$f":"IF($H$2=\"G\",Skillserleuterungen_FTEM!F4,Skillserleuterungen_FTEM!B4)","v":"Kommunikation"},null,null,{"$f":"IF($H$2=\"G\",Skillserleuterungen_FTEM!G4,Skillserleuterungen_FTEM!C4)","v":"pflegt einen offenen, respektvollen Umgang, Vertrauensbasis als Grundlage, trägt Konflikte aus ohne die Stabilität der Gruppe zu gefährden, kommuniziert mit Mitspielerinnen, Trainern und Funktionären gleichermassen wertschätzend"},null,null,{"$f":"IF($H$2=\"G\",Skillserleuterungen_FTEM!#REF!,Skillserleuterungen_FTEM!#REF!)","v":{"$error":"#REF!"}},null,null,null,{"$f":"IFERROR(AVERAGE(O13:O17),\"-\")","v":"-"},null,{"$f":"IFERROR(AVERAGE(Q13:Q17),\"-\")","v":"-"},null,{"$f":"IFERROR(AVERAGE(S13:S17),\"-\")","v":"-"},null,{"$f":"IFERROR(AVERAGE(U13:U17),\"-\")","v":"-"},null,null,null,{"$f":"IFERROR(AVERAGE(Y13:Y17),\"-\")","v":"-"}]
[null,null,null,{"$f":"IF($H$2=\"G\",Skillserleuterungen_FTEM!F5,Skillserleuterungen_FTEM!B5)","v":"Teamfähigkeit"},null,null,{"$f":"IF($H$2=\"G\",Skillserleuterungen_FTEM!G5,Skillserleuterungen_FTEM!C5)","v":"Integration in die Gruppe, gemeinsame Ziele bestimmen und verfolgen können, WIR vor dem ICH, trägt zu einem guten Team-Spirit und Arbeitsklima bei"},null,null,{"$f":"IF($H$2=\"G\",Skillserleuterungen_FTEM!#REF!,Skillserleuterungen_FTEM!#REF!)","v":{"$error":"#REF!"}}]
[null,null,null,{"$f":"IF($H$2=\"G\",Skillserleuterungen_FTEM!F6,Skillserleuterungen_FTEM!B6)","v":"Leadership"},null,null,{"$f":"IF($H$2=\"G\",Skillserleuterungen_FTEM!G6,Skillserleuterungen_FTEM!C6)","v":"übernimmt Verantwortung in der Gruppe, versucht Team und Mitspielerinnen besser zu machen, nimmt positiven Einfluss auf die Gruppendynamik"},null,null,{"$f":"IF($H$2=\"G\",Skillserleuterungen_FTEM!#REF!,Skillserleuterungen_FTEM!#REF!)","v":{"$error":"#REF!"}}]
[null,null,null,{"$f":"IF($H$2=\"G\",Skillserleuterungen_FTEM!F7,Skillserleuterungen_FTEM!B7)","v":"Rollenverteilung"},null,null,{"$f":"IF($H$2=\"G\",Skillserleuterungen_FTEM!G7,Skillserleuterungen_FTEM!C7)","v":"kennt ihre Rolle und füllt diese aus, ist sich ihrer Stellung im Team und im System bewusst, stellt eigene Kompetenzen in den Dienst des Teams"},null,null,{"$f":"IF($H$2=\"G\",Skillserleuterungen_FTEM!#REF!,Skillserleuterungen_FTEM!#REF!)","v":{"$error":"#REF!"}}]
[null,null,null,{"$f":"IF($H$2=\"G\",Skillserleuterungen_FTEM!F8,Skillserleuterungen_FTEM!B8)","v":"Respekt"},null,null,{"$f":"IF($H$2=\"G\",Skillserleuterungen_FTEM!G8,Skillserleuterungen_FTEM!C8)","v":"Respektvoller Umgang mit Mitspielerinnen, Trainern, Gegnern, Schiedsrichter und Staff; achtet die Regeln, Fairplayprinzipien (inkl. Anti-Doping)"},null,null,{"$f":"IF($H$2=\"G\",Skillserleuterungen_FTEM!#REF!,Skillserleuterungen_FTEM!#REF!)","v":{"$error":"#REF!"}}]
[{"$f":"Skillserleuterungen_FTEM!A9","v":"ON ICE"},null,null,{"$f":"Skillserleuterungen_FTEM!B9","v":"FÄHIGKEIT"},null,null,{"$f":"Skillserleuterungen_FTEM!C9","v":"BEOBACHTUNG"},null,null,null,null,null,null,"Datum1",null,"Datum2",null,"Datum3",null,"Datum4",null,"Datum5",null,"Player",null,"ZIEL","MASSNAHME:\nSPEZIFISCH,  MESSBAR, REALISITISCH",null,null,null,null,null,null,"TERMIN","ZIEL-KONTROLLE","Datum"]
[{"$f":"Skillserleuterungen_FTEM!A10","v":"SKATING"},null,null,{"$f":"IF($H$2=\"G\",Skillserleuterungen_FTEM!F10,Skillserleuterungen_FTEM!B10)","v":"Footspeed"},null,null,{"$f":"IF($H$2=\"G\",Skillserleuterungen_FTEM!G10,Skillserleuterungen_FTEM!C10)","v":"Beschleunigung, Antritt, erste 3 Schritte Explosivität, Frequenz"},null,null,{"$f":"IF($H$2=\"G\",Skillserleuterungen_FTEM!#REF!,Skillserleuterungen_FTEM!#REF!)","v":{"$error":"#REF!"}},null,null,null,{"$f":"IFERROR(AVERAGE(O19:O23),\"-\")","v":"-"},null,{"$f":"IFERROR(AVERAGE(Q19:Q23),\"-\")","v":"-"},null,{"$f":"IFERROR(AVERAGE(S19:S23),\"-\")","v":"-"},null,{"$f":"IFERROR(AVERAGE(U19:U23),\"-\")","v":"-"},null,{"$f":"IFERROR(AVERAGE(W19:W23),\"-\")","v":"-"},null,{"$f":"IFERROR(AVERAGE(Y19:Y23),\"-\")","v":"-"}]
[null,null,null,{"$f":"IF($H$2=\"G\",Skillserleuterungen_FTEM!F11,Skillserleuterungen_FTEM!B11)","v":"Topspeed"},null,null,{"$f":"IF($H$2=\"G\",Skillserleuterungen_FTEM!G11,Skillserleuterungen_FTEM!C11)","v":"Schnelligkeit, Gleitfähigkeit, vorwärts und rückwärts, Ökonomie"},null,null,{"$f":"IF($H$2=\"G\",Skillserleuterungen_FTEM!#REF!,Skillserleuterungen_FTEM!#REF!)","v":{"$error":"#REF!"}}]
[null,null,null,{"$f":"IF($H$2=\"G\",Skillserleuterungen_FTEM!F12,Skillserleuterungen_FTEM!B12)","v":"Agilität"},null,null,{"$f":"IF($H$2=\"G\",Skillserleuterungen_FTEM!G12,Skillserleuterungen_FTEM!C12)","v":"Richtungsänderung, Drehung, Stop und Start, \"Nummelin\""},null,null,{"$f":"IF($H$2=\"G\",Skillserleuterungen_FTEM!#REF!,Skillserleuterungen_FTEM!#REF!)","v":{"$error":"#REF!"}},null,null,null,{"$f":"IFERROR(AVERAGE(O21:O23),\"-\")","v":"-"},null,{"$f":"IFERROR(AVERAGE(Q21:Q23),\"-\")","v":"-"},null,{"$f":"IFERROR(AVERAGE(S21:S23),\"-\")","v":"-"},null,{"$f":"IFERROR(AVERAGE(U21:U23),\"-\")","v":"-"},null,{"$f":"IFERROR(AVERAGE(W21:W23),\"-\")","v":"-"},null,{"$f":"IFERROR(AVERAGE(Y21:Y23),\"-\")","v":"-"}]
[null,null,null,{"$f":"IF($H$2=\"G\",Skillserleuterungen_FTEM!F13,Skillserleuterungen_FTEM!B13)","v":"Balance"},null,null,{"$f":"IF($H$2=\"G\",Skillserleuterungen_FTEM!G13,Skillserleuterungen_FTEM!C13)","v":"Gleichgewicht, Standhaftfähigkeit, tiefe Position, ein- und beidbeinig"},null,null,{"$f":"IF($H$2=\"G\",Skillserleuterungen_FTEM!#REF!,Skillserleuterungen_FTEM!#REF!)","v":{"$error":"#REF!"}}]
[null,null,null,{"$f":"IF($H$2=\"G\",Skillserleuterungen_FTEM!F14,Skillserleuterungen_FTEM!B14)","v":"Backwards Skating"},null,null,{"$f":"IF($H$2=\"G\",Skillserleuterungen_FTEM!G14,Skillserleuterungen_FTEM!C14)","v":"Beschleunigung, Geschwindigkeit, Balance"},null,null,{"$f":"IF($H$2=\"G\",Skillserleuterungen_FTEM!#REF!,Skillserleuterungen_FTEM!#REF!)","v":{"$error":"#REF!"}}]
[{"$f":"Skillserleuterungen_FTEM!A15","v":"SKILLS"},null,null,{"$f":"IF($H$2=\"G\",Skillserleuterungen_FTEM!F15,Skillserleuterungen_FTEM!B15)","v":"Schiessen"},null,null,{"$f":"IF($H$2=\"G\",Skillserleuterungen_FTEM!G15,Skillserleuterungen_FTEM!C15)","v":"Effizienz (no space no time), Variantenreichtum, Überraschungsgrad (Quick Release), Präzision, Härte, (taktische Abschlüsse)"},null,null,{"$f":"IF($H$2=\"G\",Skillserleuterungen_FTEM!#REF!,Skillserleuterungen_FTEM!#REF!)","v":{"$error":"#REF!"}},null,null,null,{"$f":"IFERROR(AVERAGE(O24:O29),\"-\")","v":"-"},null,{"$f":"IFERROR(AVERAGE(Q24:Q29),\"-\")","v":"-"},null,{"$f":"IFERROR(AVERAGE(S24:S29),\"-\")","v":"-"},null,{"$f":"IFERROR(AVERAGE(U24:U29),\"-\")","v":"-"},null,{"$f":"IFERROR(AVERAGE(W24:W29),\"-\")","v":"-"},null,{"$f":"IFERROR(AVERAGE(Y24:Y29),\"-\")","v":"-"}]
[null,null,null,{"$f":"IF($H$2=\"G\",Skillserleuterungen_FTEM!F16,Skillserleuterungen_FTEM!B16)","v":"Passen"},null,null,{"$f":"IF($H$2=\"G\",Skillserleuterungen_FTEM!G16,Skillserleuterungen_FTEM!C16)","v":"Passabgabe (Distanz, Flippass Backhand), Passannahme (Präzision, Timing, Vorhand, Rückhand, Schlittschuh), Puckspeed "},null,null,{"$f":"IF($H$2=\"G\",Skillserleuterungen_FTEM!#REF!,Skillserleuterungen_FTEM!#REF!)","v":{"$error":"#REF!"}}]
[null,null,null,{"$f":"IF($H$2=\"G\",Skillserleuterungen_FTEM!F17,Skillserleuterungen_FTEM!B17)","v":"Stockarbeit"},null,null,{"$f":"IF($H$2=\"G\",Skillserleuterungen_FTEM!G17,Skillserleuterungen_FTEM!C17)","v":"Stock zum Puck, Passlinie unterbinden, ablenken, Stockkontrolle Gegenspielerin"},null,null,{"$f":"IF($H$2=\"G\",Skillserleuterungen_FTEM!#REF!,Skillserleuterungen_FTEM!#REF!)","v":{"$error":"#REF!"}}]
[null,null,null,{"$f":"IF($H$2=\"G\",Skillserleuterungen_FTEM!F18,Skillserleuterungen_FTEM!B18)","v":"Puck besitzen "},null,null,{"$f":"IF($H$2=\"G\",Skillserleuterungen_FTEM!G18,Skillserleuterungen_FTEM!C18)","v":"Puckkontrolle, Dribblings, Puck schützen, Finten (Varianten: mit Schlittschuh, mit sowie ohne Bande), Face-Off"},null,null,{"$f":"IF($H$2=\"G\",Skillserleuterungen_FTEM!#REF!,Skillserleuterungen_FTEM!#REF!)","v":{"$error":"#REF!"}}]
[null,null,null,{"$f":"IF($H$2=\"G\",Skillserleuterungen_FTEM!F19,Skillserleuterungen_FTEM!B19)","v":"Körperspiel"},null,null,{"$f":"IF($H$2=\"G\",Skillserleuterungen_FTEM!G19,Skillserleuterungen_FTEM!C19)","v":"Phyisches Durchsetzungsvermögen, Zweikampf (offenes Eis/Bande), Checks nehmen/Head up, Battle Level, Hart aber fair"},null,null,{"$f":"IF($H$2=\"G\",Skillserleuterungen_FTEM!#REF!,Skillserleuterungen_FTEM!#REF!)","v":{"$error":"#REF!"}}]
[null,null,null,{"$f":"IF($H$2=\"G\",Skillserleuterungen_FTEM!F20,Skillserleuterungen_FTEM!B20)","v":"-"},null,null,{"$f":"IF($H$2=\"G\",Skillserleuterungen_FTEM!G20,Skillserleuterungen_FTEM!C20)","v":"-"},null,null,{"$f":"IF($H$2=\"G\",Skillserleuterungen_FTEM!#REF!,Skillserleuterungen_FTEM!#REF!)","v":{"$error":"#REF!"}}]
[{"$f":"Skillserleuterungen_FTEM!A21","v":"HOCKEY SENSE"},null,null,{"$f":"IF($H$2=\"G\",Skillserleuterungen_FTEM!F21,Skillserleuterungen_FTEM!B21)","v":"Spielintelligenz"},null,null,{"$f":"IF($H$2=\"G\",Skillserleuterungen_FTEM!G21,Skillserleuterungen_FTEM!C21)","v":"Freie Räume und Spielerin sehen und Überzahlsituationen kreieren, lösungsorientiert agieren bei allen Bedingungen, Headspeed"},null,null,{"$f":"IF($H$2=\"G\",Skillserleuterungen_FTEM!#REF!,Skillserleuterungen_FTEM!#REF!)","v":{"$error":"#REF!"}},null,null,null,{"$f":"IFERROR(AVERAGE(O30:O34),\"-\")","v":"-"},null,{"$f":"IFERROR(AVERAGE(Q30:Q34),\"-\")","v":"-"},null,{"$f":"IFERROR(AVERAGE(S30:S34),\"-\")","v":"-"},null,{"$f":"IFERROR(AVERAGE(U30:U34),\"-\")","v":"-"},null,{"$f":"IFERROR(AVERAGE(W30:W34),\"-\")","v":"-"},null,{"$f":"IFERROR(AVERAGE(Y30:Y34),\"-\")","v":"-"}]
[null,null,null,{"$f":"IF($H$2=\"G\",Skillserleuterungen_FTEM!F22,Skillserleuterungen_FTEM!B22)","v":"Offensives Bewusstsein"},null,null,{"$f":"IF($H$2=\"G\",Skillserleuterungen_FTEM!G22,Skillserleuterungen_FTEM!C22)","v":"Anspielbar, Antizipation der Spielsituationen, Freiräume für Mitspielerinnen öffnen, Abschlussorientiert sein, Gapspeed, gute Kommunikation"},null,null,{"$f":"IF($H$2=\"G\",Skillserleuterungen_FTEM!#REF!,Skillserleuterungen_FTEM!#REF!)","v":{"$error":"#REF!"}}]
[null,null,null,{"$f":"IF($H$2=\"G\",Skillserleuterungen_FTEM!F23,Skillserleuterungen_FTEM!B23)","v":"Defensiv Bewusstsein"},null,null,{"$f":"IF($H$2=\"G\",Skillserleuterungen_FTEM!G23,Skillserleuterungen_FTEM!C23)","v":"Inside Position halten, Slot beschützen, Mitspieler absichern/Support, Passlinie erkennen, Schüsse blockieren. Gapspeed, gute Komunikation"},null,null,{"$f":"IF($H$2=\"G\",Skillserleuterungen_FTEM!#REF!,Skillserleuterungen_FTEM!#REF!)","v":{"$error":"#REF!"}}]
[null,null,null,{"$f":"IF($H$2=\"G\",Skillserleuterungen_FTEM!F24,Skillserleuterungen_FTEM!B24)","v":"Puckmanagement"},null,null,{"$f":"IF($H$2=\"G\",Skillserleuterungen_FTEM!G24,Skillserleuterungen_FTEM!C24)","v":"Situationsadäquate Entscheidungen treffen, Support, Overload"},null,null,{"$f":"IF($H$2=\"G\",Skillserleuterungen_FTEM!#REF!,Skillserleuterungen_FTEM!#REF!)","v":{"$error":"#REF!"}}]
[null,null,null,{"$f":"IF($H$2=\"G\",Skillserleuterungen_FTEM!F25,Skillserleuterungen_FTEM!B25)","v":"Kreativität"},null,null,{"$f":"IF($H$2=\"G\",Skillserleuterungen_FTEM!G25,Skillserleuterungen_FTEM!C25)","v":"Überraschende Lösungen, Torriecher"},null,null,{"$f":"IF($H$2=\"G\",Skillserleuterungen_FTEM!#REF!,Skillserleuterungen_FTEM!#REF!)","v":{"$error":"#REF!"}}]
[{"$f":"Skillserleuterungen_FTEM!A26","v":"PERSONALITY"},null,null,{"$f":"Skillserleuterungen_FTEM!B26","v":"FÄHIGKEIT"},null,null,{"$f":"Skillserleuterungen_FTEM!C26","v":"BEOBACHTUNG"},null,null,null,null,null,null,"Datum1",null,"Datum2",null,"Datum3",null,"Datum4",null,"Datum5",null,"Player",null,"ZIEL","MASSNAHME:\nSPEZIFISCH,  MESSBAR, REALISITISCH",null,null,null,null,null,null,"TERMIN","ZIEL-KONTROLLE","Datum"]
[{"$f":"Skillserleuterungen_FTEM!A27","v":"PERSÖNLICHKEIT"},null,null,{"$f":"IF($H$2=\"G\",Skillserleuterungen_FTEM!F27,Skillserleuterungen_FTEM!B27)","v":"Selbstbewusstsein"},null,null,{"$f":"IF($H$2=\"G\",Skillserleuterungen_FTEM!G27,Skillserleuterungen_FTEM!C27)","v":"hat das nötige Selbstvertrauen,\"I can do it\"-Haltung, kann eigene Fähigkeiten einschätzen (kennt eigene Stärken/Schwächen), kann ihre Stärken konstant einsetzen, agiert mutig und nimmt kalkulierte Risiken"},null,null,{"$f":"IF($H$2=\"G\",Skillserleuterungen_FTEM!#REF!,Skillserleuterungen_FTEM!#REF!)","v":{"$error":"#REF!"}},null,null,null,{"$f":"IFERROR(AVERAGE(O36:O40),\"-\")","v":"-"},null,{"$f":"IFERROR(AVERAGE(Q36:Q40),\"-\")","v":"-"},null,{"$f":"IFERROR(AVERAGE(S36:S40),\"-\")","v":"-"},null,{"$f":"IFERROR(AVERAGE(U36:U40),\"-\")","v":"-"},null,{"$f":"IFERROR(AVERAGE(W36:W40),\"-\")","v":"-"},null,{"$f":"IFERROR(AVERAGE(Y36:Y40),\"-\")","v":"-"}]
[null,null,null,{"$f":"IF($H$2=\"G\",Skillserleuterungen_FTEM!F28,Skillserleuterungen_FTEM!B28)","v":"Lernfähigkeit"},null,null,{"$f":"IF($H$2=\"G\",Skillserleuterungen_FTEM!G28,Skillserleuterungen_FTEM!C28)","v":"hat eine gute Auffassungsgabe (nimmt auf und kann umsetzen), reflektiert eigenes Handeln, versucht aus Fehlern zu lernen und kann Massnahmen ableiten"},null,null,{"$f":"IF($H$2=\"G\",Skillserleuterungen_FTEM!#REF!,Skillserleuterungen_FTEM!#REF!)","v":{"$error":"#REF!"}}]
[null,null,null,{"$f":"IF($H$2=\"G\",Skillserleuterungen_FTEM!F29,Skillserleuterungen_FTEM!B29)","v":"Eigenverantwortung"},null,null,{"$f":"IF($H$2=\"G\",Skillserleuterungen_FTEM!G29,Skillserleuterungen_FTEM!C29)","v":"übernimmt Verantwortung für eigene Leistungen und Entwicklung, handelt selbständig, achtet auf Details, zeigt grosses Engagement in allen Bereichen"},null,null,{"$f":"IF($H$2=\"G\",Skillserleuterungen_FTEM!#REF!,Skillserleuterungen_FTEM!#REF!)","v":{"$error":"#REF!"}}]
[null,null,null,{"$f":"IF($H$2=\"G\",Skillserleuterungen_FTEM!F30,Skillserleuterungen_FTEM!B30)","v":"Motivation"},null,null,{"$f":"IF($H$2=\"G\",Skillserleuterungen_FTEM!G30,Skillserleuterungen_FTEM!C30)","v":"Intrinsischer Antrieb, will sich ständig weiterentwickeln und lernen, will die Erste sein und Erfolg haben, gibt nie auf und lässt sich auch durch Misserfolge nicht vom Weg abbringen"},null,null,{"$f":"IF($H$2=\"G\",Skillserleuterungen_FTEM!#REF!,Skillserleuterungen_FTEM!#REF!)","v":{"$error":"#REF!"}}]
[null,null,null,{"$f":"IF($H$2=\"G\",Skillserleuterungen_FTEM!F31,Skillserleuterungen_FTEM!B31)","v":"Performance Lifestyle"},null,null,{"$f":"IF($H$2=\"G\",Skillserleuterungen_FTEM!G31,Skillserleuterungen_FTEM!C31)","v":"managt Alltag und Umfeld nach dem Leistungsprinzip, hartnäckig, beharrlich und zielgerichtet, Fokus auf eigene Leistung, zeigt Biss und kann sich auch gegen Widerstände durchsetzen, Herausforderungen spornen sie an"},null,null,{"$f":"IF($H$2=\"G\",Skillserleuterungen_FTEM!#REF!,Skillserleuterungen_FTEM!#REF!)","v":{"$error":"#REF!"}}]
[{"$f":"Skillserleuterungen_FTEM!A32","v":"MENTALE STÄRKE"},null,null,{"$f":"IF($H$2=\"G\",Skillserleuterungen_FTEM!F32,Skillserleuterungen_FTEM!B32)","v":"Einsatzbereitschaft"},null,null,{"$f":"IF($H$2=\"G\",Skillserleuterungen_FTEM!G32,Skillserleuterungen_FTEM!C32)","v":"zeigt im Spiel und im Training hohe Intensität, gibt immer ihr Maximum und will ihre Limiten pushen, zeigt Leidenschaft, ist um hohe Trainingsqualität bemüht"},null,null,{"$f":"IF($H$2=\"G\",Skillserleuterungen_FTEM!#REF!,Skillserleuterungen_FTEM!#REF!)","v":{"$error":"#REF!"}},null,null,null,{"$f":"IFERROR(AVERAGE(O41:O45),\"-\")","v":"-"},null,{"$f":"IFERROR(AVERAGE(Q41:Q45),\"-\")","v":"-"},null,{"$f":"IFERROR(AVERAGE(S41:S45),\"-\")","v":"-"},null,{"$f":"IFERROR(AVERAGE(U41:U45),\"-\")","v":"-"},null,{"$f":"IFERROR(AVERAGE(W41:W45),\"-\")","v":"-"},null,{"$f":"IFERROR(AVERAGE(Y41:Y45),\"-\")","v":"-"}]
[null,null,null,{"$f":"IF($H$2=\"G\",Skillserleuterungen_FTEM!F33,Skillserleuterungen_FTEM!B33)","v":"Vorbereitung"},null,null,{"$f":"IF($H$2=\"G\",Skillserleuterungen_FTEM!G33,Skillserleuterungen_FTEM!C33)","v":"bewusste und gezielte Vorbereitung, mental wie auch physisch, verfügt über einen effizienten Ablauf zur Erreichung des idealen Leistungszustand (ILZ)"},null,null,{"$f":"IF($H$2=\"G\",Skillserleuterungen_FTEM!#REF!,Skillserleuterungen_FTEM!#REF!)","v":{"$error":"#REF!"}}]
[null,null,null,{"$f":"IF($H$2=\"G\",Skillserleuterungen_FTEM!F34,Skillserleuterungen_FTEM!B34)","v":"Selbstcoaching"},null,null,{"$f":"IF($H$2=\"G\",Skillserleuterungen_FTEM!G34,Skillserleuterungen_FTEM!C34)","v":"verfügt über gute Konzentrationsfähigkeit, kann während Spiel/Training ihren ILZ halten, kann mentale Grundtechniken anwenden, widerstandsfähig gegen negative Gedanken und Einflüsse, ist sich ihrer Körpersprache bewusst und kann diese regulieren"},null,null,{"$f":"IF($H$2=\"G\",Skillserleuterungen_FTEM!#REF!,Skillserleuterungen_FTEM!#REF!)","v":{"$error":"#REF!"}}]
[null,null,null,{"$f":"IF($H$2=\"G\",Skillserleuterungen_FTEM!F35,Skillserleuterungen_FTEM!B35)","v":"Energiemanagement"},null,null,{"$f":"IF($H$2=\"G\",Skillserleuterungen_FTEM!G35,Skillserleuterungen_FTEM!C35)","v":"kann eigene Energie regulieren, bereit zur Regeneration, weiss wann sie \"Vollgas\" geben muss und wann abschalten, On/Off-Schalter"},null,null,{"$f":"IF($H$2=\"G\",Skillserleuterungen_FTEM!#REF!,Skillserleuterungen_FTEM!#REF!)","v":{"$error":"#REF!"}}]
[null,null,null,{"$f":"IF($H$2=\"G\",Skillserleuterungen_FTEM!F36,Skillserleuterungen_FTEM!B36)","v":"Emotionskontrolle"},null,null,{"$f":"IF($H$2=\"G\",Skillserleuterungen_FTEM!G36,Skillserleuterungen_FTEM!C36)","v":"kann eigene Emotionen und Impulse regulieren, behält auch unter Druck die Kontrolle, kann auch in emotional anspruchsvollen oder frustrierenden Situationen angemessen agieren"},null,null,{"$f":"IF($H$2=\"G\",Skillserleuterungen_FTEM!#REF!,Skillserleuterungen_FTEM!#REF!)","v":{"$error":"#REF!"}}]
[{"$f":"Skillserleuterungen_FTEM!A37","v":"PHYSE"},null,null,{"$f":"IF($H$2=\"G\",Skillserleuterungen_FTEM!F37,Skillserleuterungen_FTEM!B37)","v":"Leistungserzeugung"},null,null,{"$f":"IF($H$2=\"G\",Skillserleuterungen_FTEM!G37,Skillserleuterungen_FTEM!C37)","v":"verfügt über die nötige Power/Kraft/Schnelligkeit in den Beinen und im Oberkörper (Neuromuskuläre Faktoren)"},null,null,{"$f":"IF($H$2=\"G\",Skillserleuterungen_FTEM!#REF!,Skillserleuterungen_FTEM!#REF!)","v":{"$error":"#REF!"}},null,null,null,{"$f":"IFERROR(AVERAGE(O46:O50),\"-\")","v":"-"},null,{"$f":"IFERROR(AVERAGE(Q46:Q50),\"-\")","v":"-"},null,{"$f":"IFERROR(AVERAGE(S46:S50),\"-\")","v":"-"},null,{"$f":"IFERROR(AVERAGE(U46:U50),\"-\")","v":"-"},null,{"$f":"IFERROR(AVERAGE(W46:W50),\"-\")","v":"-"},null,{"$f":"IFERROR(AVERAGE(Y46:Y50),\"-\")","v":"-"}]
[null,null,null,{"$f":"IF($H$2=\"G\",Skillserleuterungen_FTEM!F38,Skillserleuterungen_FTEM!B38)","v":"sporartspez. Ermüdungsresistenz"},null,null,{"$f":"IF($H$2=\"G\",Skillserleuterungen_FTEM!G38,Skillserleuterungen_FTEM!C38)","v":"Ist fähig  die Power/Kraft/Schnelligkeit innerhalb des Einsatzes lange aufrechtzuerhalten und kann sich zwischen den Einsätzen jeweils vollkommen erholen (Metabolische und kardiovaskuläre Faktoren)"},null,null,{"$f":"IF($H$2=\"G\",Skillserleuterungen_FTEM!#REF!,Skillserleuterungen_FTEM!#REF!)","v":{"$error":"#REF!"}}]
[null,null,null,{"$f":"IF($H$2=\"G\",Skillserleuterungen_FTEM!F39,Skillserleuterungen_FTEM!B39)","v":"Gesundheit / Prävention"},null,null,{"$f":"IF($H$2=\"G\",Skillserleuterungen_FTEM!G39,Skillserleuterungen_FTEM!C39)","v":"verfügt über die nötige Stabilität (z.B. Beinachsenstabilität) und Beweglichkeit in den zentralen Gelenken"},null,null,{"$f":"IF($H$2=\"G\",Skillserleuterungen_FTEM!#REF!,Skillserleuterungen_FTEM!#REF!)","v":{"$error":"#REF!"}}]
[null,null,null,{"$f":"IF($H$2=\"G\",Skillserleuterungen_FTEM!F40,Skillserleuterungen_FTEM!B40)","v":"Bewegungskompetenzen"},null,null,{"$f":"IF($H$2=\"G\",Skillserleuterungen_FTEM!G40,Skillserleuterungen_FTEM!C40)","v":"beherrscht die grundlegenden Bewegungsfertigkeiten, die eine unerlässliche Zubringerfunktion für die sportspezifischen \"Skills\" darstellt sowie zur nötigen Bewegungseffizienz führt"},null,null,{"$f":"IF($H$2=\"G\",Skillserleuterungen_FTEM!#REF!,Skillserleuterungen_FTEM!#REF!)","v":{"$error":"#REF!"}}]
[null,null,null,{"$f":"IF($H$2=\"G\",Skillserleuterungen_FTEM!F41,Skillserleuterungen_FTEM!B41)","v":"Robustheit"},null,null,{"$f":"IF($H$2=\"G\",Skillserleuterungen_FTEM!G41,Skillserleuterungen_FTEM!C41)","v":"verfügt über die nötige Grundkraft (Körperspannung), um sich in Zweikämpfen durchzusetzen und bei Zusammestössen standzuhalten"},null,null,{"$f":"IF($H$2=\"G\",Skillserleuterungen_FTEM!#REF!,Skillserleuterungen_FTEM!#REF!)","v":{"$error":"#REF!"}}]

{"sheet":"28","index":31,"n_rows":50,"n_cols":36,"rows_kept":50,"cut":false,"hidden":false,"merged":[[13,3,13,5],[14,3,14,5],[15,3,15,5],[13,6,13,11],[14,6,14,11],[15,6,15,11],[21,3,21,5],[21,6,21,11],[26,3,26,5],[26,6,26,11],[0,0,0,24],[0,25,0,26],[0,27,0,32],[0,33,0,35],[29,25,33,25],[29,26,33,32],[29,34,33,34],[35,25,39,25],[35,26,39,32],[35,34,39,34],[1,0,1,1],[1,2,1,5],[1,10,1,24],[2,0,2,1],[2,2,2,5],[2,11,2,24],[6,0,6,1],[6,2,6,35],[7,0,7,1],[7,2,7,35],[8,0,8,1],[8,2,8,35],[3,0,3,1],[3,10,3,24],[4,0,4,1],[4,2,4,5],[4,10,4,24],[10,0,10,24],[10,25,10,35],[40,25,44,25],[40,26,44,32],[40,34,44,34],[12,25,16,25],[12,26,16,32],[12,34,16,34],[18,25,22,25],[18,26,22,32],[18,34,22,34],[23,25,28,25],[23,26,28,32],[23,34,28,34],[17,26,17,32],[11,0,11,2],[11,3,11,5],[11,13,11,14],[11,15,11,16],[11,17,11,18],[11,19,11,20],[11,21,11,22],[11,23,11,24],[11,26,11,32],[11,6,11,11],[12,23,16,23],[16,3,16,5],[16,6,16,11],[17,0,17,2],[17,3,17,5],[17,6,17,11],[17,13,17,14],[17,15,17,16],[17,17,17,18],[17,19,17,20],[17,21,17,22],[17,23,17,24],[12,0,16,2],[12,3,12,5],[12,6,12,11],[12,12,16,12],[12,13,16,13],[12,15,16,15],[12,17,16,17],[12,19,16,19],[12,21,16,21],[18,15,22,15],[18,17,22,17],[18,19,22,19],[18,21,22,21],[18,23,22,23],[22,3,22,5],[22,6,22,11],[23,0,28,2],[23,3,23,5],[23,6,23,11],[23,12,28,12],[23,13,28,13],[23,15,28,15],[23,17,28,17],[18,0,22,2],[18,3,18,5],[18,6,18,11],[18,12,22,12],[18,13,22,13],[19,3,19,5],[19,6,19,11],[20,3,20,5],[20,6,20,11],[23,19,28,19],[23,21,28,21],[23,23,28,23],[24,3,24,5],[24,6,24,11],[28,3,28,5],[28,6,28,11],[33,3,33,5],[33,6,33,11],[29,23,33,23],[29,17,33,17],[29,19,33,19],[29,21,33,21],[30,3,30,5],[30,6,30,11],[31,3,31,5],[31,6,31,11],[27,3,27,5],[27,6,27,11],[32,3,32,5],[32,6,32,11],[29,0,33,2],[29,3,29,5],[29,6,29,11],[29,12,33,12],[29,13,33,13],[29,15,33,15],[34,23,34,24],[34,26,34,32],[35,0,39,2],[35,3,35,5],[35,6,35,11],[35,12,39,12],[35,13,39,13],[35,15,39,15],[39,3,39,5],[39,6,39,11],[35,23,39,23],[34,0,34,2],[34,3,34,5],[34,6,34,11],[34,13,34,14],[34,15,34,16],[34,17,34,18],[34,19,34,20],[36,3,36,5],[36,6,36,11],[37,3,37,5],[37,6,37,11],[40,17,44,17],[40,19,44,19],[40,21,44,21],[41,3,41,5],[41,6,41,11],[44,3,44,5],[44,6,44,11],[38,3,38,5],[38,6,38,11],[43,3,43,5],[43,6,43,11],[45,26,49,32],[45,34,49,34],[25,3,25,5],[25,6,25,11],[42,3,42,5],[42,6,42,11],[45,0,49,2],[45,12,49,12],[45,13,49,13],[45,15,49,15],[45,17,49,17],[45,19,49,19],[45,21,49,21],[45,23,49,23],[45,25,49,25],[45,3,45,5],[45,6,45,11],[46,3,46,5],[46,6,46,11],[40,15,44,15],[34,21,34,22],[35,17,39,17],[35,19,39,19],[35,21,39,21],[47,3,47,5],[47,6,47,11],[49,3,49,5],[49,6,49,11],[40,23,44,23],[40,0,44,2],[40,3,40,5],[40,6,40,11],[40,12,44,12],[40,13,44,13],[48,3,48,5],[48,6,48,11]]}
["Personalien",null,null,null,null,null,null,null,null,null,null,null,null,null,null,null,null,null,null,null,null,null,null,null,null,"Vorausetzungen",null,"Evaluationen",null,null,null,null,null,"Rating"]
["VORNAME",null,{"$f":"IF(ISBLANK(VLOOKUP(28,Tabelle3[],3,0)),\"-\",VLOOKUP(28,Tabelle3[],3,0))","v":"-"},null,null,null,"POSITION",null,null,"ADRESSE",{"$f":"IF(ISBLANK(VLOOKUP(28,Tabelle3[],5,0)),\"-\",VLOOKUP(28,Tabelle3[],5,0))","v":"-"},null,null,null,null,null,null,null,null,null,null,null,null,null,null,"\"Alter\" (Biologisch/Relative Age)",null,"Datum 1",null,null,"cm",null,"Kg",null,"AUSGEZEICHNET",5]
["NAME",null,{"$f":"IF(ISBLANK(VLOOKUP(28,Tabelle3[],2,0)),\"-\",VLOOKUP(28,Tabelle3[],2,0))","v":"-"},null,null,null,"STOCK",null,null,"WOHNORT",{"$f":"IF(ISBLANK(VLOOKUP(28,Tabelle3[],7,0)),\"-\",VLOOKUP(28,Tabelle3[],7,0))","v":"-"},{"$f":"IF(ISBLANK(VLOOKUP(28,Tabelle3[],6,0)),\"-\",VLOOKUP(28,Tabelle3[],6,0))","v":"-"},null,null,null,null,null,null,null,null,null,null,null,null,null,"Veranlagung",null,"Datum 2",null,null,"cm",null,"Kg",null,"GUT",4]
["GEB. DATUM",null,{"$f":"IF(ISBLANK(VLOOKUP(28,Tabelle3[],14,0)),\"-\",VLOOKUP(28,Tabelle3[],14,0))","v":"-"},{"$f":"IF(ISBLANK(VLOOKUP(28,Tabelle3[],15,0)),\"-\",VLOOKUP(28,Tabelle3[],15,0))","v":"-"},{"$f":"IF(ISBLANK(VLOOKUP(28,Tabelle3[],16,0)),\"-\",VLOOKUP(28,Tabelle3[],16,0))","v":"-"},null,"GRÖSSE",null,"cm (Final)","CLUB",{"$f":"IF(ISBLANK(VLOOKUP(28,Tabelle3[],8,0)),\"-\",VLOOKUP(28,Tabelle3[],8,0))","v":"-"},null,null,null,null,null,null,null,null,null,null,null,null,null,null,"Umfeld",null,"Datum 3",null,null,"cm",null,"Kg",null,"DURCHSCHNITT",3]
["SEX",null,{"$f":"IF(ISBLANK(VLOOKUP(28,Tabelle3[],13,0)),\"-\",VLOOKUP(28,Tabelle3[],13,0))","v":"-"},null,null,null,"GEWICHT",null,"Kg (Final)","E-Mail",{"$f":"IF(ISBLANK(VLOOKUP(28,Tabelle3[],9,0)),\"-\",VLOOKUP(28,Tabelle3[],9,0))","v":"-"},null,null,null,null,null,null,null,null,null,null,null,null,null,null,null,null,"Datum 4",null,null,"cm",null,"Kg",null,"MANGELHAFT",2]
[null,null,null,null,null,null,null,null,null,null,null,null,null,null,null,null,null,null,null,null,null,null,null,null,null,null,null,"Datum 5",null,null,"cm",null,"Kg",null,"UNGENÜGEND",1]
["Vision",null,"xxx"]
["Ziele",null,"xxx"]
["Stärken",null,"xxx"]
[]
["EVALUATION (COACH / SPIELERIN)",null,null,null,null,null,null,null,null,null,null,null,null,null,null,null,null,null,null,null,null,null,null,null,null,"SMART"]
[{"$f":"Skillserleuterungen_FTEM!A3","v":"TEAM"},null,null,{"$f":"Skillserleuterungen_FTEM!B3","v":"FÄHIGKEIT"},null,null,{"$f":"Skillserleuterungen_FTEM!C3","v":"BEOBACHTUNG"},null,null,null,null,null,"Final","Datum1",null,"Datum2",null,"Datum3",null,"Datum4",null,"Datum5",null,"Player",null,"ZIEL","MASSNAHME:\nSPEZIFISCH,  MESSBAR, REALISITISCH",null,null,null,null,null,null,"TERMIN","ZIEL-KONTROLLE","Datum"]
[{"$f":"Skillserleuterungen_FTEM!A4","v":"TEAM"},null,null,{"$f":"IF($H$2=\"G\",Skillserleuterungen_FTEM!F4,Skillserleuterungen_FTEM!B4)","v":"Kommunikation"},null,null,{"$f":"IF($H$2=\"G\",Skillserleuterungen_FTEM!G4,Skillserleuterungen_FTEM!C4)","v":"pflegt einen offenen, respektvollen Umgang, Vertrauensbasis als Grundlage, trägt Konflikte aus ohne die Stabilität der Gruppe zu gefährden, kommuniziert mit Mitspielerinnen, Trainern und Funktionären gleichermassen wertschätzend"},null,null,{"$f":"IF($H$2=\"G\",Skillserleuterungen_FTEM!#REF!,Skillserleuterungen_FTEM!#REF!)","v":{"$error":"#REF!"}},null,null,null,{"$f":"IFERROR(AVERAGE(O13:O17),\"-\")","v":"-"},null,{"$f":"IFERROR(AVERAGE(Q13:Q17),\"-\")","v":"-"},null,{"$f":"IFERROR(AVERAGE(S13:S17),\"-\")","v":"-"},null,{"$f":"IFERROR(AVERAGE(U13:U17),\"-\")","v":"-"},null,null,null,{"$f":"IFERROR(AVERAGE(Y13:Y17),\"-\")","v":"-"}]
[null,null,null,{"$f":"IF($H$2=\"G\",Skillserleuterungen_FTEM!F5,Skillserleuterungen_FTEM!B5)","v":"Teamfähigkeit"},null,null,{"$f":"IF($H$2=\"G\",Skillserleuterungen_FTEM!G5,Skillserleuterungen_FTEM!C5)","v":"Integration in die Gruppe, gemeinsame Ziele bestimmen und verfolgen können, WIR vor dem ICH, trägt zu einem guten Team-Spirit und Arbeitsklima bei"},null,null,{"$f":"IF($H$2=\"G\",Skillserleuterungen_FTEM!#REF!,Skillserleuterungen_FTEM!#REF!)","v":{"$error":"#REF!"}}]
[null,null,null,{"$f":"IF($H$2=\"G\",Skillserleuterungen_FTEM!F6,Skillserleuterungen_FTEM!B6)","v":"Leadership"},null,null,{"$f":"IF($H$2=\"G\",Skillserleuterungen_FTEM!G6,Skillserleuterungen_FTEM!C6)","v":"übernimmt Verantwortung in der Gruppe, versucht Team und Mitspielerinnen besser zu machen, nimmt positiven Einfluss auf die Gruppendynamik"},null,null,{"$f":"IF($H$2=\"G\",Skillserleuterungen_FTEM!#REF!,Skillserleuterungen_FTEM!#REF!)","v":{"$error":"#REF!"}}]
[null,null,null,{"$f":"IF($H$2=\"G\",Skillserleuterungen_FTEM!F7,Skillserleuterungen_FTEM!B7)","v":"Rollenverteilung"},null,null,{"$f":"IF($H$2=\"G\",Skillserleuterungen_FTEM!G7,Skillserleuterungen_FTEM!C7)","v":"kennt ihre Rolle und füllt diese aus, ist sich ihrer Stellung im Team und im System bewusst, stellt eigene Kompetenzen in den Dienst des Teams"},null,null,{"$f":"IF($H$2=\"G\",Skillserleuterungen_FTEM!#REF!,Skillserleuterungen_FTEM!#REF!)","v":{"$error":"#REF!"}}]
[null,null,null,{"$f":"IF($H$2=\"G\",Skillserleuterungen_FTEM!F8,Skillserleuterungen_FTEM!B8)","v":"Respekt"},null,null,{"$f":"IF($H$2=\"G\",Skillserleuterungen_FTEM!G8,Skillserleuterungen_FTEM!C8)","v":"Respektvoller Umgang mit Mitspielerinnen, Trainern, Gegnern, Schiedsrichter und Staff; achtet die Regeln, Fairplayprinzipien (inkl. Anti-Doping)"},null,null,{"$f":"IF($H$2=\"G\",Skillserleuterungen_FTEM!#REF!,Skillserleuterungen_FTEM!#REF!)","v":{"$error":"#REF!"}}]
[{"$f":"Skillserleuterungen_FTEM!A9","v":"ON ICE"},null,null,{"$f":"Skillserleuterungen_FTEM!B9","v":"FÄHIGKEIT"},null,null,{"$f":"Skillserleuterungen_FTEM!C9","v":"BEOBACHTUNG"},null,null,null,null,null,null,"Datum1",null,"Datum2",null,"Datum3",null,"Datum4",null,"Datum5",null,"Player",null,"ZIEL","MASSNAHME:\nSPEZIFISCH,  MESSBAR, REALISITISCH",null,null,null,null,null,null,"TERMIN","ZIEL-KONTROLLE","Datum"]
[{"$f":"Skillserleuterungen_FTEM!A10","v":"SKATING"},null,null,{"$f":"IF($H$2=\"G\",Skillserleuterungen_FTEM!F10,Skillserleuterungen_FTEM!B10)","v":"Footspeed"},null,null,{"$f":"IF($H$2=\"G\",Skillserleuterungen_FTEM!G10,Skillserleuterungen_FTEM!C10)","v":"Beschleunigung, Antritt, erste 3 Schritte Explosivität, Frequenz"},null,null,{"$f":"IF($H$2=\"G\",Skillserleuterungen_FTEM!#REF!,Skillserleuterungen_FTEM!#REF!)","v":{"$error":"#REF!"}},null,null,null,{"$f":"IFERROR(AVERAGE(O19:O23),\"-\")","v":"-"},null,{"$f":"IFERROR(AVERAGE(Q19:Q23),\"-\")","v":"-"},null,{"$f":"IFERROR(AVERAGE(S19:S23),\"-\")","v":"-"},null,{"$f":"IFERROR(AVERAGE(U19:U23),\"-\")","v":"-"},null,{"$f":"IFERROR(AVERAGE(W19:W23),\"-\")","v":"-"},null,{"$f":"IFERROR(AVERAGE(Y19:Y23),\"-\")","v":"-"}]
[null,null,null,{"$f":"IF($H$2=\"G\",Skillserleuterungen_FTEM!F11,Skillserleuterungen_FTEM!B11)","v":"Topspeed"},null,null,{"$f":"IF($H$2=\"G\",Skillserleuterungen_FTEM!G11,Skillserleuterungen_FTEM!C11)","v":"Schnelligkeit, Gleitfähigkeit, vorwärts und rückwärts, Ökonomie"},null,null,{"$f":"IF($H$2=\"G\",Skillserleuterungen_FTEM!#REF!,Skillserleuterungen_FTEM!#REF!)","v":{"$error":"#REF!"}}]
[null,null,null,{"$f":"IF($H$2=\"G\",Skillserleuterungen_FTEM!F12,Skillserleuterungen_FTEM!B12)","v":"Agilität"},null,null,{"$f":"IF($H$2=\"G\",Skillserleuterungen_FTEM!G12,Skillserleuterungen_FTEM!C12)","v":"Richtungsänderung, Drehung, Stop und Start, \"Nummelin\""},null,null,{"$f":"IF($H$2=\"G\",Skillserleuterungen_FTEM!#REF!,Skillserleuterungen_FTEM!#REF!)","v":{"$error":"#REF!"}},null,null,null,{"$f":"IFERROR(AVERAGE(O21:O23),\"-\")","v":"-"},null,{"$f":"IFERROR(AVERAGE(Q21:Q23),\"-\")","v":"-"},null,{"$f":"IFERROR(AVERAGE(S21:S23),\"-\")","v":"-"},null,{"$f":"IFERROR(AVERAGE(U21:U23),\"-\")","v":"-"},null,{"$f":"IFERROR(AVERAGE(W21:W23),\"-\")","v":"-"},null,{"$f":"IFERROR(AVERAGE(Y21:Y23),\"-\")","v":"-"}]
[null,null,null,{"$f":"IF($H$2=\"G\",Skillserleuterungen_FTEM!F13,Skillserleuterungen_FTEM!B13)","v":"Balance"},null,null,{"$f":"IF($H$2=\"G\",Skillserleuterungen_FTEM!G13,Skillserleuterungen_FTEM!C13)","v":"Gleichgewicht, Standhaftfähigkeit, tiefe Position, ein- und beidbeinig"},null,null,{"$f":"IF($H$2=\"G\",Skillserleuterungen_FTEM!#REF!,Skillserleuterungen_FTEM!#REF!)","v":{"$error":"#REF!"}}]
[null,null,null,{"$f":"IF($H$2=\"G\",Skillserleuterungen_FTEM!F14,Skillserleuterungen_FTEM!B14)","v":"Backwards Skating"},null,null,{"$f":"IF($H$2=\"G\",Skillserleuterungen_FTEM!G14,Skillserleuterungen_FTEM!C14)","v":"Beschleunigung, Geschwindigkeit, Balance"},null,null,{"$f":"IF($H$2=\"G\",Skillserleuterungen_FTEM!#REF!,Skillserleuterungen_FTEM!#REF!)","v":{"$error":"#REF!"}}]
[{"$f":"Skillserleuterungen_FTEM!A15","v":"SKILLS"},null,null,{"$f":"IF($H$2=\"G\",Skillserleuterungen_FTEM!F15,Skillserleuterungen_FTEM!B15)","v":"Schiessen"},null,null,{"$f":"IF($H$2=\"G\",Skillserleuterungen_FTEM!G15,Skillserleuterungen_FTEM!C15)","v":"Effizienz (no space no time), Variantenreichtum, Überraschungsgrad (Quick Release), Präzision, Härte, (taktische Abschlüsse)"},null,null,{"$f":"IF($H$2=\"G\",Skillserleuterungen_FTEM!#REF!,Skillserleuterungen_FTEM!#REF!)","v":{"$error":"#REF!"}},null,null,null,{"$f":"IFERROR(AVERAGE(O24:O29),\"-\")","v":"-"},null,{"$f":"IFERROR(AVERAGE(Q24:Q29),\"-\")","v":"-"},null,{"$f":"IFERROR(AVERAGE(S24:S29),\"-\")","v":"-"},null,{"$f":"IFERROR(AVERAGE(U24:U29),\"-\")","v":"-"},null,{"$f":"IFERROR(AVERAGE(W24:W29),\"-\")","v":"-"},null,{"$f":"IFERROR(AVERAGE(Y24:Y29),\"-\")","v":"-"}]
[null,null,null,{"$f":"IF($H$2=\"G\",Skillserleuterungen_FTEM!F16,Skillserleuterungen_FTEM!B16)","v":"Passen"},null,null,{"$f":"IF($H$2=\"G\",Skillserleuterungen_FTEM!G16,Skillserleuterungen_FTEM!C16)","v":"Passabgabe (Distanz, Flippass Backhand), Passannahme (Präzision, Timing, Vorhand, Rückhand, Schlittschuh), Puckspeed "},null,null,{"$f":"IF($H$2=\"G\",Skillserleuterungen_FTEM!#REF!,Skillserleuterungen_FTEM!#REF!)","v":{"$error":"#REF!"}}]
[null,null,null,{"$f":"IF($H$2=\"G\",Skillserleuterungen_FTEM!F17,Skillserleuterungen_FTEM!B17)","v":"Stockarbeit"},null,null,{"$f":"IF($H$2=\"G\",Skillserleuterungen_FTEM!G17,Skillserleuterungen_FTEM!C17)","v":"Stock zum Puck, Passlinie unterbinden, ablenken, Stockkontrolle Gegenspielerin"},null,null,{"$f":"IF($H$2=\"G\",Skillserleuterungen_FTEM!#REF!,Skillserleuterungen_FTEM!#REF!)","v":{"$error":"#REF!"}}]
[null,null,null,{"$f":"IF($H$2=\"G\",Skillserleuterungen_FTEM!F18,Skillserleuterungen_FTEM!B18)","v":"Puck besitzen "},null,null,{"$f":"IF($H$2=\"G\",Skillserleuterungen_FTEM!G18,Skillserleuterungen_FTEM!C18)","v":"Puckkontrolle, Dribblings, Puck schützen, Finten (Varianten: mit Schlittschuh, mit sowie ohne Bande), Face-Off"},null,null,{"$f":"IF($H$2=\"G\",Skillserleuterungen_FTEM!#REF!,Skillserleuterungen_FTEM!#REF!)","v":{"$error":"#REF!"}}]
[null,null,null,{"$f":"IF($H$2=\"G\",Skillserleuterungen_FTEM!F19,Skillserleuterungen_FTEM!B19)","v":"Körperspiel"},null,null,{"$f":"IF($H$2=\"G\",Skillserleuterungen_FTEM!G19,Skillserleuterungen_FTEM!C19)","v":"Phyisches Durchsetzungsvermögen, Zweikampf (offenes Eis/Bande), Checks nehmen/Head up, Battle Level, Hart aber fair"},null,null,{"$f":"IF($H$2=\"G\",Skillserleuterungen_FTEM!#REF!,Skillserleuterungen_FTEM!#REF!)","v":{"$error":"#REF!"}}]
[null,null,null,{"$f":"IF($H$2=\"G\",Skillserleuterungen_FTEM!F20,Skillserleuterungen_FTEM!B20)","v":"-"},null,null,{"$f":"IF($H$2=\"G\",Skillserleuterungen_FTEM!G20,Skillserleuterungen_FTEM!C20)","v":"-"},null,null,{"$f":"IF($H$2=\"G\",Skillserleuterungen_FTEM!#REF!,Skillserleuterungen_FTEM!#REF!)","v":{"$error":"#REF!"}}]
[{"$f":"Skillserleuterungen_FTEM!A21","v":"HOCKEY SENSE"},null,null,{"$f":"IF($H$2=\"G\",Skillserleuterungen_FTEM!F21,Skillserleuterungen_FTEM!B21)","v":"Spielintelligenz"},null,null,{"$f":"IF($H$2=\"G\",Skillserleuterungen_FTEM!G21,Skillserleuterungen_FTEM!C21)","v":"Freie Räume und Spielerin sehen und Überzahlsituationen kreieren, lösungsorientiert agieren bei allen Bedingungen, Headspeed"},null,null,{"$f":"IF($H$2=\"G\",Skillserleuterungen_FTEM!#REF!,Skillserleuterungen_FTEM!#REF!)","v":{"$error":"#REF!"}},null,null,null,{"$f":"IFERROR(AVERAGE(O30:O34),\"-\")","v":"-"},null,{"$f":"IFERROR(AVERAGE(Q30:Q34),\"-\")","v":"-"},null,{"$f":"IFERROR(AVERAGE(S30:S34),\"-\")","v":"-"},null,{"$f":"IFERROR(AVERAGE(U30:U34),\"-\")","v":"-"},null,{"$f":"IFERROR(AVERAGE(W30:W34),\"-\")","v":"-"},null,{"$f":"IFERROR(AVERAGE(Y30:Y34),\"-\")","v":"-"}]
[null,null,null,{"$f":"IF($H$2=\"G\",Skillserleuterungen_FTEM!F22,Skillserleuterungen_FTEM!B22)","v":"Offensives Bewusstsein"},null,null,{"$f":"IF($H$2=\"G\",Skillserleuterungen_FTEM!G22,Skillserleuterungen_FTEM!C22)","v":"Anspielbar, Antizipation der Spielsituationen, Freiräume für Mitspielerinnen öffnen, Abschlussorientiert sein, Gapspeed, gute Kommunikation"},null,null,{"$f":"IF($H$2=\"G\",Skillserleuterungen_FTEM!#REF!,Skillserleuterungen_FTEM!#REF!)","v":{"$error":"#REF!"}}]
[null,null,null,{"$f":"IF($H$2=\"G\",Skillserleuterungen_FTEM!F23,Skillserleuterungen_FTEM!B23)","v":"Defensiv Bewusstsein"},null,null,{"$f":"IF($H$2=\"G\",Skillserleuterungen_FTEM!G23,Skillserleuterungen_FTEM!C23)","v":"Inside Position halten, Slot beschützen, Mitspieler absichern/Support, Passlinie erkennen, Schüsse blockieren. Gapspeed, gute Komunikation"},null,null,{"$f":"IF($H$2=\"G\",Skillserleuterungen_FTEM!#REF!,Skillserleuterungen_FTEM!#REF!)","v":{"$error":"#REF!"}}]
[null,null,null,{"$f":"IF($H$2=\"G\",Skillserleuterungen_FTEM!F24,Skillserleuterungen_FTEM!B24)","v":"Puckmanagement"},null,null,{"$f":"IF($H$2=\"G\",Skillserleuterungen_FTEM!G24,Skillserleuterungen_FTEM!C24)","v":"Situationsadäquate Entscheidungen treffen, Support, Overload"},null,null,{"$f":"IF($H$2=\"G\",Skillserleuterungen_FTEM!#REF!,Skillserleuterungen_FTEM!#REF!)","v":{"$error":"#REF!"}}]
[null,null,null,{"$f":"IF($H$2=\"G\",Skillserleuterungen_FTEM!F25,Skillserleuterungen_FTEM!B25)","v":"Kreativität"},null,null,{"$f":"IF($H$2=\"G\",Skillserleuterungen_FTEM!G25,Skillserleuterungen_FTEM!C25)","v":"Überraschende Lösungen, Torriecher"},null,null,{"$f":"IF($H$2=\"G\",Skillserleuterungen_FTEM!#REF!,Skillserleuterungen_FTEM!#REF!)","v":{"$error":"#REF!"}}]
[{"$f":"Skillserleuterungen_FTEM!A26","v":"PERSONALITY"},null,null,{"$f":"Skillserleuterungen_FTEM!B26","v":"FÄHIGKEIT"},null,null,{"$f":"Skillserleuterungen_FTEM!C26","v":"BEOBACHTUNG"},null,null,null,null,null,null,"Datum1",null,"Datum2",null,"Datum3",null,"Datum4",null,"Datum5",null,"Player",null,"ZIEL","MASSNAHME:\nSPEZIFISCH,  MESSBAR, REALISITISCH",null,null,null,null,null,null,"TERMIN","ZIEL-KONTROLLE","Datum"]
[{"$f":"Skillserleuterungen_FTEM!A27","v":"PERSÖNLICHKEIT"},null,null,{"$f":"IF($H$2=\"G\",Skillserleuterungen_FTEM!F27,Skillserleuterungen_FTEM!B27)","v":"Selbstbewusstsein"},null,null,{"$f":"IF($H$2=\"G\",Skillserleuterungen_FTEM!G27,Skillserleuterungen_FTEM!C27)","v":"hat das nötige Selbstvertrauen,\"I can do it\"-Haltung, kann eigene Fähigkeiten einschätzen (kennt eigene Stärken/Schwächen), kann ihre Stärken konstant einsetzen, agiert mutig und nimmt kalkulierte Risiken"},null,null,{"$f":"IF($H$2=\"G\",Skillserleuterungen_FTEM!#REF!,Skillserleuterungen_FTEM!#REF!)","v":{"$error":"#REF!"}},null,null,null,{"$f":"IFERROR(AVERAGE(O36:O40),\"-\")","v":"-"},null,{"$f":"IFERROR(AVERAGE(Q36:Q40),\"-\")","v":"-"},null,{"$f":"IFERROR(AVERAGE(S36:S40),\"-\")","v":"-"},null,{"$f":"IFERROR(AVERAGE(U36:U40),\"-\")","v":"-"},null,{"$f":"IFERROR(AVERAGE(W36:W40),\"-\")","v":"-"},null,{"$f":"IFERROR(AVERAGE(Y36:Y40),\"-\")","v":"-"}]
[null,null,null,{"$f":"IF($H$2=\"G\",Skillserleuterungen_FTEM!F28,Skillserleuterungen_FTEM!B28)","v":"Lernfähigkeit"},null,null,{"$f":"IF($H$2=\"G\",Skillserleuterungen_FTEM!G28,Skillserleuterungen_FTEM!C28)","v":"hat eine gute Auffassungsgabe (nimmt auf und kann umsetzen), reflektiert eigenes Handeln, versucht aus Fehlern zu lernen und kann Massnahmen ableiten"},null,null,{"$f":"IF($H$2=\"G\",Skillserleuterungen_FTEM!#REF!,Skillserleuterungen_FTEM!#REF!)","v":{"$error":"#REF!"}}]
[null,null,null,{"$f":"IF($H$2=\"G\",Skillserleuterungen_FTEM!F29,Skillserleuterungen_FTEM!B29)","v":"Eigenverantwortung"},null,null,{"$f":"IF($H$2=\"G\",Skillserleuterungen_FTEM!G29,Skillserleuterungen_FTEM!C29)","v":"übernimmt Verantwortung für eigene Leistungen und Entwicklung, handelt selbständig, achtet auf Details, zeigt grosses Engagement in allen Bereichen"},null,null,{"$f":"IF($H$2=\"G\",Skillserleuterungen_FTEM!#REF!,Skillserleuterungen_FTEM!#REF!)","v":{"$error":"#REF!"}}]
[null,null,null,{"$f":"IF($H$2=\"G\",Skillserleuterungen_FTEM!F30,Skillserleuterungen_FTEM!B30)","v":"Motivation"},null,null,{"$f":"IF($H$2=\"G\",Skillserleuterungen_FTEM!G30,Skillserleuterungen_FTEM!C30)","v":"Intrinsischer Antrieb, will sich ständig weiterentwickeln und lernen, will die Erste sein und Erfolg haben, gibt nie auf und lässt sich auch durch Misserfolge nicht vom Weg abbringen"},null,null,{"$f":"IF($H$2=\"G\",Skillserleuterungen_FTEM!#REF!,Skillserleuterungen_FTEM!#REF!)","v":{"$error":"#REF!"}}]
[null,null,null,{"$f":"IF($H$2=\"G\",Skillserleuterungen_FTEM!F31,Skillserleuterungen_FTEM!B31)","v":"Performance Lifestyle"},null,null,{"$f":"IF($H$2=\"G\",Skillserleuterungen_FTEM!G31,Skillserleuterungen_FTEM!C31)","v":"managt Alltag und Umfeld nach dem Leistungsprinzip, hartnäckig, beharrlich und zielgerichtet, Fokus auf eigene Leistung, zeigt Biss und kann sich auch gegen Widerstände durchsetzen, Herausforderungen spornen sie an"},null,null,{"$f":"IF($H$2=\"G\",Skillserleuterungen_FTEM!#REF!,Skillserleuterungen_FTEM!#REF!)","v":{"$error":"#REF!"}}]
[{"$f":"Skillserleuterungen_FTEM!A32","v":"MENTALE STÄRKE"},null,null,{"$f":"IF($H$2=\"G\",Skillserleuterungen_FTEM!F32,Skillserleuterungen_FTEM!B32)","v":"Einsatzbereitschaft"},null,null,{"$f":"IF($H$2=\"G\",Skillserleuterungen_FTEM!G32,Skillserleuterungen_FTEM!C32)","v":"zeigt im Spiel und im Training hohe Intensität, gibt immer ihr Maximum und will ihre Limiten pushen, zeigt Leidenschaft, ist um hohe Trainingsqualität bemüht"},null,null,{"$f":"IF($H$2=\"G\",Skillserleuterungen_FTEM!#REF!,Skillserleuterungen_FTEM!#REF!)","v":{"$error":"#REF!"}},null,null,null,{"$f":"IFERROR(AVERAGE(O41:O45),\"-\")","v":"-"},null,{"$f":"IFERROR(AVERAGE(Q41:Q45),\"-\")","v":"-"},null,{"$f":"IFERROR(AVERAGE(S41:S45),\"-\")","v":"-"},null,{"$f":"IFERROR(AVERAGE(U41:U45),\"-\")","v":"-"},null,{"$f":"IFERROR(AVERAGE(W41:W45),\"-\")","v":"-"},null,{"$f":"IFERROR(AVERAGE(Y41:Y45),\"-\")","v":"-"}]
[null,null,null,{"$f":"IF($H$2=\"G\",Skillserleuterungen_FTEM!F33,Skillserleuterungen_FTEM!B33)","v":"Vorbereitung"},null,null,{"$f":"IF($H$2=\"G\",Skillserleuterungen_FTEM!G33,Skillserleuterungen_FTEM!C33)","v":"bewusste und gezielte Vorbereitung, mental wie auch physisch, verfügt über einen effizienten Ablauf zur Erreichung des idealen Leistungszustand (ILZ)"},null,null,{"$f":"IF($H$2=\"G\",Skillserleuterungen_FTEM!#REF!,Skillserleuterungen_FTEM!#REF!)","v":{"$error":"#REF!"}}]
[null,null,null,{"$f":"IF($H$2=\"G\",Skillserleuterungen_FTEM!F34,Skillserleuterungen_FTEM!B34)","v":"Selbstcoaching"},null,null,{"$f":"IF($H$2=\"G\",Skillserleuterungen_FTEM!G34,Skillserleuterungen_FTEM!C34)","v":"verfügt über gute Konzentrationsfähigkeit, kann während Spiel/Training ihren ILZ halten, kann mentale Grundtechniken anwenden, widerstandsfähig gegen negative Gedanken und Einflüsse, ist sich ihrer Körpersprache bewusst und kann diese regulieren"},null,null,{"$f":"IF($H$2=\"G\",Skillserleuterungen_FTEM!#REF!,Skillserleuterungen_FTEM!#REF!)","v":{"$error":"#REF!"}}]
[null,null,null,{"$f":"IF($H$2=\"G\",Skillserleuterungen_FTEM!F35,Skillserleuterungen_FTEM!B35)","v":"Energiemanagement"},null,null,{"$f":"IF($H$2=\"G\",Skillserleuterungen_FTEM!G35,Skillserleuterungen_FTEM!C35)","v":"kann eigene Energie regulieren, bereit zur Regeneration, weiss wann sie \"Vollgas\" geben muss und wann abschalten, On/Off-Schalter"},null,null,{"$f":"IF($H$2=\"G\",Skillserleuterungen_FTEM!#REF!,Skillserleuterungen_FTEM!#REF!)","v":{"$error":"#REF!"}}]
[null,null,null,{"$f":"IF($H$2=\"G\",Skillserleuterungen_FTEM!F36,Skillserleuterungen_FTEM!B36)","v":"Emotionskontrolle"},null,null,{"$f":"IF($H$2=\"G\",Skillserleuterungen_FTEM!G36,Skillserleuterungen_FTEM!C36)","v":"kann eigene Emotionen und Impulse regulieren, behält auch unter Druck die Kontrolle, kann auch in emotional anspruchsvollen oder frustrierenden Situationen angemessen agieren"},null,null,{"$f":"IF($H$2=\"G\",Skillserleuterungen_FTEM!#REF!,Skillserleuterungen_FTEM!#REF!)","v":{"$error":"#REF!"}}]
[{"$f":"Skillserleuterungen_FTEM!A37","v":"PHYSE"},null,null,{"$f":"IF($H$2=\"G\",Skillserleuterungen_FTEM!F37,Skillserleuterungen_FTEM!B37)","v":"Leistungserzeugung"},null,null,{"$f":"IF($H$2=\"G\",Skillserleuterungen_FTEM!G37,Skillserleuterungen_FTEM!C37)","v":"verfügt über die nötige Power/Kraft/Schnelligkeit in den Beinen und im Oberkörper (Neuromuskuläre Faktoren)"},null,null,{"$f":"IF($H$2=\"G\",Skillserleuterungen_FTEM!#REF!,Skillserleuterungen_FTEM!#REF!)","v":{"$error":"#REF!"}},null,null,null,{"$f":"IFERROR(AVERAGE(O46:O50),\"-\")","v":"-"},null,{"$f":"IFERROR(AVERAGE(Q46:Q50),\"-\")","v":"-"},null,{"$f":"IFERROR(AVERAGE(S46:S50),\"-\")","v":"-"},null,{"$f":"IFERROR(AVERAGE(U46:U50),\"-\")","v":"-"},null,{"$f":"IFERROR(AVERAGE(W46:W50),\"-\")","v":"-"},null,{"$f":"IFERROR(AVERAGE(Y46:Y50),\"-\")","v":"-"}]
[null,null,null,{"$f":"IF($H$2=\"G\",Skillserleuterungen_FTEM!F38,Skillserleuterungen_FTEM!B38)","v":"sporartspez. Ermüdungsresistenz"},null,null,{"$f":"IF($H$2=\"G\",Skillserleuterungen_FTEM!G38,Skillserleuterungen_FTEM!C38)","v":"Ist fähig  die Power/Kraft/Schnelligkeit innerhalb des Einsatzes lange aufrechtzuerhalten und kann sich zwischen den Einsätzen jeweils vollkommen erholen (Metabolische und kardiovaskuläre Faktoren)"},null,null,{"$f":"IF($H$2=\"G\",Skillserleuterungen_FTEM!#REF!,Skillserleuterungen_FTEM!#REF!)","v":{"$error":"#REF!"}}]
[null,null,null,{"$f":"IF($H$2=\"G\",Skillserleuterungen_FTEM!F39,Skillserleuterungen_FTEM!B39)","v":"Gesundheit / Prävention"},null,null,{"$f":"IF($H$2=\"G\",Skillserleuterungen_FTEM!G39,Skillserleuterungen_FTEM!C39)","v":"verfügt über die nötige Stabilität (z.B. Beinachsenstabilität) und Beweglichkeit in den zentralen Gelenken"},null,null,{"$f":"IF($H$2=\"G\",Skillserleuterungen_FTEM!#REF!,Skillserleuterungen_FTEM!#REF!)","v":{"$error":"#REF!"}}]
[null,null,null,{"$f":"IF($H$2=\"G\",Skillserleuterungen_FTEM!F40,Skillserleuterungen_FTEM!B40)","v":"Bewegungskompetenzen"},null,null,{"$f":"IF($H$2=\"G\",Skillserleuterungen_FTEM!G40,Skillserleuterungen_FTEM!C40)","v":"beherrscht die grundlegenden Bewegungsfertigkeiten, die eine unerlässliche Zubringerfunktion für die sportspezifischen \"Skills\" darstellt sowie zur nötigen Bewegungseffizienz führt"},null,null,{"$f":"IF($H$2=\"G\",Skillserleuterungen_FTEM!#REF!,Skillserleuterungen_FTEM!#REF!)","v":{"$error":"#REF!"}}]
[null,null,null,{"$f":"IF($H$2=\"G\",Skillserleuterungen_FTEM!F41,Skillserleuterungen_FTEM!B41)","v":"Robustheit"},null,null,{"$f":"IF($H$2=\"G\",Skillserleuterungen_FTEM!G41,Skillserleuterungen_FTEM!C41)","v":"verfügt über die nötige Grundkraft (Körperspannung), um sich in Zweikämpfen durchzusetzen und bei Zusammestössen standzuhalten"},null,null,{"$f":"IF($H$2=\"G\",Skillserleuterungen_FTEM!#REF!,Skillserleuterungen_FTEM!#REF!)","v":{"$error":"#REF!"}}]

{"sheet":"29","index":32,"n_rows":50,"n_cols":36,"rows_kept":50,"cut":false,"hidden":false,"merged":[[13,3,13,5],[14,3,14,5],[15,3,15,5],[13,6,13,11],[14,6,14,11],[15,6,15,11],[21,3,21,5],[21,6,21,11],[26,3,26,5],[26,6,26,11],[0,0,0,24],[0,25,0,26],[0,27,0,32],[0,33,0,35],[29,25,33,25],[29,26,33,32],[29,34,33,34],[35,25,39,25],[35,26,39,32],[35,34,39,34],[1,0,1,1],[1,2,1,5],[1,10,1,24],[2,0,2,1],[2,2,2,5],[2,11,2,24],[6,0,6,1],[6,2,6,35],[7,0,7,1],[7,2,7,35],[8,0,8,1],[8,2,8,35],[3,0,3,1],[3,10,3,24],[4,0,4,1],[4,2,4,5],[4,10,4,24],[10,0,10,24],[10,25,10,35],[40,25,44,25],[40,26,44,32],[40,34,44,34],[12,25,16,25],[12,26,16,32],[12,34,16,34],[18,25,22,25],[18,26,22,32],[18,34,22,34],[23,25,28,25],[23,26,28,32],[23,34,28,34],[17,26,17,32],[11,0,11,2],[11,3,11,5],[11,13,11,14],[11,15,11,16],[11,17,11,18],[11,19,11,20],[11,21,11,22],[11,23,11,24],[11,26,11,32],[11,6,11,11],[12,23,16,23],[16,3,16,5],[16,6,16,11],[17,0,17,2],[17,3,17,5],[17,6,17,11],[17,13,17,14],[17,15,17,16],[17,17,17,18],[17,19,17,20],[17,21,17,22],[17,23,17,24],[12,0,16,2],[12,3,12,5],[12,6,12,11],[12,12,16,12],[12,13,16,13],[12,15,16,15],[12,17,16,17],[12,19,16,19],[12,21,16,21],[18,15,22,15],[18,17,22,17],[18,19,22,19],[18,21,22,21],[18,23,22,23],[22,3,22,5],[22,6,22,11],[23,0,28,2],[23,3,23,5],[23,6,23,11],[23,12,28,12],[23,13,28,13],[23,15,28,15],[23,17,28,17],[18,0,22,2],[18,3,18,5],[18,6,18,11],[18,12,22,12],[18,13,22,13],[19,3,19,5],[19,6,19,11],[20,3,20,5],[20,6,20,11],[23,19,28,19],[23,21,28,21],[23,23,28,23],[24,3,24,5],[24,6,24,11],[28,3,28,5],[28,6,28,11],[33,3,33,5],[33,6,33,11],[29,23,33,23],[29,17,33,17],[29,19,33,19],[29,21,33,21],[30,3,30,5],[30,6,30,11],[31,3,31,5],[31,6,31,11],[27,3,27,5],[27,6,27,11],[32,3,32,5],[32,6,32,11],[29,0,33,2],[29,3,29,5],[29,6,29,11],[29,12,33,12],[29,13,33,13],[29,15,33,15],[34,23,34,24],[34,26,34,32],[35,0,39,2],[35,3,35,5],[35,6,35,11],[35,12,39,12],[35,13,39,13],[35,15,39,15],[39,3,39,5],[39,6,39,11],[35,23,39,23],[34,0,34,2],[34,3,34,5],[34,6,34,11],[34,13,34,14],[34,15,34,16],[34,17,34,18],[34,19,34,20],[36,3,36,5],[36,6,36,11],[37,3,37,5],[37,6,37,11],[40,17,44,17],[40,19,44,19],[40,21,44,21],[41,3,41,5],[41,6,41,11],[44,3,44,5],[44,6,44,11],[38,3,38,5],[38,6,38,11],[43,3,43,5],[43,6,43,11],[45,26,49,32],[45,34,49,34],[25,3,25,5],[25,6,25,11],[42,3,42,5],[42,6,42,11],[45,0,49,2],[45,12,49,12],[45,13,49,13],[45,15,49,15],[45,17,49,17],[45,19,49,19],[45,21,49,21],[45,23,49,23],[45,25,49,25],[45,3,45,5],[45,6,45,11],[46,3,46,5],[46,6,46,11],[40,15,44,15],[34,21,34,22],[35,17,39,17],[35,19,39,19],[35,21,39,21],[47,3,47,5],[47,6,47,11],[49,3,49,5],[49,6,49,11],[40,23,44,23],[40,0,44,2],[40,3,40,5],[40,6,40,11],[40,12,44,12],[40,13,44,13],[48,3,48,5],[48,6,48,11]]}
["Personalien",null,null,null,null,null,null,null,null,null,null,null,null,null,null,null,null,null,null,null,null,null,null,null,null,"Vorausetzungen",null,"Evaluationen",null,null,null,null,null,"Rating"]
["VORNAME",null,{"$f":"IF(ISBLANK(VLOOKUP(29,Tabelle3[],3,0)),\"-\",VLOOKUP(29,Tabelle3[],3,0))","v":"-"},null,null,null,"POSITION",null,null,"ADRESSE",{"$f":"IF(ISBLANK(VLOOKUP(29,Tabelle3[],5,0)),\"-\",VLOOKUP(29,Tabelle3[],5,0))","v":"-"},null,null,null,null,null,null,null,null,null,null,null,null,null,null,"\"Alter\" (Biologisch/Relative Age)",null,"Datum 1",null,null,"cm",null,"Kg",null,"AUSGEZEICHNET",5]
["NAME",null,{"$f":"IF(ISBLANK(VLOOKUP(29,Tabelle3[],2,0)),\"-\",VLOOKUP(29,Tabelle3[],2,0))","v":"-"},null,null,null,"STOCK",null,null,"WOHNORT",{"$f":"IF(ISBLANK(VLOOKUP(29,Tabelle3[],7,0)),\"-\",VLOOKUP(29,Tabelle3[],7,0))","v":"-"},{"$f":"IF(ISBLANK(VLOOKUP(29,Tabelle3[],6,0)),\"-\",VLOOKUP(29,Tabelle3[],6,0))","v":"-"},null,null,null,null,null,null,null,null,null,null,null,null,null,"Veranlagung",null,"Datum 2",null,null,"cm",null,"Kg",null,"GUT",4]
["GEB. DATUM",null,{"$f":"IF(ISBLANK(VLOOKUP(29,Tabelle3[],14,0)),\"-\",VLOOKUP(29,Tabelle3[],14,0))","v":"-"},{"$f":"IF(ISBLANK(VLOOKUP(29,Tabelle3[],15,0)),\"-\",VLOOKUP(29,Tabelle3[],15,0))","v":"-"},{"$f":"IF(ISBLANK(VLOOKUP(29,Tabelle3[],16,0)),\"-\",VLOOKUP(29,Tabelle3[],16,0))","v":"-"},null,"GRÖSSE",null,"cm (Final)","CLUB",{"$f":"IF(ISBLANK(VLOOKUP(29,Tabelle3[],8,0)),\"-\",VLOOKUP(29,Tabelle3[],8,0))","v":"-"},null,null,null,null,null,null,null,null,null,null,null,null,null,null,"Umfeld",null,"Datum 3",null,null,"cm",null,"Kg",null,"DURCHSCHNITT",3]
["SEX",null,{"$f":"IF(ISBLANK(VLOOKUP(29,Tabelle3[],13,0)),\"-\",VLOOKUP(29,Tabelle3[],13,0))","v":"-"},null,null,null,"GEWICHT",null,"Kg (Final)","E-Mail",{"$f":"IF(ISBLANK(VLOOKUP(29,Tabelle3[],9,0)),\"-\",VLOOKUP(29,Tabelle3[],9,0))","v":"-"},null,null,null,null,null,null,null,null,null,null,null,null,null,null,null,null,"Datum 4",null,null,"cm",null,"Kg",null,"MANGELHAFT",2]
[null,null,null,null,null,null,null,null,null,null,null,null,null,null,null,null,null,null,null,null,null,null,null,null,null,null,null,"Datum 5",null,null,"cm",null,"Kg",null,"UNGENÜGEND",1]
["Vision",null,"xxx"]
["Ziele",null,"xxx"]
["Stärken",null,"xxx"]
[]
["EVALUATION (COACH / SPIELERIN)",null,null,null,null,null,null,null,null,null,null,null,null,null,null,null,null,null,null,null,null,null,null,null,null,"SMART"]
[{"$f":"Skillserleuterungen_FTEM!A3","v":"TEAM"},null,null,{"$f":"Skillserleuterungen_FTEM!B3","v":"FÄHIGKEIT"},null,null,{"$f":"Skillserleuterungen_FTEM!C3","v":"BEOBACHTUNG"},null,null,null,null,null,"Final","Datum1",null,"Datum2",null,"Datum3",null,"Datum4",null,"Datum5",null,"Player",null,"ZIEL","MASSNAHME:\nSPEZIFISCH,  MESSBAR, REALISITISCH",null,null,null,null,null,null,"TERMIN","ZIEL-KONTROLLE","Datum"]
[{"$f":"Skillserleuterungen_FTEM!A4","v":"TEAM"},null,null,{"$f":"IF($H$2=\"G\",Skillserleuterungen_FTEM!F4,Skillserleuterungen_FTEM!B4)","v":"Kommunikation"},null,null,{"$f":"IF($H$2=\"G\",Skillserleuterungen_FTEM!G4,Skillserleuterungen_FTEM!C4)","v":"pflegt einen offenen, respektvollen Umgang, Vertrauensbasis als Grundlage, trägt Konflikte aus ohne die Stabilität der Gruppe zu gefährden, kommuniziert mit Mitspielerinnen, Trainern und Funktionären gleichermassen wertschätzend"},null,null,{"$f":"IF($H$2=\"G\",Skillserleuterungen_FTEM!#REF!,Skillserleuterungen_FTEM!#REF!)","v":{"$error":"#REF!"}},null,null,null,{"$f":"IFERROR(AVERAGE(O13:O17),\"-\")","v":"-"},null,{"$f":"IFERROR(AVERAGE(Q13:Q17),\"-\")","v":"-"},null,{"$f":"IFERROR(AVERAGE(S13:S17),\"-\")","v":"-"},null,{"$f":"IFERROR(AVERAGE(U13:U17),\"-\")","v":"-"},null,null,null,{"$f":"IFERROR(AVERAGE(Y13:Y17),\"-\")","v":"-"}]
[null,null,null,{"$f":"IF($H$2=\"G\",Skillserleuterungen_FTEM!F5,Skillserleuterungen_FTEM!B5)","v":"Teamfähigkeit"},null,null,{"$f":"IF($H$2=\"G\",Skillserleuterungen_FTEM!G5,Skillserleuterungen_FTEM!C5)","v":"Integration in die Gruppe, gemeinsame Ziele bestimmen und verfolgen können, WIR vor dem ICH, trägt zu einem guten Team-Spirit und Arbeitsklima bei"},null,null,{"$f":"IF($H$2=\"G\",Skillserleuterungen_FTEM!#REF!,Skillserleuterungen_FTEM!#REF!)","v":{"$error":"#REF!"}}]
[null,null,null,{"$f":"IF($H$2=\"G\",Skillserleuterungen_FTEM!F6,Skillserleuterungen_FTEM!B6)","v":"Leadership"},null,null,{"$f":"IF($H$2=\"G\",Skillserleuterungen_FTEM!G6,Skillserleuterungen_FTEM!C6)","v":"übernimmt Verantwortung in der Gruppe, versucht Team und Mitspielerinnen besser zu machen, nimmt positiven Einfluss auf die Gruppendynamik"},null,null,{"$f":"IF($H$2=\"G\",Skillserleuterungen_FTEM!#REF!,Skillserleuterungen_FTEM!#REF!)","v":{"$error":"#REF!"}}]
[null,null,null,{"$f":"IF($H$2=\"G\",Skillserleuterungen_FTEM!F7,Skillserleuterungen_FTEM!B7)","v":"Rollenverteilung"},null,null,{"$f":"IF($H$2=\"G\",Skillserleuterungen_FTEM!G7,Skillserleuterungen_FTEM!C7)","v":"kennt ihre Rolle und füllt diese aus, ist sich ihrer Stellung im Team und im System bewusst, stellt eigene Kompetenzen in den Dienst des Teams"},null,null,{"$f":"IF($H$2=\"G\",Skillserleuterungen_FTEM!#REF!,Skillserleuterungen_FTEM!#REF!)","v":{"$error":"#REF!"}}]
[null,null,null,{"$f":"IF($H$2=\"G\",Skillserleuterungen_FTEM!F8,Skillserleuterungen_FTEM!B8)","v":"Respekt"},null,null,{"$f":"IF($H$2=\"G\",Skillserleuterungen_FTEM!G8,Skillserleuterungen_FTEM!C8)","v":"Respektvoller Umgang mit Mitspielerinnen, Trainern, Gegnern, Schiedsrichter und Staff; achtet die Regeln, Fairplayprinzipien (inkl. Anti-Doping)"},null,null,{"$f":"IF($H$2=\"G\",Skillserleuterungen_FTEM!#REF!,Skillserleuterungen_FTEM!#REF!)","v":{"$error":"#REF!"}}]
[{"$f":"Skillserleuterungen_FTEM!A9","v":"ON ICE"},null,null,{"$f":"Skillserleuterungen_FTEM!B9","v":"FÄHIGKEIT"},null,null,{"$f":"Skillserleuterungen_FTEM!C9","v":"BEOBACHTUNG"},null,null,null,null,null,null,"Datum1",null,"Datum2",null,"Datum3",null,"Datum4",null,"Datum5",null,"Player",null,"ZIEL","MASSNAHME:\nSPEZIFISCH,  MESSBAR, REALISITISCH",null,null,null,null,null,null,"TERMIN","ZIEL-KONTROLLE","Datum"]
[{"$f":"Skillserleuterungen_FTEM!A10","v":"SKATING"},null,null,{"$f":"IF($H$2=\"G\",Skillserleuterungen_FTEM!F10,Skillserleuterungen_FTEM!B10)","v":"Footspeed"},null,null,{"$f":"IF($H$2=\"G\",Skillserleuterungen_FTEM!G10,Skillserleuterungen_FTEM!C10)","v":"Beschleunigung, Antritt, erste 3 Schritte Explosivität, Frequenz"},null,null,{"$f":"IF($H$2=\"G\",Skillserleuterungen_FTEM!#REF!,Skillserleuterungen_FTEM!#REF!)","v":{"$error":"#REF!"}},null,null,null,{"$f":"IFERROR(AVERAGE(O19:O23),\"-\")","v":"-"},null,{"$f":"IFERROR(AVERAGE(Q19:Q23),\"-\")","v":"-"},null,{"$f":"IFERROR(AVERAGE(S19:S23),\"-\")","v":"-"},null,{"$f":"IFERROR(AVERAGE(U19:U23),\"-\")","v":"-"},null,{"$f":"IFERROR(AVERAGE(W19:W23),\"-\")","v":"-"},null,{"$f":"IFERROR(AVERAGE(Y19:Y23),\"-\")","v":"-"}]
[null,null,null,{"$f":"IF($H$2=\"G\",Skillserleuterungen_FTEM!F11,Skillserleuterungen_FTEM!B11)","v":"Topspeed"},null,null,{"$f":"IF($H$2=\"G\",Skillserleuterungen_FTEM!G11,Skillserleuterungen_FTEM!C11)","v":"Schnelligkeit, Gleitfähigkeit, vorwärts und rückwärts, Ökonomie"},null,null,{"$f":"IF($H$2=\"G\",Skillserleuterungen_FTEM!#REF!,Skillserleuterungen_FTEM!#REF!)","v":{"$error":"#REF!"}}]
[null,null,null,{"$f":"IF($H$2=\"G\",Skillserleuterungen_FTEM!F12,Skillserleuterungen_FTEM!B12)","v":"Agilität"},null,null,{"$f":"IF($H$2=\"G\",Skillserleuterungen_FTEM!G12,Skillserleuterungen_FTEM!C12)","v":"Richtungsänderung, Drehung, Stop und Start, \"Nummelin\""},null,null,{"$f":"IF($H$2=\"G\",Skillserleuterungen_FTEM!#REF!,Skillserleuterungen_FTEM!#REF!)","v":{"$error":"#REF!"}},null,null,null,{"$f":"IFERROR(AVERAGE(O21:O23),\"-\")","v":"-"},null,{"$f":"IFERROR(AVERAGE(Q21:Q23),\"-\")","v":"-"},null,{"$f":"IFERROR(AVERAGE(S21:S23),\"-\")","v":"-"},null,{"$f":"IFERROR(AVERAGE(U21:U23),\"-\")","v":"-"},null,{"$f":"IFERROR(AVERAGE(W21:W23),\"-\")","v":"-"},null,{"$f":"IFERROR(AVERAGE(Y21:Y23),\"-\")","v":"-"}]
[null,null,null,{"$f":"IF($H$2=\"G\",Skillserleuterungen_FTEM!F13,Skillserleuterungen_FTEM!B13)","v":"Balance"},null,null,{"$f":"IF($H$2=\"G\",Skillserleuterungen_FTEM!G13,Skillserleuterungen_FTEM!C13)","v":"Gleichgewicht, Standhaftfähigkeit, tiefe Position, ein- und beidbeinig"},null,null,{"$f":"IF($H$2=\"G\",Skillserleuterungen_FTEM!#REF!,Skillserleuterungen_FTEM!#REF!)","v":{"$error":"#REF!"}}]
[null,null,null,{"$f":"IF($H$2=\"G\",Skillserleuterungen_FTEM!F14,Skillserleuterungen_FTEM!B14)","v":"Backwards Skating"},null,null,{"$f":"IF($H$2=\"G\",Skillserleuterungen_FTEM!G14,Skillserleuterungen_FTEM!C14)","v":"Beschleunigung, Geschwindigkeit, Balance"},null,null,{"$f":"IF($H$2=\"G\",Skillserleuterungen_FTEM!#REF!,Skillserleuterungen_FTEM!#REF!)","v":{"$error":"#REF!"}}]
[{"$f":"Skillserleuterungen_FTEM!A15","v":"SKILLS"},null,null,{"$f":"IF($H$2=\"G\",Skillserleuterungen_FTEM!F15,Skillserleuterungen_FTEM!B15)","v":"Schiessen"},null,null,{"$f":"IF($H$2=\"G\",Skillserleuterungen_FTEM!G15,Skillserleuterungen_FTEM!C15)","v":"Effizienz (no space no time), Variantenreichtum, Überraschungsgrad (Quick Release), Präzision, Härte, (taktische Abschlüsse)"},null,null,{"$f":"IF($H$2=\"G\",Skillserleuterungen_FTEM!#REF!,Skillserleuterungen_FTEM!#REF!)","v":{"$error":"#REF!"}},null,null,null,{"$f":"IFERROR(AVERAGE(O24:O29),\"-\")","v":"-"},null,{"$f":"IFERROR(AVERAGE(Q24:Q29),\"-\")","v":"-"},null,{"$f":"IFERROR(AVERAGE(S24:S29),\"-\")","v":"-"},null,{"$f":"IFERROR(AVERAGE(U24:U29),\"-\")","v":"-"},null,{"$f":"IFERROR(AVERAGE(W24:W29),\"-\")","v":"-"},null,{"$f":"IFERROR(AVERAGE(Y24:Y29),\"-\")","v":"-"}]
[null,null,null,{"$f":"IF($H$2=\"G\",Skillserleuterungen_FTEM!F16,Skillserleuterungen_FTEM!B16)","v":"Passen"},null,null,{"$f":"IF($H$2=\"G\",Skillserleuterungen_FTEM!G16,Skillserleuterungen_FTEM!C16)","v":"Passabgabe (Distanz, Flippass Backhand), Passannahme (Präzision, Timing, Vorhand, Rückhand, Schlittschuh), Puckspeed "},null,null,{"$f":"IF($H$2=\"G\",Skillserleuterungen_FTEM!#REF!,Skillserleuterungen_FTEM!#REF!)","v":{"$error":"#REF!"}}]
[null,null,null,{"$f":"IF($H$2=\"G\",Skillserleuterungen_FTEM!F17,Skillserleuterungen_FTEM!B17)","v":"Stockarbeit"},null,null,{"$f":"IF($H$2=\"G\",Skillserleuterungen_FTEM!G17,Skillserleuterungen_FTEM!C17)","v":"Stock zum Puck, Passlinie unterbinden, ablenken, Stockkontrolle Gegenspielerin"},null,null,{"$f":"IF($H$2=\"G\",Skillserleuterungen_FTEM!#REF!,Skillserleuterungen_FTEM!#REF!)","v":{"$error":"#REF!"}}]
[null,null,null,{"$f":"IF($H$2=\"G\",Skillserleuterungen_FTEM!F18,Skillserleuterungen_FTEM!B18)","v":"Puck besitzen "},null,null,{"$f":"IF($H$2=\"G\",Skillserleuterungen_FTEM!G18,Skillserleuterungen_FTEM!C18)","v":"Puckkontrolle, Dribblings, Puck schützen, Finten (Varianten: mit Schlittschuh, mit sowie ohne Bande), Face-Off"},null,null,{"$f":"IF($H$2=\"G\",Skillserleuterungen_FTEM!#REF!,Skillserleuterungen_FTEM!#REF!)","v":{"$error":"#REF!"}}]
[null,null,null,{"$f":"IF($H$2=\"G\",Skillserleuterungen_FTEM!F19,Skillserleuterungen_FTEM!B19)","v":"Körperspiel"},null,null,{"$f":"IF($H$2=\"G\",Skillserleuterungen_FTEM!G19,Skillserleuterungen_FTEM!C19)","v":"Phyisches Durchsetzungsvermögen, Zweikampf (offenes Eis/Bande), Checks nehmen/Head up, Battle Level, Hart aber fair"},null,null,{"$f":"IF($H$2=\"G\",Skillserleuterungen_FTEM!#REF!,Skillserleuterungen_FTEM!#REF!)","v":{"$error":"#REF!"}}]
[null,null,null,{"$f":"IF($H$2=\"G\",Skillserleuterungen_FTEM!F20,Skillserleuterungen_FTEM!B20)","v":"-"},null,null,{"$f":"IF($H$2=\"G\",Skillserleuterungen_FTEM!G20,Skillserleuterungen_FTEM!C20)","v":"-"},null,null,{"$f":"IF($H$2=\"G\",Skillserleuterungen_FTEM!#REF!,Skillserleuterungen_FTEM!#REF!)","v":{"$error":"#REF!"}}]
[{"$f":"Skillserleuterungen_FTEM!A21","v":"HOCKEY SENSE"},null,null,{"$f":"IF($H$2=\"G\",Skillserleuterungen_FTEM!F21,Skillserleuterungen_FTEM!B21)","v":"Spielintelligenz"},null,null,{"$f":"IF($H$2=\"G\",Skillserleuterungen_FTEM!G21,Skillserleuterungen_FTEM!C21)","v":"Freie Räume und Spielerin sehen und Überzahlsituationen kreieren, lösungsorientiert agieren bei allen Bedingungen, Headspeed"},null,null,{"$f":"IF($H$2=\"G\",Skillserleuterungen_FTEM!#REF!,Skillserleuterungen_FTEM!#REF!)","v":{"$error":"#REF!"}},null,null,null,{"$f":"IFERROR(AVERAGE(O30:O34),\"-\")","v":"-"},null,{"$f":"IFERROR(AVERAGE(Q30:Q34),\"-\")","v":"-"},null,{"$f":"IFERROR(AVERAGE(S30:S34),\"-\")","v":"-"},null,{"$f":"IFERROR(AVERAGE(U30:U34),\"-\")","v":"-"},null,{"$f":"IFERROR(AVERAGE(W30:W34),\"-\")","v":"-"},null,{"$f":"IFERROR(AVERAGE(Y30:Y34),\"-\")","v":"-"}]
[null,null,null,{"$f":"IF($H$2=\"G\",Skillserleuterungen_FTEM!F22,Skillserleuterungen_FTEM!B22)","v":"Offensives Bewusstsein"},null,null,{"$f":"IF($H$2=\"G\",Skillserleuterungen_FTEM!G22,Skillserleuterungen_FTEM!C22)","v":"Anspielbar, Antizipation der Spielsituationen, Freiräume für Mitspielerinnen öffnen, Abschlussorientiert sein, Gapspeed, gute Kommunikation"},null,null,{"$f":"IF($H$2=\"G\",Skillserleuterungen_FTEM!#REF!,Skillserleuterungen_FTEM!#REF!)","v":{"$error":"#REF!"}}]
[null,null,null,{"$f":"IF($H$2=\"G\",Skillserleuterungen_FTEM!F23,Skillserleuterungen_FTEM!B23)","v":"Defensiv Bewusstsein"},null,null,{"$f":"IF($H$2=\"G\",Skillserleuterungen_FTEM!G23,Skillserleuterungen_FTEM!C23)","v":"Inside Position halten, Slot beschützen, Mitspieler absichern/Support, Passlinie erkennen, Schüsse blockieren. Gapspeed, gute Komunikation"},null,null,{"$f":"IF($H$2=\"G\",Skillserleuterungen_FTEM!#REF!,Skillserleuterungen_FTEM!#REF!)","v":{"$error":"#REF!"}}]
[null,null,null,{"$f":"IF($H$2=\"G\",Skillserleuterungen_FTEM!F24,Skillserleuterungen_FTEM!B24)","v":"Puckmanagement"},null,null,{"$f":"IF($H$2=\"G\",Skillserleuterungen_FTEM!G24,Skillserleuterungen_FTEM!C24)","v":"Situationsadäquate Entscheidungen treffen, Support, Overload"},null,null,{"$f":"IF($H$2=\"G\",Skillserleuterungen_FTEM!#REF!,Skillserleuterungen_FTEM!#REF!)","v":{"$error":"#REF!"}}]
[null,null,null,{"$f":"IF($H$2=\"G\",Skillserleuterungen_FTEM!F25,Skillserleuterungen_FTEM!B25)","v":"Kreativität"},null,null,{"$f":"IF($H$2=\"G\",Skillserleuterungen_FTEM!G25,Skillserleuterungen_FTEM!C25)","v":"Überraschende Lösungen, Torriecher"},null,null,{"$f":"IF($H$2=\"G\",Skillserleuterungen_FTEM!#REF!,Skillserleuterungen_FTEM!#REF!)","v":{"$error":"#REF!"}}]
[{"$f":"Skillserleuterungen_FTEM!A26","v":"PERSONALITY"},null,null,{"$f":"Skillserleuterungen_FTEM!B26","v":"FÄHIGKEIT"},null,null,{"$f":"Skillserleuterungen_FTEM!C26","v":"BEOBACHTUNG"},null,null,null,null,null,null,"Datum1",null,"Datum2",null,"Datum3",null,"Datum4",null,"Datum5",null,"Player",null,"ZIEL","MASSNAHME:\nSPEZIFISCH,  MESSBAR, REALISITISCH",null,null,null,null,null,null,"TERMIN","ZIEL-KONTROLLE","Datum"]
[{"$f":"Skillserleuterungen_FTEM!A27","v":"PERSÖNLICHKEIT"},null,null,{"$f":"IF($H$2=\"G\",Skillserleuterungen_FTEM!F27,Skillserleuterungen_FTEM!B27)","v":"Selbstbewusstsein"},null,null,{"$f":"IF($H$2=\"G\",Skillserleuterungen_FTEM!G27,Skillserleuterungen_FTEM!C27)","v":"hat das nötige Selbstvertrauen,\"I can do it\"-Haltung, kann eigene Fähigkeiten einschätzen (kennt eigene Stärken/Schwächen), kann ihre Stärken konstant einsetzen, agiert mutig und nimmt kalkulierte Risiken"},null,null,{"$f":"IF($H$2=\"G\",Skillserleuterungen_FTEM!#REF!,Skillserleuterungen_FTEM!#REF!)","v":{"$error":"#REF!"}},null,null,null,{"$f":"IFERROR(AVERAGE(O36:O40),\"-\")","v":"-"},null,{"$f":"IFERROR(AVERAGE(Q36:Q40),\"-\")","v":"-"},null,{"$f":"IFERROR(AVERAGE(S36:S40),\"-\")","v":"-"},null,{"$f":"IFERROR(AVERAGE(U36:U40),\"-\")","v":"-"},null,{"$f":"IFERROR(AVERAGE(W36:W40),\"-\")","v":"-"},null,{"$f":"IFERROR(AVERAGE(Y36:Y40),\"-\")","v":"-"}]
[null,null,null,{"$f":"IF($H$2=\"G\",Skillserleuterungen_FTEM!F28,Skillserleuterungen_FTEM!B28)","v":"Lernfähigkeit"},null,null,{"$f":"IF($H$2=\"G\",Skillserleuterungen_FTEM!G28,Skillserleuterungen_FTEM!C28)","v":"hat eine gute Auffassungsgabe (nimmt auf und kann umsetzen), reflektiert eigenes Handeln, versucht aus Fehlern zu lernen und kann Massnahmen ableiten"},null,null,{"$f":"IF($H$2=\"G\",Skillserleuterungen_FTEM!#REF!,Skillserleuterungen_FTEM!#REF!)","v":{"$error":"#REF!"}}]
[null,null,null,{"$f":"IF($H$2=\"G\",Skillserleuterungen_FTEM!F29,Skillserleuterungen_FTEM!B29)","v":"Eigenverantwortung"},null,null,{"$f":"IF($H$2=\"G\",Skillserleuterungen_FTEM!G29,Skillserleuterungen_FTEM!C29)","v":"übernimmt Verantwortung für eigene Leistungen und Entwicklung, handelt selbständig, achtet auf Details, zeigt grosses Engagement in allen Bereichen"},null,null,{"$f":"IF($H$2=\"G\",Skillserleuterungen_FTEM!#REF!,Skillserleuterungen_FTEM!#REF!)","v":{"$error":"#REF!"}}]
[null,null,null,{"$f":"IF($H$2=\"G\",Skillserleuterungen_FTEM!F30,Skillserleuterungen_FTEM!B30)","v":"Motivation"},null,null,{"$f":"IF($H$2=\"G\",Skillserleuterungen_FTEM!G30,Skillserleuterungen_FTEM!C30)","v":"Intrinsischer Antrieb, will sich ständig weiterentwickeln und lernen, will die Erste sein und Erfolg haben, gibt nie auf und lässt sich auch durch Misserfolge nicht vom Weg abbringen"},null,null,{"$f":"IF($H$2=\"G\",Skillserleuterungen_FTEM!#REF!,Skillserleuterungen_FTEM!#REF!)","v":{"$error":"#REF!"}}]
[null,null,null,{"$f":"IF($H$2=\"G\",Skillserleuterungen_FTEM!F31,Skillserleuterungen_FTEM!B31)","v":"Performance Lifestyle"},null,null,{"$f":"IF($H$2=\"G\",Skillserleuterungen_FTEM!G31,Skillserleuterungen_FTEM!C31)","v":"managt Alltag und Umfeld nach dem Leistungsprinzip, hartnäckig, beharrlich und zielgerichtet, Fokus auf eigene Leistung, zeigt Biss und kann sich auch gegen Widerstände durchsetzen, Herausforderungen spornen sie an"},null,null,{"$f":"IF($H$2=\"G\",Skillserleuterungen_FTEM!#REF!,Skillserleuterungen_FTEM!#REF!)","v":{"$error":"#REF!"}}]
[{"$f":"Skillserleuterungen_FTEM!A32","v":"MENTALE STÄRKE"},null,null,{"$f":"IF($H$2=\"G\",Skillserleuterungen_FTEM!F32,Skillserleuterungen_FTEM!B32)","v":"Einsatzbereitschaft"},null,null,{"$f":"IF($H$2=\"G\",Skillserleuterungen_FTEM!G32,Skillserleuterungen_FTEM!C32)","v":"zeigt im Spiel und im Training hohe Intensität, gibt immer ihr Maximum und will ihre Limiten pushen, zeigt Leidenschaft, ist um hohe Trainingsqualität bemüht"},null,null,{"$f":"IF($H$2=\"G\",Skillserleuterungen_FTEM!#REF!,Skillserleuterungen_FTEM!#REF!)","v":{"$error":"#REF!"}},null,null,null,{"$f":"IFERROR(AVERAGE(O41:O45),\"-\")","v":"-"},null,{"$f":"IFERROR(AVERAGE(Q41:Q45),\"-\")","v":"-"},null,{"$f":"IFERROR(AVERAGE(S41:S45),\"-\")","v":"-"},null,{"$f":"IFERROR(AVERAGE(U41:U45),\"-\")","v":"-"},null,{"$f":"IFERROR(AVERAGE(W41:W45),\"-\")","v":"-"},null,{"$f":"IFERROR(AVERAGE(Y41:Y45),\"-\")","v":"-"}]
[null,null,null,{"$f":"IF($H$2=\"G\",Skillserleuterungen_FTEM!F33,Skillserleuterungen_FTEM!B33)","v":"Vorbereitung"},null,null,{"$f":"IF($H$2=\"G\",Skillserleuterungen_FTEM!G33,Skillserleuterungen_FTEM!C33)","v":"bewusste und gezielte Vorbereitung, mental wie auch physisch, verfügt über einen effizienten Ablauf zur Erreichung des idealen Leistungszustand (ILZ)"},null,null,{"$f":"IF($H$2=\"G\",Skillserleuterungen_FTEM!#REF!,Skillserleuterungen_FTEM!#REF!)","v":{"$error":"#REF!"}}]
[null,null,null,{"$f":"IF($H$2=\"G\",Skillserleuterungen_FTEM!F34,Skillserleuterungen_FTEM!B34)","v":"Selbstcoaching"},null,null,{"$f":"IF($H$2=\"G\",Skillserleuterungen_FTEM!G34,Skillserleuterungen_FTEM!C34)","v":"verfügt über gute Konzentrationsfähigkeit, kann während Spiel/Training ihren ILZ halten, kann mentale Grundtechniken anwenden, widerstandsfähig gegen negative Gedanken und Einflüsse, ist sich ihrer Körpersprache bewusst und kann diese regulieren"},null,null,{"$f":"IF($H$2=\"G\",Skillserleuterungen_FTEM!#REF!,Skillserleuterungen_FTEM!#REF!)","v":{"$error":"#REF!"}}]
[null,null,null,{"$f":"IF($H$2=\"G\",Skillserleuterungen_FTEM!F35,Skillserleuterungen_FTEM!B35)","v":"Energiemanagement"},null,null,{"$f":"IF($H$2=\"G\",Skillserleuterungen_FTEM!G35,Skillserleuterungen_FTEM!C35)","v":"kann eigene Energie regulieren, bereit zur Regeneration, weiss wann sie \"Vollgas\" geben muss und wann abschalten, On/Off-Schalter"},null,null,{"$f":"IF($H$2=\"G\",Skillserleuterungen_FTEM!#REF!,Skillserleuterungen_FTEM!#REF!)","v":{"$error":"#REF!"}}]
[null,null,null,{"$f":"IF($H$2=\"G\",Skillserleuterungen_FTEM!F36,Skillserleuterungen_FTEM!B36)","v":"Emotionskontrolle"},null,null,{"$f":"IF($H$2=\"G\",Skillserleuterungen_FTEM!G36,Skillserleuterungen_FTEM!C36)","v":"kann eigene Emotionen und Impulse regulieren, behält auch unter Druck die Kontrolle, kann auch in emotional anspruchsvollen oder frustrierenden Situationen angemessen agieren"},null,null,{"$f":"IF($H$2=\"G\",Skillserleuterungen_FTEM!#REF!,Skillserleuterungen_FTEM!#REF!)","v":{"$error":"#REF!"}}]
[{"$f":"Skillserleuterungen_FTEM!A37","v":"PHYSE"},null,null,{"$f":"IF($H$2=\"G\",Skillserleuterungen_FTEM!F37,Skillserleuterungen_FTEM!B37)","v":"Leistungserzeugung"},null,null,{"$f":"IF($H$2=\"G\",Skillserleuterungen_FTEM!G37,Skillserleuterungen_FTEM!C37)","v":"verfügt über die nötige Power/Kraft/Schnelligkeit in den Beinen und im Oberkörper (Neuromuskuläre Faktoren)"},null,null,{"$f":"IF($H$2=\"G\",Skillserleuterungen_FTEM!#REF!,Skillserleuterungen_FTEM!#REF!)","v":{"$error":"#REF!"}},null,null,null,{"$f":"IFERROR(AVERAGE(O46:O50),\"-\")","v":"-"},null,{"$f":"IFERROR(AVERAGE(Q46:Q50),\"-\")","v":"-"},null,{"$f":"IFERROR(AVERAGE(S46:S50),\"-\")","v":"-"},null,{"$f":"IFERROR(AVERAGE(U46:U50),\"-\")","v":"-"},null,{"$f":"IFERROR(AVERAGE(W46:W50),\"-\")","v":"-"},null,{"$f":"IFERROR(AVERAGE(Y46:Y50),\"-\")","v":"-"}]
[null,null,null,{"$f":"IF($H$2=\"G\",Skillserleuterungen_FTEM!F38,Skillserleuterungen_FTEM!B38)","v":"sporartspez. Ermüdungsresistenz"},null,null,{"$f":"IF($H$2=\"G\",Skillserleuterungen_FTEM!G38,Skillserleuterungen_FTEM!C38)","v":"Ist fähig  die Power/Kraft/Schnelligkeit innerhalb des Einsatzes lange aufrechtzuerhalten und kann sich zwischen den Einsätzen jeweils vollkommen erholen (Metabolische und kardiovaskuläre Faktoren)"},null,null,{"$f":"IF($H$2=\"G\",Skillserleuterungen_FTEM!#REF!,Skillserleuterungen_FTEM!#REF!)","v":{"$error":"#REF!"}}]
[null,null,null,{"$f":"IF($H$2=\"G\",Skillserleuterungen_FTEM!F39,Skillserleuterungen_FTEM!B39)","v":"Gesundheit / Prävention"},null,null,{"$f":"IF($H$2=\"G\",Skillserleuterungen_FTEM!G39,Skillserleuterungen_FTEM!C39)","v":"verfügt über die nötige Stabilität (z.B. Beinachsenstabilität) und Beweglichkeit in den zentralen Gelenken"},null,null,{"$f":"IF($H$2=\"G\",Skillserleuterungen_FTEM!#REF!,Skillserleuterungen_FTEM!#REF!)","v":{"$error":"#REF!"}}]
[null,null,null,{"$f":"IF($H$2=\"G\",Skillserleuterungen_FTEM!F40,Skillserleuterungen_FTEM!B40)","v":"Bewegungskompetenzen"},null,null,{"$f":"IF($H$2=\"G\",Skillserleuterungen_FTEM!G40,Skillserleuterungen_FTEM!C40)","v":"beherrscht die grundlegenden Bewegungsfertigkeiten, die eine unerlässliche Zubringerfunktion für die sportspezifischen \"Skills\" darstellt sowie zur nötigen Bewegungseffizienz führt"},null,null,{"$f":"IF($H$2=\"G\",Skillserleuterungen_FTEM!#REF!,Skillserleuterungen_FTEM!#REF!)","v":{"$error":"#REF!"}}]
[null,null,null,{"$f":"IF($H$2=\"G\",Skillserleuterungen_FTEM!F41,Skillserleuterungen_FTEM!B41)","v":"Robustheit"},null,null,{"$f":"IF($H$2=\"G\",Skillserleuterungen_FTEM!G41,Skillserleuterungen_FTEM!C41)","v":"verfügt über die nötige Grundkraft (Körperspannung), um sich in Zweikämpfen durchzusetzen und bei Zusammestössen standzuhalten"},null,null,{"$f":"IF($H$2=\"G\",Skillserleuterungen_FTEM!#REF!,Skillserleuterungen_FTEM!#REF!)","v":{"$error":"#REF!"}}]

{"sheet":"30","index":33,"n_rows":50,"n_cols":36,"rows_kept":50,"cut":false,"hidden":false,"merged":[[13,3,13,5],[14,3,14,5],[15,3,15,5],[13,6,13,11],[14,6,14,11],[15,6,15,11],[21,3,21,5],[21,6,21,11],[26,3,26,5],[26,6,26,11],[0,0,0,24],[0,25,0,26],[0,27,0,32],[0,33,0,35],[29,25,33,25],[29,26,33,32],[29,34,33,34],[35,25,39,25],[35,26,39,32],[35,34,39,34],[1,0,1,1],[1,2,1,5],[1,10,1,24],[2,0,2,1],[2,2,2,5],[2,11,2,24],[6,0,6,1],[6,2,6,35],[7,0,7,1],[7,2,7,35],[8,0,8,1],[8,2,8,35],[3,0,3,1],[3,10,3,24],[4,0,4,1],[4,2,4,5],[4,10,4,24],[10,0,10,24],[10,25,10,35],[40,25,44,25],[40,26,44,32],[40,34,44,34],[12,25,16,25],[12,26,16,32],[12,34,16,34],[18,25,22,25],[18,26,22,32],[18,34,22,34],[23,25,28,25],[23,26,28,32],[23,34,28,34],[17,26,17,32],[11,0,11,2],[11,3,11,5],[11,13,11,14],[11,15,11,16],[11,17,11,18],[11,19,11,20],[11,21,11,22],[11,23,11,24],[11,26,11,32],[11,6,11,11],[12,23,16,23],[16,3,16,5],[16,6,16,11],[17,0,17,2],[17,3,17,5],[17,6,17,11],[17,13,17,14],[17,15,17,16],[17,17,17,18],[17,19,17,20],[17,21,17,22],[17,23,17,24],[12,0,16,2],[12,3,12,5],[12,6,12,11],[12,12,16,12],[12,13,16,13],[12,15,16,15],[12,17,16,17],[12,19,16,19],[12,21,16,21],[18,15,22,15],[18,17,22,17],[18,19,22,19],[18,21,22,21],[18,23,22,23],[22,3,22,5],[22,6,22,11],[23,0,28,2],[23,3,23,5],[23,6,23,11],[23,12,28,12],[23,13,28,13],[23,15,28,15],[23,17,28,17],[18,0,22,2],[18,3,18,5],[18,6,18,11],[18,12,22,12],[18,13,22,13],[19,3,19,5],[19,6,19,11],[20,3,20,5],[20,6,20,11],[23,19,28,19],[23,21,28,21],[23,23,28,23],[24,3,24,5],[24,6,24,11],[28,3,28,5],[28,6,28,11],[33,3,33,5],[33,6,33,11],[29,23,33,23],[29,17,33,17],[29,19,33,19],[29,21,33,21],[30,3,30,5],[30,6,30,11],[31,3,31,5],[31,6,31,11],[27,3,27,5],[27,6,27,11],[32,3,32,5],[32,6,32,11],[29,0,33,2],[29,3,29,5],[29,6,29,11],[29,12,33,12],[29,13,33,13],[29,15,33,15],[34,23,34,24],[34,26,34,32],[35,0,39,2],[35,3,35,5],[35,6,35,11],[35,12,39,12],[35,13,39,13],[35,15,39,15],[39,3,39,5],[39,6,39,11],[35,23,39,23],[34,0,34,2],[34,3,34,5],[34,6,34,11],[34,13,34,14],[34,15,34,16],[34,17,34,18],[34,19,34,20],[36,3,36,5],[36,6,36,11],[37,3,37,5],[37,6,37,11],[40,17,44,17],[40,19,44,19],[40,21,44,21],[41,3,41,5],[41,6,41,11],[44,3,44,5],[44,6,44,11],[38,3,38,5],[38,6,38,11],[43,3,43,5],[43,6,43,11],[45,26,49,32],[45,34,49,34],[25,3,25,5],[25,6,25,11],[42,3,42,5],[42,6,42,11],[45,0,49,2],[45,12,49,12],[45,13,49,13],[45,15,49,15],[45,17,49,17],[45,19,49,19],[45,21,49,21],[45,23,49,23],[45,25,49,25],[45,3,45,5],[45,6,45,11],[46,3,46,5],[46,6,46,11],[40,15,44,15],[34,21,34,22],[35,17,39,17],[35,19,39,19],[35,21,39,21],[47,3,47,5],[47,6,47,11],[49,3,49,5],[49,6,49,11],[40,23,44,23],[40,0,44,2],[40,3,40,5],[40,6,40,11],[40,12,44,12],[40,13,44,13],[48,3,48,5],[48,6,48,11]]}
["Personalien",null,null,null,null,null,null,null,null,null,null,null,null,null,null,null,null,null,null,null,null,null,null,null,null,"Vorausetzungen",null,"Evaluationen",null,null,null,null,null,"Rating"]
["VORNAME",null,{"$f":"IF(ISBLANK(VLOOKUP(30,Tabelle3[],3,0)),\"-\",VLOOKUP(30,Tabelle3[],3,0))","v":"-"},null,null,null,"POSITION",null,null,"ADRESSE",{"$f":"IF(ISBLANK(VLOOKUP(30,Tabelle3[],5,0)),\"-\",VLOOKUP(30,Tabelle3[],5,0))","v":"-"},null,null,null,null,null,null,null,null,null,null,null,null,null,null,"\"Alter\" (Biologisch/Relative Age)",null,"Datum 1",null,null,"cm",null,"Kg",null,"AUSGEZEICHNET",5]
["NAME",null,{"$f":"IF(ISBLANK(VLOOKUP(30,Tabelle3[],2,0)),\"-\",VLOOKUP(30,Tabelle3[],2,0))","v":"-"},null,null,null,"STOCK",null,null,"WOHNORT",{"$f":"IF(ISBLANK(VLOOKUP(30,Tabelle3[],7,0)),\"-\",VLOOKUP(30,Tabelle3[],7,0))","v":"-"},{"$f":"IF(ISBLANK(VLOOKUP(30,Tabelle3[],6,0)),\"-\",VLOOKUP(30,Tabelle3[],6,0))","v":"-"},null,null,null,null,null,null,null,null,null,null,null,null,null,"Veranlagung",null,"Datum 2",null,null,"cm",null,"Kg",null,"GUT",4]
["GEB. DATUM",null,{"$f":"IF(ISBLANK(VLOOKUP(30,Tabelle3[],14,0)),\"-\",VLOOKUP(30,Tabelle3[],14,0))","v":"-"},{"$f":"IF(ISBLANK(VLOOKUP(30,Tabelle3[],15,0)),\"-\",VLOOKUP(30,Tabelle3[],15,0))","v":"-"},{"$f":"IF(ISBLANK(VLOOKUP(30,Tabelle3[],16,0)),\"-\",VLOOKUP(30,Tabelle3[],16,0))","v":"-"},null,"GRÖSSE",null,"cm (Final)","CLUB",{"$f":"IF(ISBLANK(VLOOKUP(30,Tabelle3[],8,0)),\"-\",VLOOKUP(30,Tabelle3[],8,0))","v":"-"},null,null,null,null,null,null,null,null,null,null,null,null,null,null,"Umfeld",null,"Datum 3",null,null,"cm",null,"Kg",null,"DURCHSCHNITT",3]
["SEX",null,{"$f":"IF(ISBLANK(VLOOKUP(30,Tabelle3[],13,0)),\"-\",VLOOKUP(30,Tabelle3[],13,0))","v":"-"},null,null,null,"GEWICHT",null,"Kg (Final)","E-Mail",{"$f":"IF(ISBLANK(VLOOKUP(30,Tabelle3[],9,0)),\"-\",VLOOKUP(30,Tabelle3[],9,0))","v":"-"},null,null,null,null,null,null,null,null,null,null,null,null,null,null,null,null,"Datum 4",null,null,"cm",null,"Kg",null,"MANGELHAFT",2]
[null,null,null,null,null,null,null,null,null,null,null,null,null,null,null,null,null,null,null,null,null,null,null,null,null,null,null,"Datum 5",null,null,"cm",null,"Kg",null,"UNGENÜGEND",1]
["Vision",null,"xxx"]
["Ziele",null,"xxx"]
["Stärken",null,"xxx"]
[]
["EVALUATION (COACH / SPIELERIN)",null,null,null,null,null,null,null,null,null,null,null,null,null,null,null,null,null,null,null,null,null,null,null,null,"SMART"]
[{"$f":"Skillserleuterungen_FTEM!A3","v":"TEAM"},null,null,{"$f":"Skillserleuterungen_FTEM!B3","v":"FÄHIGKEIT"},null,null,{"$f":"Skillserleuterungen_FTEM!C3","v":"BEOBACHTUNG"},null,null,null,null,null,"Final","Datum1",null,"Datum2",null,"Datum3",null,"Datum4",null,"Datum5",null,"Player",null,"ZIEL","MASSNAHME:\nSPEZIFISCH,  MESSBAR, REALISITISCH",null,null,null,null,null,null,"TERMIN","ZIEL-KONTROLLE","Datum"]
[{"$f":"Skillserleuterungen_FTEM!A4","v":"TEAM"},null,null,{"$f":"IF($H$2=\"G\",Skillserleuterungen_FTEM!F4,Skillserleuterungen_FTEM!B4)","v":"Kommunikation"},null,null,{"$f":"IF($H$2=\"G\",Skillserleuterungen_FTEM!G4,Skillserleuterungen_FTEM!C4)","v":"pflegt einen offenen, respektvollen Umgang, Vertrauensbasis als Grundlage, trägt Konflikte aus ohne die Stabilität der Gruppe zu gefährden, kommuniziert mit Mitspielerinnen, Trainern und Funktionären gleichermassen wertschätzend"},null,null,{"$f":"IF($H$2=\"G\",Skillserleuterungen_FTEM!#REF!,Skillserleuterungen_FTEM!#REF!)","v":{"$error":"#REF!"}},null,null,null,{"$f":"IFERROR(AVERAGE(O13:O17),\"-\")","v":"-"},null,{"$f":"IFERROR(AVERAGE(Q13:Q17),\"-\")","v":"-"},null,{"$f":"IFERROR(AVERAGE(S13:S17),\"-\")","v":"-"},null,{"$f":"IFERROR(AVERAGE(U13:U17),\"-\")","v":"-"},null,null,null,{"$f":"IFERROR(AVERAGE(Y13:Y17),\"-\")","v":"-"}]
[null,null,null,{"$f":"IF($H$2=\"G\",Skillserleuterungen_FTEM!F5,Skillserleuterungen_FTEM!B5)","v":"Teamfähigkeit"},null,null,{"$f":"IF($H$2=\"G\",Skillserleuterungen_FTEM!G5,Skillserleuterungen_FTEM!C5)","v":"Integration in die Gruppe, gemeinsame Ziele bestimmen und verfolgen können, WIR vor dem ICH, trägt zu einem guten Team-Spirit und Arbeitsklima bei"},null,null,{"$f":"IF($H$2=\"G\",Skillserleuterungen_FTEM!#REF!,Skillserleuterungen_FTEM!#REF!)","v":{"$error":"#REF!"}}]
[null,null,null,{"$f":"IF($H$2=\"G\",Skillserleuterungen_FTEM!F6,Skillserleuterungen_FTEM!B6)","v":"Leadership"},null,null,{"$f":"IF($H$2=\"G\",Skillserleuterungen_FTEM!G6,Skillserleuterungen_FTEM!C6)","v":"übernimmt Verantwortung in der Gruppe, versucht Team und Mitspielerinnen besser zu machen, nimmt positiven Einfluss auf die Gruppendynamik"},null,null,{"$f":"IF($H$2=\"G\",Skillserleuterungen_FTEM!#REF!,Skillserleuterungen_FTEM!#REF!)","v":{"$error":"#REF!"}}]
[null,null,null,{"$f":"IF($H$2=\"G\",Skillserleuterungen_FTEM!F7,Skillserleuterungen_FTEM!B7)","v":"Rollenverteilung"},null,null,{"$f":"IF($H$2=\"G\",Skillserleuterungen_FTEM!G7,Skillserleuterungen_FTEM!C7)","v":"kennt ihre Rolle und füllt diese aus, ist sich ihrer Stellung im Team und im System bewusst, stellt eigene Kompetenzen in den Dienst des Teams"},null,null,{"$f":"IF($H$2=\"G\",Skillserleuterungen_FTEM!#REF!,Skillserleuterungen_FTEM!#REF!)","v":{"$error":"#REF!"}}]
[null,null,null,{"$f":"IF($H$2=\"G\",Skillserleuterungen_FTEM!F8,Skillserleuterungen_FTEM!B8)","v":"Respekt"},null,null,{"$f":"IF($H$2=\"G\",Skillserleuterungen_FTEM!G8,Skillserleuterungen_FTEM!C8)","v":"Respektvoller Umgang mit Mitspielerinnen, Trainern, Gegnern, Schiedsrichter und Staff; achtet die Regeln, Fairplayprinzipien (inkl. Anti-Doping)"},null,null,{"$f":"IF($H$2=\"G\",Skillserleuterungen_FTEM!#REF!,Skillserleuterungen_FTEM!#REF!)","v":{"$error":"#REF!"}}]
[{"$f":"Skillserleuterungen_FTEM!A9","v":"ON ICE"},null,null,{"$f":"Skillserleuterungen_FTEM!B9","v":"FÄHIGKEIT"},null,null,{"$f":"Skillserleuterungen_FTEM!C9","v":"BEOBACHTUNG"},null,null,null,null,null,null,"Datum1",null,"Datum2",null,"Datum3",null,"Datum4",null,"Datum5",null,"Player",null,"ZIEL","MASSNAHME:\nSPEZIFISCH,  MESSBAR, REALISITISCH",null,null,null,null,null,null,"TERMIN","ZIEL-KONTROLLE","Datum"]
[{"$f":"Skillserleuterungen_FTEM!A10","v":"SKATING"},null,null,{"$f":"IF($H$2=\"G\",Skillserleuterungen_FTEM!F10,Skillserleuterungen_FTEM!B10)","v":"Footspeed"},null,null,{"$f":"IF($H$2=\"G\",Skillserleuterungen_FTEM!G10,Skillserleuterungen_FTEM!C10)","v":"Beschleunigung, Antritt, erste 3 Schritte Explosivität, Frequenz"},null,null,{"$f":"IF($H$2=\"G\",Skillserleuterungen_FTEM!#REF!,Skillserleuterungen_FTEM!#REF!)","v":{"$error":"#REF!"}},null,null,null,{"$f":"IFERROR(AVERAGE(O19:O23),\"-\")","v":"-"},null,{"$f":"IFERROR(AVERAGE(Q19:Q23),\"-\")","v":"-"},null,{"$f":"IFERROR(AVERAGE(S19:S23),\"-\")","v":"-"},null,{"$f":"IFERROR(AVERAGE(U19:U23),\"-\")","v":"-"},null,{"$f":"IFERROR(AVERAGE(W19:W23),\"-\")","v":"-"},null,{"$f":"IFERROR(AVERAGE(Y19:Y23),\"-\")","v":"-"}]
[null,null,null,{"$f":"IF($H$2=\"G\",Skillserleuterungen_FTEM!F11,Skillserleuterungen_FTEM!B11)","v":"Topspeed"},null,null,{"$f":"IF($H$2=\"G\",Skillserleuterungen_FTEM!G11,Skillserleuterungen_FTEM!C11)","v":"Schnelligkeit, Gleitfähigkeit, vorwärts und rückwärts, Ökonomie"},null,null,{"$f":"IF($H$2=\"G\",Skillserleuterungen_FTEM!#REF!,Skillserleuterungen_FTEM!#REF!)","v":{"$error":"#REF!"}}]
[null,null,null,{"$f":"IF($H$2=\"G\",Skillserleuterungen_FTEM!F12,Skillserleuterungen_FTEM!B12)","v":"Agilität"},null,null,{"$f":"IF($H$2=\"G\",Skillserleuterungen_FTEM!G12,Skillserleuterungen_FTEM!C12)","v":"Richtungsänderung, Drehung, Stop und Start, \"Nummelin\""},null,null,{"$f":"IF($H$2=\"G\",Skillserleuterungen_FTEM!#REF!,Skillserleuterungen_FTEM!#REF!)","v":{"$error":"#REF!"}},null,null,null,{"$f":"IFERROR(AVERAGE(O21:O23),\"-\")","v":"-"},null,{"$f":"IFERROR(AVERAGE(Q21:Q23),\"-\")","v":"-"},null,{"$f":"IFERROR(AVERAGE(S21:S23),\"-\")","v":"-"},null,{"$f":"IFERROR(AVERAGE(U21:U23),\"-\")","v":"-"},null,{"$f":"IFERROR(AVERAGE(W21:W23),\"-\")","v":"-"},null,{"$f":"IFERROR(AVERAGE(Y21:Y23),\"-\")","v":"-"}]
[null,null,null,{"$f":"IF($H$2=\"G\",Skillserleuterungen_FTEM!F13,Skillserleuterungen_FTEM!B13)","v":"Balance"},null,null,{"$f":"IF($H$2=\"G\",Skillserleuterungen_FTEM!G13,Skillserleuterungen_FTEM!C13)","v":"Gleichgewicht, Standhaftfähigkeit, tiefe Position, ein- und beidbeinig"},null,null,{"$f":"IF($H$2=\"G\",Skillserleuterungen_FTEM!#REF!,Skillserleuterungen_FTEM!#REF!)","v":{"$error":"#REF!"}}]
[null,null,null,{"$f":"IF($H$2=\"G\",Skillserleuterungen_FTEM!F14,Skillserleuterungen_FTEM!B14)","v":"Backwards Skating"},null,null,{"$f":"IF($H$2=\"G\",Skillserleuterungen_FTEM!G14,Skillserleuterungen_FTEM!C14)","v":"Beschleunigung, Geschwindigkeit, Balance"},null,null,{"$f":"IF($H$2=\"G\",Skillserleuterungen_FTEM!#REF!,Skillserleuterungen_FTEM!#REF!)","v":{"$error":"#REF!"}}]
[{"$f":"Skillserleuterungen_FTEM!A15","v":"SKILLS"},null,null,{"$f":"IF($H$2=\"G\",Skillserleuterungen_FTEM!F15,Skillserleuterungen_FTEM!B15)","v":"Schiessen"},null,null,{"$f":"IF($H$2=\"G\",Skillserleuterungen_FTEM!G15,Skillserleuterungen_FTEM!C15)","v":"Effizienz (no space no time), Variantenreichtum, Überraschungsgrad (Quick Release), Präzision, Härte, (taktische Abschlüsse)"},null,null,{"$f":"IF($H$2=\"G\",Skillserleuterungen_FTEM!#REF!,Skillserleuterungen_FTEM!#REF!)","v":{"$error":"#REF!"}},null,null,null,{"$f":"IFERROR(AVERAGE(O24:O29),\"-\")","v":"-"},null,{"$f":"IFERROR(AVERAGE(Q24:Q29),\"-\")","v":"-"},null,{"$f":"IFERROR(AVERAGE(S24:S29),\"-\")","v":"-"},null,{"$f":"IFERROR(AVERAGE(U24:U29),\"-\")","v":"-"},null,{"$f":"IFERROR(AVERAGE(W24:W29),\"-\")","v":"-"},null,{"$f":"IFERROR(AVERAGE(Y24:Y29),\"-\")","v":"-"}]
[null,null,null,{"$f":"IF($H$2=\"G\",Skillserleuterungen_FTEM!F16,Skillserleuterungen_FTEM!B16)","v":"Passen"},null,null,{"$f":"IF($H$2=\"G\",Skillserleuterungen_FTEM!G16,Skillserleuterungen_FTEM!C16)","v":"Passabgabe (Distanz, Flippass Backhand), Passannahme (Präzision, Timing, Vorhand, Rückhand, Schlittschuh), Puckspeed "},null,null,{"$f":"IF($H$2=\"G\",Skillserleuterungen_FTEM!#REF!,Skillserleuterungen_FTEM!#REF!)","v":{"$error":"#REF!"}}]
[null,null,null,{"$f":"IF($H$2=\"G\",Skillserleuterungen_FTEM!F17,Skillserleuterungen_FTEM!B17)","v":"Stockarbeit"},null,null,{"$f":"IF($H$2=\"G\",Skillserleuterungen_FTEM!G17,Skillserleuterungen_FTEM!C17)","v":"Stock zum Puck, Passlinie unterbinden, ablenken, Stockkontrolle Gegenspielerin"},null,null,{"$f":"IF($H$2=\"G\",Skillserleuterungen_FTEM!#REF!,Skillserleuterungen_FTEM!#REF!)","v":{"$error":"#REF!"}}]
[null,null,null,{"$f":"IF($H$2=\"G\",Skillserleuterungen_FTEM!F18,Skillserleuterungen_FTEM!B18)","v":"Puck besitzen "},null,null,{"$f":"IF($H$2=\"G\",Skillserleuterungen_FTEM!G18,Skillserleuterungen_FTEM!C18)","v":"Puckkontrolle, Dribblings, Puck schützen, Finten (Varianten: mit Schlittschuh, mit sowie ohne Bande), Face-Off"},null,null,{"$f":"IF($H$2=\"G\",Skillserleuterungen_FTEM!#REF!,Skillserleuterungen_FTEM!#REF!)","v":{"$error":"#REF!"}}]
[null,null,null,{"$f":"IF($H$2=\"G\",Skillserleuterungen_FTEM!F19,Skillserleuterungen_FTEM!B19)","v":"Körperspiel"},null,null,{"$f":"IF($H$2=\"G\",Skillserleuterungen_FTEM!G19,Skillserleuterungen_FTEM!C19)","v":"Phyisches Durchsetzungsvermögen, Zweikampf (offenes Eis/Bande), Checks nehmen/Head up, Battle Level, Hart aber fair"},null,null,{"$f":"IF($H$2=\"G\",Skillserleuterungen_FTEM!#REF!,Skillserleuterungen_FTEM!#REF!)","v":{"$error":"#REF!"}}]
[null,null,null,{"$f":"IF($H$2=\"G\",Skillserleuterungen_FTEM!F20,Skillserleuterungen_FTEM!B20)","v":"-"},null,null,{"$f":"IF($H$2=\"G\",Skillserleuterungen_FTEM!G20,Skillserleuterungen_FTEM!C20)","v":"-"},null,null,{"$f":"IF($H$2=\"G\",Skillserleuterungen_FTEM!#REF!,Skillserleuterungen_FTEM!#REF!)","v":{"$error":"#REF!"}}]
[{"$f":"Skillserleuterungen_FTEM!A21","v":"HOCKEY SENSE"},null,null,{"$f":"IF($H$2=\"G\",Skillserleuterungen_FTEM!F21,Skillserleuterungen_FTEM!B21)","v":"Spielintelligenz"},null,null,{"$f":"IF($H$2=\"G\",Skillserleuterungen_FTEM!G21,Skillserleuterungen_FTEM!C21)","v":"Freie Räume und Spielerin sehen und Überzahlsituationen kreieren, lösungsorientiert agieren bei allen Bedingungen, Headspeed"},null,null,{"$f":"IF($H$2=\"G\",Skillserleuterungen_FTEM!#REF!,Skillserleuterungen_FTEM!#REF!)","v":{"$error":"#REF!"}},null,null,null,{"$f":"IFERROR(AVERAGE(O30:O34),\"-\")","v":"-"},null,{"$f":"IFERROR(AVERAGE(Q30:Q34),\"-\")","v":"-"},null,{"$f":"IFERROR(AVERAGE(S30:S34),\"-\")","v":"-"},null,{"$f":"IFERROR(AVERAGE(U30:U34),\"-\")","v":"-"},null,{"$f":"IFERROR(AVERAGE(W30:W34),\"-\")","v":"-"},null,{"$f":"IFERROR(AVERAGE(Y30:Y34),\"-\")","v":"-"}]
[null,null,null,{"$f":"IF($H$2=\"G\",Skillserleuterungen_FTEM!F22,Skillserleuterungen_FTEM!B22)","v":"Offensives Bewusstsein"},null,null,{"$f":"IF($H$2=\"G\",Skillserleuterungen_FTEM!G22,Skillserleuterungen_FTEM!C22)","v":"Anspielbar, Antizipation der Spielsituationen, Freiräume für Mitspielerinnen öffnen, Abschlussorientiert sein, Gapspeed, gute Kommunikation"},null,null,{"$f":"IF($H$2=\"G\",Skillserleuterungen_FTEM!#REF!,Skillserleuterungen_FTEM!#REF!)","v":{"$error":"#REF!"}}]
[null,null,null,{"$f":"IF($H$2=\"G\",Skillserleuterungen_FTEM!F23,Skillserleuterungen_FTEM!B23)","v":"Defensiv Bewusstsein"},null,null,{"$f":"IF($H$2=\"G\",Skillserleuterungen_FTEM!G23,Skillserleuterungen_FTEM!C23)","v":"Inside Position halten, Slot beschützen, Mitspieler absichern/Support, Passlinie erkennen, Schüsse blockieren. Gapspeed, gute Komunikation"},null,null,{"$f":"IF($H$2=\"G\",Skillserleuterungen_FTEM!#REF!,Skillserleuterungen_FTEM!#REF!)","v":{"$error":"#REF!"}}]
[null,null,null,{"$f":"IF($H$2=\"G\",Skillserleuterungen_FTEM!F24,Skillserleuterungen_FTEM!B24)","v":"Puckmanagement"},null,null,{"$f":"IF($H$2=\"G\",Skillserleuterungen_FTEM!G24,Skillserleuterungen_FTEM!C24)","v":"Situationsadäquate Entscheidungen treffen, Support, Overload"},null,null,{"$f":"IF($H$2=\"G\",Skillserleuterungen_FTEM!#REF!,Skillserleuterungen_FTEM!#REF!)","v":{"$error":"#REF!"}}]
[null,null,null,{"$f":"IF($H$2=\"G\",Skillserleuterungen_FTEM!F25,Skillserleuterungen_FTEM!B25)","v":"Kreativität"},null,null,{"$f":"IF($H$2=\"G\",Skillserleuterungen_FTEM!G25,Skillserleuterungen_FTEM!C25)","v":"Überraschende Lösungen, Torriecher"},null,null,{"$f":"IF($H$2=\"G\",Skillserleuterungen_FTEM!#REF!,Skillserleuterungen_FTEM!#REF!)","v":{"$error":"#REF!"}}]
[{"$f":"Skillserleuterungen_FTEM!A26","v":"PERSONALITY"},null,null,{"$f":"Skillserleuterungen_FTEM!B26","v":"FÄHIGKEIT"},null,null,{"$f":"Skillserleuterungen_FTEM!C26","v":"BEOBACHTUNG"},null,null,null,null,null,null,"Datum1",null,"Datum2",null,"Datum3",null,"Datum4",null,"Datum5",null,"Player",null,"ZIEL","MASSNAHME:\nSPEZIFISCH,  MESSBAR, REALISITISCH",null,null,null,null,null,null,"TERMIN","ZIEL-KONTROLLE","Datum"]
[{"$f":"Skillserleuterungen_FTEM!A27","v":"PERSÖNLICHKEIT"},null,null,{"$f":"IF($H$2=\"G\",Skillserleuterungen_FTEM!F27,Skillserleuterungen_FTEM!B27)","v":"Selbstbewusstsein"},null,null,{"$f":"IF($H$2=\"G\",Skillserleuterungen_FTEM!G27,Skillserleuterungen_FTEM!C27)","v":"hat das nötige Selbstvertrauen,\"I can do it\"-Haltung, kann eigene Fähigkeiten einschätzen (kennt eigene Stärken/Schwächen), kann ihre Stärken konstant einsetzen, agiert mutig und nimmt kalkulierte Risiken"},null,null,{"$f":"IF($H$2=\"G\",Skillserleuterungen_FTEM!#REF!,Skillserleuterungen_FTEM!#REF!)","v":{"$error":"#REF!"}},null,null,null,{"$f":"IFERROR(AVERAGE(O36:O40),\"-\")","v":"-"},null,{"$f":"IFERROR(AVERAGE(Q36:Q40),\"-\")","v":"-"},null,{"$f":"IFERROR(AVERAGE(S36:S40),\"-\")","v":"-"},null,{"$f":"IFERROR(AVERAGE(U36:U40),\"-\")","v":"-"},null,{"$f":"IFERROR(AVERAGE(W36:W40),\"-\")","v":"-"},null,{"$f":"IFERROR(AVERAGE(Y36:Y40),\"-\")","v":"-"}]
[null,null,null,{"$f":"IF($H$2=\"G\",Skillserleuterungen_FTEM!F28,Skillserleuterungen_FTEM!B28)","v":"Lernfähigkeit"},null,null,{"$f":"IF($H$2=\"G\",Skillserleuterungen_FTEM!G28,Skillserleuterungen_FTEM!C28)","v":"hat eine gute Auffassungsgabe (nimmt auf und kann umsetzen), reflektiert eigenes Handeln, versucht aus Fehlern zu lernen und kann Massnahmen ableiten"},null,null,{"$f":"IF($H$2=\"G\",Skillserleuterungen_FTEM!#REF!,Skillserleuterungen_FTEM!#REF!)","v":{"$error":"#REF!"}}]
[null,null,null,{"$f":"IF($H$2=\"G\",Skillserleuterungen_FTEM!F29,Skillserleuterungen_FTEM!B29)","v":"Eigenverantwortung"},null,null,{"$f":"IF($H$2=\"G\",Skillserleuterungen_FTEM!G29,Skillserleuterungen_FTEM!C29)","v":"übernimmt Verantwortung für eigene Leistungen und Entwicklung, handelt selbständig, achtet auf Details, zeigt grosses Engagement in allen Bereichen"},null,null,{"$f":"IF($H$2=\"G\",Skillserleuterungen_FTEM!#REF!,Skillserleuterungen_FTEM!#REF!)","v":{"$error":"#REF!"}}]
[null,null,null,{"$f":"IF($H$2=\"G\",Skillserleuterungen_FTEM!F30,Skillserleuterungen_FTEM!B30)","v":"Motivation"},null,null,{"$f":"IF($H$2=\"G\",Skillserleuterungen_FTEM!G30,Skillserleuterungen_FTEM!C30)","v":"Intrinsischer Antrieb, will sich ständig weiterentwickeln und lernen, will die Erste sein und Erfolg haben, gibt nie auf und lässt sich auch durch Misserfolge nicht vom Weg abbringen"},null,null,{"$f":"IF($H$2=\"G\",Skillserleuterungen_FTEM!#REF!,Skillserleuterungen_FTEM!#REF!)","v":{"$error":"#REF!"}}]
[null,null,null,{"$f":"IF($H$2=\"G\",Skillserleuterungen_FTEM!F31,Skillserleuterungen_FTEM!B31)","v":"Performance Lifestyle"},null,null,{"$f":"IF($H$2=\"G\",Skillserleuterungen_FTEM!G31,Skillserleuterungen_FTEM!C31)","v":"managt Alltag und Umfeld nach dem Leistungsprinzip, hartnäckig, beharrlich und zielgerichtet, Fokus auf eigene Leistung, zeigt Biss und kann sich auch gegen Widerstände durchsetzen, Herausforderungen spornen sie an"},null,null,{"$f":"IF($H$2=\"G\",Skillserleuterungen_FTEM!#REF!,Skillserleuterungen_FTEM!#REF!)","v":{"$error":"#REF!"}}]
[{"$f":"Skillserleuterungen_FTEM!A32","v":"MENTALE STÄRKE"},null,null,{"$f":"IF($H$2=\"G\",Skillserleuterungen_FTEM!F32,Skillserleuterungen_FTEM!B32)","v":"Einsatzbereitschaft"},null,null,{"$f":"IF($H$2=\"G\",Skillserleuterungen_FTEM!G32,Skillserleuterungen_FTEM!C32)","v":"zeigt im Spiel und im Training hohe Intensität, gibt immer ihr Maximum und will ihre Limiten pushen, zeigt Leidenschaft, ist um hohe Trainingsqualität bemüht"},null,null,{"$f":"IF($H$2=\"G\",Skillserleuterungen_FTEM!#REF!,Skillserleuterungen_FTEM!#REF!)","v":{"$error":"#REF!"}},null,null,null,{"$f":"IFERROR(AVERAGE(O41:O45),\"-\")","v":"-"},null,{"$f":"IFERROR(AVERAGE(Q41:Q45),\"-\")","v":"-"},null,{"$f":"IFERROR(AVERAGE(S41:S45),\"-\")","v":"-"},null,{"$f":"IFERROR(AVERAGE(U41:U45),\"-\")","v":"-"},null,{"$f":"IFERROR(AVERAGE(W41:W45),\"-\")","v":"-"},null,{"$f":"IFERROR(AVERAGE(Y41:Y45),\"-\")","v":"-"}]
[null,null,null,{"$f":"IF($H$2=\"G\",Skillserleuterungen_FTEM!F33,Skillserleuterungen_FTEM!B33)","v":"Vorbereitung"},null,null,{"$f":"IF($H$2=\"G\",Skillserleuterungen_FTEM!G33,Skillserleuterungen_FTEM!C33)","v":"bewusste und gezielte Vorbereitung, mental wie auch physisch, verfügt über einen effizienten Ablauf zur Erreichung des idealen Leistungszustand (ILZ)"},null,null,{"$f":"IF($H$2=\"G\",Skillserleuterungen_FTEM!#REF!,Skillserleuterungen_FTEM!#REF!)","v":{"$error":"#REF!"}}]
[null,null,null,{"$f":"IF($H$2=\"G\",Skillserleuterungen_FTEM!F34,Skillserleuterungen_FTEM!B34)","v":"Selbstcoaching"},null,null,{"$f":"IF($H$2=\"G\",Skillserleuterungen_FTEM!G34,Skillserleuterungen_FTEM!C34)","v":"verfügt über gute Konzentrationsfähigkeit, kann während Spiel/Training ihren ILZ halten, kann mentale Grundtechniken anwenden, widerstandsfähig gegen negative Gedanken und Einflüsse, ist sich ihrer Körpersprache bewusst und kann diese regulieren"},null,null,{"$f":"IF($H$2=\"G\",Skillserleuterungen_FTEM!#REF!,Skillserleuterungen_FTEM!#REF!)","v":{"$error":"#REF!"}}]
[null,null,null,{"$f":"IF($H$2=\"G\",Skillserleuterungen_FTEM!F35,Skillserleuterungen_FTEM!B35)","v":"Energiemanagement"},null,null,{"$f":"IF($H$2=\"G\",Skillserleuterungen_FTEM!G35,Skillserleuterungen_FTEM!C35)","v":"kann eigene Energie regulieren, bereit zur Regeneration, weiss wann sie \"Vollgas\" geben muss und wann abschalten, On/Off-Schalter"},null,null,{"$f":"IF($H$2=\"G\",Skillserleuterungen_FTEM!#REF!,Skillserleuterungen_FTEM!#REF!)","v":{"$error":"#REF!"}}]
[null,null,null,{"$f":"IF($H$2=\"G\",Skillserleuterungen_FTEM!F36,Skillserleuterungen_FTEM!B36)","v":"Emotionskontrolle"},null,null,{"$f":"IF($H$2=\"G\",Skillserleuterungen_FTEM!G36,Skillserleuterungen_FTEM!C36)","v":"kann eigene Emotionen und Impulse regulieren, behält auch unter Druck die Kontrolle, kann auch in emotional anspruchsvollen oder frustrierenden Situationen angemessen agieren"},null,null,{"$f":"IF($H$2=\"G\",Skillserleuterungen_FTEM!#REF!,Skillserleuterungen_FTEM!#REF!)","v":{"$error":"#REF!"}}]
[{"$f":"Skillserleuterungen_FTEM!A37","v":"PHYSE"},null,null,{"$f":"IF($H$2=\"G\",Skillserleuterungen_FTEM!F37,Skillserleuterungen_FTEM!B37)","v":"Leistungserzeugung"},null,null,{"$f":"IF($H$2=\"G\",Skillserleuterungen_FTEM!G37,Skillserleuterungen_FTEM!C37)","v":"verfügt über die nötige Power/Kraft/Schnelligkeit in den Beinen und im Oberkörper (Neuromuskuläre Faktoren)"},null,null,{"$f":"IF($H$2=\"G\",Skillserleuterungen_FTEM!#REF!,Skillserleuterungen_FTEM!#REF!)","v":{"$error":"#REF!"}},null,null,null,{"$f":"IFERROR(AVERAGE(O46:O50),\"-\")","v":"-"},null,{"$f":"IFERROR(AVERAGE(Q46:Q50),\"-\")","v":"-"},null,{"$f":"IFERROR(AVERAGE(S46:S50),\"-\")","v":"-"},null,{"$f":"IFERROR(AVERAGE(U46:U50),\"-\")","v":"-"},null,{"$f":"IFERROR(AVERAGE(W46:W50),\"-\")","v":"-"},null,{"$f":"IFERROR(AVERAGE(Y46:Y50),\"-\")","v":"-"}]
[null,null,null,{"$f":"IF($H$2=\"G\",Skillserleuterungen_FTEM!F38,Skillserleuterungen_FTEM!B38)","v":"sporartspez. Ermüdungsresistenz"},null,null,{"$f":"IF($H$2=\"G\",Skillserleuterungen_FTEM!G38,Skillserleuterungen_FTEM!C38)","v":"Ist fähig  die Power/Kraft/Schnelligkeit innerhalb des Einsatzes lange aufrechtzuerhalten und kann sich zwischen den Einsätzen jeweils vollkommen erholen (Metabolische und kardiovaskuläre Faktoren)"},null,null,{"$f":"IF($H$2=\"G\",Skillserleuterungen_FTEM!#REF!,Skillserleuterungen_FTEM!#REF!)","v":{"$error":"#REF!"}}]
[null,null,null,{"$f":"IF($H$2=\"G\",Skillserleuterungen_FTEM!F39,Skillserleuterungen_FTEM!B39)","v":"Gesundheit / Prävention"},null,null,{"$f":"IF($H$2=\"G\",Skillserleuterungen_FTEM!G39,Skillserleuterungen_FTEM!C39)","v":"verfügt über die nötige Stabilität (z.B. Beinachsenstabilität) und Beweglichkeit in den zentralen Gelenken"},null,null,{"$f":"IF($H$2=\"G\",Skillserleuterungen_FTEM!#REF!,Skillserleuterungen_FTEM!#REF!)","v":{"$error":"#REF!"}}]
[null,null,null,{"$f":"IF($H$2=\"G\",Skillserleuterungen_FTEM!F40,Skillserleuterungen_FTEM!B40)","v":"Bewegungskompetenzen"},null,null,{"$f":"IF($H$2=\"G\",Skillserleuterungen_FTEM!G40,Skillserleuterungen_FTEM!C40)","v":"beherrscht die grundlegenden Bewegungsfertigkeiten, die eine unerlässliche Zubringerfunktion für die sportspezifischen \"Skills\" darstellt sowie zur nötigen Bewegungseffizienz führt"},null,null,{"$f":"IF($H$2=\"G\",Skillserleuterungen_FTEM!#REF!,Skillserleuterungen_FTEM!#REF!)","v":{"$error":"#REF!"}}]
[null,null,null,{"$f":"IF($H$2=\"G\",Skillserleuterungen_FTEM!F41,Skillserleuterungen_FTEM!B41)","v":"Robustheit"},null,null,{"$f":"IF($H$2=\"G\",Skillserleuterungen_FTEM!G41,Skillserleuterungen_FTEM!C41)","v":"verfügt über die nötige Grundkraft (Körperspannung), um sich in Zweikämpfen durchzusetzen und bei Zusammestössen standzuhalten"},null,null,{"$f":"IF($H$2=\"G\",Skillserleuterungen_FTEM!#REF!,Skillserleuterungen_FTEM!#REF!)","v":{"$error":"#REF!"}}]